{"text_format":"1","workbook":"xlsx","n_sheets":8,"sheets":["Instructions","Settings","LogData","SubmissionPage","LogSheet","DupeSheetInstructions","DupeSheet","LocationConverters"],"not_rendered":{"charts":0,"images":0,"macros":1,"external_links":0,"defined_names":4,"comments":3,"pivot_tables":0},"unopened":[],"bounds":{"document_bytes":16777216,"sheet_cells":100000,"rows_first":2000,"rows_last":500,"rows_between":2000,"halvings":0,"cell_chars":16384,"cell_head_chars":4096},"cells_cut":0,"cells_raw":0,"read":"whole","date_system":"1900"}

{"sheet":"Instructions","index":0,"n_rows":50,"n_cols":2,"rows_kept":50,"cut":false,"hidden":false,"merged":[]}
[null,"10 GHz and Up Cumulative Contest"]
[null,"Logging Spreadsheet v3.04-vba, 08/20/07"]
[null,"by John P. Toscano, WØJT"]
[]
[{"$f":"\"0.\"","v":"0."},"When you load this spreadsheet, you may be asked if it is OK to enable macros or not.  In order for this spreadsheet to work properly, you MUST answer YES.  If you have your security level set to the highest level, you will not even be asked the question, and the spreadsheet will fail to compute correctly.  There really aren't any macros in the traditional sense, but there is Visual Basic for Applications code in this spreadsheet that performs the distance and bearing computations faster and more accurately than pure Excel code can.  That is why you are being asked to enable \"macros\".  Poorly written (or maliciously written) VBA code can damage your work.  There should be no problems with the VBA code in this spreadsheet."]
[]
[{"$f":"\"1.\"","v":"1."},"Excel should display 8 \"tabs\" on the bottom of the screen.  Depending on your screen resolution, you may or may not be able to see all of them, but you can use the \"VCR Buttons\" in the bottom left corner of the window to move through the \"tabs\".  You can click on any one of those \"tabs\" to activate that \"page\" of the worksheet.  The \"tabs\" are named as follows:"]
[null,"  Instructions -- the page you are looking at right now"]
[null,"  Settings -- a page where you fill in some global data"]
[null,"  LogData -- the page where your QSO data go"]
[null,"  SubmissionPage -- generated automatically from the rest, print it and mail it in"]
[null,"  LogSheet -- generated automatically from the rest, print it and mail it in"]
[null,"  DupeSheetInstructions -- instructions for creating a dupe sheet"]
[null,"  DupeSheet -- a dupe sheet (needed for paper logs with 500 or more QSO's)"]
[null,"  LocationConverters -- optional tool for converting locations from one format to another"]
[]
[{"$f":"\"2.\"","v":"2."},"On the Settings tab, enter the offset in hours for the time zone you used to record your QSO's.  There is a table for the major US time zones, plus UTC time.  If you wrote down your QSO's using UTC time, just enter zero for the offset.  If you wrote down your QSO's using CDT (Central Daylight Time), enter an offset of 5, etc.  This allows you to transcribe your QSO entries from paper to the spreadsheet without having to do any time zone translations in your head and taking a chance of getting it wrong."]
[]
[null,"Fill in the other entries on the Settings tab, which are needed for the ARRL submission sheet and log sheet(s).  On that page, the cells shaded yellow are the only ones you can modify."]
[]
[{"$f":"\"3.\"","v":"3."},"Enter the QSO information on the LogData tab.  A cumulative score is calculated, for your information.  All of the unique QSO points and distance points are calculated automatically.  Distances are computed from sub-grid center to sub-grid center, and are rounded to the nearest kilometer.  In the Date column, you simply enter the date as mm/dd/yy, and Excel will automatically convert the format to show the day of the week, and the verbose date format you see in the example page.  In this version, the time is entered as 4 digits without the colon, e.g. 13:05 is entered as 1305 for simplicity's sake, and Excel does the calculations to turn it into a time that it can understand."]
[]
[null,"In the Band column, use the special string *ON* to signify the start of an ON time (listening or operating), and use the special string *OFF* to indicate the start of an OFF time (neither listening nor operating).  These are needed to properly compute your total operating time, as required by the ARRL log submission rules. Your very first log entry starts with an *ON* record. The spreadsheet defaults to 6 AM (0600), but you should change this to the time that you actually began to operate.  Even if you worked each day of the contest in one single continuous block with no interruptions, you will have one *ON* and one *OFF* record for each of the (up to) four days of the contest (Weekend 1 Saturday, Weekend 1 Sunday, Weekend 2 Saturday, Weekend 2 Sunday)."]
[]
[null,"The next-to-last record must be an *OFF* record, indicating the time that you stopped all operations for the entire contest period.  The last record is a special, one-time-only *EOL* record which signifies the End of Log.  This is needed for the internal formula used to compute the total on-time.  All cells below the *EOL* record should be blank."]
[]
[null,"Otherwise, the entries in this column should be the microwave band used for the contact, using the exact format seen on the SubmissionsPage sheet in the table of \"Best DX in Km\" entries, such as \"10 GHz\", \"24 GHz\", etc. (but without the quotation marks, of course).  If you deviate from that format, for example, by entering \"10GHz\" (missing the space after the zero), or \"10368\" (different format entirely), the best DX values will not be computed correctly. In versions 3.02 and later of this spreadsheet, I have used Excel's input validation option to insure that only valid entries are put by you in this column.  As soon as your cursor enters the cell, a drop-down button appears, and you can click there and pick the appropriate entry."]
[]
[null,"It should be noted that the official ARRL forms make no provisions for documenting the on/off times, even though the data are obviously required for compliance with the rules if your operations were not uninterrupted.  To minimize the changes from the official ARRL forms, I used the recently-added Band column for both recording the band and the ON/OFF times."]
[]
[null,"The cells shaded yellow are the only ones you can modify."]
[]
[{"$f":"\"4.\"","v":"4."},"Go to the SubmissionPage tab, and print your submission form."]
[]
[{"$f":"\"5.\"","v":"5."},"Go to the LogSheet tab, and print your log from there.  For best results (minimal waste of paper), you should use the menu commands   File | Print Area | Set Print Area    to select the rows that contain your data (if you didn't use all one thousand rows of log cells).  *NOTE** that if you do this, your print area starts in row 12, column A.  You do *NOT* include the headers in your print area, because the printing is set up to duplicate the headers at the top of EACH page for you.  Alternatively, use the print preview function to figure out how many pages of your log have non-blank lines, and then print only that many pages of the sheet without changing the print area from the default of all 1000 lines."]
[]
[{"$f":"\"6.\"","v":"6."},"The DupeSheetInstructions page is, like this one, a set of instructions.  It tells you how to create a Dupe Sheet.  Dupe Sheets are required for all paper logs with 500 or more QSO's in them, and are highly recommended even if you have fewer than 500 QSO's in the log."]
[]
[{"$f":"\"7.\"","v":"7."},"The DupeSheet page is where you create a Dupe Sheet.  Dupe Sheets are required for all paper logs with 500 or more QSO's in them, and are highly recommended even if you have fewer than 500 QSO's in the log.  BE SURE TO FOLLOW THE INSTRUCTIONS EXACTLY, OR YOU WILL REGRET IT!"]
[]
[{"$f":"\"8.\"","v":"8."},"The LocationConverters page is optional.  It is given to help you with converting locations from one format to another.  If, for example, your GPS display is in degrees, minutes, and seconds, that page will help you convert it to Maidenhead Grid Squares. Four formats are inter-converted:  D:M:S, D:M.mmm, D.dddddd, and Maidenhead Grid Squares."]
[]
[{"$f":"\"8.\"","v":"8."},"Caveats:"]
[null,"1) There is very little error checking here.  If your score won't compute, chances are high that you have one or more invalid dates/times or Maidenhead Grids in your log data."]
[null,"2) There is very little error checking here.  However, unlike the earlier versions, if you work a dupe (same callsign on same band from same location to same location) it WILL be caught and your score and QSO count will be reduced correctly."]
[null,"3) There is very little error checking here.  If you don’t use the prescribed format in the Band column, you will either have incorrectly computed \"Total Hours Worked\" or incorrect \"Best DX in Km\" (or both).  However, this version will do its best to prevent you from entering invalid data in this column."]
[null,"4) I have tried to protect all of the formula cells so that you won't accidentally type somewhere that you shouldn't, and thereby wreck the functioning of the formula cells.  There is no password, so if you know what you are doing, you can \"uprotect\" the spreadsheet page and edit away.  But this can really mess things up if you make a mistake.  You have been warned!"]
[null,"5) To speed up data entry, the LogData page is set up so that the date and operating locations are automatically copied down to the next row of data, since they change much less often than the callsign of the operator worked.  All you have to do is type over any value that needs to be changed and whatever you type will replace what was in that (yellow shaded) cell and be copied down the page."]
[null,"6) There is no guarantee that the ARRL Contest Branch will accept an electronic submission of this Excel spreadsheet at the present time.  Based on past history, I would even expect it to be unlikely.  All other contests require the Cabrillo format, which ARRL picked in an attempt to eliminate the \"Tower of Babel\" of incompatible file formats.  Sadly, the Cabrillo format does not have sufficient data fields to support the 10 GHz and Up Cumulative Contest, so it cannot be used.  It's my guess that the ARRL would prefer you print out the pages onto paper and mail the pages to them.  Unless you get the permission of the Contest Branch, in advance, and in writing, I would not recommend sending them this file as an email attachment, because your entry may be rejected leaving you no time to submit again."]
[null,"7) This version of the spreadsheet uses a more accurate method of computing the grid-to-grid distances, using a VBA (Visual Basic for Applications) add-in that was written by Rex Allers,  KK6MK.  If you have the Macro Security on Excel set to High, the code will not be loaded, and the spreadsheet will not work.  You need to go into Excel first (without this worksheet), click on Tools, Macro, Security, and then pick the MEDIUM level of security.  Then, you can load this file, and when warned that the file contains macros, click on the button to ENABLE MACROS."]

{"sheet":"Settings","index":1,"n_rows":29,"n_cols":28,"rows_kept":29,"cut":false,"hidden":false,"merged":[[8,1,8,2],[10,1,10,2],[12,0,14,0],[0,26,1,27],[0,0,0,6],[1,0,2,6],[27,4,31,6],[12,1,14,2],[25,1,25,6],[23,1,23,6],[24,1,24,6],[22,1,22,6],[20,1,20,2]]}
["Settings Page",null,null,null,null,null,null,null,null,null,null,null,null,null,null,null,null,null,null,null,null,null,null,null,null,null,"Input Validation Tables"]
["Only the cells shaded pale yellow can be modified.  All others are locked against change on purpose."]
[null,null,null,null,null,null,null,null,null,null,null,null,null,null,null,null,null,null,null,null,null,null,null,null,null,null,"True/False","Call Area"]
[null,null,null,null,null,null,null,null,null,null,null,null,null,null,null,null,null,null,null,null,null,null,null,null,null,null,true,0]
["Log Time UTC Offset:",0," hours",null,"Time Zone","DST?","Offset",null,null,null,null,null,null,null,null,null,null,null,null,null,null,null,null,null,null,null,false,1]
[null,null,null,null,"Eastern","Yes",4,null,null,null,null,null,null,null,null,null,null,null,null,null,null,null,null,null,null,null,null,2]
["Year: ",{"$f":"YEAR(TODAY())","v":2016},null,null,"Central","Yes",5,null,null,null,null,null,null,null,null,null,null,null,null,null,null,null,null,null,null,null,null,3]
[null,null,null,null,"Mountain","Yes",6,null,null,null,null,null,null,null,null,null,null,null,null,null,null,null,null,null,null,null,null,4]
["Call Used: ","KA9VVQ",null,null,"Pacific","Yes",7,null,null,null,null,null,null,null,null,null,null,null,null,null,null,null,null,null,null,null,null,5]
[null,null,null,null,"Eastern","No",5,null,null,null,null,null,null,null,null,null,null,null,null,null,null,null,null,null,null,null,null,6]
["ARRL Section:","WI",null,null,"Central","No",6,null,null,null,null,null,null,null,null,null,null,null,null,null,null,null,null,null,null,null,null,7]
[null,null,null,null,"Mountain","No",7,null,null,null,null,null,null,null,null,null,null,null,null,null,null,null,null,null,null,null,null,8]
["List Operators Using this Callsign:",null,null,null,"Pacific","No",8,null,null,null,null,null,null,null,null,null,null,null,null,null,null,null,null,null,null,null,null,9]
[null,null,null,null,"UTC","No",0,null,null,null,null,null,null,null,null,null,null,null,null,null,null,null,null,null,null,null,null,"DX"]
[]
["  If you are the only operator, just leave this answer blank, and your callsign will be inserted in the appropriate place."]
[]
[null,"10 GHz Only","10 GHz and Up"]
["Operating Category:",true,{"$f":"NOT(B19)","v":false}]
[]
["Call Area: ",9]
[]
["Name:","Janice Hoettels"]
["Address:","PO Box 233"]
[null,"Hillsboro, WI 54634"]
["Email Address:","jhoettels@fastmail.us"]
[]
[null,"Paper","Electronic",null,"Set \"Paper\" to TRUE if you plan to print out the forms and mail them.  Set \"Paper\" to FALSE if you plan to email this Excel worksheet to the ARRL Contest Branch"]
["Method of Submission",false,{"$f":"NOT(B29)","v":true}]

{"sheet":"LogData","index":2,"n_rows":1009,"n_cols":36,"rows_kept":1009,"cut":false,"hidden":false,"merged":[[0,26,1,33],[0,35,2,35],[0,0,0,6],[1,0,1,6]]}
["10 GHz and Up  Contest Logging Assistant by WØJT",null,null,null,null,null,null,null,null,null,null,null,null,null,null,null,null,null,null,null,null,null,null,null,null,null,"Dx per band, in Kilometers",null,null,null,null,null,null,null,null,"Band Column valid entries"]
[{"$f":"FIXED(H1007,0,0)&\" points\"","v":"0 points"}]
[{"$f":"IF(Settings!$B$5=0,\"UTC\",\"Local\")&\" Date\"","v":"UTC Date"},{"$f":"IF(Settings!$B$5=0,\"UTC\",\"Local\")&\" Time\"","v":"UTC Time"},"His / Her  Callsign","His / Her  Grid","On / Off / EOL / Band","My Grid","Comments","Distance Points",null,"MyLat","MyLon","Your   Lat","Your Lon","Distance","Distance in Km","Xl time","Search Key (Call&Band)","Dupe Search Key                         (Call, Band, To, From)","Dupe?","Unique Callsign?","Running Score","UTC Date & Time","On?","Off?","On Time",null,"10 GHz","24 GHz","47 GHz","75 GHz","119 GHz","142 GHz","241 GHz","300+ GHz"]
[null,null,null,null,"*ON*",null,"Start of Operating Time",{"$f":"IF(S4,0,O4)","v":0},{"$f":"IF(S4,\"Dupe!\",\"\")","v":""},{"$f":"MH2Lat(F4)","v":""},{"$f":"MH2Lon(F4)","v":""},{"$f":"MH2Lat(D4)","v":""},{"$f":"MH2Lon(D4)","v":""},{"$f":"Distance(J4,K4,L4,M4)","v":{"$error":"#VALUE!"}},0,{"$f":"IF(ISBLANK(B4),\"\",IF(LEN(B4)=1,TIMEVALUE(\"00:0\"&B4),IF(LEN(B4)=2,TIMEVALUE(\"00:\"&B4),IF(LEN(B4)=3,TIMEVALUE(\"0\"&LEFT(B4,1)&\":\"&RIGHT(B4,2)),TIMEVALUE(LEFT(B4,2)&\":\"&RIGHT(B4,2))))))","v":""},null,null,null,0,{"$f":"SUM(O$4:O4)+(100*SUM(T$4:T4))","v":0},{"$f":"IF(NOT(ISBLANK(B4)),(A4+P4)+(Settings!$B$5/24),\"\")","v":""},{"$f":"IF(E4=\"*ON*\",1,0)","v":1},{"$f":"IF(E4=\"*OFF*\",1,0)","v":0},0,null,{"$f":"IF($E4=AA$3,$H4,0)","v":0},0,0,0,0,0,0,0,null,"*ON*"]
[null,null,null,null,null,null,null,{"$f":"IF(OR($S5,ISERR($N5),ISBLANK($B5),ISBLANK($C5)),0,MAX(O5,1))","v":0},{"$f":"IF(OR(ISBLANK($B5),ISBLANK($C5),ISBLANK($D5),ISBLANK($F5),NOT($S5)),\"\",\"Dupe!\")","v":""},"","","","",{"$error":"#VALUE!"},{"$f":"IF(NOT(ISERR(N5)),ROUND(N5,0),0)","v":0},"",{"$f":"IF(AND(NOT(ISBLANK(C5)),NOT(ISBLANK(E5))),C5&\"@\"&E5,\"\")","v":""},{"$f":"Q5&\":\"&F5&\":\"&D5","v":"::"},{"$f":"IF(ISNA(VLOOKUP(R5,R$4:R4,1,FALSE)),FALSE,IF(O5>0,TRUE,FALSE))","v":false},{"$f":"IF(AND(C5<>\"\",$E5<>\"*ON*\",$E5<>\"*OFF*\",ISNA((VLOOKUP(C5&\"@\"&E5,Q$4:Q4,1,FALSE)))),1,0)","v":0},{"$f":"SUM(O$4:O5)+(100*SUM(T$4:T5))","v":0},{"$f":"IF(NOT(ISBLANK(B5)),(A5+P5)+(Settings!$B$5/24),\"\")","v":""},0,0,{"$f":"IF($E5=\"*EOL*\",0,IF(X4,0,V5-V4)*24)","v":{"$error":"#VALUE!"}},null,0,0,0,0,0,0,0,0,null,"*OFF*"]
[null,null,null,null,null,null,null,{"$f":"IF(OR($S6,ISERR($N6),ISBLANK($B6),ISBLANK($C6)),0,MAX(O6,1))","v":0},{"$f":"IF(OR(ISBLANK($B6),ISBLANK($C6),ISBLANK($D6),ISBLANK($F6),NOT($S6)),\"\",\"Dupe!\")","v":""},"","","","",{"$error":"#VALUE!"},0,"","","::",{"$f":"IF(ISNA(VLOOKUP(R6,R$4:R5,1,FALSE)),FALSE,IF(O6>0,TRUE,FALSE))","v":false},{"$f":"IF(AND(C6<>\"\",$E6<>\"*ON*\",$E6<>\"*OFF*\",ISNA((VLOOKUP(C6&\"@\"&E6,Q$4:Q5,1,FALSE)))),1,0)","v":0},{"$f":"SUM(O$4:O6)+(100*SUM(T$4:T6))","v":0},{"$f":"IF(NOT(ISBLANK(B6)),(A6+P6)+(Settings!$B$5/24),\"\")","v":""},0,0,{"$error":"#VALUE!"},null,0,0,0,0,0,0,0,0,null,"*EOL*"]
[null,null,null,null,null,null,null,0,"","","","","",{"$error":"#VALUE!"},0,"","","::",{"$f":"IF(ISNA(VLOOKUP(R7,R$4:R6,1,FALSE)),FALSE,IF(O7>0,TRUE,FALSE))","v":false},{"$f":"IF(AND(C7<>\"\",$E7<>\"*ON*\",$E7<>\"*OFF*\",ISNA((VLOOKUP(C7&\"@\"&E7,Q$4:Q6,1,FALSE)))),1,0)","v":0},{"$f":"SUM(O$4:O7)+(100*SUM(T$4:T7))","v":0},{"$f":"IF(NOT(ISBLANK(B7)),(A7+P7)+(Settings!$B$5/24),\"\")","v":""},0,0,{"$error":"#VALUE!"},null,0,0,0,0,0,0,0,0,null,"10 GHz"]
[null,null,null,null,null,null,null,0,"","","","","",{"$error":"#VALUE!"},0,"","","::",{"$f":"IF(ISNA(VLOOKUP(R8,R$4:R7,1,FALSE)),FALSE,IF(O8>0,TRUE,FALSE))","v":false},{"$f":"IF(AND(C8<>\"\",$E8<>\"*ON*\",$E8<>\"*OFF*\",ISNA((VLOOKUP(C8&\"@\"&E8,Q$4:Q7,1,FALSE)))),1,0)","v":0},{"$f":"SUM(O$4:O8)+(100*SUM(T$4:T8))","v":0},{"$f":"IF(NOT(ISBLANK(B8)),(A8+P8)+(Settings!$B$5/24),\"\")","v":""},0,0,{"$error":"#VALUE!"},null,0,0,0,0,0,0,0,0,null,"24 GHz"]
[null,null,null,null,null,null,null,0,"","","","","",{"$error":"#VALUE!"},0,"","","::",{"$f":"IF(ISNA(VLOOKUP(R9,R$4:R8,1,FALSE)),FALSE,IF(O9>0,TRUE,FALSE))","v":false},{"$f":"IF(AND(C9<>\"\",$E9<>\"*ON*\",$E9<>\"*OFF*\",ISNA((VLOOKUP(C9&\"@\"&E9,Q$4:Q8,1,FALSE)))),1,0)","v":0},{"$f":"SUM(O$4:O9)+(100*SUM(T$4:T9))","v":0},{"$f":"IF(NOT(ISBLANK(B9)),(A9+P9)+(Settings!$B$5/24),\"\")","v":""},0,0,{"$error":"#VALUE!"},null,0,0,0,0,0,0,0,0,null,"47 GHz"]
[null,null,null,null,null,null,null,0,"","","","","",{"$error":"#VALUE!"},0,"","","::",{"$f":"IF(ISNA(VLOOKUP(R10,R$4:R9,1,FALSE)),FALSE,IF(O10>0,TRUE,FALSE))","v":false},{"$f":"IF(AND(C10<>\"\",$E10<>\"*ON*\",$E10<>\"*OFF*\",ISNA((VLOOKUP(C10&\"@\"&E10,Q$4:Q9,1,FALSE)))),1,0)","v":0},{"$f":"SUM(O$4:O10)+(100*SUM(T$4:T10))","v":0},{"$f":"IF(NOT(ISBLANK(B10)),(A10+P10)+(Settings!$B$5/24),\"\")","v":""},0,0,{"$error":"#VALUE!"},null,0,0,0,0,0,0,0,0,null,"75 GHz"]
[null,null,null,null,null,null,null,0,"","","","","",{"$error":"#VALUE!"},0,"","","::",{"$f":"IF(ISNA(VLOOKUP(R11,R$4:R10,1,FALSE)),FALSE,IF(O11>0,TRUE,FALSE))","v":false},{"$f":"IF(AND(C11<>\"\",$E11<>\"*ON*\",$E11<>\"*OFF*\",ISNA((VLOOKUP(C11&\"@\"&E11,Q$4:Q10,1,FALSE)))),1,0)","v":0},{"$f":"SUM(O$4:O11)+(100*SUM(T$4:T11))","v":0},{"$f":"IF(NOT(ISBLANK(B11)),(A11+P11)+(Settings!$B$5/24),\"\")","v":""},0,0,{"$error":"#VALUE!"},null,0,0,0,0,0,0,0,0,null,"119 GHz"]
[null,null,null,null,null,null,null,0,"","","","","",{"$error":"#VALUE!"},0,"","","::",{"$f":"IF(ISNA(VLOOKUP(R12,R$4:R11,1,FALSE)),FALSE,IF(O12>0,TRUE,FALSE))","v":false},{"$f":"IF(AND(C12<>\"\",$E12<>\"*ON*\",$E12<>\"*OFF*\",ISNA((VLOOKUP(C12&\"@\"&E12,Q$4:Q11,1,FALSE)))),1,0)","v":0},{"$f":"SUM(O$4:O12)+(100*SUM(T$4:T12))","v":0},{"$f":"IF(NOT(ISBLANK(B12)),(A12+P12)+(Settings!$B$5/24),\"\")","v":""},0,0,{"$error":"#VALUE!"},null,0,0,0,0,0,0,0,0,null,"142 GHz"]
[null,null,null,null,null,null,null,0,"","","","","",{"$error":"#VALUE!"},0,"","","::",{"$f":"IF(ISNA(VLOOKUP(R13,R$4:R12,1,FALSE)),FALSE,IF(O13>0,TRUE,FALSE))","v":false},{"$f":"IF(AND(C13<>\"\",$E13<>\"*ON*\",$E13<>\"*OFF*\",ISNA((VLOOKUP(C13&\"@\"&E13,Q$4:Q12,1,FALSE)))),1,0)","v":0},{"$f":"SUM(O$4:O13)+(100*SUM(T$4:T13))","v":0},{"$f":"IF(NOT(ISBLANK(B13)),(A13+P13)+(Settings!$B$5/24),\"\")","v":""},0,0,{"$error":"#VALUE!"},null,0,0,0,0,0,0,0,0,null,"241 GHz"]
[null,null,null,null,null,null,null,0,"","","","","",{"$error":"#VALUE!"},0,"","","::",{"$f":"IF(ISNA(VLOOKUP(R14,R$4:R13,1,FALSE)),FALSE,IF(O14>0,TRUE,FALSE))","v":false},{"$f":"IF(AND(C14<>\"\",$E14<>\"*ON*\",$E14<>\"*OFF*\",ISNA((VLOOKUP(C14&\"@\"&E14,Q$4:Q13,1,FALSE)))),1,0)","v":0},{"$f":"SUM(O$4:O14)+(100*SUM(T$4:T14))","v":0},{"$f":"IF(NOT(ISBLANK(B14)),(A14+P14)+(Settings!$B$5/24),\"\")","v":""},0,0,{"$error":"#VALUE!"},null,{"$f":"IF($E14=AA$3,$H14,0)","v":0},0,0,0,0,0,0,0,null,"300+ GHz"]
[null,null,null,null,null,null,null,0,"","","","","",{"$error":"#VALUE!"},0,"","","::",{"$f":"IF(ISNA(VLOOKUP(R15,R$4:R14,1,FALSE)),FALSE,IF(O15>0,TRUE,FALSE))","v":false},{"$f":"IF(AND(C15<>\"\",$E15<>\"*ON*\",$E15<>\"*OFF*\",ISNA((VLOOKUP(C15&\"@\"&E15,Q$4:Q14,1,FALSE)))),1,0)","v":0},{"$f":"SUM(O$4:O15)+(100*SUM(T$4:T15))","v":0},{"$f":"IF(NOT(ISBLANK(B15)),(A15+P15)+(Settings!$B$5/24),\"\")","v":""},0,0,{"$error":"#VALUE!"},null,0,0,0,0,0,0,0,0]
[null,null,null,null,null,null,null,0,"","","","","",{"$error":"#VALUE!"},0,"","","::",{"$f":"IF(ISNA(VLOOKUP(R16,R$4:R15,1,FALSE)),FALSE,IF(O16>0,TRUE,FALSE))","v":false},{"$f":"IF(AND(C16<>\"\",$E16<>\"*ON*\",$E16<>\"*OFF*\",ISNA((VLOOKUP(C16&\"@\"&E16,Q$4:Q15,1,FALSE)))),1,0)","v":0},{"$f":"SUM(O$4:O16)+(100*SUM(T$4:T16))","v":0},{"$f":"IF(NOT(ISBLANK(B16)),(A16+P16)+(Settings!$B$5/24),\"\")","v":""},0,0,{"$error":"#VALUE!"},null,0,0,0,0,0,0,0,0]
[null,null,null,null,null,null,null,0,"","","","","",{"$error":"#VALUE!"},0,"","","::",{"$f":"IF(ISNA(VLOOKUP(R17,R$4:R16,1,FALSE)),FALSE,IF(O17>0,TRUE,FALSE))","v":false},{"$f":"IF(AND(C17<>\"\",$E17<>\"*ON*\",$E17<>\"*OFF*\",ISNA((VLOOKUP(C17&\"@\"&E17,Q$4:Q16,1,FALSE)))),1,0)","v":0},{"$f":"SUM(O$4:O17)+(100*SUM(T$4:T17))","v":0},{"$f":"IF(NOT(ISBLANK(B17)),(A17+P17)+(Settings!$B$5/24),\"\")","v":""},0,0,{"$error":"#VALUE!"},null,0,0,0,0,0,0,0,0]
[null,null,null,null,null,null,null,0,"","","","","",{"$error":"#VALUE!"},0,"","","::",{"$f":"IF(ISNA(VLOOKUP(R18,R$4:R17,1,FALSE)),FALSE,IF(O18>0,TRUE,FALSE))","v":false},{"$f":"IF(AND(C18<>\"\",$E18<>\"*ON*\",$E18<>\"*OFF*\",ISNA((VLOOKUP(C18&\"@\"&E18,Q$4:Q17,1,FALSE)))),1,0)","v":0},{"$f":"SUM(O$4:O18)+(100*SUM(T$4:T18))","v":0},{"$f":"IF(NOT(ISBLANK(B18)),(A18+P18)+(Settings!$B$5/24),\"\")","v":""},0,0,{"$error":"#VALUE!"},null,0,0,0,0,0,0,0,0]
[null,null,null,null,null,null,null,0,"","","","","",{"$error":"#VALUE!"},0,"","","::",{"$f":"IF(ISNA(VLOOKUP(R19,R$4:R18,1,FALSE)),FALSE,IF(O19>0,TRUE,FALSE))","v":false},{"$f":"IF(AND(C19<>\"\",$E19<>\"*ON*\",$E19<>\"*OFF*\",ISNA((VLOOKUP(C19&\"@\"&E19,Q$4:Q18,1,FALSE)))),1,0)","v":0},{"$f":"SUM(O$4:O19)+(100*SUM(T$4:T19))","v":0},{"$f":"IF(NOT(ISBLANK(B19)),(A19+P19)+(Settings!$B$5/24),\"\")","v":""},0,0,{"$error":"#VALUE!"},null,0,0,0,0,0,0,0,0]
[null,null,null,null,null,null,null,0,"","","","","",{"$error":"#VALUE!"},0,"","","::",{"$f":"IF(ISNA(VLOOKUP(R20,R$4:R19,1,FALSE)),FALSE,IF(O20>0,TRUE,FALSE))","v":false},{"$f":"IF(AND(C20<>\"\",$E20<>\"*ON*\",$E20<>\"*OFF*\",ISNA((VLOOKUP(C20&\"@\"&E20,Q$4:Q19,1,FALSE)))),1,0)","v":0},{"$f":"SUM(O$4:O20)+(100*SUM(T$4:T20))","v":0},{"$f":"IF(NOT(ISBLANK(B20)),(A20+P20)+(Settings!$B$5/24),\"\")","v":""},0,0,{"$error":"#VALUE!"},null,0,0,0,0,0,0,0,0]
[null,null,null,null,null,null,null,0,"","","","","",{"$error":"#VALUE!"},0,"","","::",{"$f":"IF(ISNA(VLOOKUP(R21,R$4:R20,1,FALSE)),FALSE,IF(O21>0,TRUE,FALSE))","v":false},{"$f":"IF(AND(C21<>\"\",$E21<>\"*ON*\",$E21<>\"*OFF*\",ISNA((VLOOKUP(C21&\"@\"&E21,Q$4:Q20,1,FALSE)))),1,0)","v":0},{"$f":"SUM(O$4:O21)+(100*SUM(T$4:T21))","v":0},{"$f":"IF(NOT(ISBLANK(B21)),(A21+P21)+(Settings!$B$5/24),\"\")","v":""},0,0,{"$error":"#VALUE!"},null,0,0,0,0,0,0,0,0]
[null,null,null,null,null,null,null,0,"","","","","",{"$error":"#VALUE!"},0,"","","::",{"$f":"IF(ISNA(VLOOKUP(R22,R$4:R21,1,FALSE)),FALSE,IF(O22>0,TRUE,FALSE))","v":false},{"$f":"IF(AND(C22<>\"\",$E22<>\"*ON*\",$E22<>\"*OFF*\",ISNA((VLOOKUP(C22&\"@\"&E22,Q$4:Q21,1,FALSE)))),1,0)","v":0},{"$f":"SUM(O$4:O22)+(100*SUM(T$4:T22))","v":0},{"$f":"IF(NOT(ISBLANK(B22)),(A22+P22)+(Settings!$B$5/24),\"\")","v":""},0,0,{"$error":"#VALUE!"},null,0,0,0,0,0,0,0,0]
[null,null,null,null,null,null,null,0,"","","","","",{"$error":"#VALUE!"},0,"","","::",{"$f":"IF(ISNA(VLOOKUP(R23,R$4:R22,1,FALSE)),FALSE,IF(O23>0,TRUE,FALSE))","v":false},{"$f":"IF(AND(C23<>\"\",$E23<>\"*ON*\",$E23<>\"*OFF*\",ISNA((VLOOKUP(C23&\"@\"&E23,Q$4:Q22,1,FALSE)))),1,0)","v":0},{"$f":"SUM(O$4:O23)+(100*SUM(T$4:T23))","v":0},{"$f":"IF(NOT(ISBLANK(B23)),(A23+P23)+(Settings!$B$5/24),\"\")","v":""},0,0,{"$error":"#VALUE!"},null,0,0,0,0,0,0,0,0]
[null,null,null,null,null,null,null,0,"","","","","",{"$error":"#VALUE!"},0,"","","::",{"$f":"IF(ISNA(VLOOKUP(R24,R$4:R23,1,FALSE)),FALSE,IF(O24>0,TRUE,FALSE))","v":false},{"$f":"IF(AND(C24<>\"\",$E24<>\"*ON*\",$E24<>\"*OFF*\",ISNA((VLOOKUP(C24&\"@\"&E24,Q$4:Q23,1,FALSE)))),1,0)","v":0},{"$f":"SUM(O$4:O24)+(100*SUM(T$4:T24))","v":0},{"$f":"IF(NOT(ISBLANK(B24)),(A24+P24)+(Settings!$B$5/24),\"\")","v":""},0,0,{"$error":"#VALUE!"},null,{"$f":"IF($E24=AA$3,$H24,0)","v":0},0,0,0,0,0,0,0]
[null,null,null,null,null,null,null,0,"","","","","",{"$error":"#VALUE!"},0,"","","::",{"$f":"IF(ISNA(VLOOKUP(R25,R$4:R24,1,FALSE)),FALSE,IF(O25>0,TRUE,FALSE))","v":false},{"$f":"IF(AND(C25<>\"\",$E25<>\"*ON*\",$E25<>\"*OFF*\",ISNA((VLOOKUP(C25&\"@\"&E25,Q$4:Q24,1,FALSE)))),1,0)","v":0},{"$f":"SUM(O$4:O25)+(100*SUM(T$4:T25))","v":0},{"$f":"IF(NOT(ISBLANK(B25)),(A25+P25)+(Settings!$B$5/24),\"\")","v":""},0,0,{"$error":"#VALUE!"},null,0,0,0,0,0,0,0,0]
[null,null,null,null,null,null,null,0,"","","","","",{"$error":"#VALUE!"},0,"","","::",{"$f":"IF(ISNA(VLOOKUP(R26,R$4:R25,1,FALSE)),FALSE,IF(O26>0,TRUE,FALSE))","v":false},{"$f":"IF(AND(C26<>\"\",$E26<>\"*ON*\",$E26<>\"*OFF*\",ISNA((VLOOKUP(C26&\"@\"&E26,Q$4:Q25,1,FALSE)))),1,0)","v":0},{"$f":"SUM(O$4:O26)+(100*SUM(T$4:T26))","v":0},{"$f":"IF(NOT(ISBLANK(B26)),(A26+P26)+(Settings!$B$5/24),\"\")","v":""},0,0,{"$error":"#VALUE!"},null,0,0,0,0,0,0,0,0]
[null,null,null,null,null,null,null,0,"","","","","",{"$error":"#VALUE!"},0,"","","::",{"$f":"IF(ISNA(VLOOKUP(R27,R$4:R26,1,FALSE)),FALSE,IF(O27>0,TRUE,FALSE))","v":false},{"$f":"IF(AND(C27<>\"\",$E27<>\"*ON*\",$E27<>\"*OFF*\",ISNA((VLOOKUP(C27&\"@\"&E27,Q$4:Q26,1,FALSE)))),1,0)","v":0},{"$f":"SUM(O$4:O27)+(100*SUM(T$4:T27))","v":0},{"$f":"IF(NOT(ISBLANK(B27)),(A27+P27)+(Settings!$B$5/24),\"\")","v":""},0,0,{"$error":"#VALUE!"},null,0,0,0,0,0,0,0,0]
[null,null,null,null,null,null,null,0,"","","","","",{"$error":"#VALUE!"},0,"","","::",{"$f":"IF(ISNA(VLOOKUP(R28,R$4:R27,1,FALSE)),FALSE,IF(O28>0,TRUE,FALSE))","v":false},{"$f":"IF(AND(C28<>\"\",$E28<>\"*ON*\",$E28<>\"*OFF*\",ISNA((VLOOKUP(C28&\"@\"&E28,Q$4:Q27,1,FALSE)))),1,0)","v":0},{"$f":"SUM(O$4:O28)+(100*SUM(T$4:T28))","v":0},{"$f":"IF(NOT(ISBLANK(B28)),(A28+P28)+(Settings!$B$5/24),\"\")","v":""},0,0,{"$error":"#VALUE!"},null,0,0,0,0,0,0,0,0]
[null,null,null,null,null,null,null,0,"","","","","",{"$error":"#VALUE!"},0,"","","::",{"$f":"IF(ISNA(VLOOKUP(R29,R$4:R28,1,FALSE)),FALSE,IF(O29>0,TRUE,FALSE))","v":false},{"$f":"IF(AND(C29<>\"\",$E29<>\"*ON*\",$E29<>\"*OFF*\",ISNA((VLOOKUP(C29&\"@\"&E29,Q$4:Q28,1,FALSE)))),1,0)","v":0},{"$f":"SUM(O$4:O29)+(100*SUM(T$4:T29))","v":0},{"$f":"IF(NOT(ISBLANK(B29)),(A29+P29)+(Settings!$B$5/24),\"\")","v":""},0,0,{"$error":"#VALUE!"},null,0,0,0,0,0,0,0,0]
[null,null,null,null,null,null,null,0,"","","","","",{"$error":"#VALUE!"},0,"","","::",{"$f":"IF(ISNA(VLOOKUP(R30,R$4:R29,1,FALSE)),FALSE,IF(O30>0,TRUE,FALSE))","v":false},{"$f":"IF(AND(C30<>\"\",$E30<>\"*ON*\",$E30<>\"*OFF*\",ISNA((VLOOKUP(C30&\"@\"&E30,Q$4:Q29,1,FALSE)))),1,0)","v":0},{"$f":"SUM(O$4:O30)+(100*SUM(T$4:T30))","v":0},{"$f":"IF(NOT(ISBLANK(B30)),(A30+P30)+(Settings!$B$5/24),\"\")","v":""},0,0,{"$error":"#VALUE!"},null,0,0,0,0,0,0,0,0]
[null,null,null,null,null,null,null,0,"","","","","",{"$error":"#VALUE!"},0,"","","::",{"$f":"IF(ISNA(VLOOKUP(R31,R$4:R30,1,FALSE)),FALSE,IF(O31>0,TRUE,FALSE))","v":false},{"$f":"IF(AND(C31<>\"\",$E31<>\"*ON*\",$E31<>\"*OFF*\",ISNA((VLOOKUP(C31&\"@\"&E31,Q$4:Q30,1,FALSE)))),1,0)","v":0},{"$f":"SUM(O$4:O31)+(100*SUM(T$4:T31))","v":0},{"$f":"IF(NOT(ISBLANK(B31)),(A31+P31)+(Settings!$B$5/24),\"\")","v":""},0,0,{"$error":"#VALUE!"},null,0,0,0,0,0,0,0,0]
[null,null,null,null,null,null,null,0,"","","","","",{"$error":"#VALUE!"},0,"","","::",{"$f":"IF(ISNA(VLOOKUP(R32,R$4:R31,1,FALSE)),FALSE,IF(O32>0,TRUE,FALSE))","v":false},{"$f":"IF(AND(C32<>\"\",$E32<>\"*ON*\",$E32<>\"*OFF*\",ISNA((VLOOKUP(C32&\"@\"&E32,Q$4:Q31,1,FALSE)))),1,0)","v":0},{"$f":"SUM(O$4:O32)+(100*SUM(T$4:T32))","v":0},{"$f":"IF(NOT(ISBLANK(B32)),(A32+P32)+(Settings!$B$5/24),\"\")","v":""},0,0,{"$error":"#VALUE!"},null,0,0,0,0,0,0,0,0]
[null,null,null,null,null,null,null,0,"","","","","",{"$error":"#VALUE!"},0,"","","::",{"$f":"IF(ISNA(VLOOKUP(R33,R$4:R32,1,FALSE)),FALSE,IF(O33>0,TRUE,FALSE))","v":false},{"$f":"IF(AND(C33<>\"\",$E33<>\"*ON*\",$E33<>\"*OFF*\",ISNA((VLOOKUP(C33&\"@\"&E33,Q$4:Q32,1,FALSE)))),1,0)","v":0},{"$f":"SUM(O$4:O33)+(100*SUM(T$4:T33))","v":0},{"$f":"IF(NOT(ISBLANK(B33)),(A33+P33)+(Settings!$B$5/24),\"\")","v":""},0,0,{"$error":"#VALUE!"},null,0,0,0,0,0,0,0,0]
[null,null,null,null,null,null,null,0,"","","","","",{"$error":"#VALUE!"},0,"","","::",{"$f":"IF(ISNA(VLOOKUP(R34,R$4:R33,1,FALSE)),FALSE,IF(O34>0,TRUE,FALSE))","v":false},{"$f":"IF(AND(C34<>\"\",$E34<>\"*ON*\",$E34<>\"*OFF*\",ISNA((VLOOKUP(C34&\"@\"&E34,Q$4:Q33,1,FALSE)))),1,0)","v":0},{"$f":"SUM(O$4:O34)+(100*SUM(T$4:T34))","v":0},{"$f":"IF(NOT(ISBLANK(B34)),(A34+P34)+(Settings!$B$5/24),\"\")","v":""},0,0,{"$error":"#VALUE!"},null,{"$f":"IF($E34=AA$3,$H34,0)","v":0},0,0,0,0,0,0,0]
[null,null,null,null,null,null,null,0,"","","","","",{"$error":"#VALUE!"},0,"","","::",{"$f":"IF(ISNA(VLOOKUP(R35,R$4:R34,1,FALSE)),FALSE,IF(O35>0,TRUE,FALSE))","v":false},{"$f":"IF(AND(C35<>\"\",$E35<>\"*ON*\",$E35<>\"*OFF*\",ISNA((VLOOKUP(C35&\"@\"&E35,Q$4:Q34,1,FALSE)))),1,0)","v":0},{"$f":"SUM(O$4:O35)+(100*SUM(T$4:T35))","v":0},{"$f":"IF(NOT(ISBLANK(B35)),(A35+P35)+(Settings!$B$5/24),\"\")","v":""},0,0,{"$error":"#VALUE!"},null,0,0,0,0,0,0,0,0]
[null,null,null,null,null,null,null,0,"","","","","",{"$error":"#VALUE!"},0,"","","::",{"$f":"IF(ISNA(VLOOKUP(R36,R$4:R35,1,FALSE)),FALSE,IF(O36>0,TRUE,FALSE))","v":false},{"$f":"IF(AND(C36<>\"\",$E36<>\"*ON*\",$E36<>\"*OFF*\",ISNA((VLOOKUP(C36&\"@\"&E36,Q$4:Q35,1,FALSE)))),1,0)","v":0},{"$f":"SUM(O$4:O36)+(100*SUM(T$4:T36))","v":0},{"$f":"IF(NOT(ISBLANK(B36)),(A36+P36)+(Settings!$B$5/24),\"\")","v":""},0,0,{"$error":"#VALUE!"},null,0,0,0,0,0,0,0,0]
[null,null,null,null,null,null,null,0,"","","","","",{"$error":"#VALUE!"},0,"","","::",{"$f":"IF(ISNA(VLOOKUP(R37,R$4:R36,1,FALSE)),FALSE,IF(O37>0,TRUE,FALSE))","v":false},{"$f":"IF(AND(C37<>\"\",$E37<>\"*ON*\",$E37<>\"*OFF*\",ISNA((VLOOKUP(C37&\"@\"&E37,Q$4:Q36,1,FALSE)))),1,0)","v":0},{"$f":"SUM(O$4:O37)+(100*SUM(T$4:T37))","v":0},{"$f":"IF(NOT(ISBLANK(B37)),(A37+P37)+(Settings!$B$5/24),\"\")","v":""},0,0,{"$error":"#VALUE!"},null,0,0,0,0,0,0,0,0]
[null,null,null,null,null,null,null,0,"","","","","",{"$error":"#VALUE!"},0,"","","::",{"$f":"IF(ISNA(VLOOKUP(R38,R$4:R37,1,FALSE)),FALSE,IF(O38>0,TRUE,FALSE))","v":false},{"$f":"IF(AND(C38<>\"\",$E38<>\"*ON*\",$E38<>\"*OFF*\",ISNA((VLOOKUP(C38&\"@\"&E38,Q$4:Q37,1,FALSE)))),1,0)","v":0},{"$f":"SUM(O$4:O38)+(100*SUM(T$4:T38))","v":0},{"$f":"IF(NOT(ISBLANK(B38)),(A38+P38)+(Settings!$B$5/24),\"\")","v":""},0,0,{"$error":"#VALUE!"},null,0,0,0,0,0,0,0,0]
[null,null,null,null,null,null,null,0,"","","","","",{"$error":"#VALUE!"},0,"","","::",{"$f":"IF(ISNA(VLOOKUP(R39,R$4:R38,1,FALSE)),FALSE,IF(O39>0,TRUE,FALSE))","v":false},{"$f":"IF(AND(C39<>\"\",$E39<>\"*ON*\",$E39<>\"*OFF*\",ISNA((VLOOKUP(C39&\"@\"&E39,Q$4:Q38,1,FALSE)))),1,0)","v":0},{"$f":"SUM(O$4:O39)+(100*SUM(T$4:T39))","v":0},{"$f":"IF(NOT(ISBLANK(B39)),(A39+P39)+(Settings!$B$5/24),\"\")","v":""},0,0,{"$error":"#VALUE!"},null,0,0,0,0,0,0,0,0]
[null,null,null,null,null,null,null,0,"","","","","",{"$error":"#VALUE!"},0,"","","::",{"$f":"IF(ISNA(VLOOKUP(R40,R$4:R39,1,FALSE)),FALSE,IF(O40>0,TRUE,FALSE))","v":false},{"$f":"IF(AND(C40<>\"\",$E40<>\"*ON*\",$E40<>\"*OFF*\",ISNA((VLOOKUP(C40&\"@\"&E40,Q$4:Q39,1,FALSE)))),1,0)","v":0},{"$f":"SUM(O$4:O40)+(100*SUM(T$4:T40))","v":0},{"$f":"IF(NOT(ISBLANK(B40)),(A40+P40)+(Settings!$B$5/24),\"\")","v":""},0,0,{"$error":"#VALUE!"},null,0,0,0,0,0,0,0,0]
[null,null,null,null,null,null,null,0,"","","","","",{"$error":"#VALUE!"},0,"","","::",{"$f":"IF(ISNA(VLOOKUP(R41,R$4:R40,1,FALSE)),FALSE,IF(O41>0,TRUE,FALSE))","v":false},{"$f":"IF(AND(C41<>\"\",$E41<>\"*ON*\",$E41<>\"*OFF*\",ISNA((VLOOKUP(C41&\"@\"&E41,Q$4:Q40,1,FALSE)))),1,0)","v":0},{"$f":"SUM(O$4:O41)+(100*SUM(T$4:T41))","v":0},{"$f":"IF(NOT(ISBLANK(B41)),(A41+P41)+(Settings!$B$5/24),\"\")","v":""},0,0,{"$error":"#VALUE!"},null,0,0,0,0,0,0,0,0]
[null,null,null,null,null,null,null,0,"","","","","",{"$error":"#VALUE!"},0,"","","::",{"$f":"IF(ISNA(VLOOKUP(R42,R$4:R41,1,FALSE)),FALSE,IF(O42>0,TRUE,FALSE))","v":false},{"$f":"IF(AND(C42<>\"\",$E42<>\"*ON*\",$E42<>\"*OFF*\",ISNA((VLOOKUP(C42&\"@\"&E42,Q$4:Q41,1,FALSE)))),1,0)","v":0},{"$f":"SUM(O$4:O42)+(100*SUM(T$4:T42))","v":0},{"$f":"IF(NOT(ISBLANK(B42)),(A42+P42)+(Settings!$B$5/24),\"\")","v":""},0,0,{"$error":"#VALUE!"},null,0,0,0,0,0,0,0,0]
[null,null,null,null,null,null,null,0,"","","","","",{"$error":"#VALUE!"},0,"","","::",{"$f":"IF(ISNA(VLOOKUP(R43,R$4:R42,1,FALSE)),FALSE,IF(O43>0,TRUE,FALSE))","v":false},{"$f":"IF(AND(C43<>\"\",$E43<>\"*ON*\",$E43<>\"*OFF*\",ISNA((VLOOKUP(C43&\"@\"&E43,Q$4:Q42,1,FALSE)))),1,0)","v":0},{"$f":"SUM(O$4:O43)+(100*SUM(T$4:T43))","v":0},{"$f":"IF(NOT(ISBLANK(B43)),(A43+P43)+(Settings!$B$5/24),\"\")","v":""},0,0,{"$error":"#VALUE!"},null,0,0,0,0,0,0,0,0]
[null,null,null,null,null,null,null,0,"","","","","",{"$error":"#VALUE!"},0,"","","::",{"$f":"IF(ISNA(VLOOKUP(R44,R$4:R43,1,FALSE)),FALSE,IF(O44>0,TRUE,FALSE))","v":false},{"$f":"IF(AND(C44<>\"\",$E44<>\"*ON*\",$E44<>\"*OFF*\",ISNA((VLOOKUP(C44&\"@\"&E44,Q$4:Q43,1,FALSE)))),1,0)","v":0},{"$f":"SUM(O$4:O44)+(100*SUM(T$4:T44))","v":0},{"$f":"IF(NOT(ISBLANK(B44)),(A44+P44)+(Settings!$B$5/24),\"\")","v":""},0,0,{"$error":"#VALUE!"},null,{"$f":"IF($E44=AA$3,$H44,0)","v":0},0,0,0,0,0,0,0]
[null,null,null,null,null,null,null,0,"","","","","",{"$error":"#VALUE!"},0,"","","::",{"$f":"IF(ISNA(VLOOKUP(R45,R$4:R44,1,FALSE)),FALSE,IF(O45>0,TRUE,FALSE))","v":false},{"$f":"IF(AND(C45<>\"\",$E45<>\"*ON*\",$E45<>\"*OFF*\",ISNA((VLOOKUP(C45&\"@\"&E45,Q$4:Q44,1,FALSE)))),1,0)","v":0},{"$f":"SUM(O$4:O45)+(100*SUM(T$4:T45))","v":0},{"$f":"IF(NOT(ISBLANK(B45)),(A45+P45)+(Settings!$B$5/24),\"\")","v":""},0,0,{"$f":"IF($E45=\"*EOL*\",0,IF(X43,0,V45-V43)*24)","v":{"$error":"#VALUE!"}},null,0,0,0,0,0,0,0,0]
[null,null,null,null,null,null,null,0,"","","","","",{"$error":"#VALUE!"},0,"","","::",{"$f":"IF(ISNA(VLOOKUP(R46,R$4:R45,1,FALSE)),FALSE,IF(O46>0,TRUE,FALSE))","v":false},{"$f":"IF(AND(C46<>\"\",$E46<>\"*ON*\",$E46<>\"*OFF*\",ISNA((VLOOKUP(C46&\"@\"&E46,Q$4:Q45,1,FALSE)))),1,0)","v":0},{"$f":"SUM(O$4:O46)+(100*SUM(T$4:T46))","v":0},{"$f":"IF(NOT(ISBLANK(B46)),(A46+P46)+(Settings!$B$5/24),\"\")","v":""},0,0,{"$f":"IF($E46=\"*EOL*\",0,IF(X45,0,V46-V45)*24)","v":{"$error":"#VALUE!"}},null,0,0,0,0,0,0,0,0]
[null,null,null,null,null,null,null,0,"","","","","",{"$error":"#VALUE!"},0,"","","::",{"$f":"IF(ISNA(VLOOKUP(R47,R$4:R46,1,FALSE)),FALSE,IF(O47>0,TRUE,FALSE))","v":false},{"$f":"IF(AND(C47<>\"\",$E47<>\"*ON*\",$E47<>\"*OFF*\",ISNA((VLOOKUP(C47&\"@\"&E47,Q$4:Q46,1,FALSE)))),1,0)","v":0},{"$f":"SUM(O$4:O47)+(100*SUM(T$4:T47))","v":0},{"$f":"IF(NOT(ISBLANK(B47)),(A47+P47)+(Settings!$B$5/24),\"\")","v":""},0,0,{"$error":"#VALUE!"},null,0,0,0,0,0,0,0,0]
[null,null,null,null,null,null,null,0,"","","","","",{"$error":"#VALUE!"},0,"","","::",{"$f":"IF(ISNA(VLOOKUP(R48,R$4:R47,1,FALSE)),FALSE,IF(O48>0,TRUE,FALSE))","v":false},{"$f":"IF(AND(C48<>\"\",$E48<>\"*ON*\",$E48<>\"*OFF*\",ISNA((VLOOKUP(C48&\"@\"&E48,Q$4:Q47,1,FALSE)))),1,0)","v":0},{"$f":"SUM(O$4:O48)+(100*SUM(T$4:T48))","v":0},{"$f":"IF(NOT(ISBLANK(B48)),(A48+P48)+(Settings!$B$5/24),\"\")","v":""},0,0,{"$error":"#VALUE!"},null,0,0,0,0,0,0,0,0]
[null,null,null,null,null,null,null,0,"","","","","",{"$error":"#VALUE!"},0,"","","::",{"$f":"IF(ISNA(VLOOKUP(R49,R$4:R48,1,FALSE)),FALSE,IF(O49>0,TRUE,FALSE))","v":false},{"$f":"IF(AND(C49<>\"\",$E49<>\"*ON*\",$E49<>\"*OFF*\",ISNA((VLOOKUP(C49&\"@\"&E49,Q$4:Q48,1,FALSE)))),1,0)","v":0},{"$f":"SUM(O$4:O49)+(100*SUM(T$4:T49))","v":0},{"$f":"IF(NOT(ISBLANK(B49)),(A49+P49)+(Settings!$B$5/24),\"\")","v":""},0,0,{"$error":"#VALUE!"},null,0,0,0,0,0,0,0,0]
[null,null,null,null,null,null,null,0,"","","","","",{"$error":"#VALUE!"},0,"","","::",{"$f":"IF(ISNA(VLOOKUP(R50,R$4:R49,1,FALSE)),FALSE,IF(O50>0,TRUE,FALSE))","v":false},{"$f":"IF(AND(C50<>\"\",$E50<>\"*ON*\",$E50<>\"*OFF*\",ISNA((VLOOKUP(C50&\"@\"&E50,Q$4:Q49,1,FALSE)))),1,0)","v":0},{"$f":"SUM(O$4:O50)+(100*SUM(T$4:T50))","v":0},{"$f":"IF(NOT(ISBLANK(B50)),(A50+P50)+(Settings!$B$5/24),\"\")","v":""},0,0,{"$error":"#VALUE!"},null,0,0,0,0,0,0,0,0]
[null,null,null,null,null,null,null,0,"","","","","",{"$error":"#VALUE!"},0,"","","::",{"$f":"IF(ISNA(VLOOKUP(R51,R$4:R50,1,FALSE)),FALSE,IF(O51>0,TRUE,FALSE))","v":false},{"$f":"IF(AND(C51<>\"\",$E51<>\"*ON*\",$E51<>\"*OFF*\",ISNA((VLOOKUP(C51&\"@\"&E51,Q$4:Q50,1,FALSE)))),1,0)","v":0},{"$f":"SUM(O$4:O51)+(100*SUM(T$4:T51))","v":0},{"$f":"IF(NOT(ISBLANK(B51)),(A51+P51)+(Settings!$B$5/24),\"\")","v":""},0,0,{"$error":"#VALUE!"},null,0,0,0,0,0,0,0,0]
[null,null,null,null,null,null,null,0,"","","","","",{"$error":"#VALUE!"},0,"","","::",{"$f":"IF(ISNA(VLOOKUP(R52,R$4:R51,1,FALSE)),FALSE,IF(O52>0,TRUE,FALSE))","v":false},{"$f":"IF(AND(C52<>\"\",$E52<>\"*ON*\",$E52<>\"*OFF*\",ISNA((VLOOKUP(C52&\"@\"&E52,Q$4:Q51,1,FALSE)))),1,0)","v":0},{"$f":"SUM(O$4:O52)+(100*SUM(T$4:T52))","v":0},{"$f":"IF(NOT(ISBLANK(B52)),(A52+P52)+(Settings!$B$5/24),\"\")","v":""},0,0,{"$error":"#VALUE!"},null,0,0,0,0,0,0,0,0]
[null,null,null,null,null,null,null,0,"","","","","",{"$error":"#VALUE!"},0,"","","::",{"$f":"IF(ISNA(VLOOKUP(R53,R$4:R52,1,FALSE)),FALSE,IF(O53>0,TRUE,FALSE))","v":false},{"$f":"IF(AND(C53<>\"\",$E53<>\"*ON*\",$E53<>\"*OFF*\",ISNA((VLOOKUP(C53&\"@\"&E53,Q$4:Q52,1,FALSE)))),1,0)","v":0},{"$f":"SUM(O$4:O53)+(100*SUM(T$4:T53))","v":0},{"$f":"IF(NOT(ISBLANK(B53)),(A53+P53)+(Settings!$B$5/24),\"\")","v":""},0,0,{"$error":"#VALUE!"},null,0,0,0,0,0,0,0,0]
[null,null,null,null,null,null,null,0,"","","","","",{"$error":"#VALUE!"},0,"","","::",{"$f":"IF(ISNA(VLOOKUP(R54,R$4:R53,1,FALSE)),FALSE,IF(O54>0,TRUE,FALSE))","v":false},{"$f":"IF(AND(C54<>\"\",$E54<>\"*ON*\",$E54<>\"*OFF*\",ISNA((VLOOKUP(C54&\"@\"&E54,Q$4:Q53,1,FALSE)))),1,0)","v":0},{"$f":"SUM(O$4:O54)+(100*SUM(T$4:T54))","v":0},{"$f":"IF(NOT(ISBLANK(B54)),(A54+P54)+(Settings!$B$5/24),\"\")","v":""},0,0,{"$error":"#VALUE!"},null,{"$f":"IF($E54=AA$3,$H54,0)","v":0},0,0,0,0,0,0,0]
[null,null,null,null,null,null,null,0,"","","","","",{"$error":"#VALUE!"},0,"","","::",{"$f":"IF(ISNA(VLOOKUP(R55,R$4:R54,1,FALSE)),FALSE,IF(O55>0,TRUE,FALSE))","v":false},{"$f":"IF(AND(C55<>\"\",$E55<>\"*ON*\",$E55<>\"*OFF*\",ISNA((VLOOKUP(C55&\"@\"&E55,Q$4:Q54,1,FALSE)))),1,0)","v":0},{"$f":"SUM(O$4:O55)+(100*SUM(T$4:T55))","v":0},{"$f":"IF(NOT(ISBLANK(B55)),(A55+P55)+(Settings!$B$5/24),\"\")","v":""},0,0,{"$error":"#VALUE!"},null,0,0,0,0,0,0,0,0]
[null,null,null,null,null,null,null,0,"","","","","",{"$error":"#VALUE!"},0,"","","::",{"$f":"IF(ISNA(VLOOKUP(R56,R$4:R55,1,FALSE)),FALSE,IF(O56>0,TRUE,FALSE))","v":false},{"$f":"IF(AND(C56<>\"\",$E56<>\"*ON*\",$E56<>\"*OFF*\",ISNA((VLOOKUP(C56&\"@\"&E56,Q$4:Q55,1,FALSE)))),1,0)","v":0},{"$f":"SUM(O$4:O56)+(100*SUM(T$4:T56))","v":0},{"$f":"IF(NOT(ISBLANK(B56)),(A56+P56)+(Settings!$B$5/24),\"\")","v":""},0,0,{"$error":"#VALUE!"},null,0,0,0,0,0,0,0,0]
[null,null,null,null,null,null,null,0,"","","","","",{"$error":"#VALUE!"},0,"","","::",{"$f":"IF(ISNA(VLOOKUP(R57,R$4:R56,1,FALSE)),FALSE,IF(O57>0,TRUE,FALSE))","v":false},{"$f":"IF(AND(C57<>\"\",$E57<>\"*ON*\",$E57<>\"*OFF*\",ISNA((VLOOKUP(C57&\"@\"&E57,Q$4:Q56,1,FALSE)))),1,0)","v":0},{"$f":"SUM(O$4:O57)+(100*SUM(T$4:T57))","v":0},{"$f":"IF(NOT(ISBLANK(B57)),(A57+P57)+(Settings!$B$5/24),\"\")","v":""},0,0,{"$error":"#VALUE!"},null,0,0,0,0,0,0,0,0]
[null,null,null,null,null,null,null,0,"","","","","",{"$error":"#VALUE!"},0,"","","::",{"$f":"IF(ISNA(VLOOKUP(R58,R$4:R57,1,FALSE)),FALSE,IF(O58>0,TRUE,FALSE))","v":false},{"$f":"IF(AND(C58<>\"\",$E58<>\"*ON*\",$E58<>\"*OFF*\",ISNA((VLOOKUP(C58&\"@\"&E58,Q$4:Q57,1,FALSE)))),1,0)","v":0},{"$f":"SUM(O$4:O58)+(100*SUM(T$4:T58))","v":0},{"$f":"IF(NOT(ISBLANK(B58)),(A58+P58)+(Settings!$B$5/24),\"\")","v":""},0,0,{"$error":"#VALUE!"},null,0,0,0,0,0,0,0,0]
[null,null,null,null,null,null,null,0,"","","","","",{"$error":"#VALUE!"},0,"","","::",{"$f":"IF(ISNA(VLOOKUP(R59,R$4:R58,1,FALSE)),FALSE,IF(O59>0,TRUE,FALSE))","v":false},{"$f":"IF(AND(C59<>\"\",$E59<>\"*ON*\",$E59<>\"*OFF*\",ISNA((VLOOKUP(C59&\"@\"&E59,Q$4:Q58,1,FALSE)))),1,0)","v":0},{"$f":"SUM(O$4:O59)+(100*SUM(T$4:T59))","v":0},{"$f":"IF(NOT(ISBLANK(B59)),(A59+P59)+(Settings!$B$5/24),\"\")","v":""},0,0,{"$error":"#VALUE!"},null,0,0,0,0,0,0,0,0]
[null,null,null,null,null,null,null,0,"","","","","",{"$error":"#VALUE!"},0,"","","::",{"$f":"IF(ISNA(VLOOKUP(R60,R$4:R59,1,FALSE)),FALSE,IF(O60>0,TRUE,FALSE))","v":false},{"$f":"IF(AND(C60<>\"\",$E60<>\"*ON*\",$E60<>\"*OFF*\",ISNA((VLOOKUP(C60&\"@\"&E60,Q$4:Q59,1,FALSE)))),1,0)","v":0},{"$f":"SUM(O$4:O60)+(100*SUM(T$4:T60))","v":0},{"$f":"IF(NOT(ISBLANK(B60)),(A60+P60)+(Settings!$B$5/24),\"\")","v":""},0,0,{"$error":"#VALUE!"},null,0,0,0,0,0,0,0,0]
[null,null,null,null,null,null,null,0,"","","","","",{"$error":"#VALUE!"},0,"","","::",{"$f":"IF(ISNA(VLOOKUP(R61,R$4:R60,1,FALSE)),FALSE,IF(O61>0,TRUE,FALSE))","v":false},{"$f":"IF(AND(C61<>\"\",$E61<>\"*ON*\",$E61<>\"*OFF*\",ISNA((VLOOKUP(C61&\"@\"&E61,Q$4:Q60,1,FALSE)))),1,0)","v":0},{"$f":"SUM(O$4:O61)+(100*SUM(T$4:T61))","v":0},{"$f":"IF(NOT(ISBLANK(B61)),(A61+P61)+(Settings!$B$5/24),\"\")","v":""},0,0,{"$error":"#VALUE!"},null,0,0,0,0,0,0,0,0]
[null,null,null,null,null,null,null,0,"","","","","",{"$error":"#VALUE!"},0,"","","::",{"$f":"IF(ISNA(VLOOKUP(R62,R$4:R61,1,FALSE)),FALSE,IF(O62>0,TRUE,FALSE))","v":false},{"$f":"IF(AND(C62<>\"\",$E62<>\"*ON*\",$E62<>\"*OFF*\",ISNA((VLOOKUP(C62&\"@\"&E62,Q$4:Q61,1,FALSE)))),1,0)","v":0},{"$f":"SUM(O$4:O62)+(100*SUM(T$4:T62))","v":0},{"$f":"IF(NOT(ISBLANK(B62)),(A62+P62)+(Settings!$B$5/24),\"\")","v":""},0,0,{"$error":"#VALUE!"},null,0,0,0,0,0,0,0,0]
[null,null,null,null,null,null,null,0,"","","","","",{"$error":"#VALUE!"},0,"","","::",{"$f":"IF(ISNA(VLOOKUP(R63,R$4:R62,1,FALSE)),FALSE,IF(O63>0,TRUE,FALSE))","v":false},{"$f":"IF(AND(C63<>\"\",$E63<>\"*ON*\",$E63<>\"*OFF*\",ISNA((VLOOKUP(C63&\"@\"&E63,Q$4:Q62,1,FALSE)))),1,0)","v":0},{"$f":"SUM(O$4:O63)+(100*SUM(T$4:T63))","v":0},{"$f":"IF(NOT(ISBLANK(B63)),(A63+P63)+(Settings!$B$5/24),\"\")","v":""},0,0,{"$error":"#VALUE!"},null,0,0,0,0,0,0,0,0]
[null,null,null,null,null,null,null,0,"","","","","",{"$error":"#VALUE!"},0,"","","::",{"$f":"IF(ISNA(VLOOKUP(R64,R$4:R63,1,FALSE)),FALSE,IF(O64>0,TRUE,FALSE))","v":false},{"$f":"IF(AND(C64<>\"\",$E64<>\"*ON*\",$E64<>\"*OFF*\",ISNA((VLOOKUP(C64&\"@\"&E64,Q$4:Q63,1,FALSE)))),1,0)","v":0},{"$f":"SUM(O$4:O64)+(100*SUM(T$4:T64))","v":0},{"$f":"IF(NOT(ISBLANK(B64)),(A64+P64)+(Settings!$B$5/24),\"\")","v":""},0,0,{"$error":"#VALUE!"},null,{"$f":"IF($E64=AA$3,$H64,0)","v":0},0,0,0,0,0,0,0]
[null,null,null,null,null,null,null,0,"","","","","",{"$error":"#VALUE!"},0,"","","::",{"$f":"IF(ISNA(VLOOKUP(R65,R$4:R64,1,FALSE)),FALSE,IF(O65>0,TRUE,FALSE))","v":false},{"$f":"IF(AND(C65<>\"\",$E65<>\"*ON*\",$E65<>\"*OFF*\",ISNA((VLOOKUP(C65&\"@\"&E65,Q$4:Q64,1,FALSE)))),1,0)","v":0},{"$f":"SUM(O$4:O65)+(100*SUM(T$4:T65))","v":0},{"$f":"IF(NOT(ISBLANK(B65)),(A65+P65)+(Settings!$B$5/24),\"\")","v":""},0,0,{"$error":"#VALUE!"},null,0,0,0,0,0,0,0,0]
[null,null,null,null,null,null,null,0,"","","","","",{"$error":"#VALUE!"},0,"","","::",{"$f":"IF(ISNA(VLOOKUP(R66,R$4:R65,1,FALSE)),FALSE,IF(O66>0,TRUE,FALSE))","v":false},{"$f":"IF(AND(C66<>\"\",$E66<>\"*ON*\",$E66<>\"*OFF*\",ISNA((VLOOKUP(C66&\"@\"&E66,Q$4:Q65,1,FALSE)))),1,0)","v":0},{"$f":"SUM(O$4:O66)+(100*SUM(T$4:T66))","v":0},{"$f":"IF(NOT(ISBLANK(B66)),(A66+P66)+(Settings!$B$5/24),\"\")","v":""},0,0,{"$error":"#VALUE!"},null,0,0,0,0,0,0,0,0]
[null,null,null,null,null,null,null,0,"","","","","",{"$error":"#VALUE!"},0,"","","::",{"$f":"IF(ISNA(VLOOKUP(R67,R$4:R66,1,FALSE)),FALSE,IF(O67>0,TRUE,FALSE))","v":false},{"$f":"IF(AND(C67<>\"\",$E67<>\"*ON*\",$E67<>\"*OFF*\",ISNA((VLOOKUP(C67&\"@\"&E67,Q$4:Q66,1,FALSE)))),1,0)","v":0},{"$f":"SUM(O$4:O67)+(100*SUM(T$4:T67))","v":0},{"$f":"IF(NOT(ISBLANK(B67)),(A67+P67)+(Settings!$B$5/24),\"\")","v":""},0,0,{"$error":"#VALUE!"},null,0,0,0,0,0,0,0,0]
[null,null,null,null,null,null,null,0,"",{"$f":"MH2Lat(F68)","v":""},{"$f":"MH2Lon(F68)","v":""},{"$f":"MH2Lat(D68)","v":""},{"$f":"MH2Lon(D68)","v":""},{"$f":"Distance(J68,K68,L68,M68)","v":{"$error":"#VALUE!"}},0,{"$f":"IF(ISBLANK(B68),\"\",IF(LEN(B68)=1,TIMEVALUE(\"00:0\"&B68),IF(LEN(B68)=2,TIMEVALUE(\"00:\"&B68),IF(LEN(B68)=3,TIMEVALUE(\"0\"&LEFT(B68,1)&\":\"&RIGHT(B68,2)),TIMEVALUE(LEFT(B68,2)&\":\"&RIGHT(B68,2))))))","v":""},"","::",{"$f":"IF(ISNA(VLOOKUP(R68,R$4:R67,1,FALSE)),FALSE,IF(O68>0,TRUE,FALSE))","v":false},{"$f":"IF(AND(C68<>\"\",$E68<>\"*ON*\",$E68<>\"*OFF*\",ISNA((VLOOKUP(C68&\"@\"&E68,Q$4:Q67,1,FALSE)))),1,0)","v":0},{"$f":"SUM(O$4:O68)+(100*SUM(T$4:T68))","v":0},{"$f":"IF(NOT(ISBLANK(B68)),(A68+P68)+(Settings!$B$5/24),\"\")","v":""},{"$f":"IF(E68=\"*ON*\",1,0)","v":0},{"$f":"IF(E68=\"*OFF*\",1,0)","v":0},{"$error":"#VALUE!"},null,0,0,0,0,0,0,0,0]
[null,null,null,null,null,null,null,0,"","","","","",{"$error":"#VALUE!"},{"$f":"IF(NOT(ISERR(N69)),ROUND(N69,0),0)","v":0},"",{"$f":"IF(AND(NOT(ISBLANK(C69)),NOT(ISBLANK(E69))),C69&\"@\"&E69,\"\")","v":""},{"$f":"Q69&\":\"&F69&\":\"&D69","v":"::"},{"$f":"IF(ISNA(VLOOKUP(R69,R$4:R68,1,FALSE)),FALSE,IF(O69>0,TRUE,FALSE))","v":false},{"$f":"IF(AND(C69<>\"\",$E69<>\"*ON*\",$E69<>\"*OFF*\",ISNA((VLOOKUP(C69&\"@\"&E69,Q$4:Q68,1,FALSE)))),1,0)","v":0},{"$f":"SUM(O$4:O69)+(100*SUM(T$4:T69))","v":0},{"$f":"IF(NOT(ISBLANK(B69)),(A69+P69)+(Settings!$B$5/24),\"\")","v":""},0,0,{"$error":"#VALUE!"},null,0,0,0,0,0,0,0,0]
[null,null,null,null,null,null,null,{"$f":"IF(OR($S70,ISERR($N70),ISBLANK($B70),ISBLANK($C70)),0,MAX(O70,1))","v":0},{"$f":"IF(OR(ISBLANK($B70),ISBLANK($C70),ISBLANK($D70),ISBLANK($F70),NOT($S70)),\"\",\"Dupe!\")","v":""},"","","","",{"$error":"#VALUE!"},0,"","","::",{"$f":"IF(ISNA(VLOOKUP(R70,R$4:R69,1,FALSE)),FALSE,IF(O70>0,TRUE,FALSE))","v":false},{"$f":"IF(AND(C70<>\"\",$E70<>\"*ON*\",$E70<>\"*OFF*\",ISNA((VLOOKUP(C70&\"@\"&E70,Q$4:Q69,1,FALSE)))),1,0)","v":0},{"$f":"SUM(O$4:O70)+(100*SUM(T$4:T70))","v":0},{"$f":"IF(NOT(ISBLANK(B70)),(A70+P70)+(Settings!$B$5/24),\"\")","v":""},0,0,{"$error":"#VALUE!"},null,0,0,0,0,0,0,0,0]
[null,null,null,null,null,null,null,0,"","","","","",{"$error":"#VALUE!"},0,"","","::",{"$f":"IF(ISNA(VLOOKUP(R71,R$4:R70,1,FALSE)),FALSE,IF(O71>0,TRUE,FALSE))","v":false},{"$f":"IF(AND(C71<>\"\",$E71<>\"*ON*\",$E71<>\"*OFF*\",ISNA((VLOOKUP(C71&\"@\"&E71,Q$4:Q70,1,FALSE)))),1,0)","v":0},{"$f":"SUM(O$4:O71)+(100*SUM(T$4:T71))","v":0},{"$f":"IF(NOT(ISBLANK(B71)),(A71+P71)+(Settings!$B$5/24),\"\")","v":""},0,0,{"$error":"#VALUE!"},null,0,0,0,0,0,0,0,0]
[null,null,null,null,null,null,null,0,"","","","","",{"$error":"#VALUE!"},0,"","","::",{"$f":"IF(ISNA(VLOOKUP(R72,R$4:R71,1,FALSE)),FALSE,IF(O72>0,TRUE,FALSE))","v":false},{"$f":"IF(AND(C72<>\"\",$E72<>\"*ON*\",$E72<>\"*OFF*\",ISNA((VLOOKUP(C72&\"@\"&E72,Q$4:Q71,1,FALSE)))),1,0)","v":0},{"$f":"SUM(O$4:O72)+(100*SUM(T$4:T72))","v":0},{"$f":"IF(NOT(ISBLANK(B72)),(A72+P72)+(Settings!$B$5/24),\"\")","v":""},0,0,{"$error":"#VALUE!"},null,0,0,0,0,0,0,0,0]
[null,null,null,null,null,null,null,0,"","","","","",{"$error":"#VALUE!"},0,"","","::",{"$f":"IF(ISNA(VLOOKUP(R73,R$4:R72,1,FALSE)),FALSE,IF(O73>0,TRUE,FALSE))","v":false},{"$f":"IF(AND(C73<>\"\",$E73<>\"*ON*\",$E73<>\"*OFF*\",ISNA((VLOOKUP(C73&\"@\"&E73,Q$4:Q72,1,FALSE)))),1,0)","v":0},{"$f":"SUM(O$4:O73)+(100*SUM(T$4:T73))","v":0},{"$f":"IF(NOT(ISBLANK(B73)),(A73+P73)+(Settings!$B$5/24),\"\")","v":""},0,0,{"$error":"#VALUE!"},null,0,0,0,0,0,0,0,0]
[null,null,null,null,null,null,null,0,"","","","","",{"$error":"#VALUE!"},0,"","","::",{"$f":"IF(ISNA(VLOOKUP(R74,R$4:R73,1,FALSE)),FALSE,IF(O74>0,TRUE,FALSE))","v":false},{"$f":"IF(AND(C74<>\"\",$E74<>\"*ON*\",$E74<>\"*OFF*\",ISNA((VLOOKUP(C74&\"@\"&E74,Q$4:Q73,1,FALSE)))),1,0)","v":0},{"$f":"SUM(O$4:O74)+(100*SUM(T$4:T74))","v":0},{"$f":"IF(NOT(ISBLANK(B74)),(A74+P74)+(Settings!$B$5/24),\"\")","v":""},0,0,{"$error":"#VALUE!"},null,{"$f":"IF($E74=AA$3,$H74,0)","v":0},0,0,0,0,0,0,0]
[null,null,null,null,null,null,null,0,"","","","","",{"$error":"#VALUE!"},0,"","","::",{"$f":"IF(ISNA(VLOOKUP(R75,R$4:R74,1,FALSE)),FALSE,IF(O75>0,TRUE,FALSE))","v":false},{"$f":"IF(AND(C75<>\"\",$E75<>\"*ON*\",$E75<>\"*OFF*\",ISNA((VLOOKUP(C75&\"@\"&E75,Q$4:Q74,1,FALSE)))),1,0)","v":0},{"$f":"SUM(O$4:O75)+(100*SUM(T$4:T75))","v":0},{"$f":"IF(NOT(ISBLANK(B75)),(A75+P75)+(Settings!$B$5/24),\"\")","v":""},0,0,{"$error":"#VALUE!"},null,0,0,0,0,0,0,0,0]
[null,null,null,null,null,null,null,0,"","","","","",{"$error":"#VALUE!"},0,"","","::",{"$f":"IF(ISNA(VLOOKUP(R76,R$4:R75,1,FALSE)),FALSE,IF(O76>0,TRUE,FALSE))","v":false},{"$f":"IF(AND(C76<>\"\",$E76<>\"*ON*\",$E76<>\"*OFF*\",ISNA((VLOOKUP(C76&\"@\"&E76,Q$4:Q75,1,FALSE)))),1,0)","v":0},{"$f":"SUM(O$4:O76)+(100*SUM(T$4:T76))","v":0},{"$f":"IF(NOT(ISBLANK(B76)),(A76+P76)+(Settings!$B$5/24),\"\")","v":""},0,0,{"$error":"#VALUE!"},null,0,0,0,0,0,0,0,0]
[null,null,null,null,null,null,null,0,"","","","","",{"$error":"#VALUE!"},0,"","","::",{"$f":"IF(ISNA(VLOOKUP(R77,R$4:R76,1,FALSE)),FALSE,IF(O77>0,TRUE,FALSE))","v":false},{"$f":"IF(AND(C77<>\"\",$E77<>\"*ON*\",$E77<>\"*OFF*\",ISNA((VLOOKUP(C77&\"@\"&E77,Q$4:Q76,1,FALSE)))),1,0)","v":0},{"$f":"SUM(O$4:O77)+(100*SUM(T$4:T77))","v":0},{"$f":"IF(NOT(ISBLANK(B77)),(A77+P77)+(Settings!$B$5/24),\"\")","v":""},0,0,{"$error":"#VALUE!"},null,0,0,0,0,0,0,0,0]
[null,null,null,null,null,null,null,0,"","","","","",{"$error":"#VALUE!"},0,"","","::",{"$f":"IF(ISNA(VLOOKUP(R78,R$4:R77,1,FALSE)),FALSE,IF(O78>0,TRUE,FALSE))","v":false},{"$f":"IF(AND(C78<>\"\",$E78<>\"*ON*\",$E78<>\"*OFF*\",ISNA((VLOOKUP(C78&\"@\"&E78,Q$4:Q77,1,FALSE)))),1,0)","v":0},{"$f":"SUM(O$4:O78)+(100*SUM(T$4:T78))","v":0},{"$f":"IF(NOT(ISBLANK(B78)),(A78+P78)+(Settings!$B$5/24),\"\")","v":""},0,0,{"$f":"IF($E78=\"*EOL*\",0,IF(X77,0,V78-V77)*24)","v":{"$error":"#VALUE!"}},null,0,0,0,0,0,0,0,0]
[null,null,null,null,null,null,null,0,"","","","","",{"$error":"#VALUE!"},0,"","","::",{"$f":"IF(ISNA(VLOOKUP(R79,R$4:R78,1,FALSE)),FALSE,IF(O79>0,TRUE,FALSE))","v":false},{"$f":"IF(AND(C79<>\"\",$E79<>\"*ON*\",$E79<>\"*OFF*\",ISNA((VLOOKUP(C79&\"@\"&E79,Q$4:Q78,1,FALSE)))),1,0)","v":0},{"$f":"SUM(O$4:O79)+(100*SUM(T$4:T79))","v":0},{"$f":"IF(NOT(ISBLANK(B79)),(A79+P79)+(Settings!$B$5/24),\"\")","v":""},0,0,{"$error":"#VALUE!"},null,0,0,0,0,0,0,0,0]
[null,null,null,null,null,null,null,0,"","","","","",{"$error":"#VALUE!"},0,"","","::",{"$f":"IF(ISNA(VLOOKUP(R80,R$4:R79,1,FALSE)),FALSE,IF(O80>0,TRUE,FALSE))","v":false},{"$f":"IF(AND(C80<>\"\",$E80<>\"*ON*\",$E80<>\"*OFF*\",ISNA((VLOOKUP(C80&\"@\"&E80,Q$4:Q79,1,FALSE)))),1,0)","v":0},{"$f":"SUM(O$4:O80)+(100*SUM(T$4:T80))","v":0},{"$f":"IF(NOT(ISBLANK(B80)),(A80+P80)+(Settings!$B$5/24),\"\")","v":""},0,0,{"$error":"#VALUE!"},null,0,0,0,0,0,0,0,0]
[null,null,null,null,null,null,null,0,"","","","","",{"$error":"#VALUE!"},0,"","","::",{"$f":"IF(ISNA(VLOOKUP(R81,R$4:R80,1,FALSE)),FALSE,IF(O81>0,TRUE,FALSE))","v":false},{"$f":"IF(AND(C81<>\"\",$E81<>\"*ON*\",$E81<>\"*OFF*\",ISNA((VLOOKUP(C81&\"@\"&E81,Q$4:Q80,1,FALSE)))),1,0)","v":0},{"$f":"SUM(O$4:O81)+(100*SUM(T$4:T81))","v":0},{"$f":"IF(NOT(ISBLANK(B81)),(A81+P81)+(Settings!$B$5/24),\"\")","v":""},0,0,{"$error":"#VALUE!"},null,0,0,0,0,0,0,0,0]
[null,null,null,null,null,null,null,0,"","","","","",{"$error":"#VALUE!"},0,"","","::",{"$f":"IF(ISNA(VLOOKUP(R82,R$4:R81,1,FALSE)),FALSE,IF(O82>0,TRUE,FALSE))","v":false},{"$f":"IF(AND(C82<>\"\",$E82<>\"*ON*\",$E82<>\"*OFF*\",ISNA((VLOOKUP(C82&\"@\"&E82,Q$4:Q81,1,FALSE)))),1,0)","v":0},{"$f":"SUM(O$4:O82)+(100*SUM(T$4:T82))","v":0},{"$f":"IF(NOT(ISBLANK(B82)),(A82+P82)+(Settings!$B$5/24),\"\")","v":""},0,0,{"$error":"#VALUE!"},null,0,0,0,0,0,0,0,0]
[null,null,null,null,null,null,null,0,"","","","","",{"$error":"#VALUE!"},0,"","","::",{"$f":"IF(ISNA(VLOOKUP(R83,R$4:R82,1,FALSE)),FALSE,IF(O83>0,TRUE,FALSE))","v":false},{"$f":"IF(AND(C83<>\"\",$E83<>\"*ON*\",$E83<>\"*OFF*\",ISNA((VLOOKUP(C83&\"@\"&E83,Q$4:Q82,1,FALSE)))),1,0)","v":0},{"$f":"SUM(O$4:O83)+(100*SUM(T$4:T83))","v":0},{"$f":"IF(NOT(ISBLANK(B83)),(A83+P83)+(Settings!$B$5/24),\"\")","v":""},0,0,{"$error":"#VALUE!"},null,0,0,0,0,0,0,0,0]
[null,null,null,null,null,null,null,0,"","","","","",{"$error":"#VALUE!"},0,"","","::",{"$f":"IF(ISNA(VLOOKUP(R84,R$4:R83,1,FALSE)),FALSE,IF(O84>0,TRUE,FALSE))","v":false},{"$f":"IF(AND(C84<>\"\",$E84<>\"*ON*\",$E84<>\"*OFF*\",ISNA((VLOOKUP(C84&\"@\"&E84,Q$4:Q83,1,FALSE)))),1,0)","v":0},{"$f":"SUM(O$4:O84)+(100*SUM(T$4:T84))","v":0},{"$f":"IF(NOT(ISBLANK(B84)),(A84+P84)+(Settings!$B$5/24),\"\")","v":""},0,0,{"$error":"#VALUE!"},null,{"$f":"IF($E84=AA$3,$H84,0)","v":0},0,0,0,0,0,0,0]
[null,null,null,null,null,null,null,0,"","","","","",{"$error":"#VALUE!"},0,"","","::",{"$f":"IF(ISNA(VLOOKUP(R85,R$4:R84,1,FALSE)),FALSE,IF(O85>0,TRUE,FALSE))","v":false},{"$f":"IF(AND(C85<>\"\",$E85<>\"*ON*\",$E85<>\"*OFF*\",ISNA((VLOOKUP(C85&\"@\"&E85,Q$4:Q84,1,FALSE)))),1,0)","v":0},{"$f":"SUM(O$4:O85)+(100*SUM(T$4:T85))","v":0},{"$f":"IF(NOT(ISBLANK(B85)),(A85+P85)+(Settings!$B$5/24),\"\")","v":""},0,0,{"$error":"#VALUE!"},null,0,0,0,0,0,0,0,0]
[null,null,null,null,null,null,null,0,"","","","","",{"$error":"#VALUE!"},0,"","","::",{"$f":"IF(ISNA(VLOOKUP(R86,R$4:R85,1,FALSE)),FALSE,IF(O86>0,TRUE,FALSE))","v":false},{"$f":"IF(AND(C86<>\"\",$E86<>\"*ON*\",$E86<>\"*OFF*\",ISNA((VLOOKUP(C86&\"@\"&E86,Q$4:Q85,1,FALSE)))),1,0)","v":0},{"$f":"SUM(O$4:O86)+(100*SUM(T$4:T86))","v":0},{"$f":"IF(NOT(ISBLANK(B86)),(A86+P86)+(Settings!$B$5/24),\"\")","v":""},0,0,{"$error":"#VALUE!"},null,0,0,0,0,0,0,0,0]
[null,null,null,null,null,null,null,0,"","","","","",{"$error":"#VALUE!"},0,"","","::",{"$f":"IF(ISNA(VLOOKUP(R87,R$4:R86,1,FALSE)),FALSE,IF(O87>0,TRUE,FALSE))","v":false},{"$f":"IF(AND(C87<>\"\",$E87<>\"*ON*\",$E87<>\"*OFF*\",ISNA((VLOOKUP(C87&\"@\"&E87,Q$4:Q86,1,FALSE)))),1,0)","v":0},{"$f":"SUM(O$4:O87)+(100*SUM(T$4:T87))","v":0},{"$f":"IF(NOT(ISBLANK(B87)),(A87+P87)+(Settings!$B$5/24),\"\")","v":""},0,0,{"$error":"#VALUE!"},null,0,0,0,0,0,0,0,0]
[null,null,null,null,null,null,null,0,"","","","","",{"$error":"#VALUE!"},0,"","","::",{"$f":"IF(ISNA(VLOOKUP(R88,R$4:R87,1,FALSE)),FALSE,IF(O88>0,TRUE,FALSE))","v":false},{"$f":"IF(AND(C88<>\"\",$E88<>\"*ON*\",$E88<>\"*OFF*\",ISNA((VLOOKUP(C88&\"@\"&E88,Q$4:Q87,1,FALSE)))),1,0)","v":0},{"$f":"SUM(O$4:O88)+(100*SUM(T$4:T88))","v":0},{"$f":"IF(NOT(ISBLANK(B88)),(A88+P88)+(Settings!$B$5/24),\"\")","v":""},0,0,{"$error":"#VALUE!"},null,0,0,0,0,0,0,0,0]
[null,null,null,null,null,null,null,0,"","","","","",{"$error":"#VALUE!"},0,"","","::",{"$f":"IF(ISNA(VLOOKUP(R89,R$4:R88,1,FALSE)),FALSE,IF(O89>0,TRUE,FALSE))","v":false},{"$f":"IF(AND(C89<>\"\",$E89<>\"*ON*\",$E89<>\"*OFF*\",ISNA((VLOOKUP(C89&\"@\"&E89,Q$4:Q88,1,FALSE)))),1,0)","v":0},{"$f":"SUM(O$4:O89)+(100*SUM(T$4:T89))","v":0},{"$f":"IF(NOT(ISBLANK(B89)),(A89+P89)+(Settings!$B$5/24),\"\")","v":""},0,0,{"$error":"#VALUE!"},null,0,0,0,0,0,0,0,0]
[null,null,null,null,null,null,null,0,"","","","","",{"$error":"#VALUE!"},0,"","","::",{"$f":"IF(ISNA(VLOOKUP(R90,R$4:R89,1,FALSE)),FALSE,IF(O90>0,TRUE,FALSE))","v":false},{"$f":"IF(AND(C90<>\"\",$E90<>\"*ON*\",$E90<>\"*OFF*\",ISNA((VLOOKUP(C90&\"@\"&E90,Q$4:Q89,1,FALSE)))),1,0)","v":0},{"$f":"SUM(O$4:O90)+(100*SUM(T$4:T90))","v":0},{"$f":"IF(NOT(ISBLANK(B90)),(A90+P90)+(Settings!$B$5/24),\"\")","v":""},0,0,{"$error":"#VALUE!"},null,0,0,0,0,0,0,0,0]
[null,null,null,null,null,null,null,0,"","","","","",{"$error":"#VALUE!"},0,"","","::",{"$f":"IF(ISNA(VLOOKUP(R91,R$4:R90,1,FALSE)),FALSE,IF(O91>0,TRUE,FALSE))","v":false},{"$f":"IF(AND(C91<>\"\",$E91<>\"*ON*\",$E91<>\"*OFF*\",ISNA((VLOOKUP(C91&\"@\"&E91,Q$4:Q90,1,FALSE)))),1,0)","v":0},{"$f":"SUM(O$4:O91)+(100*SUM(T$4:T91))","v":0},{"$f":"IF(NOT(ISBLANK(B91)),(A91+P91)+(Settings!$B$5/24),\"\")","v":""},0,0,{"$error":"#VALUE!"},null,0,0,0,0,0,0,0,0]
[null,null,null,null,null,null,null,0,"","","","","",{"$error":"#VALUE!"},0,"","","::",{"$f":"IF(ISNA(VLOOKUP(R92,R$4:R91,1,FALSE)),FALSE,IF(O92>0,TRUE,FALSE))","v":false},{"$f":"IF(AND(C92<>\"\",$E92<>\"*ON*\",$E92<>\"*OFF*\",ISNA((VLOOKUP(C92&\"@\"&E92,Q$4:Q91,1,FALSE)))),1,0)","v":0},{"$f":"SUM(O$4:O92)+(100*SUM(T$4:T92))","v":0},{"$f":"IF(NOT(ISBLANK(B92)),(A92+P92)+(Settings!$B$5/24),\"\")","v":""},0,0,{"$error":"#VALUE!"},null,0,0,0,0,0,0,0,0]
[null,null,null,null,null,null,null,0,"","","","","",{"$error":"#VALUE!"},0,"","","::",{"$f":"IF(ISNA(VLOOKUP(R93,R$4:R92,1,FALSE)),FALSE,IF(O93>0,TRUE,FALSE))","v":false},{"$f":"IF(AND(C93<>\"\",$E93<>\"*ON*\",$E93<>\"*OFF*\",ISNA((VLOOKUP(C93&\"@\"&E93,Q$4:Q92,1,FALSE)))),1,0)","v":0},{"$f":"SUM(O$4:O93)+(100*SUM(T$4:T93))","v":0},{"$f":"IF(NOT(ISBLANK(B93)),(A93+P93)+(Settings!$B$5/24),\"\")","v":""},0,0,{"$error":"#VALUE!"},null,0,0,0,0,0,0,0,0]
[null,null,null,null,null,null,null,0,"","","","","",{"$error":"#VALUE!"},0,"","","::",{"$f":"IF(ISNA(VLOOKUP(R94,R$4:R93,1,FALSE)),FALSE,IF(O94>0,TRUE,FALSE))","v":false},{"$f":"IF(AND(C94<>\"\",$E94<>\"*ON*\",$E94<>\"*OFF*\",ISNA((VLOOKUP(C94&\"@\"&E94,Q$4:Q93,1,FALSE)))),1,0)","v":0},{"$f":"SUM(O$4:O94)+(100*SUM(T$4:T94))","v":0},{"$f":"IF(NOT(ISBLANK(B94)),(A94+P94)+(Settings!$B$5/24),\"\")","v":""},0,0,{"$error":"#VALUE!"},null,{"$f":"IF($E94=AA$3,$H94,0)","v":0},0,0,0,0,0,0,0]
[null,null,null,null,null,null,null,0,"","","","","",{"$error":"#VALUE!"},0,"","","::",{"$f":"IF(ISNA(VLOOKUP(R95,R$4:R94,1,FALSE)),FALSE,IF(O95>0,TRUE,FALSE))","v":false},{"$f":"IF(AND(C95<>\"\",$E95<>\"*ON*\",$E95<>\"*OFF*\",ISNA((VLOOKUP(C95&\"@\"&E95,Q$4:Q94,1,FALSE)))),1,0)","v":0},{"$f":"SUM(O$4:O95)+(100*SUM(T$4:T95))","v":0},{"$f":"IF(NOT(ISBLANK(B95)),(A95+P95)+(Settings!$B$5/24),\"\")","v":""},0,0,{"$error":"#VALUE!"},null,0,0,0,0,0,0,0,0]
[null,null,null,null,null,null,null,0,"","","","","",{"$error":"#VALUE!"},0,"","","::",{"$f":"IF(ISNA(VLOOKUP(R96,R$4:R95,1,FALSE)),FALSE,IF(O96>0,TRUE,FALSE))","v":false},{"$f":"IF(AND(C96<>\"\",$E96<>\"*ON*\",$E96<>\"*OFF*\",ISNA((VLOOKUP(C96&\"@\"&E96,Q$4:Q95,1,FALSE)))),1,0)","v":0},{"$f":"SUM(O$4:O96)+(100*SUM(T$4:T96))","v":0},{"$f":"IF(NOT(ISBLANK(B96)),(A96+P96)+(Settings!$B$5/24),\"\")","v":""},0,0,{"$error":"#VALUE!"},null,0,0,0,0,0,0,0,0]
[null,null,null,null,null,null,null,0,"","","","","",{"$error":"#VALUE!"},0,"","","::",{"$f":"IF(ISNA(VLOOKUP(R97,R$4:R96,1,FALSE)),FALSE,IF(O97>0,TRUE,FALSE))","v":false},{"$f":"IF(AND(C97<>\"\",$E97<>\"*ON*\",$E97<>\"*OFF*\",ISNA((VLOOKUP(C97&\"@\"&E97,Q$4:Q96,1,FALSE)))),1,0)","v":0},{"$f":"SUM(O$4:O97)+(100*SUM(T$4:T97))","v":0},{"$f":"IF(NOT(ISBLANK(B97)),(A97+P97)+(Settings!$B$5/24),\"\")","v":""},0,0,{"$error":"#VALUE!"},null,0,0,0,0,0,0,0,0]
[null,null,null,null,null,null,null,0,"","","","","",{"$error":"#VALUE!"},0,"","","::",{"$f":"IF(ISNA(VLOOKUP(R98,R$4:R97,1,FALSE)),FALSE,IF(O98>0,TRUE,FALSE))","v":false},{"$f":"IF(AND(C98<>\"\",$E98<>\"*ON*\",$E98<>\"*OFF*\",ISNA((VLOOKUP(C98&\"@\"&E98,Q$4:Q97,1,FALSE)))),1,0)","v":0},{"$f":"SUM(O$4:O98)+(100*SUM(T$4:T98))","v":0},{"$f":"IF(NOT(ISBLANK(B98)),(A98+P98)+(Settings!$B$5/24),\"\")","v":""},0,0,{"$error":"#VALUE!"},null,0,0,0,0,0,0,0,0]
[null,null,null,null,null,null,null,0,"","","","","",{"$error":"#VALUE!"},0,"","","::",{"$f":"IF(ISNA(VLOOKUP(R99,R$4:R98,1,FALSE)),FALSE,IF(O99>0,TRUE,FALSE))","v":false},{"$f":"IF(AND(C99<>\"\",$E99<>\"*ON*\",$E99<>\"*OFF*\",ISNA((VLOOKUP(C99&\"@\"&E99,Q$4:Q98,1,FALSE)))),1,0)","v":0},{"$f":"SUM(O$4:O99)+(100*SUM(T$4:T99))","v":0},{"$f":"IF(NOT(ISBLANK(B99)),(A99+P99)+(Settings!$B$5/24),\"\")","v":""},0,0,{"$error":"#VALUE!"},null,0,0,0,0,0,0,0,0]
[null,null,null,null,null,null,null,0,"","","","","",{"$error":"#VALUE!"},0,"","","::",{"$f":"IF(ISNA(VLOOKUP(R100,R$4:R99,1,FALSE)),FALSE,IF(O100>0,TRUE,FALSE))","v":false},{"$f":"IF(AND(C100<>\"\",$E100<>\"*ON*\",$E100<>\"*OFF*\",ISNA((VLOOKUP(C100&\"@\"&E100,Q$4:Q99,1,FALSE)))),1,0)","v":0},{"$f":"SUM(O$4:O100)+(100*SUM(T$4:T100))","v":0},{"$f":"IF(NOT(ISBLANK(B100)),(A100+P100)+(Settings!$B$5/24),\"\")","v":""},0,0,{"$error":"#VALUE!"},null,0,0,0,0,0,0,0,0]
[null,null,null,null,null,null,null,0,"","","","","",{"$error":"#VALUE!"},0,"","","::",{"$f":"IF(ISNA(VLOOKUP(R101,R$4:R100,1,FALSE)),FALSE,IF(O101>0,TRUE,FALSE))","v":false},{"$f":"IF(AND(C101<>\"\",$E101<>\"*ON*\",$E101<>\"*OFF*\",ISNA((VLOOKUP(C101&\"@\"&E101,Q$4:Q100,1,FALSE)))),1,0)","v":0},{"$f":"SUM(O$4:O101)+(100*SUM(T$4:T101))","v":0},{"$f":"IF(NOT(ISBLANK(B101)),(A101+P101)+(Settings!$B$5/24),\"\")","v":""},0,0,{"$error":"#VALUE!"},null,0,0,0,0,0,0,0,0]
[null,null,null,null,null,null,null,0,"","","","","",{"$error":"#VALUE!"},0,"","","::",{"$f":"IF(ISNA(VLOOKUP(R102,R$4:R101,1,FALSE)),FALSE,IF(O102>0,TRUE,FALSE))","v":false},{"$f":"IF(AND(C102<>\"\",$E102<>\"*ON*\",$E102<>\"*OFF*\",ISNA((VLOOKUP(C102&\"@\"&E102,Q$4:Q101,1,FALSE)))),1,0)","v":0},{"$f":"SUM(O$4:O102)+(100*SUM(T$4:T102))","v":0},{"$f":"IF(NOT(ISBLANK(B102)),(A102+P102)+(Settings!$B$5/24),\"\")","v":""},0,0,{"$error":"#VALUE!"},null,0,0,0,0,0,0,0,0]
[null,null,null,null,null,null,null,0,"","","","","",{"$error":"#VALUE!"},0,"","","::",{"$f":"IF(ISNA(VLOOKUP(R103,R$4:R102,1,FALSE)),FALSE,IF(O103>0,TRUE,FALSE))","v":false},{"$f":"IF(AND(C103<>\"\",$E103<>\"*ON*\",$E103<>\"*OFF*\",ISNA((VLOOKUP(C103&\"@\"&E103,Q$4:Q102,1,FALSE)))),1,0)","v":0},{"$f":"SUM(O$4:O103)+(100*SUM(T$4:T103))","v":0},{"$f":"IF(NOT(ISBLANK(B103)),(A103+P103)+(Settings!$B$5/24),\"\")","v":""},0,0,{"$error":"#VALUE!"},null,0,0,0,0,0,0,0,0]
[null,null,null,null,null,null,null,0,"","","","","",{"$error":"#VALUE!"},0,"","","::",{"$f":"IF(ISNA(VLOOKUP(R104,R$4:R103,1,FALSE)),FALSE,IF(O104>0,TRUE,FALSE))","v":false},{"$f":"IF(AND(C104<>\"\",$E104<>\"*ON*\",$E104<>\"*OFF*\",ISNA((VLOOKUP(C104&\"@\"&E104,Q$4:Q103,1,FALSE)))),1,0)","v":0},{"$f":"SUM(O$4:O104)+(100*SUM(T$4:T104))","v":0},{"$f":"IF(NOT(ISBLANK(B104)),(A104+P104)+(Settings!$B$5/24),\"\")","v":""},0,0,{"$error":"#VALUE!"},null,{"$f":"IF($E104=AA$3,$H104,0)","v":0},0,0,0,0,0,0,0]
[null,null,null,null,null,null,null,0,"","","","","",{"$error":"#VALUE!"},0,"","","::",{"$f":"IF(ISNA(VLOOKUP(R105,R$4:R104,1,FALSE)),FALSE,IF(O105>0,TRUE,FALSE))","v":false},{"$f":"IF(AND(C105<>\"\",$E105<>\"*ON*\",$E105<>\"*OFF*\",ISNA((VLOOKUP(C105&\"@\"&E105,Q$4:Q104,1,FALSE)))),1,0)","v":0},{"$f":"SUM(O$4:O105)+(100*SUM(T$4:T105))","v":0},{"$f":"IF(NOT(ISBLANK(B105)),(A105+P105)+(Settings!$B$5/24),\"\")","v":""},0,0,{"$error":"#VALUE!"},null,0,0,0,0,0,0,0,0]
[null,null,null,null,null,null,null,0,"","","","","",{"$error":"#VALUE!"},0,"","","::",{"$f":"IF(ISNA(VLOOKUP(R106,R$4:R105,1,FALSE)),FALSE,IF(O106>0,TRUE,FALSE))","v":false},{"$f":"IF(AND(C106<>\"\",$E106<>\"*ON*\",$E106<>\"*OFF*\",ISNA((VLOOKUP(C106&\"@\"&E106,Q$4:Q105,1,FALSE)))),1,0)","v":0},{"$f":"SUM(O$4:O106)+(100*SUM(T$4:T106))","v":0},{"$f":"IF(NOT(ISBLANK(B106)),(A106+P106)+(Settings!$B$5/24),\"\")","v":""},0,0,{"$error":"#VALUE!"},null,0,0,0,0,0,0,0,0]
[null,null,null,null,null,null,null,0,"","","","","",{"$error":"#VALUE!"},0,"","","::",{"$f":"IF(ISNA(VLOOKUP(R107,R$4:R106,1,FALSE)),FALSE,IF(O107>0,TRUE,FALSE))","v":false},{"$f":"IF(AND(C107<>\"\",$E107<>\"*ON*\",$E107<>\"*OFF*\",ISNA((VLOOKUP(C107&\"@\"&E107,Q$4:Q106,1,FALSE)))),1,0)","v":0},{"$f":"SUM(O$4:O107)+(100*SUM(T$4:T107))","v":0},{"$f":"IF(NOT(ISBLANK(B107)),(A107+P107)+(Settings!$B$5/24),\"\")","v":""},0,0,{"$error":"#VALUE!"},null,0,0,0,0,0,0,0,0]
[null,null,null,null,null,null,null,0,"","","","","",{"$error":"#VALUE!"},0,"","","::",{"$f":"IF(ISNA(VLOOKUP(R108,R$4:R107,1,FALSE)),FALSE,IF(O108>0,TRUE,FALSE))","v":false},{"$f":"IF(AND(C108<>\"\",$E108<>\"*ON*\",$E108<>\"*OFF*\",ISNA((VLOOKUP(C108&\"@\"&E108,Q$4:Q107,1,FALSE)))),1,0)","v":0},{"$f":"SUM(O$4:O108)+(100*SUM(T$4:T108))","v":0},{"$f":"IF(NOT(ISBLANK(B108)),(A108+P108)+(Settings!$B$5/24),\"\")","v":""},0,0,{"$error":"#VALUE!"},null,0,0,0,0,0,0,0,0]
[null,null,null,null,null,null,null,0,"","","","","",{"$error":"#VALUE!"},0,"","","::",{"$f":"IF(ISNA(VLOOKUP(R109,R$4:R108,1,FALSE)),FALSE,IF(O109>0,TRUE,FALSE))","v":false},{"$f":"IF(AND(C109<>\"\",$E109<>\"*ON*\",$E109<>\"*OFF*\",ISNA((VLOOKUP(C109&\"@\"&E109,Q$4:Q108,1,FALSE)))),1,0)","v":0},{"$f":"SUM(O$4:O109)+(100*SUM(T$4:T109))","v":0},{"$f":"IF(NOT(ISBLANK(B109)),(A109+P109)+(Settings!$B$5/24),\"\")","v":""},0,0,{"$error":"#VALUE!"},null,0,0,0,0,0,0,0,0]
[null,null,null,null,null,null,null,0,"","","","","",{"$error":"#VALUE!"},0,"","","::",{"$f":"IF(ISNA(VLOOKUP(R110,R$4:R109,1,FALSE)),FALSE,IF(O110>0,TRUE,FALSE))","v":false},{"$f":"IF(AND(C110<>\"\",$E110<>\"*ON*\",$E110<>\"*OFF*\",ISNA((VLOOKUP(C110&\"@\"&E110,Q$4:Q109,1,FALSE)))),1,0)","v":0},{"$f":"SUM(O$4:O110)+(100*SUM(T$4:T110))","v":0},{"$f":"IF(NOT(ISBLANK(B110)),(A110+P110)+(Settings!$B$5/24),\"\")","v":""},0,0,{"$f":"IF($E110=\"*EOL*\",0,IF(X109,0,V110-V109)*24)","v":{"$error":"#VALUE!"}},null,0,0,0,0,0,0,0,0]
[null,null,null,null,null,null,null,0,"","","","","",{"$error":"#VALUE!"},0,"","","::",{"$f":"IF(ISNA(VLOOKUP(R111,R$4:R110,1,FALSE)),FALSE,IF(O111>0,TRUE,FALSE))","v":false},{"$f":"IF(AND(C111<>\"\",$E111<>\"*ON*\",$E111<>\"*OFF*\",ISNA((VLOOKUP(C111&\"@\"&E111,Q$4:Q110,1,FALSE)))),1,0)","v":0},{"$f":"SUM(O$4:O111)+(100*SUM(T$4:T111))","v":0},{"$f":"IF(NOT(ISBLANK(B111)),(A111+P111)+(Settings!$B$5/24),\"\")","v":""},0,0,{"$error":"#VALUE!"},null,0,0,0,0,0,0,0,0]
[null,null,null,null,null,null,null,0,"","","","","",{"$error":"#VALUE!"},0,"","","::",{"$f":"IF(ISNA(VLOOKUP(R112,R$4:R111,1,FALSE)),FALSE,IF(O112>0,TRUE,FALSE))","v":false},{"$f":"IF(AND(C112<>\"\",$E112<>\"*ON*\",$E112<>\"*OFF*\",ISNA((VLOOKUP(C112&\"@\"&E112,Q$4:Q111,1,FALSE)))),1,0)","v":0},{"$f":"SUM(O$4:O112)+(100*SUM(T$4:T112))","v":0},{"$f":"IF(NOT(ISBLANK(B112)),(A112+P112)+(Settings!$B$5/24),\"\")","v":""},0,0,{"$error":"#VALUE!"},null,0,0,0,0,0,0,0,0]
[null,null,null,null,null,null,null,0,"","","","","",{"$error":"#VALUE!"},0,"","","::",{"$f":"IF(ISNA(VLOOKUP(R113,R$4:R112,1,FALSE)),FALSE,IF(O113>0,TRUE,FALSE))","v":false},{"$f":"IF(AND(C113<>\"\",$E113<>\"*ON*\",$E113<>\"*OFF*\",ISNA((VLOOKUP(C113&\"@\"&E113,Q$4:Q112,1,FALSE)))),1,0)","v":0},{"$f":"SUM(O$4:O113)+(100*SUM(T$4:T113))","v":0},{"$f":"IF(NOT(ISBLANK(B113)),(A113+P113)+(Settings!$B$5/24),\"\")","v":""},0,0,{"$error":"#VALUE!"},null,0,0,0,0,0,0,0,0]
[null,null,null,null,null,null,null,0,"","","","","",{"$error":"#VALUE!"},0,"","","::",{"$f":"IF(ISNA(VLOOKUP(R114,R$4:R113,1,FALSE)),FALSE,IF(O114>0,TRUE,FALSE))","v":false},{"$f":"IF(AND(C114<>\"\",$E114<>\"*ON*\",$E114<>\"*OFF*\",ISNA((VLOOKUP(C114&\"@\"&E114,Q$4:Q113,1,FALSE)))),1,0)","v":0},{"$f":"SUM(O$4:O114)+(100*SUM(T$4:T114))","v":0},{"$f":"IF(NOT(ISBLANK(B114)),(A114+P114)+(Settings!$B$5/24),\"\")","v":""},0,0,{"$error":"#VALUE!"},null,{"$f":"IF($E114=AA$3,$H114,0)","v":0},0,0,0,0,0,0,0]
[null,null,null,null,null,null,null,0,"","","","","",{"$error":"#VALUE!"},0,"","","::",{"$f":"IF(ISNA(VLOOKUP(R115,R$4:R114,1,FALSE)),FALSE,IF(O115>0,TRUE,FALSE))","v":false},{"$f":"IF(AND(C115<>\"\",$E115<>\"*ON*\",$E115<>\"*OFF*\",ISNA((VLOOKUP(C115&\"@\"&E115,Q$4:Q114,1,FALSE)))),1,0)","v":0},{"$f":"SUM(O$4:O115)+(100*SUM(T$4:T115))","v":0},{"$f":"IF(NOT(ISBLANK(B115)),(A115+P115)+(Settings!$B$5/24),\"\")","v":""},0,0,{"$error":"#VALUE!"},null,0,0,0,0,0,0,0,0]
[null,null,null,null,null,null,null,0,"","","","","",{"$error":"#VALUE!"},0,"","","::",{"$f":"IF(ISNA(VLOOKUP(R116,R$4:R115,1,FALSE)),FALSE,IF(O116>0,TRUE,FALSE))","v":false},{"$f":"IF(AND(C116<>\"\",$E116<>\"*ON*\",$E116<>\"*OFF*\",ISNA((VLOOKUP(C116&\"@\"&E116,Q$4:Q115,1,FALSE)))),1,0)","v":0},{"$f":"SUM(O$4:O116)+(100*SUM(T$4:T116))","v":0},{"$f":"IF(NOT(ISBLANK(B116)),(A116+P116)+(Settings!$B$5/24),\"\")","v":""},0,0,{"$error":"#VALUE!"},null,0,0,0,0,0,0,0,0]
[null,null,null,null,null,null,null,0,"","","","","",{"$error":"#VALUE!"},0,"","","::",{"$f":"IF(ISNA(VLOOKUP(R117,R$4:R116,1,FALSE)),FALSE,IF(O117>0,TRUE,FALSE))","v":false},{"$f":"IF(AND(C117<>\"\",$E117<>\"*ON*\",$E117<>\"*OFF*\",ISNA((VLOOKUP(C117&\"@\"&E117,Q$4:Q116,1,FALSE)))),1,0)","v":0},{"$f":"SUM(O$4:O117)+(100*SUM(T$4:T117))","v":0},{"$f":"IF(NOT(ISBLANK(B117)),(A117+P117)+(Settings!$B$5/24),\"\")","v":""},0,0,{"$error":"#VALUE!"},null,0,0,0,0,0,0,0,0]
[null,null,null,null,null,null,null,0,"","","","","",{"$error":"#VALUE!"},0,"","","::",{"$f":"IF(ISNA(VLOOKUP(R118,R$4:R117,1,FALSE)),FALSE,IF(O118>0,TRUE,FALSE))","v":false},{"$f":"IF(AND(C118<>\"\",$E118<>\"*ON*\",$E118<>\"*OFF*\",ISNA((VLOOKUP(C118&\"@\"&E118,Q$4:Q117,1,FALSE)))),1,0)","v":0},{"$f":"SUM(O$4:O118)+(100*SUM(T$4:T118))","v":0},{"$f":"IF(NOT(ISBLANK(B118)),(A118+P118)+(Settings!$B$5/24),\"\")","v":""},0,0,{"$error":"#VALUE!"},null,0,0,0,0,0,0,0,0]
[null,null,null,null,null,null,null,0,"","","","","",{"$error":"#VALUE!"},0,"","","::",{"$f":"IF(ISNA(VLOOKUP(R119,R$4:R118,1,FALSE)),FALSE,IF(O119>0,TRUE,FALSE))","v":false},{"$f":"IF(AND(C119<>\"\",$E119<>\"*ON*\",$E119<>\"*OFF*\",ISNA((VLOOKUP(C119&\"@\"&E119,Q$4:Q118,1,FALSE)))),1,0)","v":0},{"$f":"SUM(O$4:O119)+(100*SUM(T$4:T119))","v":0},{"$f":"IF(NOT(ISBLANK(B119)),(A119+P119)+(Settings!$B$5/24),\"\")","v":""},0,0,{"$error":"#VALUE!"},null,0,0,0,0,0,0,0,0]
[null,null,null,null,null,null,null,0,"","","","","",{"$error":"#VALUE!"},0,"","","::",{"$f":"IF(ISNA(VLOOKUP(R120,R$4:R119,1,FALSE)),FALSE,IF(O120>0,TRUE,FALSE))","v":false},{"$f":"IF(AND(C120<>\"\",$E120<>\"*ON*\",$E120<>\"*OFF*\",ISNA((VLOOKUP(C120&\"@\"&E120,Q$4:Q119,1,FALSE)))),1,0)","v":0},{"$f":"SUM(O$4:O120)+(100*SUM(T$4:T120))","v":0},{"$f":"IF(NOT(ISBLANK(B120)),(A120+P120)+(Settings!$B$5/24),\"\")","v":""},0,0,{"$error":"#VALUE!"},null,0,0,0,0,0,0,0,0]
[null,null,null,null,null,null,null,0,"","","","","",{"$error":"#VALUE!"},0,"","","::",{"$f":"IF(ISNA(VLOOKUP(R121,R$4:R120,1,FALSE)),FALSE,IF(O121>0,TRUE,FALSE))","v":false},{"$f":"IF(AND(C121<>\"\",$E121<>\"*ON*\",$E121<>\"*OFF*\",ISNA((VLOOKUP(C121&\"@\"&E121,Q$4:Q120,1,FALSE)))),1,0)","v":0},{"$f":"SUM(O$4:O121)+(100*SUM(T$4:T121))","v":0},{"$f":"IF(NOT(ISBLANK(B121)),(A121+P121)+(Settings!$B$5/24),\"\")","v":""},0,0,{"$error":"#VALUE!"},null,0,0,0,0,0,0,0,0]
[null,null,null,null,null,null,null,0,"","","","","",{"$error":"#VALUE!"},0,"","","::",{"$f":"IF(ISNA(VLOOKUP(R122,R$4:R121,1,FALSE)),FALSE,IF(O122>0,TRUE,FALSE))","v":false},{"$f":"IF(AND(C122<>\"\",$E122<>\"*ON*\",$E122<>\"*OFF*\",ISNA((VLOOKUP(C122&\"@\"&E122,Q$4:Q121,1,FALSE)))),1,0)","v":0},{"$f":"SUM(O$4:O122)+(100*SUM(T$4:T122))","v":0},{"$f":"IF(NOT(ISBLANK(B122)),(A122+P122)+(Settings!$B$5/24),\"\")","v":""},0,0,{"$error":"#VALUE!"},null,0,0,0,0,0,0,0,0]
[null,null,null,null,null,null,null,0,"","","","","",{"$error":"#VALUE!"},0,"","","::",{"$f":"IF(ISNA(VLOOKUP(R123,R$4:R122,1,FALSE)),FALSE,IF(O123>0,TRUE,FALSE))","v":false},{"$f":"IF(AND(C123<>\"\",$E123<>\"*ON*\",$E123<>\"*OFF*\",ISNA((VLOOKUP(C123&\"@\"&E123,Q$4:Q122,1,FALSE)))),1,0)","v":0},{"$f":"SUM(O$4:O123)+(100*SUM(T$4:T123))","v":0},{"$f":"IF(NOT(ISBLANK(B123)),(A123+P123)+(Settings!$B$5/24),\"\")","v":""},0,0,{"$error":"#VALUE!"},null,0,0,0,0,0,0,0,0]
[null,null,null,null,null,null,null,0,"","","","","",{"$error":"#VALUE!"},0,"","","::",{"$f":"IF(ISNA(VLOOKUP(R124,R$4:R123,1,FALSE)),FALSE,IF(O124>0,TRUE,FALSE))","v":false},{"$f":"IF(AND(C124<>\"\",$E124<>\"*ON*\",$E124<>\"*OFF*\",ISNA((VLOOKUP(C124&\"@\"&E124,Q$4:Q123,1,FALSE)))),1,0)","v":0},{"$f":"SUM(O$4:O124)+(100*SUM(T$4:T124))","v":0},{"$f":"IF(NOT(ISBLANK(B124)),(A124+P124)+(Settings!$B$5/24),\"\")","v":""},0,0,{"$error":"#VALUE!"},null,{"$f":"IF($E124=AA$3,$H124,0)","v":0},0,0,0,0,0,0,0]
[null,null,null,null,null,null,null,0,"","","","","",{"$error":"#VALUE!"},0,"","","::",{"$f":"IF(ISNA(VLOOKUP(R125,R$4:R124,1,FALSE)),FALSE,IF(O125>0,TRUE,FALSE))","v":false},{"$f":"IF(AND(C125<>\"\",$E125<>\"*ON*\",$E125<>\"*OFF*\",ISNA((VLOOKUP(C125&\"@\"&E125,Q$4:Q124,1,FALSE)))),1,0)","v":0},{"$f":"SUM(O$4:O125)+(100*SUM(T$4:T125))","v":0},{"$f":"IF(NOT(ISBLANK(B125)),(A125+P125)+(Settings!$B$5/24),\"\")","v":""},0,0,{"$error":"#VALUE!"},null,0,0,0,0,0,0,0,0]
[null,null,null,null,null,null,null,0,"","","","","",{"$error":"#VALUE!"},0,"","","::",{"$f":"IF(ISNA(VLOOKUP(R126,R$4:R125,1,FALSE)),FALSE,IF(O126>0,TRUE,FALSE))","v":false},{"$f":"IF(AND(C126<>\"\",$E126<>\"*ON*\",$E126<>\"*OFF*\",ISNA((VLOOKUP(C126&\"@\"&E126,Q$4:Q125,1,FALSE)))),1,0)","v":0},{"$f":"SUM(O$4:O126)+(100*SUM(T$4:T126))","v":0},{"$f":"IF(NOT(ISBLANK(B126)),(A126+P126)+(Settings!$B$5/24),\"\")","v":""},0,0,{"$error":"#VALUE!"},null,0,0,0,0,0,0,0,0]
[null,null,null,null,null,null,null,0,"","","","","",{"$error":"#VALUE!"},0,"","","::",{"$f":"IF(ISNA(VLOOKUP(R127,R$4:R126,1,FALSE)),FALSE,IF(O127>0,TRUE,FALSE))","v":false},{"$f":"IF(AND(C127<>\"\",$E127<>\"*ON*\",$E127<>\"*OFF*\",ISNA((VLOOKUP(C127&\"@\"&E127,Q$4:Q126,1,FALSE)))),1,0)","v":0},{"$f":"SUM(O$4:O127)+(100*SUM(T$4:T127))","v":0},{"$f":"IF(NOT(ISBLANK(B127)),(A127+P127)+(Settings!$B$5/24),\"\")","v":""},0,0,{"$error":"#VALUE!"},null,0,0,0,0,0,0,0,0]
[null,null,null,null,null,null,null,0,"","","","","",{"$error":"#VALUE!"},0,"","","::",{"$f":"IF(ISNA(VLOOKUP(R128,R$4:R127,1,FALSE)),FALSE,IF(O128>0,TRUE,FALSE))","v":false},{"$f":"IF(AND(C128<>\"\",$E128<>\"*ON*\",$E128<>\"*OFF*\",ISNA((VLOOKUP(C128&\"@\"&E128,Q$4:Q127,1,FALSE)))),1,0)","v":0},{"$f":"SUM(O$4:O128)+(100*SUM(T$4:T128))","v":0},{"$f":"IF(NOT(ISBLANK(B128)),(A128+P128)+(Settings!$B$5/24),\"\")","v":""},0,0,{"$error":"#VALUE!"},null,0,0,0,0,0,0,0,0]
[null,null,null,null,null,null,null,0,"","","","","",{"$error":"#VALUE!"},0,"","","::",{"$f":"IF(ISNA(VLOOKUP(R129,R$4:R128,1,FALSE)),FALSE,IF(O129>0,TRUE,FALSE))","v":false},{"$f":"IF(AND(C129<>\"\",$E129<>\"*ON*\",$E129<>\"*OFF*\",ISNA((VLOOKUP(C129&\"@\"&E129,Q$4:Q128,1,FALSE)))),1,0)","v":0},{"$f":"SUM(O$4:O129)+(100*SUM(T$4:T129))","v":0},{"$f":"IF(NOT(ISBLANK(B129)),(A129+P129)+(Settings!$B$5/24),\"\")","v":""},0,0,{"$error":"#VALUE!"},null,0,0,0,0,0,0,0,0]
[null,null,null,null,null,null,null,0,"","","","","",{"$error":"#VALUE!"},0,"","","::",{"$f":"IF(ISNA(VLOOKUP(R130,R$4:R129,1,FALSE)),FALSE,IF(O130>0,TRUE,FALSE))","v":false},{"$f":"IF(AND(C130<>\"\",$E130<>\"*ON*\",$E130<>\"*OFF*\",ISNA((VLOOKUP(C130&\"@\"&E130,Q$4:Q129,1,FALSE)))),1,0)","v":0},{"$f":"SUM(O$4:O130)+(100*SUM(T$4:T130))","v":0},{"$f":"IF(NOT(ISBLANK(B130)),(A130+P130)+(Settings!$B$5/24),\"\")","v":""},0,0,{"$error":"#VALUE!"},null,0,0,0,0,0,0,0,0]
[null,null,null,null,null,null,null,0,"","","","","",{"$error":"#VALUE!"},0,"","","::",{"$f":"IF(ISNA(VLOOKUP(R131,R$4:R130,1,FALSE)),FALSE,IF(O131>0,TRUE,FALSE))","v":false},{"$f":"IF(AND(C131<>\"\",$E131<>\"*ON*\",$E131<>\"*OFF*\",ISNA((VLOOKUP(C131&\"@\"&E131,Q$4:Q130,1,FALSE)))),1,0)","v":0},{"$f":"SUM(O$4:O131)+(100*SUM(T$4:T131))","v":0},{"$f":"IF(NOT(ISBLANK(B131)),(A131+P131)+(Settings!$B$5/24),\"\")","v":""},0,0,{"$error":"#VALUE!"},null,0,0,0,0,0,0,0,0]
[null,null,null,null,null,null,null,0,"",{"$f":"MH2Lat(F132)","v":""},{"$f":"MH2Lon(F132)","v":""},{"$f":"MH2Lat(D132)","v":""},{"$f":"MH2Lon(D132)","v":""},{"$f":"Distance(J132,K132,L132,M132)","v":{"$error":"#VALUE!"}},0,{"$f":"IF(ISBLANK(B132),\"\",IF(LEN(B132)=1,TIMEVALUE(\"00:0\"&B132),IF(LEN(B132)=2,TIMEVALUE(\"00:\"&B132),IF(LEN(B132)=3,TIMEVALUE(\"0\"&LEFT(B132,1)&\":\"&RIGHT(B132,2)),TIMEVALUE(LEFT(B132,2)&\":\"&RIGHT(B132,2))))))","v":""},"","::",{"$f":"IF(ISNA(VLOOKUP(R132,R$4:R131,1,FALSE)),FALSE,IF(O132>0,TRUE,FALSE))","v":false},{"$f":"IF(AND(C132<>\"\",$E132<>\"*ON*\",$E132<>\"*OFF*\",ISNA((VLOOKUP(C132&\"@\"&E132,Q$4:Q131,1,FALSE)))),1,0)","v":0},{"$f":"SUM(O$4:O132)+(100*SUM(T$4:T132))","v":0},{"$f":"IF(NOT(ISBLANK(B132)),(A132+P132)+(Settings!$B$5/24),\"\")","v":""},{"$f":"IF(E132=\"*ON*\",1,0)","v":0},{"$f":"IF(E132=\"*OFF*\",1,0)","v":0},{"$error":"#VALUE!"},null,0,0,0,0,0,0,0,0]
[null,null,null,null,null,null,null,0,"","","","","",{"$error":"#VALUE!"},{"$f":"IF(NOT(ISERR(N133)),ROUND(N133,0),0)","v":0},"",{"$f":"IF(AND(NOT(ISBLANK(C133)),NOT(ISBLANK(E133))),C133&\"@\"&E133,\"\")","v":""},{"$f":"Q133&\":\"&F133&\":\"&D133","v":"::"},{"$f":"IF(ISNA(VLOOKUP(R133,R$4:R132,1,FALSE)),FALSE,IF(O133>0,TRUE,FALSE))","v":false},{"$f":"IF(AND(C133<>\"\",$E133<>\"*ON*\",$E133<>\"*OFF*\",ISNA((VLOOKUP(C133&\"@\"&E133,Q$4:Q132,1,FALSE)))),1,0)","v":0},{"$f":"SUM(O$4:O133)+(100*SUM(T$4:T133))","v":0},{"$f":"IF(NOT(ISBLANK(B133)),(A133+P133)+(Settings!$B$5/24),\"\")","v":""},0,0,{"$error":"#VALUE!"},null,0,0,0,0,0,0,0,0]
[null,null,null,null,null,null,null,{"$f":"IF(OR($S134,ISERR($N134),ISBLANK($B134),ISBLANK($C134)),0,MAX(O134,1))","v":0},{"$f":"IF(OR(ISBLANK($B134),ISBLANK($C134),ISBLANK($D134),ISBLANK($F134),NOT($S134)),\"\",\"Dupe!\")","v":""},"","","","",{"$error":"#VALUE!"},0,"","","::",{"$f":"IF(ISNA(VLOOKUP(R134,R$4:R133,1,FALSE)),FALSE,IF(O134>0,TRUE,FALSE))","v":false},{"$f":"IF(AND(C134<>\"\",$E134<>\"*ON*\",$E134<>\"*OFF*\",ISNA((VLOOKUP(C134&\"@\"&E134,Q$4:Q133,1,FALSE)))),1,0)","v":0},{"$f":"SUM(O$4:O134)+(100*SUM(T$4:T134))","v":0},{"$f":"IF(NOT(ISBLANK(B134)),(A134+P134)+(Settings!$B$5/24),\"\")","v":""},0,0,{"$error":"#VALUE!"},null,{"$f":"IF($E134=AA$3,$H134,0)","v":0},0,0,0,0,0,0,0]
[null,null,null,null,null,null,null,0,"","","","","",{"$error":"#VALUE!"},0,"","","::",{"$f":"IF(ISNA(VLOOKUP(R135,R$4:R134,1,FALSE)),FALSE,IF(O135>0,TRUE,FALSE))","v":false},{"$f":"IF(AND(C135<>\"\",$E135<>\"*ON*\",$E135<>\"*OFF*\",ISNA((VLOOKUP(C135&\"@\"&E135,Q$4:Q134,1,FALSE)))),1,0)","v":0},{"$f":"SUM(O$4:O135)+(100*SUM(T$4:T135))","v":0},{"$f":"IF(NOT(ISBLANK(B135)),(A135+P135)+(Settings!$B$5/24),\"\")","v":""},0,0,{"$error":"#VALUE!"},null,0,0,0,0,0,0,0,0]
[null,null,null,null,null,null,null,0,"","","","","",{"$error":"#VALUE!"},0,"","","::",{"$f":"IF(ISNA(VLOOKUP(R136,R$4:R135,1,FALSE)),FALSE,IF(O136>0,TRUE,FALSE))","v":false},{"$f":"IF(AND(C136<>\"\",$E136<>\"*ON*\",$E136<>\"*OFF*\",ISNA((VLOOKUP(C136&\"@\"&E136,Q$4:Q135,1,FALSE)))),1,0)","v":0},{"$f":"SUM(O$4:O136)+(100*SUM(T$4:T136))","v":0},{"$f":"IF(NOT(ISBLANK(B136)),(A136+P136)+(Settings!$B$5/24),\"\")","v":""},0,0,{"$error":"#VALUE!"},null,0,0,0,0,0,0,0,0]
[null,null,null,null,null,null,null,0,"","","","","",{"$error":"#VALUE!"},0,"","","::",{"$f":"IF(ISNA(VLOOKUP(R137,R$4:R136,1,FALSE)),FALSE,IF(O137>0,TRUE,FALSE))","v":false},{"$f":"IF(AND(C137<>\"\",$E137<>\"*ON*\",$E137<>\"*OFF*\",ISNA((VLOOKUP(C137&\"@\"&E137,Q$4:Q136,1,FALSE)))),1,0)","v":0},{"$f":"SUM(O$4:O137)+(100*SUM(T$4:T137))","v":0},{"$f":"IF(NOT(ISBLANK(B137)),(A137+P137)+(Settings!$B$5/24),\"\")","v":""},0,0,{"$error":"#VALUE!"},null,0,0,0,0,0,0,0,0]
[null,null,null,null,null,null,null,0,"","","","","",{"$error":"#VALUE!"},0,"","","::",{"$f":"IF(ISNA(VLOOKUP(R138,R$4:R137,1,FALSE)),FALSE,IF(O138>0,TRUE,FALSE))","v":false},{"$f":"IF(AND(C138<>\"\",$E138<>\"*ON*\",$E138<>\"*OFF*\",ISNA((VLOOKUP(C138&\"@\"&E138,Q$4:Q137,1,FALSE)))),1,0)","v":0},{"$f":"SUM(O$4:O138)+(100*SUM(T$4:T138))","v":0},{"$f":"IF(NOT(ISBLANK(B138)),(A138+P138)+(Settings!$B$5/24),\"\")","v":""},0,0,{"$error":"#VALUE!"},null,0,0,0,0,0,0,0,0]
[null,null,null,null,null,null,null,0,"","","","","",{"$error":"#VALUE!"},0,"","","::",{"$f":"IF(ISNA(VLOOKUP(R139,R$4:R138,1,FALSE)),FALSE,IF(O139>0,TRUE,FALSE))","v":false},{"$f":"IF(AND(C139<>\"\",$E139<>\"*ON*\",$E139<>\"*OFF*\",ISNA((VLOOKUP(C139&\"@\"&E139,Q$4:Q138,1,FALSE)))),1,0)","v":0},{"$f":"SUM(O$4:O139)+(100*SUM(T$4:T139))","v":0},{"$f":"IF(NOT(ISBLANK(B139)),(A139+P139)+(Settings!$B$5/24),\"\")","v":""},0,0,{"$error":"#VALUE!"},null,0,0,0,0,0,0,0,0]
[null,null,null,null,null,null,null,0,"","","","","",{"$error":"#VALUE!"},0,"","","::",{"$f":"IF(ISNA(VLOOKUP(R140,R$4:R139,1,FALSE)),FALSE,IF(O140>0,TRUE,FALSE))","v":false},{"$f":"IF(AND(C140<>\"\",$E140<>\"*ON*\",$E140<>\"*OFF*\",ISNA((VLOOKUP(C140&\"@\"&E140,Q$4:Q139,1,FALSE)))),1,0)","v":0},{"$f":"SUM(O$4:O140)+(100*SUM(T$4:T140))","v":0},{"$f":"IF(NOT(ISBLANK(B140)),(A140+P140)+(Settings!$B$5/24),\"\")","v":""},0,0,{"$error":"#VALUE!"},null,0,0,0,0,0,0,0,0]
[null,null,null,null,"*OFF*",null,null,0,"","","","","",{"$error":"#VALUE!"},0,"","","::",{"$f":"IF(ISNA(VLOOKUP(R141,R$4:R140,1,FALSE)),FALSE,IF(O141>0,TRUE,FALSE))","v":false},{"$f":"IF(AND(C141<>\"\",$E141<>\"*ON*\",$E141<>\"*OFF*\",ISNA((VLOOKUP(C141&\"@\"&E141,Q$4:Q140,1,FALSE)))),1,0)","v":0},{"$f":"SUM(O$4:O141)+(100*SUM(T$4:T141))","v":0},{"$f":"IF(NOT(ISBLANK(B141)),(A141+P141)+(Settings!$B$5/24),\"\")","v":""},0,1,{"$f":"IF($E141=\"*EOL*\",0,IF(X137,0,V141-V137)*24)","v":{"$error":"#VALUE!"}},null,0,0,0,0,0,0,0,0]
[null,null,null,{"$f":"D141","v":0},"*EOL*",{"$f":"F141","v":0},null,0,"","","","","",{"$error":"#VALUE!"},0,"","",":0:0",{"$f":"IF(ISNA(VLOOKUP(R142,R$4:R141,1,FALSE)),FALSE,IF(O142>0,TRUE,FALSE))","v":false},{"$f":"IF(AND(C142<>\"\",$E142<>\"*ON*\",$E142<>\"*OFF*\",ISNA((VLOOKUP(C142&\"@\"&E142,Q$4:Q141,1,FALSE)))),1,0)","v":0},{"$f":"SUM(O$4:O142)+(100*SUM(T$4:T142))","v":0},{"$f":"IF(NOT(ISBLANK(B142)),(A142+P142)+(Settings!$B$5/24),\"\")","v":""},0,0,{"$f":"IF($E142=\"*EOL*\",0,IF(X138,0,V142-V138)*24)","v":0},null,0,0,0,0,0,0,0,0]
[null,null,null,0,{"$f":"E142","v":"*EOL*"},0,null,0,"","","","","",{"$error":"#VALUE!"},0,"","",":0:0",{"$f":"IF(ISNA(VLOOKUP(R143,R$4:R142,1,FALSE)),FALSE,IF(O143>0,TRUE,FALSE))","v":false},{"$f":"IF(AND(C143<>\"\",$E143<>\"*ON*\",$E143<>\"*OFF*\",ISNA((VLOOKUP(C143&\"@\"&E143,Q$4:Q142,1,FALSE)))),1,0)","v":0},{"$f":"SUM(O$4:O143)+(100*SUM(T$4:T143))","v":0},{"$f":"IF(NOT(ISBLANK(B143)),(A143+P143)+(Settings!$B$5/24),\"\")","v":""},0,0,{"$f":"IF($E143=\"*EOL*\",0,IF(X142,0,V143-V142)*24)","v":0},null,0,0,0,0,0,0,0,0]
[null,null,null,0,"*EOL*",0,null,0,"","","","","",{"$error":"#VALUE!"},0,"","",":0:0",{"$f":"IF(ISNA(VLOOKUP(R144,R$4:R143,1,FALSE)),FALSE,IF(O144>0,TRUE,FALSE))","v":false},{"$f":"IF(AND(C144<>\"\",$E144<>\"*ON*\",$E144<>\"*OFF*\",ISNA((VLOOKUP(C144&\"@\"&E144,Q$4:Q143,1,FALSE)))),1,0)","v":0},{"$f":"SUM(O$4:O144)+(100*SUM(T$4:T144))","v":0},{"$f":"IF(NOT(ISBLANK(B144)),(A144+P144)+(Settings!$B$5/24),\"\")","v":""},0,0,0,null,{"$f":"IF($E144=AA$3,$H144,0)","v":0},0,0,0,0,0,0,0]
[null,null,null,0,"*EOL*",0,null,0,"","","","","",{"$error":"#VALUE!"},0,"","",":0:0",{"$f":"IF(ISNA(VLOOKUP(R145,R$4:R144,1,FALSE)),FALSE,IF(O145>0,TRUE,FALSE))","v":false},{"$f":"IF(AND(C145<>\"\",$E145<>\"*ON*\",$E145<>\"*OFF*\",ISNA((VLOOKUP(C145&\"@\"&E145,Q$4:Q144,1,FALSE)))),1,0)","v":0},{"$f":"SUM(O$4:O145)+(100*SUM(T$4:T145))","v":0},{"$f":"IF(NOT(ISBLANK(B145)),(A145+P145)+(Settings!$B$5/24),\"\")","v":""},0,0,0,null,0,0,0,0,0,0,0,0]
[null,null,null,0,"*EOL*",0,null,0,"","","","","",{"$error":"#VALUE!"},0,"","",":0:0",{"$f":"IF(ISNA(VLOOKUP(R146,R$4:R145,1,FALSE)),FALSE,IF(O146>0,TRUE,FALSE))","v":false},{"$f":"IF(AND(C146<>\"\",$E146<>\"*ON*\",$E146<>\"*OFF*\",ISNA((VLOOKUP(C146&\"@\"&E146,Q$4:Q145,1,FALSE)))),1,0)","v":0},{"$f":"SUM(O$4:O146)+(100*SUM(T$4:T146))","v":0},{"$f":"IF(NOT(ISBLANK(B146)),(A146+P146)+(Settings!$B$5/24),\"\")","v":""},0,0,0,null,0,0,0,0,0,0,0,0]
[null,null,null,0,"*EOL*",0,null,0,"","","","","",{"$error":"#VALUE!"},0,"","",":0:0",{"$f":"IF(ISNA(VLOOKUP(R147,R$4:R146,1,FALSE)),FALSE,IF(O147>0,TRUE,FALSE))","v":false},{"$f":"IF(AND(C147<>\"\",$E147<>\"*ON*\",$E147<>\"*OFF*\",ISNA((VLOOKUP(C147&\"@\"&E147,Q$4:Q146,1,FALSE)))),1,0)","v":0},{"$f":"SUM(O$4:O147)+(100*SUM(T$4:T147))","v":0},{"$f":"IF(NOT(ISBLANK(B147)),(A147+P147)+(Settings!$B$5/24),\"\")","v":""},0,0,0,null,0,0,0,0,0,0,0,0]
[null,null,null,0,"*EOL*",0,null,0,"","","","","",{"$error":"#VALUE!"},0,"","",":0:0",{"$f":"IF(ISNA(VLOOKUP(R148,R$4:R147,1,FALSE)),FALSE,IF(O148>0,TRUE,FALSE))","v":false},{"$f":"IF(AND(C148<>\"\",$E148<>\"*ON*\",$E148<>\"*OFF*\",ISNA((VLOOKUP(C148&\"@\"&E148,Q$4:Q147,1,FALSE)))),1,0)","v":0},{"$f":"SUM(O$4:O148)+(100*SUM(T$4:T148))","v":0},{"$f":"IF(NOT(ISBLANK(B148)),(A148+P148)+(Settings!$B$5/24),\"\")","v":""},0,0,0,null,0,0,0,0,0,0,0,0]
[null,null,null,0,"*EOL*",0,null,0,"","","","","",{"$error":"#VALUE!"},0,"","",":0:0",{"$f":"IF(ISNA(VLOOKUP(R149,R$4:R148,1,FALSE)),FALSE,IF(O149>0,TRUE,FALSE))","v":false},{"$f":"IF(AND(C149<>\"\",$E149<>\"*ON*\",$E149<>\"*OFF*\",ISNA((VLOOKUP(C149&\"@\"&E149,Q$4:Q148,1,FALSE)))),1,0)","v":0},{"$f":"SUM(O$4:O149)+(100*SUM(T$4:T149))","v":0},{"$f":"IF(NOT(ISBLANK(B149)),(A149+P149)+(Settings!$B$5/24),\"\")","v":""},0,0,0,null,0,0,0,0,0,0,0,0]
[null,null,null,0,"*EOL*",0,null,0,"","","","","",{"$error":"#VALUE!"},0,"","",":0:0",{"$f":"IF(ISNA(VLOOKUP(R150,R$4:R149,1,FALSE)),FALSE,IF(O150>0,TRUE,FALSE))","v":false},{"$f":"IF(AND(C150<>\"\",$E150<>\"*ON*\",$E150<>\"*OFF*\",ISNA((VLOOKUP(C150&\"@\"&E150,Q$4:Q149,1,FALSE)))),1,0)","v":0},{"$f":"SUM(O$4:O150)+(100*SUM(T$4:T150))","v":0},{"$f":"IF(NOT(ISBLANK(B150)),(A150+P150)+(Settings!$B$5/24),\"\")","v":""},0,0,0,null,0,0,0,0,0,0,0,0]
[null,null,null,0,"*EOL*",0,null,0,"","","","","",{"$error":"#VALUE!"},0,"","",":0:0",{"$f":"IF(ISNA(VLOOKUP(R151,R$4:R150,1,FALSE)),FALSE,IF(O151>0,TRUE,FALSE))","v":false},{"$f":"IF(AND(C151<>\"\",$E151<>\"*ON*\",$E151<>\"*OFF*\",ISNA((VLOOKUP(C151&\"@\"&E151,Q$4:Q150,1,FALSE)))),1,0)","v":0},{"$f":"SUM(O$4:O151)+(100*SUM(T$4:T151))","v":0},{"$f":"IF(NOT(ISBLANK(B151)),(A151+P151)+(Settings!$B$5/24),\"\")","v":""},0,0,0,null,0,0,0,0,0,0,0,0]
[null,null,null,0,"*EOL*",0,null,0,"","","","","",{"$error":"#VALUE!"},0,"","",":0:0",{"$f":"IF(ISNA(VLOOKUP(R152,R$4:R151,1,FALSE)),FALSE,IF(O152>0,TRUE,FALSE))","v":false},{"$f":"IF(AND(C152<>\"\",$E152<>\"*ON*\",$E152<>\"*OFF*\",ISNA((VLOOKUP(C152&\"@\"&E152,Q$4:Q151,1,FALSE)))),1,0)","v":0},{"$f":"SUM(O$4:O152)+(100*SUM(T$4:T152))","v":0},{"$f":"IF(NOT(ISBLANK(B152)),(A152+P152)+(Settings!$B$5/24),\"\")","v":""},0,0,0,null,0,0,0,0,0,0,0,0]
[null,null,null,0,"*EOL*",0,null,0,"","","","","",{"$error":"#VALUE!"},0,"","",":0:0",{"$f":"IF(ISNA(VLOOKUP(R153,R$4:R152,1,FALSE)),FALSE,IF(O153>0,TRUE,FALSE))","v":false},{"$f":"IF(AND(C153<>\"\",$E153<>\"*ON*\",$E153<>\"*OFF*\",ISNA((VLOOKUP(C153&\"@\"&E153,Q$4:Q152,1,FALSE)))),1,0)","v":0},{"$f":"SUM(O$4:O153)+(100*SUM(T$4:T153))","v":0},{"$f":"IF(NOT(ISBLANK(B153)),(A153+P153)+(Settings!$B$5/24),\"\")","v":""},0,0,0,null,0,0,0,0,0,0,0,0]
[null,null,null,0,"*EOL*",0,null,0,"","","","","",{"$error":"#VALUE!"},0,"","",":0:0",{"$f":"IF(ISNA(VLOOKUP(R154,R$4:R153,1,FALSE)),FALSE,IF(O154>0,TRUE,FALSE))","v":false},{"$f":"IF(AND(C154<>\"\",$E154<>\"*ON*\",$E154<>\"*OFF*\",ISNA((VLOOKUP(C154&\"@\"&E154,Q$4:Q153,1,FALSE)))),1,0)","v":0},{"$f":"SUM(O$4:O154)+(100*SUM(T$4:T154))","v":0},{"$f":"IF(NOT(ISBLANK(B154)),(A154+P154)+(Settings!$B$5/24),\"\")","v":""},0,0,0,null,{"$f":"IF($E154=AA$3,$H154,0)","v":0},0,0,0,0,0,0,0]
[null,null,null,0,"*EOL*",0,null,0,"","","","","",{"$error":"#VALUE!"},0,"","",":0:0",{"$f":"IF(ISNA(VLOOKUP(R155,R$4:R154,1,FALSE)),FALSE,IF(O155>0,TRUE,FALSE))","v":false},{"$f":"IF(AND(C155<>\"\",$E155<>\"*ON*\",$E155<>\"*OFF*\",ISNA((VLOOKUP(C155&\"@\"&E155,Q$4:Q154,1,FALSE)))),1,0)","v":0},{"$f":"SUM(O$4:O155)+(100*SUM(T$4:T155))","v":0},{"$f":"IF(NOT(ISBLANK(B155)),(A155+P155)+(Settings!$B$5/24),\"\")","v":""},0,0,0,null,0,0,0,0,0,0,0,0]
[null,null,null,0,"*EOL*",0,null,0,"","","","","",{"$error":"#VALUE!"},0,"","",":0:0",{"$f":"IF(ISNA(VLOOKUP(R156,R$4:R155,1,FALSE)),FALSE,IF(O156>0,TRUE,FALSE))","v":false},{"$f":"IF(AND(C156<>\"\",$E156<>\"*ON*\",$E156<>\"*OFF*\",ISNA((VLOOKUP(C156&\"@\"&E156,Q$4:Q155,1,FALSE)))),1,0)","v":0},{"$f":"SUM(O$4:O156)+(100*SUM(T$4:T156))","v":0},{"$f":"IF(NOT(ISBLANK(B156)),(A156+P156)+(Settings!$B$5/24),\"\")","v":""},0,0,0,null,0,0,0,0,0,0,0,0]
[null,null,null,0,"*EOL*",0,null,0,"","","","","",{"$error":"#VALUE!"},0,"","",":0:0",{"$f":"IF(ISNA(VLOOKUP(R157,R$4:R156,1,FALSE)),FALSE,IF(O157>0,TRUE,FALSE))","v":false},{"$f":"IF(AND(C157<>\"\",$E157<>\"*ON*\",$E157<>\"*OFF*\",ISNA((VLOOKUP(C157&\"@\"&E157,Q$4:Q156,1,FALSE)))),1,0)","v":0},{"$f":"SUM(O$4:O157)+(100*SUM(T$4:T157))","v":0},{"$f":"IF(NOT(ISBLANK(B157)),(A157+P157)+(Settings!$B$5/24),\"\")","v":""},0,0,0,null,0,0,0,0,0,0,0,0]
[null,null,null,0,"*EOL*",0,null,0,"","","","","",{"$error":"#VALUE!"},0,"","",":0:0",{"$f":"IF(ISNA(VLOOKUP(R158,R$4:R157,1,FALSE)),FALSE,IF(O158>0,TRUE,FALSE))","v":false},{"$f":"IF(AND(C158<>\"\",$E158<>\"*ON*\",$E158<>\"*OFF*\",ISNA((VLOOKUP(C158&\"@\"&E158,Q$4:Q157,1,FALSE)))),1,0)","v":0},{"$f":"SUM(O$4:O158)+(100*SUM(T$4:T158))","v":0},{"$f":"IF(NOT(ISBLANK(B158)),(A158+P158)+(Settings!$B$5/24),\"\")","v":""},0,0,0,null,0,0,0,0,0,0,0,0]
[null,null,null,0,"*EOL*",0,null,0,"","","","","",{"$error":"#VALUE!"},0,"","",":0:0",{"$f":"IF(ISNA(VLOOKUP(R159,R$4:R158,1,FALSE)),FALSE,IF(O159>0,TRUE,FALSE))","v":false},{"$f":"IF(AND(C159<>\"\",$E159<>\"*ON*\",$E159<>\"*OFF*\",ISNA((VLOOKUP(C159&\"@\"&E159,Q$4:Q158,1,FALSE)))),1,0)","v":0},{"$f":"SUM(O$4:O159)+(100*SUM(T$4:T159))","v":0},{"$f":"IF(NOT(ISBLANK(B159)),(A159+P159)+(Settings!$B$5/24),\"\")","v":""},0,0,0,null,0,0,0,0,0,0,0,0]
[null,null,null,0,"*EOL*",0,null,0,"","","","","",{"$error":"#VALUE!"},0,"","",":0:0",{"$f":"IF(ISNA(VLOOKUP(R160,R$4:R159,1,FALSE)),FALSE,IF(O160>0,TRUE,FALSE))","v":false},{"$f":"IF(AND(C160<>\"\",$E160<>\"*ON*\",$E160<>\"*OFF*\",ISNA((VLOOKUP(C160&\"@\"&E160,Q$4:Q159,1,FALSE)))),1,0)","v":0},{"$f":"SUM(O$4:O160)+(100*SUM(T$4:T160))","v":0},{"$f":"IF(NOT(ISBLANK(B160)),(A160+P160)+(Settings!$B$5/24),\"\")","v":""},0,0,0,null,0,0,0,0,0,0,0,0]
[null,null,null,0,"*EOL*",0,null,0,"","","","","",{"$error":"#VALUE!"},0,"","",":0:0",{"$f":"IF(ISNA(VLOOKUP(R161,R$4:R160,1,FALSE)),FALSE,IF(O161>0,TRUE,FALSE))","v":false},{"$f":"IF(AND(C161<>\"\",$E161<>\"*ON*\",$E161<>\"*OFF*\",ISNA((VLOOKUP(C161&\"@\"&E161,Q$4:Q160,1,FALSE)))),1,0)","v":0},{"$f":"SUM(O$4:O161)+(100*SUM(T$4:T161))","v":0},{"$f":"IF(NOT(ISBLANK(B161)),(A161+P161)+(Settings!$B$5/24),\"\")","v":""},0,0,0,null,0,0,0,0,0,0,0,0]
[null,null,null,0,"*EOL*",0,null,0,"","","","","",{"$error":"#VALUE!"},0,"","",":0:0",{"$f":"IF(ISNA(VLOOKUP(R162,R$4:R161,1,FALSE)),FALSE,IF(O162>0,TRUE,FALSE))","v":false},{"$f":"IF(AND(C162<>\"\",$E162<>\"*ON*\",$E162<>\"*OFF*\",ISNA((VLOOKUP(C162&\"@\"&E162,Q$4:Q161,1,FALSE)))),1,0)","v":0},{"$f":"SUM(O$4:O162)+(100*SUM(T$4:T162))","v":0},{"$f":"IF(NOT(ISBLANK(B162)),(A162+P162)+(Settings!$B$5/24),\"\")","v":""},0,0,0,null,0,0,0,0,0,0,0,0]
[null,null,null,0,"*EOL*",0,null,0,"","","","","",{"$error":"#VALUE!"},0,"","",":0:0",{"$f":"IF(ISNA(VLOOKUP(R163,R$4:R162,1,FALSE)),FALSE,IF(O163>0,TRUE,FALSE))","v":false},{"$f":"IF(AND(C163<>\"\",$E163<>\"*ON*\",$E163<>\"*OFF*\",ISNA((VLOOKUP(C163&\"@\"&E163,Q$4:Q162,1,FALSE)))),1,0)","v":0},{"$f":"SUM(O$4:O163)+(100*SUM(T$4:T163))","v":0},{"$f":"IF(NOT(ISBLANK(B163)),(A163+P163)+(Settings!$B$5/24),\"\")","v":""},0,0,0,null,0,0,0,0,0,0,0,0]
[null,null,null,0,"*EOL*",0,null,0,"","","","","",{"$error":"#VALUE!"},0,"","",":0:0",{"$f":"IF(ISNA(VLOOKUP(R164,R$4:R163,1,FALSE)),FALSE,IF(O164>0,TRUE,FALSE))","v":false},{"$f":"IF(AND(C164<>\"\",$E164<>\"*ON*\",$E164<>\"*OFF*\",ISNA((VLOOKUP(C164&\"@\"&E164,Q$4:Q163,1,FALSE)))),1,0)","v":0},{"$f":"SUM(O$4:O164)+(100*SUM(T$4:T164))","v":0},{"$f":"IF(NOT(ISBLANK(B164)),(A164+P164)+(Settings!$B$5/24),\"\")","v":""},0,0,0,null,{"$f":"IF($E164=AA$3,$H164,0)","v":0},0,0,0,0,0,0,0]
[null,null,null,0,"*EOL*",0,null,0,"","","","","",{"$error":"#VALUE!"},0,"","",":0:0",{"$f":"IF(ISNA(VLOOKUP(R165,R$4:R164,1,FALSE)),FALSE,IF(O165>0,TRUE,FALSE))","v":false},{"$f":"IF(AND(C165<>\"\",$E165<>\"*ON*\",$E165<>\"*OFF*\",ISNA((VLOOKUP(C165&\"@\"&E165,Q$4:Q164,1,FALSE)))),1,0)","v":0},{"$f":"SUM(O$4:O165)+(100*SUM(T$4:T165))","v":0},{"$f":"IF(NOT(ISBLANK(B165)),(A165+P165)+(Settings!$B$5/24),\"\")","v":""},0,0,0,null,0,0,0,0,0,0,0,0]
[null,null,null,0,"*EOL*",0,null,0,"","","","","",{"$error":"#VALUE!"},0,"","",":0:0",{"$f":"IF(ISNA(VLOOKUP(R166,R$4:R165,1,FALSE)),FALSE,IF(O166>0,TRUE,FALSE))","v":false},{"$f":"IF(AND(C166<>\"\",$E166<>\"*ON*\",$E166<>\"*OFF*\",ISNA((VLOOKUP(C166&\"@\"&E166,Q$4:Q165,1,FALSE)))),1,0)","v":0},{"$f":"SUM(O$4:O166)+(100*SUM(T$4:T166))","v":0},{"$f":"IF(NOT(ISBLANK(B166)),(A166+P166)+(Settings!$B$5/24),\"\")","v":""},0,0,0,null,0,0,0,0,0,0,0,0]
[null,null,null,0,"*EOL*",0,null,0,"","","","","",{"$error":"#VALUE!"},0,"","",":0:0",{"$f":"IF(ISNA(VLOOKUP(R167,R$4:R166,1,FALSE)),FALSE,IF(O167>0,TRUE,FALSE))","v":false},{"$f":"IF(AND(C167<>\"\",$E167<>\"*ON*\",$E167<>\"*OFF*\",ISNA((VLOOKUP(C167&\"@\"&E167,Q$4:Q166,1,FALSE)))),1,0)","v":0},{"$f":"SUM(O$4:O167)+(100*SUM(T$4:T167))","v":0},{"$f":"IF(NOT(ISBLANK(B167)),(A167+P167)+(Settings!$B$5/24),\"\")","v":""},0,0,0,null,0,0,0,0,0,0,0,0]
[null,null,null,0,"*EOL*",0,null,0,"","","","","",{"$error":"#VALUE!"},0,"","",":0:0",{"$f":"IF(ISNA(VLOOKUP(R168,R$4:R167,1,FALSE)),FALSE,IF(O168>0,TRUE,FALSE))","v":false},{"$f":"IF(AND(C168<>\"\",$E168<>\"*ON*\",$E168<>\"*OFF*\",ISNA((VLOOKUP(C168&\"@\"&E168,Q$4:Q167,1,FALSE)))),1,0)","v":0},{"$f":"SUM(O$4:O168)+(100*SUM(T$4:T168))","v":0},{"$f":"IF(NOT(ISBLANK(B168)),(A168+P168)+(Settings!$B$5/24),\"\")","v":""},0,0,0,null,0,0,0,0,0,0,0,0]
[null,null,null,0,"*EOL*",0,null,0,"","","","","",{"$error":"#VALUE!"},0,"","",":0:0",{"$f":"IF(ISNA(VLOOKUP(R169,R$4:R168,1,FALSE)),FALSE,IF(O169>0,TRUE,FALSE))","v":false},{"$f":"IF(AND(C169<>\"\",$E169<>\"*ON*\",$E169<>\"*OFF*\",ISNA((VLOOKUP(C169&\"@\"&E169,Q$4:Q168,1,FALSE)))),1,0)","v":0},{"$f":"SUM(O$4:O169)+(100*SUM(T$4:T169))","v":0},{"$f":"IF(NOT(ISBLANK(B169)),(A169+P169)+(Settings!$B$5/24),\"\")","v":""},0,0,0,null,0,0,0,0,0,0,0,0]
[null,null,null,0,"*EOL*",0,null,0,"","","","","",{"$error":"#VALUE!"},0,"","",":0:0",{"$f":"IF(ISNA(VLOOKUP(R170,R$4:R169,1,FALSE)),FALSE,IF(O170>0,TRUE,FALSE))","v":false},{"$f":"IF(AND(C170<>\"\",$E170<>\"*ON*\",$E170<>\"*OFF*\",ISNA((VLOOKUP(C170&\"@\"&E170,Q$4:Q169,1,FALSE)))),1,0)","v":0},{"$f":"SUM(O$4:O170)+(100*SUM(T$4:T170))","v":0},{"$f":"IF(NOT(ISBLANK(B170)),(A170+P170)+(Settings!$B$5/24),\"\")","v":""},0,0,0,null,0,0,0,0,0,0,0,0]
[null,null,null,0,"*EOL*",0,null,0,"","","","","",{"$error":"#VALUE!"},0,"","",":0:0",{"$f":"IF(ISNA(VLOOKUP(R171,R$4:R170,1,FALSE)),FALSE,IF(O171>0,TRUE,FALSE))","v":false},{"$f":"IF(AND(C171<>\"\",$E171<>\"*ON*\",$E171<>\"*OFF*\",ISNA((VLOOKUP(C171&\"@\"&E171,Q$4:Q170,1,FALSE)))),1,0)","v":0},{"$f":"SUM(O$4:O171)+(100*SUM(T$4:T171))","v":0},{"$f":"IF(NOT(ISBLANK(B171)),(A171+P171)+(Settings!$B$5/24),\"\")","v":""},0,0,0,null,0,0,0,0,0,0,0,0]
[null,null,null,0,"*EOL*",0,null,0,"","","","","",{"$error":"#VALUE!"},0,"","",":0:0",{"$f":"IF(ISNA(VLOOKUP(R172,R$4:R171,1,FALSE)),FALSE,IF(O172>0,TRUE,FALSE))","v":false},{"$f":"IF(AND(C172<>\"\",$E172<>\"*ON*\",$E172<>\"*OFF*\",ISNA((VLOOKUP(C172&\"@\"&E172,Q$4:Q171,1,FALSE)))),1,0)","v":0},{"$f":"SUM(O$4:O172)+(100*SUM(T$4:T172))","v":0},{"$f":"IF(NOT(ISBLANK(B172)),(A172+P172)+(Settings!$B$5/24),\"\")","v":""},0,0,0,null,0,0,0,0,0,0,0,0]
[null,null,null,0,"*EOL*",0,null,0,"","","","","",{"$error":"#VALUE!"},0,"","",":0:0",{"$f":"IF(ISNA(VLOOKUP(R173,R$4:R172,1,FALSE)),FALSE,IF(O173>0,TRUE,FALSE))","v":false},{"$f":"IF(AND(C173<>\"\",$E173<>\"*ON*\",$E173<>\"*OFF*\",ISNA((VLOOKUP(C173&\"@\"&E173,Q$4:Q172,1,FALSE)))),1,0)","v":0},{"$f":"SUM(O$4:O173)+(100*SUM(T$4:T173))","v":0},{"$f":"IF(NOT(ISBLANK(B173)),(A173+P173)+(Settings!$B$5/24),\"\")","v":""},0,0,0,null,0,0,0,0,0,0,0,0]
[null,null,null,0,"*EOL*",0,null,0,"","","","","",{"$error":"#VALUE!"},0,"","",":0:0",{"$f":"IF(ISNA(VLOOKUP(R174,R$4:R173,1,FALSE)),FALSE,IF(O174>0,TRUE,FALSE))","v":false},{"$f":"IF(AND(C174<>\"\",$E174<>\"*ON*\",$E174<>\"*OFF*\",ISNA((VLOOKUP(C174&\"@\"&E174,Q$4:Q173,1,FALSE)))),1,0)","v":0},{"$f":"SUM(O$4:O174)+(100*SUM(T$4:T174))","v":0},{"$f":"IF(NOT(ISBLANK(B174)),(A174+P174)+(Settings!$B$5/24),\"\")","v":""},0,0,0,null,{"$f":"IF($E174=AA$3,$H174,0)","v":0},0,0,0,0,0,0,0]
[null,null,null,0,"*EOL*",0,null,0,"","","","","",{"$error":"#VALUE!"},0,"","",":0:0",{"$f":"IF(ISNA(VLOOKUP(R175,R$4:R174,1,FALSE)),FALSE,IF(O175>0,TRUE,FALSE))","v":false},{"$f":"IF(AND(C175<>\"\",$E175<>\"*ON*\",$E175<>\"*OFF*\",ISNA((VLOOKUP(C175&\"@\"&E175,Q$4:Q174,1,FALSE)))),1,0)","v":0},{"$f":"SUM(O$4:O175)+(100*SUM(T$4:T175))","v":0},{"$f":"IF(NOT(ISBLANK(B175)),(A175+P175)+(Settings!$B$5/24),\"\")","v":""},0,0,0,null,0,0,0,0,0,0,0,0]
[null,null,null,0,"*EOL*",0,null,0,"","","","","",{"$error":"#VALUE!"},0,"","",":0:0",{"$f":"IF(ISNA(VLOOKUP(R176,R$4:R175,1,FALSE)),FALSE,IF(O176>0,TRUE,FALSE))","v":false},{"$f":"IF(AND(C176<>\"\",$E176<>\"*ON*\",$E176<>\"*OFF*\",ISNA((VLOOKUP(C176&\"@\"&E176,Q$4:Q175,1,FALSE)))),1,0)","v":0},{"$f":"SUM(O$4:O176)+(100*SUM(T$4:T176))","v":0},{"$f":"IF(NOT(ISBLANK(B176)),(A176+P176)+(Settings!$B$5/24),\"\")","v":""},0,0,0,null,0,0,0,0,0,0,0,0]
[null,null,null,0,"*EOL*",0,null,0,"","","","","",{"$error":"#VALUE!"},0,"","",":0:0",{"$f":"IF(ISNA(VLOOKUP(R177,R$4:R176,1,FALSE)),FALSE,IF(O177>0,TRUE,FALSE))","v":false},{"$f":"IF(AND(C177<>\"\",$E177<>\"*ON*\",$E177<>\"*OFF*\",ISNA((VLOOKUP(C177&\"@\"&E177,Q$4:Q176,1,FALSE)))),1,0)","v":0},{"$f":"SUM(O$4:O177)+(100*SUM(T$4:T177))","v":0},{"$f":"IF(NOT(ISBLANK(B177)),(A177+P177)+(Settings!$B$5/24),\"\")","v":""},0,0,0,null,0,0,0,0,0,0,0,0]
[null,null,null,0,"*EOL*",0,null,0,"","","","","",{"$error":"#VALUE!"},0,"","",":0:0",{"$f":"IF(ISNA(VLOOKUP(R178,R$4:R177,1,FALSE)),FALSE,IF(O178>0,TRUE,FALSE))","v":false},{"$f":"IF(AND(C178<>\"\",$E178<>\"*ON*\",$E178<>\"*OFF*\",ISNA((VLOOKUP(C178&\"@\"&E178,Q$4:Q177,1,FALSE)))),1,0)","v":0},{"$f":"SUM(O$4:O178)+(100*SUM(T$4:T178))","v":0},{"$f":"IF(NOT(ISBLANK(B178)),(A178+P178)+(Settings!$B$5/24),\"\")","v":""},0,0,0,null,0,0,0,0,0,0,0,0]
[null,null,null,0,"*EOL*",0,null,0,"","","","","",{"$error":"#VALUE!"},0,"","",":0:0",{"$f":"IF(ISNA(VLOOKUP(R179,R$4:R178,1,FALSE)),FALSE,IF(O179>0,TRUE,FALSE))","v":false},{"$f":"IF(AND(C179<>\"\",$E179<>\"*ON*\",$E179<>\"*OFF*\",ISNA((VLOOKUP(C179&\"@\"&E179,Q$4:Q178,1,FALSE)))),1,0)","v":0},{"$f":"SUM(O$4:O179)+(100*SUM(T$4:T179))","v":0},{"$f":"IF(NOT(ISBLANK(B179)),(A179+P179)+(Settings!$B$5/24),\"\")","v":""},0,0,0,null,0,0,0,0,0,0,0,0]
[null,null,null,0,"*EOL*",0,null,0,"","","","","",{"$error":"#VALUE!"},0,"","",":0:0",{"$f":"IF(ISNA(VLOOKUP(R180,R$4:R179,1,FALSE)),FALSE,IF(O180>0,TRUE,FALSE))","v":false},{"$f":"IF(AND(C180<>\"\",$E180<>\"*ON*\",$E180<>\"*OFF*\",ISNA((VLOOKUP(C180&\"@\"&E180,Q$4:Q179,1,FALSE)))),1,0)","v":0},{"$f":"SUM(O$4:O180)+(100*SUM(T$4:T180))","v":0},{"$f":"IF(NOT(ISBLANK(B180)),(A180+P180)+(Settings!$B$5/24),\"\")","v":""},0,0,0,null,0,0,0,0,0,0,0,0]
[null,null,null,0,"*EOL*",0,null,0,"","","","","",{"$error":"#VALUE!"},0,"","",":0:0",{"$f":"IF(ISNA(VLOOKUP(R181,R$4:R180,1,FALSE)),FALSE,IF(O181>0,TRUE,FALSE))","v":false},{"$f":"IF(AND(C181<>\"\",$E181<>\"*ON*\",$E181<>\"*OFF*\",ISNA((VLOOKUP(C181&\"@\"&E181,Q$4:Q180,1,FALSE)))),1,0)","v":0},{"$f":"SUM(O$4:O181)+(100*SUM(T$4:T181))","v":0},{"$f":"IF(NOT(ISBLANK(B181)),(A181+P181)+(Settings!$B$5/24),\"\")","v":""},0,0,0,null,0,0,0,0,0,0,0,0]
[null,null,null,0,"*EOL*",0,null,0,"","","","","",{"$error":"#VALUE!"},0,"","",":0:0",{"$f":"IF(ISNA(VLOOKUP(R182,R$4:R181,1,FALSE)),FALSE,IF(O182>0,TRUE,FALSE))","v":false},{"$f":"IF(AND(C182<>\"\",$E182<>\"*ON*\",$E182<>\"*OFF*\",ISNA((VLOOKUP(C182&\"@\"&E182,Q$4:Q181,1,FALSE)))),1,0)","v":0},{"$f":"SUM(O$4:O182)+(100*SUM(T$4:T182))","v":0},{"$f":"IF(NOT(ISBLANK(B182)),(A182+P182)+(Settings!$B$5/24),\"\")","v":""},0,0,0,null,0,0,0,0,0,0,0,0]
[null,null,null,0,"*EOL*",0,null,0,"","","","","",{"$error":"#VALUE!"},0,"","",":0:0",{"$f":"IF(ISNA(VLOOKUP(R183,R$4:R182,1,FALSE)),FALSE,IF(O183>0,TRUE,FALSE))","v":false},{"$f":"IF(AND(C183<>\"\",$E183<>\"*ON*\",$E183<>\"*OFF*\",ISNA((VLOOKUP(C183&\"@\"&E183,Q$4:Q182,1,FALSE)))),1,0)","v":0},{"$f":"SUM(O$4:O183)+(100*SUM(T$4:T183))","v":0},{"$f":"IF(NOT(ISBLANK(B183)),(A183+P183)+(Settings!$B$5/24),\"\")","v":""},0,0,0,null,0,0,0,0,0,0,0,0]
[null,null,null,0,"*EOL*",0,null,0,"","","","","",{"$error":"#VALUE!"},0,"","",":0:0",{"$f":"IF(ISNA(VLOOKUP(R184,R$4:R183,1,FALSE)),FALSE,IF(O184>0,TRUE,FALSE))","v":false},{"$f":"IF(AND(C184<>\"\",$E184<>\"*ON*\",$E184<>\"*OFF*\",ISNA((VLOOKUP(C184&\"@\"&E184,Q$4:Q183,1,FALSE)))),1,0)","v":0},{"$f":"SUM(O$4:O184)+(100*SUM(T$4:T184))","v":0},{"$f":"IF(NOT(ISBLANK(B184)),(A184+P184)+(Settings!$B$5/24),\"\")","v":""},0,0,0,null,{"$f":"IF($E184=AA$3,$H184,0)","v":0},0,0,0,0,0,0,0]
[null,null,null,0,"*EOL*",0,null,0,"","","","","",{"$error":"#VALUE!"},0,"","",":0:0",{"$f":"IF(ISNA(VLOOKUP(R185,R$4:R184,1,FALSE)),FALSE,IF(O185>0,TRUE,FALSE))","v":false},{"$f":"IF(AND(C185<>\"\",$E185<>\"*ON*\",$E185<>\"*OFF*\",ISNA((VLOOKUP(C185&\"@\"&E185,Q$4:Q184,1,FALSE)))),1,0)","v":0},{"$f":"SUM(O$4:O185)+(100*SUM(T$4:T185))","v":0},{"$f":"IF(NOT(ISBLANK(B185)),(A185+P185)+(Settings!$B$5/24),\"\")","v":""},0,0,0,null,0,0,0,0,0,0,0,0]
[null,null,null,0,"*EOL*",0,null,0,"","","","","",{"$error":"#VALUE!"},0,"","",":0:0",{"$f":"IF(ISNA(VLOOKUP(R186,R$4:R185,1,FALSE)),FALSE,IF(O186>0,TRUE,FALSE))","v":false},{"$f":"IF(AND(C186<>\"\",$E186<>\"*ON*\",$E186<>\"*OFF*\",ISNA((VLOOKUP(C186&\"@\"&E186,Q$4:Q185,1,FALSE)))),1,0)","v":0},{"$f":"SUM(O$4:O186)+(100*SUM(T$4:T186))","v":0},{"$f":"IF(NOT(ISBLANK(B186)),(A186+P186)+(Settings!$B$5/24),\"\")","v":""},0,0,0,null,0,0,0,0,0,0,0,0]
[null,null,null,0,"*EOL*",0,null,0,"","","","","",{"$error":"#VALUE!"},0,"","",":0:0",{"$f":"IF(ISNA(VLOOKUP(R187,R$4:R186,1,FALSE)),FALSE,IF(O187>0,TRUE,FALSE))","v":false},{"$f":"IF(AND(C187<>\"\",$E187<>\"*ON*\",$E187<>\"*OFF*\",ISNA((VLOOKUP(C187&\"@\"&E187,Q$4:Q186,1,FALSE)))),1,0)","v":0},{"$f":"SUM(O$4:O187)+(100*SUM(T$4:T187))","v":0},{"$f":"IF(NOT(ISBLANK(B187)),(A187+P187)+(Settings!$B$5/24),\"\")","v":""},0,0,0,null,0,0,0,0,0,0,0,0]
[null,null,null,0,"*EOL*",0,null,0,"","","","","",{"$error":"#VALUE!"},0,"","",":0:0",{"$f":"IF(ISNA(VLOOKUP(R188,R$4:R187,1,FALSE)),FALSE,IF(O188>0,TRUE,FALSE))","v":false},{"$f":"IF(AND(C188<>\"\",$E188<>\"*ON*\",$E188<>\"*OFF*\",ISNA((VLOOKUP(C188&\"@\"&E188,Q$4:Q187,1,FALSE)))),1,0)","v":0},{"$f":"SUM(O$4:O188)+(100*SUM(T$4:T188))","v":0},{"$f":"IF(NOT(ISBLANK(B188)),(A188+P188)+(Settings!$B$5/24),\"\")","v":""},0,0,0,null,0,0,0,0,0,0,0,0]
[null,null,null,0,"*EOL*",0,null,0,"","","","","",{"$error":"#VALUE!"},0,"","",":0:0",{"$f":"IF(ISNA(VLOOKUP(R189,R$4:R188,1,FALSE)),FALSE,IF(O189>0,TRUE,FALSE))","v":false},{"$f":"IF(AND(C189<>\"\",$E189<>\"*ON*\",$E189<>\"*OFF*\",ISNA((VLOOKUP(C189&\"@\"&E189,Q$4:Q188,1,FALSE)))),1,0)","v":0},{"$f":"SUM(O$4:O189)+(100*SUM(T$4:T189))","v":0},{"$f":"IF(NOT(ISBLANK(B189)),(A189+P189)+(Settings!$B$5/24),\"\")","v":""},0,0,0,null,0,0,0,0,0,0,0,0]
[null,null,null,0,"*EOL*",0,null,0,"","","","","",{"$error":"#VALUE!"},0,"","",":0:0",{"$f":"IF(ISNA(VLOOKUP(R190,R$4:R189,1,FALSE)),FALSE,IF(O190>0,TRUE,FALSE))","v":false},{"$f":"IF(AND(C190<>\"\",$E190<>\"*ON*\",$E190<>\"*OFF*\",ISNA((VLOOKUP(C190&\"@\"&E190,Q$4:Q189,1,FALSE)))),1,0)","v":0},{"$f":"SUM(O$4:O190)+(100*SUM(T$4:T190))","v":0},{"$f":"IF(NOT(ISBLANK(B190)),(A190+P190)+(Settings!$B$5/24),\"\")","v":""},0,0,0,null,0,0,0,0,0,0,0,0]
[null,null,null,0,"*EOL*",0,null,0,"","","","","",{"$error":"#VALUE!"},0,"","",":0:0",{"$f":"IF(ISNA(VLOOKUP(R191,R$4:R190,1,FALSE)),FALSE,IF(O191>0,TRUE,FALSE))","v":false},{"$f":"IF(AND(C191<>\"\",$E191<>\"*ON*\",$E191<>\"*OFF*\",ISNA((VLOOKUP(C191&\"@\"&E191,Q$4:Q190,1,FALSE)))),1,0)","v":0},{"$f":"SUM(O$4:O191)+(100*SUM(T$4:T191))","v":0},{"$f":"IF(NOT(ISBLANK(B191)),(A191+P191)+(Settings!$B$5/24),\"\")","v":""},0,0,0,null,0,0,0,0,0,0,0,0]
[null,null,null,0,"*EOL*",0,null,0,"","","","","",{"$error":"#VALUE!"},0,"","",":0:0",{"$f":"IF(ISNA(VLOOKUP(R192,R$4:R191,1,FALSE)),FALSE,IF(O192>0,TRUE,FALSE))","v":false},{"$f":"IF(AND(C192<>\"\",$E192<>\"*ON*\",$E192<>\"*OFF*\",ISNA((VLOOKUP(C192&\"@\"&E192,Q$4:Q191,1,FALSE)))),1,0)","v":0},{"$f":"SUM(O$4:O192)+(100*SUM(T$4:T192))","v":0},{"$f":"IF(NOT(ISBLANK(B192)),(A192+P192)+(Settings!$B$5/24),\"\")","v":""},0,0,0,null,0,0,0,0,0,0,0,0]
[null,null,null,0,"*EOL*",0,null,0,"","","","","",{"$error":"#VALUE!"},0,"","",":0:0",{"$f":"IF(ISNA(VLOOKUP(R193,R$4:R192,1,FALSE)),FALSE,IF(O193>0,TRUE,FALSE))","v":false},{"$f":"IF(AND(C193<>\"\",$E193<>\"*ON*\",$E193<>\"*OFF*\",ISNA((VLOOKUP(C193&\"@\"&E193,Q$4:Q192,1,FALSE)))),1,0)","v":0},{"$f":"SUM(O$4:O193)+(100*SUM(T$4:T193))","v":0},{"$f":"IF(NOT(ISBLANK(B193)),(A193+P193)+(Settings!$B$5/24),\"\")","v":""},0,0,0,null,0,0,0,0,0,0,0,0]
[null,null,null,0,"*EOL*",0,null,0,"","","","","",{"$error":"#VALUE!"},0,"","",":0:0",{"$f":"IF(ISNA(VLOOKUP(R194,R$4:R193,1,FALSE)),FALSE,IF(O194>0,TRUE,FALSE))","v":false},{"$f":"IF(AND(C194<>\"\",$E194<>\"*ON*\",$E194<>\"*OFF*\",ISNA((VLOOKUP(C194&\"@\"&E194,Q$4:Q193,1,FALSE)))),1,0)","v":0},{"$f":"SUM(O$4:O194)+(100*SUM(T$4:T194))","v":0},{"$f":"IF(NOT(ISBLANK(B194)),(A194+P194)+(Settings!$B$5/24),\"\")","v":""},0,0,0,null,{"$f":"IF($E194=AA$3,$H194,0)","v":0},0,0,0,0,0,0,0]
[null,null,null,0,"*EOL*",0,null,0,"","","","","",{"$error":"#VALUE!"},0,"","",":0:0",{"$f":"IF(ISNA(VLOOKUP(R195,R$4:R194,1,FALSE)),FALSE,IF(O195>0,TRUE,FALSE))","v":false},{"$f":"IF(AND(C195<>\"\",$E195<>\"*ON*\",$E195<>\"*OFF*\",ISNA((VLOOKUP(C195&\"@\"&E195,Q$4:Q194,1,FALSE)))),1,0)","v":0},{"$f":"SUM(O$4:O195)+(100*SUM(T$4:T195))","v":0},{"$f":"IF(NOT(ISBLANK(B195)),(A195+P195)+(Settings!$B$5/24),\"\")","v":""},0,0,0,null,0,0,0,0,0,0,0,0]
[null,null,null,0,"*EOL*",0,null,0,"",{"$f":"MH2Lat(F196)","v":""},{"$f":"MH2Lon(F196)","v":""},{"$f":"MH2Lat(D196)","v":""},{"$f":"MH2Lon(D196)","v":""},{"$f":"Distance(J196,K196,L196,M196)","v":{"$error":"#VALUE!"}},0,{"$f":"IF(ISBLANK(B196),\"\",IF(LEN(B196)=1,TIMEVALUE(\"00:0\"&B196),IF(LEN(B196)=2,TIMEVALUE(\"00:\"&B196),IF(LEN(B196)=3,TIMEVALUE(\"0\"&LEFT(B196,1)&\":\"&RIGHT(B196,2)),TIMEVALUE(LEFT(B196,2)&\":\"&RIGHT(B196,2))))))","v":""},"",":0:0",{"$f":"IF(ISNA(VLOOKUP(R196,R$4:R195,1,FALSE)),FALSE,IF(O196>0,TRUE,FALSE))","v":false},{"$f":"IF(AND(C196<>\"\",$E196<>\"*ON*\",$E196<>\"*OFF*\",ISNA((VLOOKUP(C196&\"@\"&E196,Q$4:Q195,1,FALSE)))),1,0)","v":0},{"$f":"SUM(O$4:O196)+(100*SUM(T$4:T196))","v":0},{"$f":"IF(NOT(ISBLANK(B196)),(A196+P196)+(Settings!$B$5/24),\"\")","v":""},{"$f":"IF(E196=\"*ON*\",1,0)","v":0},{"$f":"IF(E196=\"*OFF*\",1,0)","v":0},0,null,0,0,0,0,0,0,0,0]
[null,null,null,0,"*EOL*",0,null,0,"","","","","",{"$error":"#VALUE!"},{"$f":"IF(NOT(ISERR(N197)),ROUND(N197,0),0)","v":0},"",{"$f":"IF(AND(NOT(ISBLANK(C197)),NOT(ISBLANK(E197))),C197&\"@\"&E197,\"\")","v":""},{"$f":"Q197&\":\"&F197&\":\"&D197","v":":0:0"},{"$f":"IF(ISNA(VLOOKUP(R197,R$4:R196,1,FALSE)),FALSE,IF(O197>0,TRUE,FALSE))","v":false},{"$f":"IF(AND(C197<>\"\",$E197<>\"*ON*\",$E197<>\"*OFF*\",ISNA((VLOOKUP(C197&\"@\"&E197,Q$4:Q196,1,FALSE)))),1,0)","v":0},{"$f":"SUM(O$4:O197)+(100*SUM(T$4:T197))","v":0},{"$f":"IF(NOT(ISBLANK(B197)),(A197+P197)+(Settings!$B$5/24),\"\")","v":""},0,0,0,null,0,0,0,0,0,0,0,0]
[null,null,null,0,"*EOL*",0,null,{"$f":"IF(OR($S198,ISERR($N198),ISBLANK($B198),ISBLANK($C198)),0,MAX(O198,1))","v":0},{"$f":"IF(OR(ISBLANK($B198),ISBLANK($C198),ISBLANK($D198),ISBLANK($F198),NOT($S198)),\"\",\"Dupe!\")","v":""},"","","","",{"$error":"#VALUE!"},0,"","",":0:0",{"$f":"IF(ISNA(VLOOKUP(R198,R$4:R197,1,FALSE)),FALSE,IF(O198>0,TRUE,FALSE))","v":false},{"$f":"IF(AND(C198<>\"\",$E198<>\"*ON*\",$E198<>\"*OFF*\",ISNA((VLOOKUP(C198&\"@\"&E198,Q$4:Q197,1,FALSE)))),1,0)","v":0},{"$f":"SUM(O$4:O198)+(100*SUM(T$4:T198))","v":0},{"$f":"IF(NOT(ISBLANK(B198)),(A198+P198)+(Settings!$B$5/24),\"\")","v":""},0,0,0,null,0,0,0,0,0,0,0,0]
[null,null,null,{"$f":"D198","v":0},{"$f":"E198","v":"*EOL*"},{"$f":"F198","v":0},null,0,"","","","","",{"$error":"#VALUE!"},0,"","",":0:0",{"$f":"IF(ISNA(VLOOKUP(R199,R$4:R198,1,FALSE)),FALSE,IF(O199>0,TRUE,FALSE))","v":false},{"$f":"IF(AND(C199<>\"\",$E199<>\"*ON*\",$E199<>\"*OFF*\",ISNA((VLOOKUP(C199&\"@\"&E199,Q$4:Q198,1,FALSE)))),1,0)","v":0},{"$f":"SUM(O$4:O199)+(100*SUM(T$4:T199))","v":0},{"$f":"IF(NOT(ISBLANK(B199)),(A199+P199)+(Settings!$B$5/24),\"\")","v":""},0,0,0,null,0,0,0,0,0,0,0,0]
[null,null,null,0,"*EOL*",0,null,0,"","","","","",{"$error":"#VALUE!"},0,"","",":0:0",{"$f":"IF(ISNA(VLOOKUP(R200,R$4:R199,1,FALSE)),FALSE,IF(O200>0,TRUE,FALSE))","v":false},{"$f":"IF(AND(C200<>\"\",$E200<>\"*ON*\",$E200<>\"*OFF*\",ISNA((VLOOKUP(C200&\"@\"&E200,Q$4:Q199,1,FALSE)))),1,0)","v":0},{"$f":"SUM(O$4:O200)+(100*SUM(T$4:T200))","v":0},{"$f":"IF(NOT(ISBLANK(B200)),(A200+P200)+(Settings!$B$5/24),\"\")","v":""},0,0,0,null,0,0,0,0,0,0,0,0]
[null,null,null,0,"*EOL*",0,null,0,"","","","","",{"$error":"#VALUE!"},0,"","",":0:0",{"$f":"IF(ISNA(VLOOKUP(R201,R$4:R200,1,FALSE)),FALSE,IF(O201>0,TRUE,FALSE))","v":false},{"$f":"IF(AND(C201<>\"\",$E201<>\"*ON*\",$E201<>\"*OFF*\",ISNA((VLOOKUP(C201&\"@\"&E201,Q$4:Q200,1,FALSE)))),1,0)","v":0},{"$f":"SUM(O$4:O201)+(100*SUM(T$4:T201))","v":0},{"$f":"IF(NOT(ISBLANK(B201)),(A201+P201)+(Settings!$B$5/24),\"\")","v":""},0,0,0,null,0,0,0,0,0,0,0,0]
[null,null,null,0,"*EOL*",0,null,0,"","","","","",{"$error":"#VALUE!"},0,"","",":0:0",{"$f":"IF(ISNA(VLOOKUP(R202,R$4:R201,1,FALSE)),FALSE,IF(O202>0,TRUE,FALSE))","v":false},{"$f":"IF(AND(C202<>\"\",$E202<>\"*ON*\",$E202<>\"*OFF*\",ISNA((VLOOKUP(C202&\"@\"&E202,Q$4:Q201,1,FALSE)))),1,0)","v":0},{"$f":"SUM(O$4:O202)+(100*SUM(T$4:T202))","v":0},{"$f":"IF(NOT(ISBLANK(B202)),(A202+P202)+(Settings!$B$5/24),\"\")","v":""},0,0,0,null,0,0,0,0,0,0,0,0]
[null,null,null,0,"*EOL*",0,null,0,"","","","","",{"$error":"#VALUE!"},0,"","",":0:0",{"$f":"IF(ISNA(VLOOKUP(R203,R$4:R202,1,FALSE)),FALSE,IF(O203>0,TRUE,FALSE))","v":false},{"$f":"IF(AND(C203<>\"\",$E203<>\"*ON*\",$E203<>\"*OFF*\",ISNA((VLOOKUP(C203&\"@\"&E203,Q$4:Q202,1,FALSE)))),1,0)","v":0},{"$f":"SUM(O$4:O203)+(100*SUM(T$4:T203))","v":0},{"$f":"IF(NOT(ISBLANK(B203)),(A203+P203)+(Settings!$B$5/24),\"\")","v":""},0,0,0,null,0,0,0,0,0,0,0,0]
[null,null,null,0,"*EOL*",0,null,0,"","","","","",{"$error":"#VALUE!"},0,"","",":0:0",{"$f":"IF(ISNA(VLOOKUP(R204,R$4:R203,1,FALSE)),FALSE,IF(O204>0,TRUE,FALSE))","v":false},{"$f":"IF(AND(C204<>\"\",$E204<>\"*ON*\",$E204<>\"*OFF*\",ISNA((VLOOKUP(C204&\"@\"&E204,Q$4:Q203,1,FALSE)))),1,0)","v":0},{"$f":"SUM(O$4:O204)+(100*SUM(T$4:T204))","v":0},{"$f":"IF(NOT(ISBLANK(B204)),(A204+P204)+(Settings!$B$5/24),\"\")","v":""},0,0,0,null,{"$f":"IF($E204=AA$3,$H204,0)","v":0},0,0,0,0,0,0,0]
[null,null,null,0,"*EOL*",0,null,0,"","","","","",{"$error":"#VALUE!"},0,"","",":0:0",{"$f":"IF(ISNA(VLOOKUP(R205,R$4:R204,1,FALSE)),FALSE,IF(O205>0,TRUE,FALSE))","v":false},{"$f":"IF(AND(C205<>\"\",$E205<>\"*ON*\",$E205<>\"*OFF*\",ISNA((VLOOKUP(C205&\"@\"&E205,Q$4:Q204,1,FALSE)))),1,0)","v":0},{"$f":"SUM(O$4:O205)+(100*SUM(T$4:T205))","v":0},{"$f":"IF(NOT(ISBLANK(B205)),(A205+P205)+(Settings!$B$5/24),\"\")","v":""},0,0,0,null,0,0,0,0,0,0,0,0]
[null,null,null,0,"*EOL*",0,null,0,"","","","","",{"$error":"#VALUE!"},0,"","",":0:0",{"$f":"IF(ISNA(VLOOKUP(R206,R$4:R205,1,FALSE)),FALSE,IF(O206>0,TRUE,FALSE))","v":false},{"$f":"IF(AND(C206<>\"\",$E206<>\"*ON*\",$E206<>\"*OFF*\",ISNA((VLOOKUP(C206&\"@\"&E206,Q$4:Q205,1,FALSE)))),1,0)","v":0},{"$f":"SUM(O$4:O206)+(100*SUM(T$4:T206))","v":0},{"$f":"IF(NOT(ISBLANK(B206)),(A206+P206)+(Settings!$B$5/24),\"\")","v":""},0,0,0,null,0,0,0,0,0,0,0,0]
[null,null,null,0,"*EOL*",0,null,0,"","","","","",{"$error":"#VALUE!"},0,"","",":0:0",{"$f":"IF(ISNA(VLOOKUP(R207,R$4:R206,1,FALSE)),FALSE,IF(O207>0,TRUE,FALSE))","v":false},{"$f":"IF(AND(C207<>\"\",$E207<>\"*ON*\",$E207<>\"*OFF*\",ISNA((VLOOKUP(C207&\"@\"&E207,Q$4:Q206,1,FALSE)))),1,0)","v":0},{"$f":"SUM(O$4:O207)+(100*SUM(T$4:T207))","v":0},{"$f":"IF(NOT(ISBLANK(B207)),(A207+P207)+(Settings!$B$5/24),\"\")","v":""},0,0,{"$f":"IF($E207=\"*EOL*\",0,IF(X206,0,V207-V206)*24)","v":0},null,0,0,0,0,0,0,0,0]
[null,null,null,0,"*EOL*",0,null,0,"","","","","",{"$error":"#VALUE!"},0,"","",":0:0",{"$f":"IF(ISNA(VLOOKUP(R208,R$4:R207,1,FALSE)),FALSE,IF(O208>0,TRUE,FALSE))","v":false},{"$f":"IF(AND(C208<>\"\",$E208<>\"*ON*\",$E208<>\"*OFF*\",ISNA((VLOOKUP(C208&\"@\"&E208,Q$4:Q207,1,FALSE)))),1,0)","v":0},{"$f":"SUM(O$4:O208)+(100*SUM(T$4:T208))","v":0},{"$f":"IF(NOT(ISBLANK(B208)),(A208+P208)+(Settings!$B$5/24),\"\")","v":""},0,0,0,null,0,0,0,0,0,0,0,0]
[null,null,null,0,"*EOL*",0,null,0,"","","","","",{"$error":"#VALUE!"},0,"","",":0:0",{"$f":"IF(ISNA(VLOOKUP(R209,R$4:R208,1,FALSE)),FALSE,IF(O209>0,TRUE,FALSE))","v":false},{"$f":"IF(AND(C209<>\"\",$E209<>\"*ON*\",$E209<>\"*OFF*\",ISNA((VLOOKUP(C209&\"@\"&E209,Q$4:Q208,1,FALSE)))),1,0)","v":0},{"$f":"SUM(O$4:O209)+(100*SUM(T$4:T209))","v":0},{"$f":"IF(NOT(ISBLANK(B209)),(A209+P209)+(Settings!$B$5/24),\"\")","v":""},0,0,0,null,0,0,0,0,0,0,0,0]
[null,null,null,0,"*EOL*",0,null,0,"","","","","",{"$error":"#VALUE!"},0,"","",":0:0",{"$f":"IF(ISNA(VLOOKUP(R210,R$4:R209,1,FALSE)),FALSE,IF(O210>0,TRUE,FALSE))","v":false},{"$f":"IF(AND(C210<>\"\",$E210<>\"*ON*\",$E210<>\"*OFF*\",ISNA((VLOOKUP(C210&\"@\"&E210,Q$4:Q209,1,FALSE)))),1,0)","v":0},{"$f":"SUM(O$4:O210)+(100*SUM(T$4:T210))","v":0},{"$f":"IF(NOT(ISBLANK(B210)),(A210+P210)+(Settings!$B$5/24),\"\")","v":""},0,0,0,null,0,0,0,0,0,0,0,0]
[null,null,null,0,"*EOL*",0,null,0,"","","","","",{"$error":"#VALUE!"},0,"","",":0:0",{"$f":"IF(ISNA(VLOOKUP(R211,R$4:R210,1,FALSE)),FALSE,IF(O211>0,TRUE,FALSE))","v":false},{"$f":"IF(AND(C211<>\"\",$E211<>\"*ON*\",$E211<>\"*OFF*\",ISNA((VLOOKUP(C211&\"@\"&E211,Q$4:Q210,1,FALSE)))),1,0)","v":0},{"$f":"SUM(O$4:O211)+(100*SUM(T$4:T211))","v":0},{"$f":"IF(NOT(ISBLANK(B211)),(A211+P211)+(Settings!$B$5/24),\"\")","v":""},0,0,0,null,0,0,0,0,0,0,0,0]
[null,null,null,0,"*EOL*",0,null,0,"","","","","",{"$error":"#VALUE!"},0,"","",":0:0",{"$f":"IF(ISNA(VLOOKUP(R212,R$4:R211,1,FALSE)),FALSE,IF(O212>0,TRUE,FALSE))","v":false},{"$f":"IF(AND(C212<>\"\",$E212<>\"*ON*\",$E212<>\"*OFF*\",ISNA((VLOOKUP(C212&\"@\"&E212,Q$4:Q211,1,FALSE)))),1,0)","v":0},{"$f":"SUM(O$4:O212)+(100*SUM(T$4:T212))","v":0},{"$f":"IF(NOT(ISBLANK(B212)),(A212+P212)+(Settings!$B$5/24),\"\")","v":""},0,0,0,null,0,0,0,0,0,0,0,0]
[null,null,null,0,"*EOL*",0,null,0,"","","","","",{"$error":"#VALUE!"},0,"","",":0:0",{"$f":"IF(ISNA(VLOOKUP(R213,R$4:R212,1,FALSE)),FALSE,IF(O213>0,TRUE,FALSE))","v":false},{"$f":"IF(AND(C213<>\"\",$E213<>\"*ON*\",$E213<>\"*OFF*\",ISNA((VLOOKUP(C213&\"@\"&E213,Q$4:Q212,1,FALSE)))),1,0)","v":0},{"$f":"SUM(O$4:O213)+(100*SUM(T$4:T213))","v":0},{"$f":"IF(NOT(ISBLANK(B213)),(A213+P213)+(Settings!$B$5/24),\"\")","v":""},0,0,0,null,0,0,0,0,0,0,0,0]
[null,null,null,0,"*EOL*",0,null,0,"","","","","",{"$error":"#VALUE!"},0,"","",":0:0",{"$f":"IF(ISNA(VLOOKUP(R214,R$4:R213,1,FALSE)),FALSE,IF(O214>0,TRUE,FALSE))","v":false},{"$f":"IF(AND(C214<>\"\",$E214<>\"*ON*\",$E214<>\"*OFF*\",ISNA((VLOOKUP(C214&\"@\"&E214,Q$4:Q213,1,FALSE)))),1,0)","v":0},{"$f":"SUM(O$4:O214)+(100*SUM(T$4:T214))","v":0},{"$f":"IF(NOT(ISBLANK(B214)),(A214+P214)+(Settings!$B$5/24),\"\")","v":""},0,0,0,null,{"$f":"IF($E214=AA$3,$H214,0)","v":0},0,0,0,0,0,0,0]
[null,null,null,0,"*EOL*",0,null,0,"","","","","",{"$error":"#VALUE!"},0,"","",":0:0",{"$f":"IF(ISNA(VLOOKUP(R215,R$4:R214,1,FALSE)),FALSE,IF(O215>0,TRUE,FALSE))","v":false},{"$f":"IF(AND(C215<>\"\",$E215<>\"*ON*\",$E215<>\"*OFF*\",ISNA((VLOOKUP(C215&\"@\"&E215,Q$4:Q214,1,FALSE)))),1,0)","v":0},{"$f":"SUM(O$4:O215)+(100*SUM(T$4:T215))","v":0},{"$f":"IF(NOT(ISBLANK(B215)),(A215+P215)+(Settings!$B$5/24),\"\")","v":""},0,0,0,null,0,0,0,0,0,0,0,0]
[null,null,null,0,"*EOL*",0,null,0,"","","","","",{"$error":"#VALUE!"},0,"","",":0:0",{"$f":"IF(ISNA(VLOOKUP(R216,R$4:R215,1,FALSE)),FALSE,IF(O216>0,TRUE,FALSE))","v":false},{"$f":"IF(AND(C216<>\"\",$E216<>\"*ON*\",$E216<>\"*OFF*\",ISNA((VLOOKUP(C216&\"@\"&E216,Q$4:Q215,1,FALSE)))),1,0)","v":0},{"$f":"SUM(O$4:O216)+(100*SUM(T$4:T216))","v":0},{"$f":"IF(NOT(ISBLANK(B216)),(A216+P216)+(Settings!$B$5/24),\"\")","v":""},0,0,0,null,0,0,0,0,0,0,0,0]
[null,null,null,0,"*EOL*",0,null,0,"","","","","",{"$error":"#VALUE!"},0,"","",":0:0",{"$f":"IF(ISNA(VLOOKUP(R217,R$4:R216,1,FALSE)),FALSE,IF(O217>0,TRUE,FALSE))","v":false},{"$f":"IF(AND(C217<>\"\",$E217<>\"*ON*\",$E217<>\"*OFF*\",ISNA((VLOOKUP(C217&\"@\"&E217,Q$4:Q216,1,FALSE)))),1,0)","v":0},{"$f":"SUM(O$4:O217)+(100*SUM(T$4:T217))","v":0},{"$f":"IF(NOT(ISBLANK(B217)),(A217+P217)+(Settings!$B$5/24),\"\")","v":""},0,0,0,null,0,0,0,0,0,0,0,0]
[null,null,null,0,"*EOL*",0,null,0,"","","","","",{"$error":"#VALUE!"},0,"","",":0:0",{"$f":"IF(ISNA(VLOOKUP(R218,R$4:R217,1,FALSE)),FALSE,IF(O218>0,TRUE,FALSE))","v":false},{"$f":"IF(AND(C218<>\"\",$E218<>\"*ON*\",$E218<>\"*OFF*\",ISNA((VLOOKUP(C218&\"@\"&E218,Q$4:Q217,1,FALSE)))),1,0)","v":0},{"$f":"SUM(O$4:O218)+(100*SUM(T$4:T218))","v":0},{"$f":"IF(NOT(ISBLANK(B218)),(A218+P218)+(Settings!$B$5/24),\"\")","v":""},0,0,0,null,0,0,0,0,0,0,0,0]
[null,null,null,0,"*EOL*",0,null,0,"","","","","",{"$error":"#VALUE!"},0,"","",":0:0",{"$f":"IF(ISNA(VLOOKUP(R219,R$4:R218,1,FALSE)),FALSE,IF(O219>0,TRUE,FALSE))","v":false},{"$f":"IF(AND(C219<>\"\",$E219<>\"*ON*\",$E219<>\"*OFF*\",ISNA((VLOOKUP(C219&\"@\"&E219,Q$4:Q218,1,FALSE)))),1,0)","v":0},{"$f":"SUM(O$4:O219)+(100*SUM(T$4:T219))","v":0},{"$f":"IF(NOT(ISBLANK(B219)),(A219+P219)+(Settings!$B$5/24),\"\")","v":""},0,0,0,null,0,0,0,0,0,0,0,0]
[null,null,null,0,"*EOL*",0,null,0,"","","","","",{"$error":"#VALUE!"},0,"","",":0:0",{"$f":"IF(ISNA(VLOOKUP(R220,R$4:R219,1,FALSE)),FALSE,IF(O220>0,TRUE,FALSE))","v":false},{"$f":"IF(AND(C220<>\"\",$E220<>\"*ON*\",$E220<>\"*OFF*\",ISNA((VLOOKUP(C220&\"@\"&E220,Q$4:Q219,1,FALSE)))),1,0)","v":0},{"$f":"SUM(O$4:O220)+(100*SUM(T$4:T220))","v":0},{"$f":"IF(NOT(ISBLANK(B220)),(A220+P220)+(Settings!$B$5/24),\"\")","v":""},0,0,0,null,0,0,0,0,0,0,0,0]
[null,null,null,0,"*EOL*",0,null,0,"","","","","",{"$error":"#VALUE!"},0,"","",":0:0",{"$f":"IF(ISNA(VLOOKUP(R221,R$4:R220,1,FALSE)),FALSE,IF(O221>0,TRUE,FALSE))","v":false},{"$f":"IF(AND(C221<>\"\",$E221<>\"*ON*\",$E221<>\"*OFF*\",ISNA((VLOOKUP(C221&\"@\"&E221,Q$4:Q220,1,FALSE)))),1,0)","v":0},{"$f":"SUM(O$4:O221)+(100*SUM(T$4:T221))","v":0},{"$f":"IF(NOT(ISBLANK(B221)),(A221+P221)+(Settings!$B$5/24),\"\")","v":""},0,0,0,null,0,0,0,0,0,0,0,0]
[null,null,null,0,"*EOL*",0,null,0,"","","","","",{"$error":"#VALUE!"},0,"","",":0:0",{"$f":"IF(ISNA(VLOOKUP(R222,R$4:R221,1,FALSE)),FALSE,IF(O222>0,TRUE,FALSE))","v":false},{"$f":"IF(AND(C222<>\"\",$E222<>\"*ON*\",$E222<>\"*OFF*\",ISNA((VLOOKUP(C222&\"@\"&E222,Q$4:Q221,1,FALSE)))),1,0)","v":0},{"$f":"SUM(O$4:O222)+(100*SUM(T$4:T222))","v":0},{"$f":"IF(NOT(ISBLANK(B222)),(A222+P222)+(Settings!$B$5/24),\"\")","v":""},0,0,0,null,0,0,0,0,0,0,0,0]
[null,null,null,0,"*EOL*",0,null,0,"","","","","",{"$error":"#VALUE!"},0,"","",":0:0",{"$f":"IF(ISNA(VLOOKUP(R223,R$4:R222,1,FALSE)),FALSE,IF(O223>0,TRUE,FALSE))","v":false},{"$f":"IF(AND(C223<>\"\",$E223<>\"*ON*\",$E223<>\"*OFF*\",ISNA((VLOOKUP(C223&\"@\"&E223,Q$4:Q222,1,FALSE)))),1,0)","v":0},{"$f":"SUM(O$4:O223)+(100*SUM(T$4:T223))","v":0},{"$f":"IF(NOT(ISBLANK(B223)),(A223+P223)+(Settings!$B$5/24),\"\")","v":""},0,0,0,null,0,0,0,0,0,0,0,0]
[null,null,null,0,"*EOL*",0,null,0,"","","","","",{"$error":"#VALUE!"},0,"","",":0:0",{"$f":"IF(ISNA(VLOOKUP(R224,R$4:R223,1,FALSE)),FALSE,IF(O224>0,TRUE,FALSE))","v":false},{"$f":"IF(AND(C224<>\"\",$E224<>\"*ON*\",$E224<>\"*OFF*\",ISNA((VLOOKUP(C224&\"@\"&E224,Q$4:Q223,1,FALSE)))),1,0)","v":0},{"$f":"SUM(O$4:O224)+(100*SUM(T$4:T224))","v":0},{"$f":"IF(NOT(ISBLANK(B224)),(A224+P224)+(Settings!$B$5/24),\"\")","v":""},0,0,0,null,{"$f":"IF($E224=AA$3,$H224,0)","v":0},0,0,0,0,0,0,0]
[null,null,null,0,"*EOL*",0,null,0,"","","","","",{"$error":"#VALUE!"},0,"","",":0:0",{"$f":"IF(ISNA(VLOOKUP(R225,R$4:R224,1,FALSE)),FALSE,IF(O225>0,TRUE,FALSE))","v":false},{"$f":"IF(AND(C225<>\"\",$E225<>\"*ON*\",$E225<>\"*OFF*\",ISNA((VLOOKUP(C225&\"@\"&E225,Q$4:Q224,1,FALSE)))),1,0)","v":0},{"$f":"SUM(O$4:O225)+(100*SUM(T$4:T225))","v":0},{"$f":"IF(NOT(ISBLANK(B225)),(A225+P225)+(Settings!$B$5/24),\"\")","v":""},0,0,0,null,0,0,0,0,0,0,0,0]
[null,null,null,0,"*EOL*",0,null,0,"","","","","",{"$error":"#VALUE!"},0,"","",":0:0",{"$f":"IF(ISNA(VLOOKUP(R226,R$4:R225,1,FALSE)),FALSE,IF(O226>0,TRUE,FALSE))","v":false},{"$f":"IF(AND(C226<>\"\",$E226<>\"*ON*\",$E226<>\"*OFF*\",ISNA((VLOOKUP(C226&\"@\"&E226,Q$4:Q225,1,FALSE)))),1,0)","v":0},{"$f":"SUM(O$4:O226)+(100*SUM(T$4:T226))","v":0},{"$f":"IF(NOT(ISBLANK(B226)),(A226+P226)+(Settings!$B$5/24),\"\")","v":""},0,0,0,null,0,0,0,0,0,0,0,0]
[null,null,null,0,"*EOL*",0,null,0,"","","","","",{"$error":"#VALUE!"},0,"","",":0:0",{"$f":"IF(ISNA(VLOOKUP(R227,R$4:R226,1,FALSE)),FALSE,IF(O227>0,TRUE,FALSE))","v":false},{"$f":"IF(AND(C227<>\"\",$E227<>\"*ON*\",$E227<>\"*OFF*\",ISNA((VLOOKUP(C227&\"@\"&E227,Q$4:Q226,1,FALSE)))),1,0)","v":0},{"$f":"SUM(O$4:O227)+(100*SUM(T$4:T227))","v":0},{"$f":"IF(NOT(ISBLANK(B227)),(A227+P227)+(Settings!$B$5/24),\"\")","v":""},0,0,0,null,0,0,0,0,0,0,0,0]
[null,null,null,0,"*EOL*",0,null,0,"","","","","",{"$error":"#VALUE!"},0,"","",":0:0",{"$f":"IF(ISNA(VLOOKUP(R228,R$4:R227,1,FALSE)),FALSE,IF(O228>0,TRUE,FALSE))","v":false},{"$f":"IF(AND(C228<>\"\",$E228<>\"*ON*\",$E228<>\"*OFF*\",ISNA((VLOOKUP(C228&\"@\"&E228,Q$4:Q227,1,FALSE)))),1,0)","v":0},{"$f":"SUM(O$4:O228)+(100*SUM(T$4:T228))","v":0},{"$f":"IF(NOT(ISBLANK(B228)),(A228+P228)+(Settings!$B$5/24),\"\")","v":""},0,0,0,null,0,0,0,0,0,0,0,0]
[null,null,null,0,"*EOL*",0,null,0,"","","","","",{"$error":"#VALUE!"},0,"","",":0:0",{"$f":"IF(ISNA(VLOOKUP(R229,R$4:R228,1,FALSE)),FALSE,IF(O229>0,TRUE,FALSE))","v":false},{"$f":"IF(AND(C229<>\"\",$E229<>\"*ON*\",$E229<>\"*OFF*\",ISNA((VLOOKUP(C229&\"@\"&E229,Q$4:Q228,1,FALSE)))),1,0)","v":0},{"$f":"SUM(O$4:O229)+(100*SUM(T$4:T229))","v":0},{"$f":"IF(NOT(ISBLANK(B229)),(A229+P229)+(Settings!$B$5/24),\"\")","v":""},0,0,0,null,0,0,0,0,0,0,0,0]
[null,null,null,0,"*EOL*",0,null,0,"","","","","",{"$error":"#VALUE!"},0,"","",":0:0",{"$f":"IF(ISNA(VLOOKUP(R230,R$4:R229,1,FALSE)),FALSE,IF(O230>0,TRUE,FALSE))","v":false},{"$f":"IF(AND(C230<>\"\",$E230<>\"*ON*\",$E230<>\"*OFF*\",ISNA((VLOOKUP(C230&\"@\"&E230,Q$4:Q229,1,FALSE)))),1,0)","v":0},{"$f":"SUM(O$4:O230)+(100*SUM(T$4:T230))","v":0},{"$f":"IF(NOT(ISBLANK(B230)),(A230+P230)+(Settings!$B$5/24),\"\")","v":""},0,0,0,null,0,0,0,0,0,0,0,0]
[null,null,null,0,"*EOL*",0,null,0,"","","","","",{"$error":"#VALUE!"},0,"","",":0:0",{"$f":"IF(ISNA(VLOOKUP(R231,R$4:R230,1,FALSE)),FALSE,IF(O231>0,TRUE,FALSE))","v":false},{"$f":"IF(AND(C231<>\"\",$E231<>\"*ON*\",$E231<>\"*OFF*\",ISNA((VLOOKUP(C231&\"@\"&E231,Q$4:Q230,1,FALSE)))),1,0)","v":0},{"$f":"SUM(O$4:O231)+(100*SUM(T$4:T231))","v":0},{"$f":"IF(NOT(ISBLANK(B231)),(A231+P231)+(Settings!$B$5/24),\"\")","v":""},0,0,0,null,0,0,0,0,0,0,0,0]
[null,null,null,0,"*EOL*",0,null,0,"","","","","",{"$error":"#VALUE!"},0,"","",":0:0",{"$f":"IF(ISNA(VLOOKUP(R232,R$4:R231,1,FALSE)),FALSE,IF(O232>0,TRUE,FALSE))","v":false},{"$f":"IF(AND(C232<>\"\",$E232<>\"*ON*\",$E232<>\"*OFF*\",ISNA((VLOOKUP(C232&\"@\"&E232,Q$4:Q231,1,FALSE)))),1,0)","v":0},{"$f":"SUM(O$4:O232)+(100*SUM(T$4:T232))","v":0},{"$f":"IF(NOT(ISBLANK(B232)),(A232+P232)+(Settings!$B$5/24),\"\")","v":""},0,0,0,null,0,0,0,0,0,0,0,0]
[null,null,null,0,"*EOL*",0,null,0,"","","","","",{"$error":"#VALUE!"},0,"","",":0:0",{"$f":"IF(ISNA(VLOOKUP(R233,R$4:R232,1,FALSE)),FALSE,IF(O233>0,TRUE,FALSE))","v":false},{"$f":"IF(AND(C233<>\"\",$E233<>\"*ON*\",$E233<>\"*OFF*\",ISNA((VLOOKUP(C233&\"@\"&E233,Q$4:Q232,1,FALSE)))),1,0)","v":0},{"$f":"SUM(O$4:O233)+(100*SUM(T$4:T233))","v":0},{"$f":"IF(NOT(ISBLANK(B233)),(A233+P233)+(Settings!$B$5/24),\"\")","v":""},0,0,0,null,0,0,0,0,0,0,0,0]
[null,null,null,0,"*EOL*",0,null,0,"","","","","",{"$error":"#VALUE!"},0,"","",":0:0",{"$f":"IF(ISNA(VLOOKUP(R234,R$4:R233,1,FALSE)),FALSE,IF(O234>0,TRUE,FALSE))","v":false},{"$f":"IF(AND(C234<>\"\",$E234<>\"*ON*\",$E234<>\"*OFF*\",ISNA((VLOOKUP(C234&\"@\"&E234,Q$4:Q233,1,FALSE)))),1,0)","v":0},{"$f":"SUM(O$4:O234)+(100*SUM(T$4:T234))","v":0},{"$f":"IF(NOT(ISBLANK(B234)),(A234+P234)+(Settings!$B$5/24),\"\")","v":""},0,0,0,null,{"$f":"IF($E234=AA$3,$H234,0)","v":0},0,0,0,0,0,0,0]
[null,null,null,0,"*EOL*",0,null,0,"","","","","",{"$error":"#VALUE!"},0,"","",":0:0",{"$f":"IF(ISNA(VLOOKUP(R235,R$4:R234,1,FALSE)),FALSE,IF(O235>0,TRUE,FALSE))","v":false},{"$f":"IF(AND(C235<>\"\",$E235<>\"*ON*\",$E235<>\"*OFF*\",ISNA((VLOOKUP(C235&\"@\"&E235,Q$4:Q234,1,FALSE)))),1,0)","v":0},{"$f":"SUM(O$4:O235)+(100*SUM(T$4:T235))","v":0},{"$f":"IF(NOT(ISBLANK(B235)),(A235+P235)+(Settings!$B$5/24),\"\")","v":""},0,0,0,null,0,0,0,0,0,0,0,0]
[null,null,null,0,"*EOL*",0,null,0,"","","","","",{"$error":"#VALUE!"},0,"","",":0:0",{"$f":"IF(ISNA(VLOOKUP(R236,R$4:R235,1,FALSE)),FALSE,IF(O236>0,TRUE,FALSE))","v":false},{"$f":"IF(AND(C236<>\"\",$E236<>\"*ON*\",$E236<>\"*OFF*\",ISNA((VLOOKUP(C236&\"@\"&E236,Q$4:Q235,1,FALSE)))),1,0)","v":0},{"$f":"SUM(O$4:O236)+(100*SUM(T$4:T236))","v":0},{"$f":"IF(NOT(ISBLANK(B236)),(A236+P236)+(Settings!$B$5/24),\"\")","v":""},0,0,0,null,0,0,0,0,0,0,0,0]
[null,null,null,0,"*EOL*",0,null,0,"","","","","",{"$error":"#VALUE!"},0,"","",":0:0",{"$f":"IF(ISNA(VLOOKUP(R237,R$4:R236,1,FALSE)),FALSE,IF(O237>0,TRUE,FALSE))","v":false},{"$f":"IF(AND(C237<>\"\",$E237<>\"*ON*\",$E237<>\"*OFF*\",ISNA((VLOOKUP(C237&\"@\"&E237,Q$4:Q236,1,FALSE)))),1,0)","v":0},{"$f":"SUM(O$4:O237)+(100*SUM(T$4:T237))","v":0},{"$f":"IF(NOT(ISBLANK(B237)),(A237+P237)+(Settings!$B$5/24),\"\")","v":""},0,0,0,null,0,0,0,0,0,0,0,0]
[null,null,null,0,"*EOL*",0,null,0,"","","","","",{"$error":"#VALUE!"},0,"","",":0:0",{"$f":"IF(ISNA(VLOOKUP(R238,R$4:R237,1,FALSE)),FALSE,IF(O238>0,TRUE,FALSE))","v":false},{"$f":"IF(AND(C238<>\"\",$E238<>\"*ON*\",$E238<>\"*OFF*\",ISNA((VLOOKUP(C238&\"@\"&E238,Q$4:Q237,1,FALSE)))),1,0)","v":0},{"$f":"SUM(O$4:O238)+(100*SUM(T$4:T238))","v":0},{"$f":"IF(NOT(ISBLANK(B238)),(A238+P238)+(Settings!$B$5/24),\"\")","v":""},0,0,0,null,0,0,0,0,0,0,0,0]
[null,null,null,0,"*EOL*",0,null,0,"","","","","",{"$error":"#VALUE!"},0,"","",":0:0",{"$f":"IF(ISNA(VLOOKUP(R239,R$4:R238,1,FALSE)),FALSE,IF(O239>0,TRUE,FALSE))","v":false},{"$f":"IF(AND(C239<>\"\",$E239<>\"*ON*\",$E239<>\"*OFF*\",ISNA((VLOOKUP(C239&\"@\"&E239,Q$4:Q238,1,FALSE)))),1,0)","v":0},{"$f":"SUM(O$4:O239)+(100*SUM(T$4:T239))","v":0},{"$f":"IF(NOT(ISBLANK(B239)),(A239+P239)+(Settings!$B$5/24),\"\")","v":""},0,0,0,null,0,0,0,0,0,0,0,0]
[null,null,null,0,"*EOL*",0,null,0,"","","","","",{"$error":"#VALUE!"},0,"","",":0:0",{"$f":"IF(ISNA(VLOOKUP(R240,R$4:R239,1,FALSE)),FALSE,IF(O240>0,TRUE,FALSE))","v":false},{"$f":"IF(AND(C240<>\"\",$E240<>\"*ON*\",$E240<>\"*OFF*\",ISNA((VLOOKUP(C240&\"@\"&E240,Q$4:Q239,1,FALSE)))),1,0)","v":0},{"$f":"SUM(O$4:O240)+(100*SUM(T$4:T240))","v":0},{"$f":"IF(NOT(ISBLANK(B240)),(A240+P240)+(Settings!$B$5/24),\"\")","v":""},0,0,0,null,0,0,0,0,0,0,0,0]
[null,null,null,0,"*EOL*",0,null,0,"","","","","",{"$error":"#VALUE!"},0,"","",":0:0",{"$f":"IF(ISNA(VLOOKUP(R241,R$4:R240,1,FALSE)),FALSE,IF(O241>0,TRUE,FALSE))","v":false},{"$f":"IF(AND(C241<>\"\",$E241<>\"*ON*\",$E241<>\"*OFF*\",ISNA((VLOOKUP(C241&\"@\"&E241,Q$4:Q240,1,FALSE)))),1,0)","v":0},{"$f":"SUM(O$4:O241)+(100*SUM(T$4:T241))","v":0},{"$f":"IF(NOT(ISBLANK(B241)),(A241+P241)+(Settings!$B$5/24),\"\")","v":""},0,0,0,null,0,0,0,0,0,0,0,0]
[null,null,null,0,"*EOL*",0,null,0,"","","","","",{"$error":"#VALUE!"},0,"","",":0:0",{"$f":"IF(ISNA(VLOOKUP(R242,R$4:R241,1,FALSE)),FALSE,IF(O242>0,TRUE,FALSE))","v":false},{"$f":"IF(AND(C242<>\"\",$E242<>\"*ON*\",$E242<>\"*OFF*\",ISNA((VLOOKUP(C242&\"@\"&E242,Q$4:Q241,1,FALSE)))),1,0)","v":0},{"$f":"SUM(O$4:O242)+(100*SUM(T$4:T242))","v":0},{"$f":"IF(NOT(ISBLANK(B242)),(A242+P242)+(Settings!$B$5/24),\"\")","v":""},0,0,0,null,0,0,0,0,0,0,0,0]
[null,null,null,0,"*EOL*",0,null,0,"","","","","",{"$error":"#VALUE!"},0,"","",":0:0",{"$f":"IF(ISNA(VLOOKUP(R243,R$4:R242,1,FALSE)),FALSE,IF(O243>0,TRUE,FALSE))","v":false},{"$f":"IF(AND(C243<>\"\",$E243<>\"*ON*\",$E243<>\"*OFF*\",ISNA((VLOOKUP(C243&\"@\"&E243,Q$4:Q242,1,FALSE)))),1,0)","v":0},{"$f":"SUM(O$4:O243)+(100*SUM(T$4:T243))","v":0},{"$f":"IF(NOT(ISBLANK(B243)),(A243+P243)+(Settings!$B$5/24),\"\")","v":""},0,0,0,null,0,0,0,0,0,0,0,0]
[null,null,null,0,"*EOL*",0,null,0,"","","","","",{"$error":"#VALUE!"},0,"","",":0:0",{"$f":"IF(ISNA(VLOOKUP(R244,R$4:R243,1,FALSE)),FALSE,IF(O244>0,TRUE,FALSE))","v":false},{"$f":"IF(AND(C244<>\"\",$E244<>\"*ON*\",$E244<>\"*OFF*\",ISNA((VLOOKUP(C244&\"@\"&E244,Q$4:Q243,1,FALSE)))),1,0)","v":0},{"$f":"SUM(O$4:O244)+(100*SUM(T$4:T244))","v":0},{"$f":"IF(NOT(ISBLANK(B244)),(A244+P244)+(Settings!$B$5/24),\"\")","v":""},0,0,0,null,{"$f":"IF($E244=AA$3,$H244,0)","v":0},0,0,0,0,0,0,0]
[null,null,null,0,"*EOL*",0,null,0,"","","","","",{"$error":"#VALUE!"},0,"","",":0:0",{"$f":"IF(ISNA(VLOOKUP(R245,R$4:R244,1,FALSE)),FALSE,IF(O245>0,TRUE,FALSE))","v":false},{"$f":"IF(AND(C245<>\"\",$E245<>\"*ON*\",$E245<>\"*OFF*\",ISNA((VLOOKUP(C245&\"@\"&E245,Q$4:Q244,1,FALSE)))),1,0)","v":0},{"$f":"SUM(O$4:O245)+(100*SUM(T$4:T245))","v":0},{"$f":"IF(NOT(ISBLANK(B245)),(A245+P245)+(Settings!$B$5/24),\"\")","v":""},0,0,0,null,0,0,0,0,0,0,0,0]
[null,null,null,0,"*EOL*",0,null,0,"","","","","",{"$error":"#VALUE!"},0,"","",":0:0",{"$f":"IF(ISNA(VLOOKUP(R246,R$4:R245,1,FALSE)),FALSE,IF(O246>0,TRUE,FALSE))","v":false},{"$f":"IF(AND(C246<>\"\",$E246<>\"*ON*\",$E246<>\"*OFF*\",ISNA((VLOOKUP(C246&\"@\"&E246,Q$4:Q245,1,FALSE)))),1,0)","v":0},{"$f":"SUM(O$4:O246)+(100*SUM(T$4:T246))","v":0},{"$f":"IF(NOT(ISBLANK(B246)),(A246+P246)+(Settings!$B$5/24),\"\")","v":""},0,0,0,null,0,0,0,0,0,0,0,0]
[null,null,null,0,"*EOL*",0,null,0,"","","","","",{"$error":"#VALUE!"},0,"","",":0:0",{"$f":"IF(ISNA(VLOOKUP(R247,R$4:R246,1,FALSE)),FALSE,IF(O247>0,TRUE,FALSE))","v":false},{"$f":"IF(AND(C247<>\"\",$E247<>\"*ON*\",$E247<>\"*OFF*\",ISNA((VLOOKUP(C247&\"@\"&E247,Q$4:Q246,1,FALSE)))),1,0)","v":0},{"$f":"SUM(O$4:O247)+(100*SUM(T$4:T247))","v":0},{"$f":"IF(NOT(ISBLANK(B247)),(A247+P247)+(Settings!$B$5/24),\"\")","v":""},0,0,0,null,0,0,0,0,0,0,0,0]
[null,null,null,0,"*EOL*",0,null,0,"","","","","",{"$error":"#VALUE!"},0,"","",":0:0",{"$f":"IF(ISNA(VLOOKUP(R248,R$4:R247,1,FALSE)),FALSE,IF(O248>0,TRUE,FALSE))","v":false},{"$f":"IF(AND(C248<>\"\",$E248<>\"*ON*\",$E248<>\"*OFF*\",ISNA((VLOOKUP(C248&\"@\"&E248,Q$4:Q247,1,FALSE)))),1,0)","v":0},{"$f":"SUM(O$4:O248)+(100*SUM(T$4:T248))","v":0},{"$f":"IF(NOT(ISBLANK(B248)),(A248+P248)+(Settings!$B$5/24),\"\")","v":""},0,0,0,null,0,0,0,0,0,0,0,0]
[null,null,null,0,"*EOL*",0,null,0,"","","","","",{"$error":"#VALUE!"},0,"","",":0:0",{"$f":"IF(ISNA(VLOOKUP(R249,R$4:R248,1,FALSE)),FALSE,IF(O249>0,TRUE,FALSE))","v":false},{"$f":"IF(AND(C249<>\"\",$E249<>\"*ON*\",$E249<>\"*OFF*\",ISNA((VLOOKUP(C249&\"@\"&E249,Q$4:Q248,1,FALSE)))),1,0)","v":0},{"$f":"SUM(O$4:O249)+(100*SUM(T$4:T249))","v":0},{"$f":"IF(NOT(ISBLANK(B249)),(A249+P249)+(Settings!$B$5/24),\"\")","v":""},0,0,0,null,0,0,0,0,0,0,0,0]
[null,null,null,0,"*EOL*",0,null,0,"","","","","",{"$error":"#VALUE!"},0,"","",":0:0",{"$f":"IF(ISNA(VLOOKUP(R250,R$4:R249,1,FALSE)),FALSE,IF(O250>0,TRUE,FALSE))","v":false},{"$f":"IF(AND(C250<>\"\",$E250<>\"*ON*\",$E250<>\"*OFF*\",ISNA((VLOOKUP(C250&\"@\"&E250,Q$4:Q249,1,FALSE)))),1,0)","v":0},{"$f":"SUM(O$4:O250)+(100*SUM(T$4:T250))","v":0},{"$f":"IF(NOT(ISBLANK(B250)),(A250+P250)+(Settings!$B$5/24),\"\")","v":""},0,0,0,null,0,0,0,0,0,0,0,0]
[null,null,null,0,"*EOL*",0,null,0,"","","","","",{"$error":"#VALUE!"},0,"","",":0:0",{"$f":"IF(ISNA(VLOOKUP(R251,R$4:R250,1,FALSE)),FALSE,IF(O251>0,TRUE,FALSE))","v":false},{"$f":"IF(AND(C251<>\"\",$E251<>\"*ON*\",$E251<>\"*OFF*\",ISNA((VLOOKUP(C251&\"@\"&E251,Q$4:Q250,1,FALSE)))),1,0)","v":0},{"$f":"SUM(O$4:O251)+(100*SUM(T$4:T251))","v":0},{"$f":"IF(NOT(ISBLANK(B251)),(A251+P251)+(Settings!$B$5/24),\"\")","v":""},0,0,0,null,0,0,0,0,0,0,0,0]
[null,null,null,0,"*EOL*",0,null,0,"","","","","",{"$error":"#VALUE!"},0,"","",":0:0",{"$f":"IF(ISNA(VLOOKUP(R252,R$4:R251,1,FALSE)),FALSE,IF(O252>0,TRUE,FALSE))","v":false},{"$f":"IF(AND(C252<>\"\",$E252<>\"*ON*\",$E252<>\"*OFF*\",ISNA((VLOOKUP(C252&\"@\"&E252,Q$4:Q251,1,FALSE)))),1,0)","v":0},{"$f":"SUM(O$4:O252)+(100*SUM(T$4:T252))","v":0},{"$f":"IF(NOT(ISBLANK(B252)),(A252+P252)+(Settings!$B$5/24),\"\")","v":""},0,0,0,null,0,0,0,0,0,0,0,0]
[null,null,null,0,"*EOL*",0,null,0,"","","","","",{"$error":"#VALUE!"},0,"","",":0:0",{"$f":"IF(ISNA(VLOOKUP(R253,R$4:R252,1,FALSE)),FALSE,IF(O253>0,TRUE,FALSE))","v":false},{"$f":"IF(AND(C253<>\"\",$E253<>\"*ON*\",$E253<>\"*OFF*\",ISNA((VLOOKUP(C253&\"@\"&E253,Q$4:Q252,1,FALSE)))),1,0)","v":0},{"$f":"SUM(O$4:O253)+(100*SUM(T$4:T253))","v":0},{"$f":"IF(NOT(ISBLANK(B253)),(A253+P253)+(Settings!$B$5/24),\"\")","v":""},0,0,0,null,0,0,0,0,0,0,0,0]
[null,null,null,0,"*EOL*",0,null,0,"","","","","",{"$error":"#VALUE!"},0,"","",":0:0",{"$f":"IF(ISNA(VLOOKUP(R254,R$4:R253,1,FALSE)),FALSE,IF(O254>0,TRUE,FALSE))","v":false},{"$f":"IF(AND(C254<>\"\",$E254<>\"*ON*\",$E254<>\"*OFF*\",ISNA((VLOOKUP(C254&\"@\"&E254,Q$4:Q253,1,FALSE)))),1,0)","v":0},{"$f":"SUM(O$4:O254)+(100*SUM(T$4:T254))","v":0},{"$f":"IF(NOT(ISBLANK(B254)),(A254+P254)+(Settings!$B$5/24),\"\")","v":""},0,0,0,null,{"$f":"IF($E254=AA$3,$H254,0)","v":0},0,0,0,0,0,0,0]
[null,null,null,0,"*EOL*",0,null,0,"","","","","",{"$error":"#VALUE!"},0,"","",":0:0",{"$f":"IF(ISNA(VLOOKUP(R255,R$4:R254,1,FALSE)),FALSE,IF(O255>0,TRUE,FALSE))","v":false},{"$f":"IF(AND(C255<>\"\",$E255<>\"*ON*\",$E255<>\"*OFF*\",ISNA((VLOOKUP(C255&\"@\"&E255,Q$4:Q254,1,FALSE)))),1,0)","v":0},{"$f":"SUM(O$4:O255)+(100*SUM(T$4:T255))","v":0},{"$f":"IF(NOT(ISBLANK(B255)),(A255+P255)+(Settings!$B$5/24),\"\")","v":""},0,0,0,null,0,0,0,0,0,0,0,0]
[null,null,null,0,"*EOL*",0,null,0,"","","","","",{"$error":"#VALUE!"},0,"","",":0:0",{"$f":"IF(ISNA(VLOOKUP(R256,R$4:R255,1,FALSE)),FALSE,IF(O256>0,TRUE,FALSE))","v":false},{"$f":"IF(AND(C256<>\"\",$E256<>\"*ON*\",$E256<>\"*OFF*\",ISNA((VLOOKUP(C256&\"@\"&E256,Q$4:Q255,1,FALSE)))),1,0)","v":0},{"$f":"SUM(O$4:O256)+(100*SUM(T$4:T256))","v":0},{"$f":"IF(NOT(ISBLANK(B256)),(A256+P256)+(Settings!$B$5/24),\"\")","v":""},0,0,0,null,0,0,0,0,0,0,0,0]
[null,null,null,0,"*EOL*",0,null,0,"","","","","",{"$error":"#VALUE!"},0,"","",":0:0",{"$f":"IF(ISNA(VLOOKUP(R257,R$4:R256,1,FALSE)),FALSE,IF(O257>0,TRUE,FALSE))","v":false},{"$f":"IF(AND(C257<>\"\",$E257<>\"*ON*\",$E257<>\"*OFF*\",ISNA((VLOOKUP(C257&\"@\"&E257,Q$4:Q256,1,FALSE)))),1,0)","v":0},{"$f":"SUM(O$4:O257)+(100*SUM(T$4:T257))","v":0},{"$f":"IF(NOT(ISBLANK(B257)),(A257+P257)+(Settings!$B$5/24),\"\")","v":""},0,0,0,null,0,0,0,0,0,0,0,0]
[null,null,null,0,"*EOL*",0,null,0,"","","","","",{"$error":"#VALUE!"},0,"","",":0:0",{"$f":"IF(ISNA(VLOOKUP(R258,R$4:R257,1,FALSE)),FALSE,IF(O258>0,TRUE,FALSE))","v":false},{"$f":"IF(AND(C258<>\"\",$E258<>\"*ON*\",$E258<>\"*OFF*\",ISNA((VLOOKUP(C258&\"@\"&E258,Q$4:Q257,1,FALSE)))),1,0)","v":0},{"$f":"SUM(O$4:O258)+(100*SUM(T$4:T258))","v":0},{"$f":"IF(NOT(ISBLANK(B258)),(A258+P258)+(Settings!$B$5/24),\"\")","v":""},0,0,0,null,0,0,0,0,0,0,0,0]
[null,null,null,0,"*EOL*",0,null,0,"","","","","",{"$error":"#VALUE!"},0,"","",":0:0",{"$f":"IF(ISNA(VLOOKUP(R259,R$4:R258,1,FALSE)),FALSE,IF(O259>0,TRUE,FALSE))","v":false},{"$f":"IF(AND(C259<>\"\",$E259<>\"*ON*\",$E259<>\"*OFF*\",ISNA((VLOOKUP(C259&\"@\"&E259,Q$4:Q258,1,FALSE)))),1,0)","v":0},{"$f":"SUM(O$4:O259)+(100*SUM(T$4:T259))","v":0},{"$f":"IF(NOT(ISBLANK(B259)),(A259+P259)+(Settings!$B$5/24),\"\")","v":""},0,0,0,null,0,0,0,0,0,0,0,0]
[null,null,null,0,"*EOL*",0,null,0,"",{"$f":"MH2Lat(F260)","v":""},{"$f":"MH2Lon(F260)","v":""},{"$f":"MH2Lat(D260)","v":""},{"$f":"MH2Lon(D260)","v":""},{"$f":"Distance(J260,K260,L260,M260)","v":{"$error":"#VALUE!"}},0,{"$f":"IF(ISBLANK(B260),\"\",IF(LEN(B260)=1,TIMEVALUE(\"00:0\"&B260),IF(LEN(B260)=2,TIMEVALUE(\"00:\"&B260),IF(LEN(B260)=3,TIMEVALUE(\"0\"&LEFT(B260,1)&\":\"&RIGHT(B260,2)),TIMEVALUE(LEFT(B260,2)&\":\"&RIGHT(B260,2))))))","v":""},"",":0:0",{"$f":"IF(ISNA(VLOOKUP(R260,R$4:R259,1,FALSE)),FALSE,IF(O260>0,TRUE,FALSE))","v":false},{"$f":"IF(AND(C260<>\"\",$E260<>\"*ON*\",$E260<>\"*OFF*\",ISNA((VLOOKUP(C260&\"@\"&E260,Q$4:Q259,1,FALSE)))),1,0)","v":0},{"$f":"SUM(O$4:O260)+(100*SUM(T$4:T260))","v":0},{"$f":"IF(NOT(ISBLANK(B260)),(A260+P260)+(Settings!$B$5/24),\"\")","v":""},{"$f":"IF(E260=\"*ON*\",1,0)","v":0},{"$f":"IF(E260=\"*OFF*\",1,0)","v":0},0,null,0,0,0,0,0,0,0,0]
[null,null,null,0,"*EOL*",0,null,0,"","","","","",{"$error":"#VALUE!"},{"$f":"IF(NOT(ISERR(N261)),ROUND(N261,0),0)","v":0},"",{"$f":"IF(AND(NOT(ISBLANK(C261)),NOT(ISBLANK(E261))),C261&\"@\"&E261,\"\")","v":""},{"$f":"Q261&\":\"&F261&\":\"&D261","v":":0:0"},{"$f":"IF(ISNA(VLOOKUP(R261,R$4:R260,1,FALSE)),FALSE,IF(O261>0,TRUE,FALSE))","v":false},{"$f":"IF(AND(C261<>\"\",$E261<>\"*ON*\",$E261<>\"*OFF*\",ISNA((VLOOKUP(C261&\"@\"&E261,Q$4:Q260,1,FALSE)))),1,0)","v":0},{"$f":"SUM(O$4:O261)+(100*SUM(T$4:T261))","v":0},{"$f":"IF(NOT(ISBLANK(B261)),(A261+P261)+(Settings!$B$5/24),\"\")","v":""},0,0,0,null,0,0,0,0,0,0,0,0]
[null,null,null,0,"*EOL*",0,null,{"$f":"IF(OR($S262,ISERR($N262),ISBLANK($B262),ISBLANK($C262)),0,MAX(O262,1))","v":0},{"$f":"IF(OR(ISBLANK($B262),ISBLANK($C262),ISBLANK($D262),ISBLANK($F262),NOT($S262)),\"\",\"Dupe!\")","v":""},"","","","",{"$error":"#VALUE!"},0,"","",":0:0",{"$f":"IF(ISNA(VLOOKUP(R262,R$4:R261,1,FALSE)),FALSE,IF(O262>0,TRUE,FALSE))","v":false},{"$f":"IF(AND(C262<>\"\",$E262<>\"*ON*\",$E262<>\"*OFF*\",ISNA((VLOOKUP(C262&\"@\"&E262,Q$4:Q261,1,FALSE)))),1,0)","v":0},{"$f":"SUM(O$4:O262)+(100*SUM(T$4:T262))","v":0},{"$f":"IF(NOT(ISBLANK(B262)),(A262+P262)+(Settings!$B$5/24),\"\")","v":""},0,0,0,null,0,0,0,0,0,0,0,0]
[null,null,null,{"$f":"D262","v":0},{"$f":"E262","v":"*EOL*"},{"$f":"F262","v":0},null,0,"","","","","",{"$error":"#VALUE!"},0,"","",":0:0",{"$f":"IF(ISNA(VLOOKUP(R263,R$4:R262,1,FALSE)),FALSE,IF(O263>0,TRUE,FALSE))","v":false},{"$f":"IF(AND(C263<>\"\",$E263<>\"*ON*\",$E263<>\"*OFF*\",ISNA((VLOOKUP(C263&\"@\"&E263,Q$4:Q262,1,FALSE)))),1,0)","v":0},{"$f":"SUM(O$4:O263)+(100*SUM(T$4:T263))","v":0},{"$f":"IF(NOT(ISBLANK(B263)),(A263+P263)+(Settings!$B$5/24),\"\")","v":""},0,0,0,null,0,0,0,0,0,0,0,0]
[null,null,null,0,"*EOL*",0,null,0,"","","","","",{"$error":"#VALUE!"},0,"","",":0:0",{"$f":"IF(ISNA(VLOOKUP(R264,R$4:R263,1,FALSE)),FALSE,IF(O264>0,TRUE,FALSE))","v":false},{"$f":"IF(AND(C264<>\"\",$E264<>\"*ON*\",$E264<>\"*OFF*\",ISNA((VLOOKUP(C264&\"@\"&E264,Q$4:Q263,1,FALSE)))),1,0)","v":0},{"$f":"SUM(O$4:O264)+(100*SUM(T$4:T264))","v":0},{"$f":"IF(NOT(ISBLANK(B264)),(A264+P264)+(Settings!$B$5/24),\"\")","v":""},0,0,0,null,{"$f":"IF($E264=AA$3,$H264,0)","v":0},0,0,0,0,0,0,0]
[null,null,null,0,"*EOL*",0,null,0,"","","","","",{"$error":"#VALUE!"},0,"","",":0:0",{"$f":"IF(ISNA(VLOOKUP(R265,R$4:R264,1,FALSE)),FALSE,IF(O265>0,TRUE,FALSE))","v":false},{"$f":"IF(AND(C265<>\"\",$E265<>\"*ON*\",$E265<>\"*OFF*\",ISNA((VLOOKUP(C265&\"@\"&E265,Q$4:Q264,1,FALSE)))),1,0)","v":0},{"$f":"SUM(O$4:O265)+(100*SUM(T$4:T265))","v":0},{"$f":"IF(NOT(ISBLANK(B265)),(A265+P265)+(Settings!$B$5/24),\"\")","v":""},0,0,0,null,0,0,0,0,0,0,0,0]
[null,null,null,0,"*EOL*",0,null,0,"","","","","",{"$error":"#VALUE!"},0,"","",":0:0",{"$f":"IF(ISNA(VLOOKUP(R266,R$4:R265,1,FALSE)),FALSE,IF(O266>0,TRUE,FALSE))","v":false},{"$f":"IF(AND(C266<>\"\",$E266<>\"*ON*\",$E266<>\"*OFF*\",ISNA((VLOOKUP(C266&\"@\"&E266,Q$4:Q265,1,FALSE)))),1,0)","v":0},{"$f":"SUM(O$4:O266)+(100*SUM(T$4:T266))","v":0},{"$f":"IF(NOT(ISBLANK(B266)),(A266+P266)+(Settings!$B$5/24),\"\")","v":""},0,0,0,null,0,0,0,0,0,0,0,0]
[null,null,null,0,"*EOL*",0,null,0,"","","","","",{"$error":"#VALUE!"},0,"","",":0:0",{"$f":"IF(ISNA(VLOOKUP(R267,R$4:R266,1,FALSE)),FALSE,IF(O267>0,TRUE,FALSE))","v":false},{"$f":"IF(AND(C267<>\"\",$E267<>\"*ON*\",$E267<>\"*OFF*\",ISNA((VLOOKUP(C267&\"@\"&E267,Q$4:Q266,1,FALSE)))),1,0)","v":0},{"$f":"SUM(O$4:O267)+(100*SUM(T$4:T267))","v":0},{"$f":"IF(NOT(ISBLANK(B267)),(A267+P267)+(Settings!$B$5/24),\"\")","v":""},0,0,0,null,0,0,0,0,0,0,0,0]
[null,null,null,0,"*EOL*",0,null,0,"","","","","",{"$error":"#VALUE!"},0,"","",":0:0",{"$f":"IF(ISNA(VLOOKUP(R268,R$4:R267,1,FALSE)),FALSE,IF(O268>0,TRUE,FALSE))","v":false},{"$f":"IF(AND(C268<>\"\",$E268<>\"*ON*\",$E268<>\"*OFF*\",ISNA((VLOOKUP(C268&\"@\"&E268,Q$4:Q267,1,FALSE)))),1,0)","v":0},{"$f":"SUM(O$4:O268)+(100*SUM(T$4:T268))","v":0},{"$f":"IF(NOT(ISBLANK(B268)),(A268+P268)+(Settings!$B$5/24),\"\")","v":""},0,0,0,null,0,0,0,0,0,0,0,0]
[null,null,null,0,"*EOL*",0,null,0,"","","","","",{"$error":"#VALUE!"},0,"","",":0:0",{"$f":"IF(ISNA(VLOOKUP(R269,R$4:R268,1,FALSE)),FALSE,IF(O269>0,TRUE,FALSE))","v":false},{"$f":"IF(AND(C269<>\"\",$E269<>\"*ON*\",$E269<>\"*OFF*\",ISNA((VLOOKUP(C269&\"@\"&E269,Q$4:Q268,1,FALSE)))),1,0)","v":0},{"$f":"SUM(O$4:O269)+(100*SUM(T$4:T269))","v":0},{"$f":"IF(NOT(ISBLANK(B269)),(A269+P269)+(Settings!$B$5/24),\"\")","v":""},0,0,0,null,0,0,0,0,0,0,0,0]
[null,null,null,0,"*EOL*",0,null,0,"","","","","",{"$error":"#VALUE!"},0,"","",":0:0",{"$f":"IF(ISNA(VLOOKUP(R270,R$4:R269,1,FALSE)),FALSE,IF(O270>0,TRUE,FALSE))","v":false},{"$f":"IF(AND(C270<>\"\",$E270<>\"*ON*\",$E270<>\"*OFF*\",ISNA((VLOOKUP(C270&\"@\"&E270,Q$4:Q269,1,FALSE)))),1,0)","v":0},{"$f":"SUM(O$4:O270)+(100*SUM(T$4:T270))","v":0},{"$f":"IF(NOT(ISBLANK(B270)),(A270+P270)+(Settings!$B$5/24),\"\")","v":""},0,0,0,null,0,0,0,0,0,0,0,0]
[null,null,null,0,"*EOL*",0,null,0,"","","","","",{"$error":"#VALUE!"},0,"","",":0:0",{"$f":"IF(ISNA(VLOOKUP(R271,R$4:R270,1,FALSE)),FALSE,IF(O271>0,TRUE,FALSE))","v":false},{"$f":"IF(AND(C271<>\"\",$E271<>\"*ON*\",$E271<>\"*OFF*\",ISNA((VLOOKUP(C271&\"@\"&E271,Q$4:Q270,1,FALSE)))),1,0)","v":0},{"$f":"SUM(O$4:O271)+(100*SUM(T$4:T271))","v":0},{"$f":"IF(NOT(ISBLANK(B271)),(A271+P271)+(Settings!$B$5/24),\"\")","v":""},0,0,{"$f":"IF($E271=\"*EOL*\",0,IF(X270,0,V271-V270)*24)","v":0},null,0,0,0,0,0,0,0,0]
[null,null,null,0,"*EOL*",0,null,0,"","","","","",{"$error":"#VALUE!"},0,"","",":0:0",{"$f":"IF(ISNA(VLOOKUP(R272,R$4:R271,1,FALSE)),FALSE,IF(O272>0,TRUE,FALSE))","v":false},{"$f":"IF(AND(C272<>\"\",$E272<>\"*ON*\",$E272<>\"*OFF*\",ISNA((VLOOKUP(C272&\"@\"&E272,Q$4:Q271,1,FALSE)))),1,0)","v":0},{"$f":"SUM(O$4:O272)+(100*SUM(T$4:T272))","v":0},{"$f":"IF(NOT(ISBLANK(B272)),(A272+P272)+(Settings!$B$5/24),\"\")","v":""},0,0,0,null,0,0,0,0,0,0,0,0]
[null,null,null,0,"*EOL*",0,null,0,"","","","","",{"$error":"#VALUE!"},0,"","",":0:0",{"$f":"IF(ISNA(VLOOKUP(R273,R$4:R272,1,FALSE)),FALSE,IF(O273>0,TRUE,FALSE))","v":false},{"$f":"IF(AND(C273<>\"\",$E273<>\"*ON*\",$E273<>\"*OFF*\",ISNA((VLOOKUP(C273&\"@\"&E273,Q$4:Q272,1,FALSE)))),1,0)","v":0},{"$f":"SUM(O$4:O273)+(100*SUM(T$4:T273))","v":0},{"$f":"IF(NOT(ISBLANK(B273)),(A273+P273)+(Settings!$B$5/24),\"\")","v":""},0,0,0,null,0,0,0,0,0,0,0,0]
[null,null,null,0,"*EOL*",0,null,0,"","","","","",{"$error":"#VALUE!"},0,"","",":0:0",{"$f":"IF(ISNA(VLOOKUP(R274,R$4:R273,1,FALSE)),FALSE,IF(O274>0,TRUE,FALSE))","v":false},{"$f":"IF(AND(C274<>\"\",$E274<>\"*ON*\",$E274<>\"*OFF*\",ISNA((VLOOKUP(C274&\"@\"&E274,Q$4:Q273,1,FALSE)))),1,0)","v":0},{"$f":"SUM(O$4:O274)+(100*SUM(T$4:T274))","v":0},{"$f":"IF(NOT(ISBLANK(B274)),(A274+P274)+(Settings!$B$5/24),\"\")","v":""},0,0,0,null,{"$f":"IF($E274=AA$3,$H274,0)","v":0},0,0,0,0,0,0,0]
[null,null,null,0,"*EOL*",0,null,0,"","","","","",{"$error":"#VALUE!"},0,"","",":0:0",{"$f":"IF(ISNA(VLOOKUP(R275,R$4:R274,1,FALSE)),FALSE,IF(O275>0,TRUE,FALSE))","v":false},{"$f":"IF(AND(C275<>\"\",$E275<>\"*ON*\",$E275<>\"*OFF*\",ISNA((VLOOKUP(C275&\"@\"&E275,Q$4:Q274,1,FALSE)))),1,0)","v":0},{"$f":"SUM(O$4:O275)+(100*SUM(T$4:T275))","v":0},{"$f":"IF(NOT(ISBLANK(B275)),(A275+P275)+(Settings!$B$5/24),\"\")","v":""},0,0,0,null,0,0,0,0,0,0,0,0]
[null,null,null,0,"*EOL*",0,null,0,"","","","","",{"$error":"#VALUE!"},0,"","",":0:0",{"$f":"IF(ISNA(VLOOKUP(R276,R$4:R275,1,FALSE)),FALSE,IF(O276>0,TRUE,FALSE))","v":false},{"$f":"IF(AND(C276<>\"\",$E276<>\"*ON*\",$E276<>\"*OFF*\",ISNA((VLOOKUP(C276&\"@\"&E276,Q$4:Q275,1,FALSE)))),1,0)","v":0},{"$f":"SUM(O$4:O276)+(100*SUM(T$4:T276))","v":0},{"$f":"IF(NOT(ISBLANK(B276)),(A276+P276)+(Settings!$B$5/24),\"\")","v":""},0,0,0,null,0,0,0,0,0,0,0,0]
[null,null,null,0,"*EOL*",0,null,0,"","","","","",{"$error":"#VALUE!"},0,"","",":0:0",{"$f":"IF(ISNA(VLOOKUP(R277,R$4:R276,1,FALSE)),FALSE,IF(O277>0,TRUE,FALSE))","v":false},{"$f":"IF(AND(C277<>\"\",$E277<>\"*ON*\",$E277<>\"*OFF*\",ISNA((VLOOKUP(C277&\"@\"&E277,Q$4:Q276,1,FALSE)))),1,0)","v":0},{"$f":"SUM(O$4:O277)+(100*SUM(T$4:T277))","v":0},{"$f":"IF(NOT(ISBLANK(B277)),(A277+P277)+(Settings!$B$5/24),\"\")","v":""},0,0,0,null,0,0,0,0,0,0,0,0]
[null,null,null,0,"*EOL*",0,null,0,"","","","","",{"$error":"#VALUE!"},0,"","",":0:0",{"$f":"IF(ISNA(VLOOKUP(R278,R$4:R277,1,FALSE)),FALSE,IF(O278>0,TRUE,FALSE))","v":false},{"$f":"IF(AND(C278<>\"\",$E278<>\"*ON*\",$E278<>\"*OFF*\",ISNA((VLOOKUP(C278&\"@\"&E278,Q$4:Q277,1,FALSE)))),1,0)","v":0},{"$f":"SUM(O$4:O278)+(100*SUM(T$4:T278))","v":0},{"$f":"IF(NOT(ISBLANK(B278)),(A278+P278)+(Settings!$B$5/24),\"\")","v":""},0,0,0,null,0,0,0,0,0,0,0,0]
[null,null,null,0,"*EOL*",0,null,0,"","","","","",{"$error":"#VALUE!"},0,"","",":0:0",{"$f":"IF(ISNA(VLOOKUP(R279,R$4:R278,1,FALSE)),FALSE,IF(O279>0,TRUE,FALSE))","v":false},{"$f":"IF(AND(C279<>\"\",$E279<>\"*ON*\",$E279<>\"*OFF*\",ISNA((VLOOKUP(C279&\"@\"&E279,Q$4:Q278,1,FALSE)))),1,0)","v":0},{"$f":"SUM(O$4:O279)+(100*SUM(T$4:T279))","v":0},{"$f":"IF(NOT(ISBLANK(B279)),(A279+P279)+(Settings!$B$5/24),\"\")","v":""},0,0,0,null,0,0,0,0,0,0,0,0]
[null,null,null,0,"*EOL*",0,null,0,"","","","","",{"$error":"#VALUE!"},0,"","",":0:0",{"$f":"IF(ISNA(VLOOKUP(R280,R$4:R279,1,FALSE)),FALSE,IF(O280>0,TRUE,FALSE))","v":false},{"$f":"IF(AND(C280<>\"\",$E280<>\"*ON*\",$E280<>\"*OFF*\",ISNA((VLOOKUP(C280&\"@\"&E280,Q$4:Q279,1,FALSE)))),1,0)","v":0},{"$f":"SUM(O$4:O280)+(100*SUM(T$4:T280))","v":0},{"$f":"IF(NOT(ISBLANK(B280)),(A280+P280)+(Settings!$B$5/24),\"\")","v":""},0,0,0,null,0,0,0,0,0,0,0,0]
[null,null,null,0,"*EOL*",0,null,0,"","","","","",{"$error":"#VALUE!"},0,"","",":0:0",{"$f":"IF(ISNA(VLOOKUP(R281,R$4:R280,1,FALSE)),FALSE,IF(O281>0,TRUE,FALSE))","v":false},{"$f":"IF(AND(C281<>\"\",$E281<>\"*ON*\",$E281<>\"*OFF*\",ISNA((VLOOKUP(C281&\"@\"&E281,Q$4:Q280,1,FALSE)))),1,0)","v":0},{"$f":"SUM(O$4:O281)+(100*SUM(T$4:T281))","v":0},{"$f":"IF(NOT(ISBLANK(B281)),(A281+P281)+(Settings!$B$5/24),\"\")","v":""},0,0,0,null,0,0,0,0,0,0,0,0]
[null,null,null,0,"*EOL*",0,null,0,"","","","","",{"$error":"#VALUE!"},0,"","",":0:0",{"$f":"IF(ISNA(VLOOKUP(R282,R$4:R281,1,FALSE)),FALSE,IF(O282>0,TRUE,FALSE))","v":false},{"$f":"IF(AND(C282<>\"\",$E282<>\"*ON*\",$E282<>\"*OFF*\",ISNA((VLOOKUP(C282&\"@\"&E282,Q$4:Q281,1,FALSE)))),1,0)","v":0},{"$f":"SUM(O$4:O282)+(100*SUM(T$4:T282))","v":0},{"$f":"IF(NOT(ISBLANK(B282)),(A282+P282)+(Settings!$B$5/24),\"\")","v":""},0,0,0,null,0,0,0,0,0,0,0,0]
[null,null,null,0,"*EOL*",0,null,0,"","","","","",{"$error":"#VALUE!"},0,"","",":0:0",{"$f":"IF(ISNA(VLOOKUP(R283,R$4:R282,1,FALSE)),FALSE,IF(O283>0,TRUE,FALSE))","v":false},{"$f":"IF(AND(C283<>\"\",$E283<>\"*ON*\",$E283<>\"*OFF*\",ISNA((VLOOKUP(C283&\"@\"&E283,Q$4:Q282,1,FALSE)))),1,0)","v":0},{"$f":"SUM(O$4:O283)+(100*SUM(T$4:T283))","v":0},{"$f":"IF(NOT(ISBLANK(B283)),(A283+P283)+(Settings!$B$5/24),\"\")","v":""},0,0,0,null,0,0,0,0,0,0,0,0]
[null,null,null,0,"*EOL*",0,null,0,"","","","","",{"$error":"#VALUE!"},0,"","",":0:0",{"$f":"IF(ISNA(VLOOKUP(R284,R$4:R283,1,FALSE)),FALSE,IF(O284>0,TRUE,FALSE))","v":false},{"$f":"IF(AND(C284<>\"\",$E284<>\"*ON*\",$E284<>\"*OFF*\",ISNA((VLOOKUP(C284&\"@\"&E284,Q$4:Q283,1,FALSE)))),1,0)","v":0},{"$f":"SUM(O$4:O284)+(100*SUM(T$4:T284))","v":0},{"$f":"IF(NOT(ISBLANK(B284)),(A284+P284)+(Settings!$B$5/24),\"\")","v":""},0,0,0,null,{"$f":"IF($E284=AA$3,$H284,0)","v":0},0,0,0,0,0,0,0]
[null,null,null,0,"*EOL*",0,null,0,"","","","","",{"$error":"#VALUE!"},0,"","",":0:0",{"$f":"IF(ISNA(VLOOKUP(R285,R$4:R284,1,FALSE)),FALSE,IF(O285>0,TRUE,FALSE))","v":false},{"$f":"IF(AND(C285<>\"\",$E285<>\"*ON*\",$E285<>\"*OFF*\",ISNA((VLOOKUP(C285&\"@\"&E285,Q$4:Q284,1,FALSE)))),1,0)","v":0},{"$f":"SUM(O$4:O285)+(100*SUM(T$4:T285))","v":0},{"$f":"IF(NOT(ISBLANK(B285)),(A285+P285)+(Settings!$B$5/24),\"\")","v":""},0,0,0,null,0,0,0,0,0,0,0,0]
[null,null,null,0,"*EOL*",0,null,0,"","","","","",{"$error":"#VALUE!"},0,"","",":0:0",{"$f":"IF(ISNA(VLOOKUP(R286,R$4:R285,1,FALSE)),FALSE,IF(O286>0,TRUE,FALSE))","v":false},{"$f":"IF(AND(C286<>\"\",$E286<>\"*ON*\",$E286<>\"*OFF*\",ISNA((VLOOKUP(C286&\"@\"&E286,Q$4:Q285,1,FALSE)))),1,0)","v":0},{"$f":"SUM(O$4:O286)+(100*SUM(T$4:T286))","v":0},{"$f":"IF(NOT(ISBLANK(B286)),(A286+P286)+(Settings!$B$5/24),\"\")","v":""},0,0,0,null,0,0,0,0,0,0,0,0]
[null,null,null,0,"*EOL*",0,null,0,"","","","","",{"$error":"#VALUE!"},0,"","",":0:0",{"$f":"IF(ISNA(VLOOKUP(R287,R$4:R286,1,FALSE)),FALSE,IF(O287>0,TRUE,FALSE))","v":false},{"$f":"IF(AND(C287<>\"\",$E287<>\"*ON*\",$E287<>\"*OFF*\",ISNA((VLOOKUP(C287&\"@\"&E287,Q$4:Q286,1,FALSE)))),1,0)","v":0},{"$f":"SUM(O$4:O287)+(100*SUM(T$4:T287))","v":0},{"$f":"IF(NOT(ISBLANK(B287)),(A287+P287)+(Settings!$B$5/24),\"\")","v":""},0,0,0,null,0,0,0,0,0,0,0,0]
[null,null,null,0,"*EOL*",0,null,0,"","","","","",{"$error":"#VALUE!"},0,"","",":0:0",{"$f":"IF(ISNA(VLOOKUP(R288,R$4:R287,1,FALSE)),FALSE,IF(O288>0,TRUE,FALSE))","v":false},{"$f":"IF(AND(C288<>\"\",$E288<>\"*ON*\",$E288<>\"*OFF*\",ISNA((VLOOKUP(C288&\"@\"&E288,Q$4:Q287,1,FALSE)))),1,0)","v":0},{"$f":"SUM(O$4:O288)+(100*SUM(T$4:T288))","v":0},{"$f":"IF(NOT(ISBLANK(B288)),(A288+P288)+(Settings!$B$5/24),\"\")","v":""},0,0,0,null,0,0,0,0,0,0,0,0]
[null,null,null,0,"*EOL*",0,null,0,"","","","","",{"$error":"#VALUE!"},0,"","",":0:0",{"$f":"IF(ISNA(VLOOKUP(R289,R$4:R288,1,FALSE)),FALSE,IF(O289>0,TRUE,FALSE))","v":false},{"$f":"IF(AND(C289<>\"\",$E289<>\"*ON*\",$E289<>\"*OFF*\",ISNA((VLOOKUP(C289&\"@\"&E289,Q$4:Q288,1,FALSE)))),1,0)","v":0},{"$f":"SUM(O$4:O289)+(100*SUM(T$4:T289))","v":0},{"$f":"IF(NOT(ISBLANK(B289)),(A289+P289)+(Settings!$B$5/24),\"\")","v":""},0,0,0,null,0,0,0,0,0,0,0,0]
[null,null,null,0,"*EOL*",0,null,0,"","","","","",{"$error":"#VALUE!"},0,"","",":0:0",{"$f":"IF(ISNA(VLOOKUP(R290,R$4:R289,1,FALSE)),FALSE,IF(O290>0,TRUE,FALSE))","v":false},{"$f":"IF(AND(C290<>\"\",$E290<>\"*ON*\",$E290<>\"*OFF*\",ISNA((VLOOKUP(C290&\"@\"&E290,Q$4:Q289,1,FALSE)))),1,0)","v":0},{"$f":"SUM(O$4:O290)+(100*SUM(T$4:T290))","v":0},{"$f":"IF(NOT(ISBLANK(B290)),(A290+P290)+(Settings!$B$5/24),\"\")","v":""},0,0,0,null,0,0,0,0,0,0,0,0]
[null,null,null,0,"*EOL*",0,null,0,"","","","","",{"$error":"#VALUE!"},0,"","",":0:0",{"$f":"IF(ISNA(VLOOKUP(R291,R$4:R290,1,FALSE)),FALSE,IF(O291>0,TRUE,FALSE))","v":false},{"$f":"IF(AND(C291<>\"\",$E291<>\"*ON*\",$E291<>\"*OFF*\",ISNA((VLOOKUP(C291&\"@\"&E291,Q$4:Q290,1,FALSE)))),1,0)","v":0},{"$f":"SUM(O$4:O291)+(100*SUM(T$4:T291))","v":0},{"$f":"IF(NOT(ISBLANK(B291)),(A291+P291)+(Settings!$B$5/24),\"\")","v":""},0,0,0,null,0,0,0,0,0,0,0,0]
[null,null,null,0,"*EOL*",0,null,0,"","","","","",{"$error":"#VALUE!"},0,"","",":0:0",{"$f":"IF(ISNA(VLOOKUP(R292,R$4:R291,1,FALSE)),FALSE,IF(O292>0,TRUE,FALSE))","v":false},{"$f":"IF(AND(C292<>\"\",$E292<>\"*ON*\",$E292<>\"*OFF*\",ISNA((VLOOKUP(C292&\"@\"&E292,Q$4:Q291,1,FALSE)))),1,0)","v":0},{"$f":"SUM(O$4:O292)+(100*SUM(T$4:T292))","v":0},{"$f":"IF(NOT(ISBLANK(B292)),(A292+P292)+(Settings!$B$5/24),\"\")","v":""},0,0,0,null,0,0,0,0,0,0,0,0]
[null,null,null,0,"*EOL*",0,null,0,"","","","","",{"$error":"#VALUE!"},0,"","",":0:0",{"$f":"IF(ISNA(VLOOKUP(R293,R$4:R292,1,FALSE)),FALSE,IF(O293>0,TRUE,FALSE))","v":false},{"$f":"IF(AND(C293<>\"\",$E293<>\"*ON*\",$E293<>\"*OFF*\",ISNA((VLOOKUP(C293&\"@\"&E293,Q$4:Q292,1,FALSE)))),1,0)","v":0},{"$f":"SUM(O$4:O293)+(100*SUM(T$4:T293))","v":0},{"$f":"IF(NOT(ISBLANK(B293)),(A293+P293)+(Settings!$B$5/24),\"\")","v":""},0,0,0,null,0,0,0,0,0,0,0,0]
[null,null,null,0,"*EOL*",0,null,0,"","","","","",{"$error":"#VALUE!"},0,"","",":0:0",{"$f":"IF(ISNA(VLOOKUP(R294,R$4:R293,1,FALSE)),FALSE,IF(O294>0,TRUE,FALSE))","v":false},{"$f":"IF(AND(C294<>\"\",$E294<>\"*ON*\",$E294<>\"*OFF*\",ISNA((VLOOKUP(C294&\"@\"&E294,Q$4:Q293,1,FALSE)))),1,0)","v":0},{"$f":"SUM(O$4:O294)+(100*SUM(T$4:T294))","v":0},{"$f":"IF(NOT(ISBLANK(B294)),(A294+P294)+(Settings!$B$5/24),\"\")","v":""},0,0,0,null,{"$f":"IF($E294=AA$3,$H294,0)","v":0},0,0,0,0,0,0,0]
[null,null,null,0,"*EOL*",0,null,0,"","","","","",{"$error":"#VALUE!"},0,"","",":0:0",{"$f":"IF(ISNA(VLOOKUP(R295,R$4:R294,1,FALSE)),FALSE,IF(O295>0,TRUE,FALSE))","v":false},{"$f":"IF(AND(C295<>\"\",$E295<>\"*ON*\",$E295<>\"*OFF*\",ISNA((VLOOKUP(C295&\"@\"&E295,Q$4:Q294,1,FALSE)))),1,0)","v":0},{"$f":"SUM(O$4:O295)+(100*SUM(T$4:T295))","v":0},{"$f":"IF(NOT(ISBLANK(B295)),(A295+P295)+(Settings!$B$5/24),\"\")","v":""},0,0,0,null,0,0,0,0,0,0,0,0]
[null,null,null,0,"*EOL*",0,null,0,"","","","","",{"$error":"#VALUE!"},0,"","",":0:0",{"$f":"IF(ISNA(VLOOKUP(R296,R$4:R295,1,FALSE)),FALSE,IF(O296>0,TRUE,FALSE))","v":false},{"$f":"IF(AND(C296<>\"\",$E296<>\"*ON*\",$E296<>\"*OFF*\",ISNA((VLOOKUP(C296&\"@\"&E296,Q$4:Q295,1,FALSE)))),1,0)","v":0},{"$f":"SUM(O$4:O296)+(100*SUM(T$4:T296))","v":0},{"$f":"IF(NOT(ISBLANK(B296)),(A296+P296)+(Settings!$B$5/24),\"\")","v":""},0,0,0,null,0,0,0,0,0,0,0,0]
[null,null,null,0,"*EOL*",0,null,0,"","","","","",{"$error":"#VALUE!"},0,"","",":0:0",{"$f":"IF(ISNA(VLOOKUP(R297,R$4:R296,1,FALSE)),FALSE,IF(O297>0,TRUE,FALSE))","v":false},{"$f":"IF(AND(C297<>\"\",$E297<>\"*ON*\",$E297<>\"*OFF*\",ISNA((VLOOKUP(C297&\"@\"&E297,Q$4:Q296,1,FALSE)))),1,0)","v":0},{"$f":"SUM(O$4:O297)+(100*SUM(T$4:T297))","v":0},{"$f":"IF(NOT(ISBLANK(B297)),(A297+P297)+(Settings!$B$5/24),\"\")","v":""},0,0,0,null,0,0,0,0,0,0,0,0]
[null,null,null,0,"*EOL*",0,null,0,"","","","","",{"$error":"#VALUE!"},0,"","",":0:0",{"$f":"IF(ISNA(VLOOKUP(R298,R$4:R297,1,FALSE)),FALSE,IF(O298>0,TRUE,FALSE))","v":false},{"$f":"IF(AND(C298<>\"\",$E298<>\"*ON*\",$E298<>\"*OFF*\",ISNA((VLOOKUP(C298&\"@\"&E298,Q$4:Q297,1,FALSE)))),1,0)","v":0},{"$f":"SUM(O$4:O298)+(100*SUM(T$4:T298))","v":0},{"$f":"IF(NOT(ISBLANK(B298)),(A298+P298)+(Settings!$B$5/24),\"\")","v":""},0,0,0,null,0,0,0,0,0,0,0,0]
[null,null,null,0,"*EOL*",0,null,0,"","","","","",{"$error":"#VALUE!"},0,"","",":0:0",{"$f":"IF(ISNA(VLOOKUP(R299,R$4:R298,1,FALSE)),FALSE,IF(O299>0,TRUE,FALSE))","v":false},{"$f":"IF(AND(C299<>\"\",$E299<>\"*ON*\",$E299<>\"*OFF*\",ISNA((VLOOKUP(C299&\"@\"&E299,Q$4:Q298,1,FALSE)))),1,0)","v":0},{"$f":"SUM(O$4:O299)+(100*SUM(T$4:T299))","v":0},{"$f":"IF(NOT(ISBLANK(B299)),(A299+P299)+(Settings!$B$5/24),\"\")","v":""},0,0,0,null,0,0,0,0,0,0,0,0]
[null,null,null,0,"*EOL*",0,null,0,"","","","","",{"$error":"#VALUE!"},0,"","",":0:0",{"$f":"IF(ISNA(VLOOKUP(R300,R$4:R299,1,FALSE)),FALSE,IF(O300>0,TRUE,FALSE))","v":false},{"$f":"IF(AND(C300<>\"\",$E300<>\"*ON*\",$E300<>\"*OFF*\",ISNA((VLOOKUP(C300&\"@\"&E300,Q$4:Q299,1,FALSE)))),1,0)","v":0},{"$f":"SUM(O$4:O300)+(100*SUM(T$4:T300))","v":0},{"$f":"IF(NOT(ISBLANK(B300)),(A300+P300)+(Settings!$B$5/24),\"\")","v":""},0,0,0,null,0,0,0,0,0,0,0,0]
[null,null,null,0,"*EOL*",0,null,0,"","","","","",{"$error":"#VALUE!"},0,"","",":0:0",{"$f":"IF(ISNA(VLOOKUP(R301,R$4:R300,1,FALSE)),FALSE,IF(O301>0,TRUE,FALSE))","v":false},{"$f":"IF(AND(C301<>\"\",$E301<>\"*ON*\",$E301<>\"*OFF*\",ISNA((VLOOKUP(C301&\"@\"&E301,Q$4:Q300,1,FALSE)))),1,0)","v":0},{"$f":"SUM(O$4:O301)+(100*SUM(T$4:T301))","v":0},{"$f":"IF(NOT(ISBLANK(B301)),(A301+P301)+(Settings!$B$5/24),\"\")","v":""},0,0,0,null,0,0,0,0,0,0,0,0]
[null,null,null,0,"*EOL*",0,null,0,"","","","","",{"$error":"#VALUE!"},0,"","",":0:0",{"$f":"IF(ISNA(VLOOKUP(R302,R$4:R301,1,FALSE)),FALSE,IF(O302>0,TRUE,FALSE))","v":false},{"$f":"IF(AND(C302<>\"\",$E302<>\"*ON*\",$E302<>\"*OFF*\",ISNA((VLOOKUP(C302&\"@\"&E302,Q$4:Q301,1,FALSE)))),1,0)","v":0},{"$f":"SUM(O$4:O302)+(100*SUM(T$4:T302))","v":0},{"$f":"IF(NOT(ISBLANK(B302)),(A302+P302)+(Settings!$B$5/24),\"\")","v":""},0,0,0,null,0,0,0,0,0,0,0,0]
[null,null,null,0,"*EOL*",0,null,0,"","","","","",{"$error":"#VALUE!"},0,"","",":0:0",{"$f":"IF(ISNA(VLOOKUP(R303,R$4:R302,1,FALSE)),FALSE,IF(O303>0,TRUE,FALSE))","v":false},{"$f":"IF(AND(C303<>\"\",$E303<>\"*ON*\",$E303<>\"*OFF*\",ISNA((VLOOKUP(C303&\"@\"&E303,Q$4:Q302,1,FALSE)))),1,0)","v":0},{"$f":"SUM(O$4:O303)+(100*SUM(T$4:T303))","v":0},{"$f":"IF(NOT(ISBLANK(B303)),(A303+P303)+(Settings!$B$5/24),\"\")","v":""},0,0,0,null,0,0,0,0,0,0,0,0]
[null,null,null,0,"*EOL*",0,null,0,"","","","","",{"$error":"#VALUE!"},0,"","",":0:0",{"$f":"IF(ISNA(VLOOKUP(R304,R$4:R303,1,FALSE)),FALSE,IF(O304>0,TRUE,FALSE))","v":false},{"$f":"IF(AND(C304<>\"\",$E304<>\"*ON*\",$E304<>\"*OFF*\",ISNA((VLOOKUP(C304&\"@\"&E304,Q$4:Q303,1,FALSE)))),1,0)","v":0},{"$f":"SUM(O$4:O304)+(100*SUM(T$4:T304))","v":0},{"$f":"IF(NOT(ISBLANK(B304)),(A304+P304)+(Settings!$B$5/24),\"\")","v":""},0,0,0,null,{"$f":"IF($E304=AA$3,$H304,0)","v":0},0,0,0,0,0,0,0]
[null,null,null,0,"*EOL*",0,null,0,"","","","","",{"$error":"#VALUE!"},0,"","",":0:0",{"$f":"IF(ISNA(VLOOKUP(R305,R$4:R304,1,FALSE)),FALSE,IF(O305>0,TRUE,FALSE))","v":false},{"$f":"IF(AND(C305<>\"\",$E305<>\"*ON*\",$E305<>\"*OFF*\",ISNA((VLOOKUP(C305&\"@\"&E305,Q$4:Q304,1,FALSE)))),1,0)","v":0},{"$f":"SUM(O$4:O305)+(100*SUM(T$4:T305))","v":0},{"$f":"IF(NOT(ISBLANK(B305)),(A305+P305)+(Settings!$B$5/24),\"\")","v":""},0,0,0,null,0,0,0,0,0,0,0,0]
[null,null,null,0,"*EOL*",0,null,0,"","","","","",{"$error":"#VALUE!"},0,"","",":0:0",{"$f":"IF(ISNA(VLOOKUP(R306,R$4:R305,1,FALSE)),FALSE,IF(O306>0,TRUE,FALSE))","v":false},{"$f":"IF(AND(C306<>\"\",$E306<>\"*ON*\",$E306<>\"*OFF*\",ISNA((VLOOKUP(C306&\"@\"&E306,Q$4:Q305,1,FALSE)))),1,0)","v":0},{"$f":"SUM(O$4:O306)+(100*SUM(T$4:T306))","v":0},{"$f":"IF(NOT(ISBLANK(B306)),(A306+P306)+(Settings!$B$5/24),\"\")","v":""},0,0,0,null,0,0,0,0,0,0,0,0]
[null,null,null,0,"*EOL*",0,null,0,"","","","","",{"$error":"#VALUE!"},0,"","",":0:0",{"$f":"IF(ISNA(VLOOKUP(R307,R$4:R306,1,FALSE)),FALSE,IF(O307>0,TRUE,FALSE))","v":false},{"$f":"IF(AND(C307<>\"\",$E307<>\"*ON*\",$E307<>\"*OFF*\",ISNA((VLOOKUP(C307&\"@\"&E307,Q$4:Q306,1,FALSE)))),1,0)","v":0},{"$f":"SUM(O$4:O307)+(100*SUM(T$4:T307))","v":0},{"$f":"IF(NOT(ISBLANK(B307)),(A307+P307)+(Settings!$B$5/24),\"\")","v":""},0,0,0,null,0,0,0,0,0,0,0,0]
[null,null,null,0,"*EOL*",0,null,0,"","","","","",{"$error":"#VALUE!"},0,"","",":0:0",{"$f":"IF(ISNA(VLOOKUP(R308,R$4:R307,1,FALSE)),FALSE,IF(O308>0,TRUE,FALSE))","v":false},{"$f":"IF(AND(C308<>\"\",$E308<>\"*ON*\",$E308<>\"*OFF*\",ISNA((VLOOKUP(C308&\"@\"&E308,Q$4:Q307,1,FALSE)))),1,0)","v":0},{"$f":"SUM(O$4:O308)+(100*SUM(T$4:T308))","v":0},{"$f":"IF(NOT(ISBLANK(B308)),(A308+P308)+(Settings!$B$5/24),\"\")","v":""},0,0,0,null,0,0,0,0,0,0,0,0]
[null,null,null,0,"*EOL*",0,null,0,"","","","","",{"$error":"#VALUE!"},0,"","",":0:0",{"$f":"IF(ISNA(VLOOKUP(R309,R$4:R308,1,FALSE)),FALSE,IF(O309>0,TRUE,FALSE))","v":false},{"$f":"IF(AND(C309<>\"\",$E309<>\"*ON*\",$E309<>\"*OFF*\",ISNA((VLOOKUP(C309&\"@\"&E309,Q$4:Q308,1,FALSE)))),1,0)","v":0},{"$f":"SUM(O$4:O309)+(100*SUM(T$4:T309))","v":0},{"$f":"IF(NOT(ISBLANK(B309)),(A309+P309)+(Settings!$B$5/24),\"\")","v":""},0,0,0,null,0,0,0,0,0,0,0,0]
[null,null,null,0,"*EOL*",0,null,0,"","","","","",{"$error":"#VALUE!"},0,"","",":0:0",{"$f":"IF(ISNA(VLOOKUP(R310,R$4:R309,1,FALSE)),FALSE,IF(O310>0,TRUE,FALSE))","v":false},{"$f":"IF(AND(C310<>\"\",$E310<>\"*ON*\",$E310<>\"*OFF*\",ISNA((VLOOKUP(C310&\"@\"&E310,Q$4:Q309,1,FALSE)))),1,0)","v":0},{"$f":"SUM(O$4:O310)+(100*SUM(T$4:T310))","v":0},{"$f":"IF(NOT(ISBLANK(B310)),(A310+P310)+(Settings!$B$5/24),\"\")","v":""},0,0,0,null,0,0,0,0,0,0,0,0]
[null,null,null,0,"*EOL*",0,null,0,"","","","","",{"$error":"#VALUE!"},0,"","",":0:0",{"$f":"IF(ISNA(VLOOKUP(R311,R$4:R310,1,FALSE)),FALSE,IF(O311>0,TRUE,FALSE))","v":false},{"$f":"IF(AND(C311<>\"\",$E311<>\"*ON*\",$E311<>\"*OFF*\",ISNA((VLOOKUP(C311&\"@\"&E311,Q$4:Q310,1,FALSE)))),1,0)","v":0},{"$f":"SUM(O$4:O311)+(100*SUM(T$4:T311))","v":0},{"$f":"IF(NOT(ISBLANK(B311)),(A311+P311)+(Settings!$B$5/24),\"\")","v":""},0,0,0,null,0,0,0,0,0,0,0,0]
[null,null,null,0,"*EOL*",0,null,0,"","","","","",{"$error":"#VALUE!"},0,"","",":0:0",{"$f":"IF(ISNA(VLOOKUP(R312,R$4:R311,1,FALSE)),FALSE,IF(O312>0,TRUE,FALSE))","v":false},{"$f":"IF(AND(C312<>\"\",$E312<>\"*ON*\",$E312<>\"*OFF*\",ISNA((VLOOKUP(C312&\"@\"&E312,Q$4:Q311,1,FALSE)))),1,0)","v":0},{"$f":"SUM(O$4:O312)+(100*SUM(T$4:T312))","v":0},{"$f":"IF(NOT(ISBLANK(B312)),(A312+P312)+(Settings!$B$5/24),\"\")","v":""},0,0,0,null,0,0,0,0,0,0,0,0]
[null,null,null,0,"*EOL*",0,null,0,"","","","","",{"$error":"#VALUE!"},0,"","",":0:0",{"$f":"IF(ISNA(VLOOKUP(R313,R$4:R312,1,FALSE)),FALSE,IF(O313>0,TRUE,FALSE))","v":false},{"$f":"IF(AND(C313<>\"\",$E313<>\"*ON*\",$E313<>\"*OFF*\",ISNA((VLOOKUP(C313&\"@\"&E313,Q$4:Q312,1,FALSE)))),1,0)","v":0},{"$f":"SUM(O$4:O313)+(100*SUM(T$4:T313))","v":0},{"$f":"IF(NOT(ISBLANK(B313)),(A313+P313)+(Settings!$B$5/24),\"\")","v":""},0,0,0,null,0,0,0,0,0,0,0,0]
[null,null,null,0,"*EOL*",0,null,0,"","","","","",{"$error":"#VALUE!"},0,"","",":0:0",{"$f":"IF(ISNA(VLOOKUP(R314,R$4:R313,1,FALSE)),FALSE,IF(O314>0,TRUE,FALSE))","v":false},{"$f":"IF(AND(C314<>\"\",$E314<>\"*ON*\",$E314<>\"*OFF*\",ISNA((VLOOKUP(C314&\"@\"&E314,Q$4:Q313,1,FALSE)))),1,0)","v":0},{"$f":"SUM(O$4:O314)+(100*SUM(T$4:T314))","v":0},{"$f":"IF(NOT(ISBLANK(B314)),(A314+P314)+(Settings!$B$5/24),\"\")","v":""},0,0,0,null,{"$f":"IF($E314=AA$3,$H314,0)","v":0},0,0,0,0,0,0,0]
[null,null,null,0,"*EOL*",0,null,0,"","","","","",{"$error":"#VALUE!"},0,"","",":0:0",{"$f":"IF(ISNA(VLOOKUP(R315,R$4:R314,1,FALSE)),FALSE,IF(O315>0,TRUE,FALSE))","v":false},{"$f":"IF(AND(C315<>\"\",$E315<>\"*ON*\",$E315<>\"*OFF*\",ISNA((VLOOKUP(C315&\"@\"&E315,Q$4:Q314,1,FALSE)))),1,0)","v":0},{"$f":"SUM(O$4:O315)+(100*SUM(T$4:T315))","v":0},{"$f":"IF(NOT(ISBLANK(B315)),(A315+P315)+(Settings!$B$5/24),\"\")","v":""},0,0,0,null,0,0,0,0,0,0,0,0]
[null,null,null,0,"*EOL*",0,null,0,"","","","","",{"$error":"#VALUE!"},0,"","",":0:0",{"$f":"IF(ISNA(VLOOKUP(R316,R$4:R315,1,FALSE)),FALSE,IF(O316>0,TRUE,FALSE))","v":false},{"$f":"IF(AND(C316<>\"\",$E316<>\"*ON*\",$E316<>\"*OFF*\",ISNA((VLOOKUP(C316&\"@\"&E316,Q$4:Q315,1,FALSE)))),1,0)","v":0},{"$f":"SUM(O$4:O316)+(100*SUM(T$4:T316))","v":0},{"$f":"IF(NOT(ISBLANK(B316)),(A316+P316)+(Settings!$B$5/24),\"\")","v":""},0,0,0,null,0,0,0,0,0,0,0,0]
[null,null,null,0,"*EOL*",0,null,0,"","","","","",{"$error":"#VALUE!"},0,"","",":0:0",{"$f":"IF(ISNA(VLOOKUP(R317,R$4:R316,1,FALSE)),FALSE,IF(O317>0,TRUE,FALSE))","v":false},{"$f":"IF(AND(C317<>\"\",$E317<>\"*ON*\",$E317<>\"*OFF*\",ISNA((VLOOKUP(C317&\"@\"&E317,Q$4:Q316,1,FALSE)))),1,0)","v":0},{"$f":"SUM(O$4:O317)+(100*SUM(T$4:T317))","v":0},{"$f":"IF(NOT(ISBLANK(B317)),(A317+P317)+(Settings!$B$5/24),\"\")","v":""},0,0,0,null,0,0,0,0,0,0,0,0]
[null,null,null,0,"*EOL*",0,null,0,"","","","","",{"$error":"#VALUE!"},0,"","",":0:0",{"$f":"IF(ISNA(VLOOKUP(R318,R$4:R317,1,FALSE)),FALSE,IF(O318>0,TRUE,FALSE))","v":false},{"$f":"IF(AND(C318<>\"\",$E318<>\"*ON*\",$E318<>\"*OFF*\",ISNA((VLOOKUP(C318&\"@\"&E318,Q$4:Q317,1,FALSE)))),1,0)","v":0},{"$f":"SUM(O$4:O318)+(100*SUM(T$4:T318))","v":0},{"$f":"IF(NOT(ISBLANK(B318)),(A318+P318)+(Settings!$B$5/24),\"\")","v":""},0,0,0,null,0,0,0,0,0,0,0,0]
[null,null,null,0,"*EOL*",0,null,0,"","","","","",{"$error":"#VALUE!"},0,"","",":0:0",{"$f":"IF(ISNA(VLOOKUP(R319,R$4:R318,1,FALSE)),FALSE,IF(O319>0,TRUE,FALSE))","v":false},{"$f":"IF(AND(C319<>\"\",$E319<>\"*ON*\",$E319<>\"*OFF*\",ISNA((VLOOKUP(C319&\"@\"&E319,Q$4:Q318,1,FALSE)))),1,0)","v":0},{"$f":"SUM(O$4:O319)+(100*SUM(T$4:T319))","v":0},{"$f":"IF(NOT(ISBLANK(B319)),(A319+P319)+(Settings!$B$5/24),\"\")","v":""},0,0,0,null,0,0,0,0,0,0,0,0]
[null,null,null,0,"*EOL*",0,null,0,"","","","","",{"$error":"#VALUE!"},0,"","",":0:0",{"$f":"IF(ISNA(VLOOKUP(R320,R$4:R319,1,FALSE)),FALSE,IF(O320>0,TRUE,FALSE))","v":false},{"$f":"IF(AND(C320<>\"\",$E320<>\"*ON*\",$E320<>\"*OFF*\",ISNA((VLOOKUP(C320&\"@\"&E320,Q$4:Q319,1,FALSE)))),1,0)","v":0},{"$f":"SUM(O$4:O320)+(100*SUM(T$4:T320))","v":0},{"$f":"IF(NOT(ISBLANK(B320)),(A320+P320)+(Settings!$B$5/24),\"\")","v":""},0,0,0,null,0,0,0,0,0,0,0,0]
[null,null,null,0,"*EOL*",0,null,0,"","","","","",{"$error":"#VALUE!"},0,"","",":0:0",{"$f":"IF(ISNA(VLOOKUP(R321,R$4:R320,1,FALSE)),FALSE,IF(O321>0,TRUE,FALSE))","v":false},{"$f":"IF(AND(C321<>\"\",$E321<>\"*ON*\",$E321<>\"*OFF*\",ISNA((VLOOKUP(C321&\"@\"&E321,Q$4:Q320,1,FALSE)))),1,0)","v":0},{"$f":"SUM(O$4:O321)+(100*SUM(T$4:T321))","v":0},{"$f":"IF(NOT(ISBLANK(B321)),(A321+P321)+(Settings!$B$5/24),\"\")","v":""},0,0,0,null,0,0,0,0,0,0,0,0]
[null,null,null,0,"*EOL*",0,null,0,"","","","","",{"$error":"#VALUE!"},0,"","",":0:0",{"$f":"IF(ISNA(VLOOKUP(R322,R$4:R321,1,FALSE)),FALSE,IF(O322>0,TRUE,FALSE))","v":false},{"$f":"IF(AND(C322<>\"\",$E322<>\"*ON*\",$E322<>\"*OFF*\",ISNA((VLOOKUP(C322&\"@\"&E322,Q$4:Q321,1,FALSE)))),1,0)","v":0},{"$f":"SUM(O$4:O322)+(100*SUM(T$4:T322))","v":0},{"$f":"IF(NOT(ISBLANK(B322)),(A322+P322)+(Settings!$B$5/24),\"\")","v":""},0,0,0,null,0,0,0,0,0,0,0,0]
[null,null,null,0,"*EOL*",0,null,0,"","","","","",{"$error":"#VALUE!"},0,"","",":0:0",{"$f":"IF(ISNA(VLOOKUP(R323,R$4:R322,1,FALSE)),FALSE,IF(O323>0,TRUE,FALSE))","v":false},{"$f":"IF(AND(C323<>\"\",$E323<>\"*ON*\",$E323<>\"*OFF*\",ISNA((VLOOKUP(C323&\"@\"&E323,Q$4:Q322,1,FALSE)))),1,0)","v":0},{"$f":"SUM(O$4:O323)+(100*SUM(T$4:T323))","v":0},{"$f":"IF(NOT(ISBLANK(B323)),(A323+P323)+(Settings!$B$5/24),\"\")","v":""},0,0,0,null,0,0,0,0,0,0,0,0]
[null,null,null,0,"*EOL*",0,null,0,"",{"$f":"MH2Lat(F324)","v":""},{"$f":"MH2Lon(F324)","v":""},{"$f":"MH2Lat(D324)","v":""},{"$f":"MH2Lon(D324)","v":""},{"$f":"Distance(J324,K324,L324,M324)","v":{"$error":"#VALUE!"}},0,{"$f":"IF(ISBLANK(B324),\"\",IF(LEN(B324)=1,TIMEVALUE(\"00:0\"&B324),IF(LEN(B324)=2,TIMEVALUE(\"00:\"&B324),IF(LEN(B324)=3,TIMEVALUE(\"0\"&LEFT(B324,1)&\":\"&RIGHT(B324,2)),TIMEVALUE(LEFT(B324,2)&\":\"&RIGHT(B324,2))))))","v":""},"",":0:0",{"$f":"IF(ISNA(VLOOKUP(R324,R$4:R323,1,FALSE)),FALSE,IF(O324>0,TRUE,FALSE))","v":false},{"$f":"IF(AND(C324<>\"\",$E324<>\"*ON*\",$E324<>\"*OFF*\",ISNA((VLOOKUP(C324&\"@\"&E324,Q$4:Q323,1,FALSE)))),1,0)","v":0},{"$f":"SUM(O$4:O324)+(100*SUM(T$4:T324))","v":0},{"$f":"IF(NOT(ISBLANK(B324)),(A324+P324)+(Settings!$B$5/24),\"\")","v":""},{"$f":"IF(E324=\"*ON*\",1,0)","v":0},{"$f":"IF(E324=\"*OFF*\",1,0)","v":0},0,null,{"$f":"IF($E324=AA$3,$H324,0)","v":0},0,0,0,0,0,0,0]
[null,null,null,0,"*EOL*",0,null,0,"","","","","",{"$error":"#VALUE!"},{"$f":"IF(NOT(ISERR(N325)),ROUND(N325,0),0)","v":0},"",{"$f":"IF(AND(NOT(ISBLANK(C325)),NOT(ISBLANK(E325))),C325&\"@\"&E325,\"\")","v":""},{"$f":"Q325&\":\"&F325&\":\"&D325","v":":0:0"},{"$f":"IF(ISNA(VLOOKUP(R325,R$4:R324,1,FALSE)),FALSE,IF(O325>0,TRUE,FALSE))","v":false},{"$f":"IF(AND(C325<>\"\",$E325<>\"*ON*\",$E325<>\"*OFF*\",ISNA((VLOOKUP(C325&\"@\"&E325,Q$4:Q324,1,FALSE)))),1,0)","v":0},{"$f":"SUM(O$4:O325)+(100*SUM(T$4:T325))","v":0},{"$f":"IF(NOT(ISBLANK(B325)),(A325+P325)+(Settings!$B$5/24),\"\")","v":""},0,0,0,null,0,0,0,0,0,0,0,0]
[null,null,null,0,"*EOL*",0,null,{"$f":"IF(OR($S326,ISERR($N326),ISBLANK($B326),ISBLANK($C326)),0,MAX(O326,1))","v":0},{"$f":"IF(OR(ISBLANK($B326),ISBLANK($C326),ISBLANK($D326),ISBLANK($F326),NOT($S326)),\"\",\"Dupe!\")","v":""},"","","","",{"$error":"#VALUE!"},0,"","",":0:0",{"$f":"IF(ISNA(VLOOKUP(R326,R$4:R325,1,FALSE)),FALSE,IF(O326>0,TRUE,FALSE))","v":false},{"$f":"IF(AND(C326<>\"\",$E326<>\"*ON*\",$E326<>\"*OFF*\",ISNA((VLOOKUP(C326&\"@\"&E326,Q$4:Q325,1,FALSE)))),1,0)","v":0},{"$f":"SUM(O$4:O326)+(100*SUM(T$4:T326))","v":0},{"$f":"IF(NOT(ISBLANK(B326)),(A326+P326)+(Settings!$B$5/24),\"\")","v":""},0,0,0,null,0,0,0,0,0,0,0,0]
[null,null,null,{"$f":"D326","v":0},{"$f":"E326","v":"*EOL*"},{"$f":"F326","v":0},null,0,"","","","","",{"$error":"#VALUE!"},0,"","",":0:0",{"$f":"IF(ISNA(VLOOKUP(R327,R$4:R326,1,FALSE)),FALSE,IF(O327>0,TRUE,FALSE))","v":false},{"$f":"IF(AND(C327<>\"\",$E327<>\"*ON*\",$E327<>\"*OFF*\",ISNA((VLOOKUP(C327&\"@\"&E327,Q$4:Q326,1,FALSE)))),1,0)","v":0},{"$f":"SUM(O$4:O327)+(100*SUM(T$4:T327))","v":0},{"$f":"IF(NOT(ISBLANK(B327)),(A327+P327)+(Settings!$B$5/24),\"\")","v":""},0,0,0,null,0,0,0,0,0,0,0,0]
[null,null,null,0,"*EOL*",0,null,0,"","","","","",{"$error":"#VALUE!"},0,"","",":0:0",{"$f":"IF(ISNA(VLOOKUP(R328,R$4:R327,1,FALSE)),FALSE,IF(O328>0,TRUE,FALSE))","v":false},{"$f":"IF(AND(C328<>\"\",$E328<>\"*ON*\",$E328<>\"*OFF*\",ISNA((VLOOKUP(C328&\"@\"&E328,Q$4:Q327,1,FALSE)))),1,0)","v":0},{"$f":"SUM(O$4:O328)+(100*SUM(T$4:T328))","v":0},{"$f":"IF(NOT(ISBLANK(B328)),(A328+P328)+(Settings!$B$5/24),\"\")","v":""},0,0,0,null,0,0,0,0,0,0,0,0]
[null,null,null,0,"*EOL*",0,null,0,"","","","","",{"$error":"#VALUE!"},0,"","",":0:0",{"$f":"IF(ISNA(VLOOKUP(R329,R$4:R328,1,FALSE)),FALSE,IF(O329>0,TRUE,FALSE))","v":false},{"$f":"IF(AND(C329<>\"\",$E329<>\"*ON*\",$E329<>\"*OFF*\",ISNA((VLOOKUP(C329&\"@\"&E329,Q$4:Q328,1,FALSE)))),1,0)","v":0},{"$f":"SUM(O$4:O329)+(100*SUM(T$4:T329))","v":0},{"$f":"IF(NOT(ISBLANK(B329)),(A329+P329)+(Settings!$B$5/24),\"\")","v":""},0,0,0,null,0,0,0,0,0,0,0,0]
[null,null,null,0,"*EOL*",0,null,0,"","","","","",{"$error":"#VALUE!"},0,"","",":0:0",{"$f":"IF(ISNA(VLOOKUP(R330,R$4:R329,1,FALSE)),FALSE,IF(O330>0,TRUE,FALSE))","v":false},{"$f":"IF(AND(C330<>\"\",$E330<>\"*ON*\",$E330<>\"*OFF*\",ISNA((VLOOKUP(C330&\"@\"&E330,Q$4:Q329,1,FALSE)))),1,0)","v":0},{"$f":"SUM(O$4:O330)+(100*SUM(T$4:T330))","v":0},{"$f":"IF(NOT(ISBLANK(B330)),(A330+P330)+(Settings!$B$5/24),\"\")","v":""},0,0,0,null,0,0,0,0,0,0,0,0]
[null,null,null,0,"*EOL*",0,null,0,"","","","","",{"$error":"#VALUE!"},0,"","",":0:0",{"$f":"IF(ISNA(VLOOKUP(R331,R$4:R330,1,FALSE)),FALSE,IF(O331>0,TRUE,FALSE))","v":false},{"$f":"IF(AND(C331<>\"\",$E331<>\"*ON*\",$E331<>\"*OFF*\",ISNA((VLOOKUP(C331&\"@\"&E331,Q$4:Q330,1,FALSE)))),1,0)","v":0},{"$f":"SUM(O$4:O331)+(100*SUM(T$4:T331))","v":0},{"$f":"IF(NOT(ISBLANK(B331)),(A331+P331)+(Settings!$B$5/24),\"\")","v":""},0,0,0,null,0,0,0,0,0,0,0,0]
[null,null,null,0,"*EOL*",0,null,0,"","","","","",{"$error":"#VALUE!"},0,"","",":0:0",{"$f":"IF(ISNA(VLOOKUP(R332,R$4:R331,1,FALSE)),FALSE,IF(O332>0,TRUE,FALSE))","v":false},{"$f":"IF(AND(C332<>\"\",$E332<>\"*ON*\",$E332<>\"*OFF*\",ISNA((VLOOKUP(C332&\"@\"&E332,Q$4:Q331,1,FALSE)))),1,0)","v":0},{"$f":"SUM(O$4:O332)+(100*SUM(T$4:T332))","v":0},{"$f":"IF(NOT(ISBLANK(B332)),(A332+P332)+(Settings!$B$5/24),\"\")","v":""},0,0,0,null,0,0,0,0,0,0,0,0]
[null,null,null,0,"*EOL*",0,null,0,"","","","","",{"$error":"#VALUE!"},0,"","",":0:0",{"$f":"IF(ISNA(VLOOKUP(R333,R$4:R332,1,FALSE)),FALSE,IF(O333>0,TRUE,FALSE))","v":false},{"$f":"IF(AND(C333<>\"\",$E333<>\"*ON*\",$E333<>\"*OFF*\",ISNA((VLOOKUP(C333&\"@\"&E333,Q$4:Q332,1,FALSE)))),1,0)","v":0},{"$f":"SUM(O$4:O333)+(100*SUM(T$4:T333))","v":0},{"$f":"IF(NOT(ISBLANK(B333)),(A333+P333)+(Settings!$B$5/24),\"\")","v":""},0,0,0,null,0,0,0,0,0,0,0,0]
[null,null,null,0,"*EOL*",0,null,0,"","","","","",{"$error":"#VALUE!"},0,"","",":0:0",{"$f":"IF(ISNA(VLOOKUP(R334,R$4:R333,1,FALSE)),FALSE,IF(O334>0,TRUE,FALSE))","v":false},{"$f":"IF(AND(C334<>\"\",$E334<>\"*ON*\",$E334<>\"*OFF*\",ISNA((VLOOKUP(C334&\"@\"&E334,Q$4:Q333,1,FALSE)))),1,0)","v":0},{"$f":"SUM(O$4:O334)+(100*SUM(T$4:T334))","v":0},{"$f":"IF(NOT(ISBLANK(B334)),(A334+P334)+(Settings!$B$5/24),\"\")","v":""},0,0,0,null,{"$f":"IF($E334=AA$3,$H334,0)","v":0},0,0,0,0,0,0,0]
[null,null,null,0,"*EOL*",0,null,0,"","","","","",{"$error":"#VALUE!"},0,"","",":0:0",{"$f":"IF(ISNA(VLOOKUP(R335,R$4:R334,1,FALSE)),FALSE,IF(O335>0,TRUE,FALSE))","v":false},{"$f":"IF(AND(C335<>\"\",$E335<>\"*ON*\",$E335<>\"*OFF*\",ISNA((VLOOKUP(C335&\"@\"&E335,Q$4:Q334,1,FALSE)))),1,0)","v":0},{"$f":"SUM(O$4:O335)+(100*SUM(T$4:T335))","v":0},{"$f":"IF(NOT(ISBLANK(B335)),(A335+P335)+(Settings!$B$5/24),\"\")","v":""},0,0,{"$f":"IF($E335=\"*EOL*\",0,IF(X334,0,V335-V334)*24)","v":0},null,0,0,0,0,0,0,0,0]
[null,null,null,0,"*EOL*",0,null,0,"","","","","",{"$error":"#VALUE!"},0,"","",":0:0",{"$f":"IF(ISNA(VLOOKUP(R336,R$4:R335,1,FALSE)),FALSE,IF(O336>0,TRUE,FALSE))","v":false},{"$f":"IF(AND(C336<>\"\",$E336<>\"*ON*\",$E336<>\"*OFF*\",ISNA((VLOOKUP(C336&\"@\"&E336,Q$4:Q335,1,FALSE)))),1,0)","v":0},{"$f":"SUM(O$4:O336)+(100*SUM(T$4:T336))","v":0},{"$f":"IF(NOT(ISBLANK(B336)),(A336+P336)+(Settings!$B$5/24),\"\")","v":""},0,0,0,null,0,0,0,0,0,0,0,0]
[null,null,null,0,"*EOL*",0,null,0,"","","","","",{"$error":"#VALUE!"},0,"","",":0:0",{"$f":"IF(ISNA(VLOOKUP(R337,R$4:R336,1,FALSE)),FALSE,IF(O337>0,TRUE,FALSE))","v":false},{"$f":"IF(AND(C337<>\"\",$E337<>\"*ON*\",$E337<>\"*OFF*\",ISNA((VLOOKUP(C337&\"@\"&E337,Q$4:Q336,1,FALSE)))),1,0)","v":0},{"$f":"SUM(O$4:O337)+(100*SUM(T$4:T337))","v":0},{"$f":"IF(NOT(ISBLANK(B337)),(A337+P337)+(Settings!$B$5/24),\"\")","v":""},0,0,0,null,0,0,0,0,0,0,0,0]
[null,null,null,0,"*EOL*",0,null,0,"","","","","",{"$error":"#VALUE!"},0,"","",":0:0",{"$f":"IF(ISNA(VLOOKUP(R338,R$4:R337,1,FALSE)),FALSE,IF(O338>0,TRUE,FALSE))","v":false},{"$f":"IF(AND(C338<>\"\",$E338<>\"*ON*\",$E338<>\"*OFF*\",ISNA((VLOOKUP(C338&\"@\"&E338,Q$4:Q337,1,FALSE)))),1,0)","v":0},{"$f":"SUM(O$4:O338)+(100*SUM(T$4:T338))","v":0},{"$f":"IF(NOT(ISBLANK(B338)),(A338+P338)+(Settings!$B$5/24),\"\")","v":""},0,0,0,null,0,0,0,0,0,0,0,0]
[null,null,null,0,"*EOL*",0,null,0,"","","","","",{"$error":"#VALUE!"},0,"","",":0:0",{"$f":"IF(ISNA(VLOOKUP(R339,R$4:R338,1,FALSE)),FALSE,IF(O339>0,TRUE,FALSE))","v":false},{"$f":"IF(AND(C339<>\"\",$E339<>\"*ON*\",$E339<>\"*OFF*\",ISNA((VLOOKUP(C339&\"@\"&E339,Q$4:Q338,1,FALSE)))),1,0)","v":0},{"$f":"SUM(O$4:O339)+(100*SUM(T$4:T339))","v":0},{"$f":"IF(NOT(ISBLANK(B339)),(A339+P339)+(Settings!$B$5/24),\"\")","v":""},0,0,0,null,0,0,0,0,0,0,0,0]
[null,null,null,0,"*EOL*",0,null,0,"","","","","",{"$error":"#VALUE!"},0,"","",":0:0",{"$f":"IF(ISNA(VLOOKUP(R340,R$4:R339,1,FALSE)),FALSE,IF(O340>0,TRUE,FALSE))","v":false},{"$f":"IF(AND(C340<>\"\",$E340<>\"*ON*\",$E340<>\"*OFF*\",ISNA((VLOOKUP(C340&\"@\"&E340,Q$4:Q339,1,FALSE)))),1,0)","v":0},{"$f":"SUM(O$4:O340)+(100*SUM(T$4:T340))","v":0},{"$f":"IF(NOT(ISBLANK(B340)),(A340+P340)+(Settings!$B$5/24),\"\")","v":""},0,0,0,null,0,0,0,0,0,0,0,0]
[null,null,null,0,"*EOL*",0,null,0,"","","","","",{"$error":"#VALUE!"},0,"","",":0:0",{"$f":"IF(ISNA(VLOOKUP(R341,R$4:R340,1,FALSE)),FALSE,IF(O341>0,TRUE,FALSE))","v":false},{"$f":"IF(AND(C341<>\"\",$E341<>\"*ON*\",$E341<>\"*OFF*\",ISNA((VLOOKUP(C341&\"@\"&E341,Q$4:Q340,1,FALSE)))),1,0)","v":0},{"$f":"SUM(O$4:O341)+(100*SUM(T$4:T341))","v":0},{"$f":"IF(NOT(ISBLANK(B341)),(A341+P341)+(Settings!$B$5/24),\"\")","v":""},0,0,0,null,0,0,0,0,0,0,0,0]
[null,null,null,0,"*EOL*",0,null,0,"","","","","",{"$error":"#VALUE!"},0,"","",":0:0",{"$f":"IF(ISNA(VLOOKUP(R342,R$4:R341,1,FALSE)),FALSE,IF(O342>0,TRUE,FALSE))","v":false},{"$f":"IF(AND(C342<>\"\",$E342<>\"*ON*\",$E342<>\"*OFF*\",ISNA((VLOOKUP(C342&\"@\"&E342,Q$4:Q341,1,FALSE)))),1,0)","v":0},{"$f":"SUM(O$4:O342)+(100*SUM(T$4:T342))","v":0},{"$f":"IF(NOT(ISBLANK(B342)),(A342+P342)+(Settings!$B$5/24),\"\")","v":""},0,0,0,null,0,0,0,0,0,0,0,0]
[null,null,null,0,"*EOL*",0,null,0,"","","","","",{"$error":"#VALUE!"},0,"","",":0:0",{"$f":"IF(ISNA(VLOOKUP(R343,R$4:R342,1,FALSE)),FALSE,IF(O343>0,TRUE,FALSE))","v":false},{"$f":"IF(AND(C343<>\"\",$E343<>\"*ON*\",$E343<>\"*OFF*\",ISNA((VLOOKUP(C343&\"@\"&E343,Q$4:Q342,1,FALSE)))),1,0)","v":0},{"$f":"SUM(O$4:O343)+(100*SUM(T$4:T343))","v":0},{"$f":"IF(NOT(ISBLANK(B343)),(A343+P343)+(Settings!$B$5/24),\"\")","v":""},0,0,0,null,0,0,0,0,0,0,0,0]
[null,null,null,0,"*EOL*",0,null,0,"","","","","",{"$error":"#VALUE!"},0,"","",":0:0",{"$f":"IF(ISNA(VLOOKUP(R344,R$4:R343,1,FALSE)),FALSE,IF(O344>0,TRUE,FALSE))","v":false},{"$f":"IF(AND(C344<>\"\",$E344<>\"*ON*\",$E344<>\"*OFF*\",ISNA((VLOOKUP(C344&\"@\"&E344,Q$4:Q343,1,FALSE)))),1,0)","v":0},{"$f":"SUM(O$4:O344)+(100*SUM(T$4:T344))","v":0},{"$f":"IF(NOT(ISBLANK(B344)),(A344+P344)+(Settings!$B$5/24),\"\")","v":""},0,0,0,null,{"$f":"IF($E344=AA$3,$H344,0)","v":0},0,0,0,0,0,0,0]
[null,null,null,0,"*EOL*",0,null,0,"","","","","",{"$error":"#VALUE!"},0,"","",":0:0",{"$f":"IF(ISNA(VLOOKUP(R345,R$4:R344,1,FALSE)),FALSE,IF(O345>0,TRUE,FALSE))","v":false},{"$f":"IF(AND(C345<>\"\",$E345<>\"*ON*\",$E345<>\"*OFF*\",ISNA((VLOOKUP(C345&\"@\"&E345,Q$4:Q344,1,FALSE)))),1,0)","v":0},{"$f":"SUM(O$4:O345)+(100*SUM(T$4:T345))","v":0},{"$f":"IF(NOT(ISBLANK(B345)),(A345+P345)+(Settings!$B$5/24),\"\")","v":""},0,0,0,null,0,0,0,0,0,0,0,0]
[null,null,null,0,"*EOL*",0,null,0,"","","","","",{"$error":"#VALUE!"},0,"","",":0:0",{"$f":"IF(ISNA(VLOOKUP(R346,R$4:R345,1,FALSE)),FALSE,IF(O346>0,TRUE,FALSE))","v":false},{"$f":"IF(AND(C346<>\"\",$E346<>\"*ON*\",$E346<>\"*OFF*\",ISNA((VLOOKUP(C346&\"@\"&E346,Q$4:Q345,1,FALSE)))),1,0)","v":0},{"$f":"SUM(O$4:O346)+(100*SUM(T$4:T346))","v":0},{"$f":"IF(NOT(ISBLANK(B346)),(A346+P346)+(Settings!$B$5/24),\"\")","v":""},0,0,0,null,0,0,0,0,0,0,0,0]
[null,null,null,0,"*EOL*",0,null,0,"","","","","",{"$error":"#VALUE!"},0,"","",":0:0",{"$f":"IF(ISNA(VLOOKUP(R347,R$4:R346,1,FALSE)),FALSE,IF(O347>0,TRUE,FALSE))","v":false},{"$f":"IF(AND(C347<>\"\",$E347<>\"*ON*\",$E347<>\"*OFF*\",ISNA((VLOOKUP(C347&\"@\"&E347,Q$4:Q346,1,FALSE)))),1,0)","v":0},{"$f":"SUM(O$4:O347)+(100*SUM(T$4:T347))","v":0},{"$f":"IF(NOT(ISBLANK(B347)),(A347+P347)+(Settings!$B$5/24),\"\")","v":""},0,0,0,null,0,0,0,0,0,0,0,0]
[null,null,null,0,"*EOL*",0,null,0,"","","","","",{"$error":"#VALUE!"},0,"","",":0:0",{"$f":"IF(ISNA(VLOOKUP(R348,R$4:R347,1,FALSE)),FALSE,IF(O348>0,TRUE,FALSE))","v":false},{"$f":"IF(AND(C348<>\"\",$E348<>\"*ON*\",$E348<>\"*OFF*\",ISNA((VLOOKUP(C348&\"@\"&E348,Q$4:Q347,1,FALSE)))),1,0)","v":0},{"$f":"SUM(O$4:O348)+(100*SUM(T$4:T348))","v":0},{"$f":"IF(NOT(ISBLANK(B348)),(A348+P348)+(Settings!$B$5/24),\"\")","v":""},0,0,0,null,0,0,0,0,0,0,0,0]
[null,null,null,0,"*EOL*",0,null,0,"","","","","",{"$error":"#VALUE!"},0,"","",":0:0",{"$f":"IF(ISNA(VLOOKUP(R349,R$4:R348,1,FALSE)),FALSE,IF(O349>0,TRUE,FALSE))","v":false},{"$f":"IF(AND(C349<>\"\",$E349<>\"*ON*\",$E349<>\"*OFF*\",ISNA((VLOOKUP(C349&\"@\"&E349,Q$4:Q348,1,FALSE)))),1,0)","v":0},{"$f":"SUM(O$4:O349)+(100*SUM(T$4:T349))","v":0},{"$f":"IF(NOT(ISBLANK(B349)),(A349+P349)+(Settings!$B$5/24),\"\")","v":""},0,0,0,null,0,0,0,0,0,0,0,0]
[null,null,null,0,"*EOL*",0,null,0,"","","","","",{"$error":"#VALUE!"},0,"","",":0:0",{"$f":"IF(ISNA(VLOOKUP(R350,R$4:R349,1,FALSE)),FALSE,IF(O350>0,TRUE,FALSE))","v":false},{"$f":"IF(AND(C350<>\"\",$E350<>\"*ON*\",$E350<>\"*OFF*\",ISNA((VLOOKUP(C350&\"@\"&E350,Q$4:Q349,1,FALSE)))),1,0)","v":0},{"$f":"SUM(O$4:O350)+(100*SUM(T$4:T350))","v":0},{"$f":"IF(NOT(ISBLANK(B350)),(A350+P350)+(Settings!$B$5/24),\"\")","v":""},0,0,0,null,0,0,0,0,0,0,0,0]
[null,null,null,0,"*EOL*",0,null,0,"","","","","",{"$error":"#VALUE!"},0,"","",":0:0",{"$f":"IF(ISNA(VLOOKUP(R351,R$4:R350,1,FALSE)),FALSE,IF(O351>0,TRUE,FALSE))","v":false},{"$f":"IF(AND(C351<>\"\",$E351<>\"*ON*\",$E351<>\"*OFF*\",ISNA((VLOOKUP(C351&\"@\"&E351,Q$4:Q350,1,FALSE)))),1,0)","v":0},{"$f":"SUM(O$4:O351)+(100*SUM(T$4:T351))","v":0},{"$f":"IF(NOT(ISBLANK(B351)),(A351+P351)+(Settings!$B$5/24),\"\")","v":""},0,0,0,null,0,0,0,0,0,0,0,0]
[null,null,null,0,"*EOL*",0,null,0,"","","","","",{"$error":"#VALUE!"},0,"","",":0:0",{"$f":"IF(ISNA(VLOOKUP(R352,R$4:R351,1,FALSE)),FALSE,IF(O352>0,TRUE,FALSE))","v":false},{"$f":"IF(AND(C352<>\"\",$E352<>\"*ON*\",$E352<>\"*OFF*\",ISNA((VLOOKUP(C352&\"@\"&E352,Q$4:Q351,1,FALSE)))),1,0)","v":0},{"$f":"SUM(O$4:O352)+(100*SUM(T$4:T352))","v":0},{"$f":"IF(NOT(ISBLANK(B352)),(A352+P352)+(Settings!$B$5/24),\"\")","v":""},0,0,0,null,0,0,0,0,0,0,0,0]
[null,null,null,0,"*EOL*",0,null,0,"","","","","",{"$error":"#VALUE!"},0,"","",":0:0",{"$f":"IF(ISNA(VLOOKUP(R353,R$4:R352,1,FALSE)),FALSE,IF(O353>0,TRUE,FALSE))","v":false},{"$f":"IF(AND(C353<>\"\",$E353<>\"*ON*\",$E353<>\"*OFF*\",ISNA((VLOOKUP(C353&\"@\"&E353,Q$4:Q352,1,FALSE)))),1,0)","v":0},{"$f":"SUM(O$4:O353)+(100*SUM(T$4:T353))","v":0},{"$f":"IF(NOT(ISBLANK(B353)),(A353+P353)+(Settings!$B$5/24),\"\")","v":""},0,0,0,null,0,0,0,0,0,0,0,0]
[null,null,null,0,"*EOL*",0,null,0,"","","","","",{"$error":"#VALUE!"},0,"","",":0:0",{"$f":"IF(ISNA(VLOOKUP(R354,R$4:R353,1,FALSE)),FALSE,IF(O354>0,TRUE,FALSE))","v":false},{"$f":"IF(AND(C354<>\"\",$E354<>\"*ON*\",$E354<>\"*OFF*\",ISNA((VLOOKUP(C354&\"@\"&E354,Q$4:Q353,1,FALSE)))),1,0)","v":0},{"$f":"SUM(O$4:O354)+(100*SUM(T$4:T354))","v":0},{"$f":"IF(NOT(ISBLANK(B354)),(A354+P354)+(Settings!$B$5/24),\"\")","v":""},0,0,0,null,{"$f":"IF($E354=AA$3,$H354,0)","v":0},0,0,0,0,0,0,0]
[null,null,null,0,"*EOL*",0,null,0,"","","","","",{"$error":"#VALUE!"},0,"","",":0:0",{"$f":"IF(ISNA(VLOOKUP(R355,R$4:R354,1,FALSE)),FALSE,IF(O355>0,TRUE,FALSE))","v":false},{"$f":"IF(AND(C355<>\"\",$E355<>\"*ON*\",$E355<>\"*OFF*\",ISNA((VLOOKUP(C355&\"@\"&E355,Q$4:Q354,1,FALSE)))),1,0)","v":0},{"$f":"SUM(O$4:O355)+(100*SUM(T$4:T355))","v":0},{"$f":"IF(NOT(ISBLANK(B355)),(A355+P355)+(Settings!$B$5/24),\"\")","v":""},0,0,0,null,0,0,0,0,0,0,0,0]
[null,null,null,0,"*EOL*",0,null,0,"","","","","",{"$error":"#VALUE!"},0,"","",":0:0",{"$f":"IF(ISNA(VLOOKUP(R356,R$4:R355,1,FALSE)),FALSE,IF(O356>0,TRUE,FALSE))","v":false},{"$f":"IF(AND(C356<>\"\",$E356<>\"*ON*\",$E356<>\"*OFF*\",ISNA((VLOOKUP(C356&\"@\"&E356,Q$4:Q355,1,FALSE)))),1,0)","v":0},{"$f":"SUM(O$4:O356)+(100*SUM(T$4:T356))","v":0},{"$f":"IF(NOT(ISBLANK(B356)),(A356+P356)+(Settings!$B$5/24),\"\")","v":""},0,0,0,null,0,0,0,0,0,0,0,0]
[null,null,null,0,"*EOL*",0,null,0,"","","","","",{"$error":"#VALUE!"},0,"","",":0:0",{"$f":"IF(ISNA(VLOOKUP(R357,R$4:R356,1,FALSE)),FALSE,IF(O357>0,TRUE,FALSE))","v":false},{"$f":"IF(AND(C357<>\"\",$E357<>\"*ON*\",$E357<>\"*OFF*\",ISNA((VLOOKUP(C357&\"@\"&E357,Q$4:Q356,1,FALSE)))),1,0)","v":0},{"$f":"SUM(O$4:O357)+(100*SUM(T$4:T357))","v":0},{"$f":"IF(NOT(ISBLANK(B357)),(A357+P357)+(Settings!$B$5/24),\"\")","v":""},0,0,0,null,0,0,0,0,0,0,0,0]
[null,null,null,0,"*EOL*",0,null,0,"","","","","",{"$error":"#VALUE!"},0,"","",":0:0",{"$f":"IF(ISNA(VLOOKUP(R358,R$4:R357,1,FALSE)),FALSE,IF(O358>0,TRUE,FALSE))","v":false},{"$f":"IF(AND(C358<>\"\",$E358<>\"*ON*\",$E358<>\"*OFF*\",ISNA((VLOOKUP(C358&\"@\"&E358,Q$4:Q357,1,FALSE)))),1,0)","v":0},{"$f":"SUM(O$4:O358)+(100*SUM(T$4:T358))","v":0},{"$f":"IF(NOT(ISBLANK(B358)),(A358+P358)+(Settings!$B$5/24),\"\")","v":""},0,0,0,null,0,0,0,0,0,0,0,0]
[null,null,null,0,"*EOL*",0,null,0,"","","","","",{"$error":"#VALUE!"},0,"","",":0:0",{"$f":"IF(ISNA(VLOOKUP(R359,R$4:R358,1,FALSE)),FALSE,IF(O359>0,TRUE,FALSE))","v":false},{"$f":"IF(AND(C359<>\"\",$E359<>\"*ON*\",$E359<>\"*OFF*\",ISNA((VLOOKUP(C359&\"@\"&E359,Q$4:Q358,1,FALSE)))),1,0)","v":0},{"$f":"SUM(O$4:O359)+(100*SUM(T$4:T359))","v":0},{"$f":"IF(NOT(ISBLANK(B359)),(A359+P359)+(Settings!$B$5/24),\"\")","v":""},0,0,0,null,0,0,0,0,0,0,0,0]
[null,null,null,0,"*EOL*",0,null,0,"","","","","",{"$error":"#VALUE!"},0,"","",":0:0",{"$f":"IF(ISNA(VLOOKUP(R360,R$4:R359,1,FALSE)),FALSE,IF(O360>0,TRUE,FALSE))","v":false},{"$f":"IF(AND(C360<>\"\",$E360<>\"*ON*\",$E360<>\"*OFF*\",ISNA((VLOOKUP(C360&\"@\"&E360,Q$4:Q359,1,FALSE)))),1,0)","v":0},{"$f":"SUM(O$4:O360)+(100*SUM(T$4:T360))","v":0},{"$f":"IF(NOT(ISBLANK(B360)),(A360+P360)+(Settings!$B$5/24),\"\")","v":""},0,0,0,null,0,0,0,0,0,0,0,0]
[null,null,null,0,"*EOL*",0,null,0,"","","","","",{"$error":"#VALUE!"},0,"","",":0:0",{"$f":"IF(ISNA(VLOOKUP(R361,R$4:R360,1,FALSE)),FALSE,IF(O361>0,TRUE,FALSE))","v":false},{"$f":"IF(AND(C361<>\"\",$E361<>\"*ON*\",$E361<>\"*OFF*\",ISNA((VLOOKUP(C361&\"@\"&E361,Q$4:Q360,1,FALSE)))),1,0)","v":0},{"$f":"SUM(O$4:O361)+(100*SUM(T$4:T361))","v":0},{"$f":"IF(NOT(ISBLANK(B361)),(A361+P361)+(Settings!$B$5/24),\"\")","v":""},0,0,0,null,0,0,0,0,0,0,0,0]
[null,null,null,0,"*EOL*",0,null,0,"","","","","",{"$error":"#VALUE!"},0,"","",":0:0",{"$f":"IF(ISNA(VLOOKUP(R362,R$4:R361,1,FALSE)),FALSE,IF(O362>0,TRUE,FALSE))","v":false},{"$f":"IF(AND(C362<>\"\",$E362<>\"*ON*\",$E362<>\"*OFF*\",ISNA((VLOOKUP(C362&\"@\"&E362,Q$4:Q361,1,FALSE)))),1,0)","v":0},{"$f":"SUM(O$4:O362)+(100*SUM(T$4:T362))","v":0},{"$f":"IF(NOT(ISBLANK(B362)),(A362+P362)+(Settings!$B$5/24),\"\")","v":""},0,0,0,null,0,0,0,0,0,0,0,0]
[null,null,null,0,"*EOL*",0,null,0,"","","","","",{"$error":"#VALUE!"},0,"","",":0:0",{"$f":"IF(ISNA(VLOOKUP(R363,R$4:R362,1,FALSE)),FALSE,IF(O363>0,TRUE,FALSE))","v":false},{"$f":"IF(AND(C363<>\"\",$E363<>\"*ON*\",$E363<>\"*OFF*\",ISNA((VLOOKUP(C363&\"@\"&E363,Q$4:Q362,1,FALSE)))),1,0)","v":0},{"$f":"SUM(O$4:O363)+(100*SUM(T$4:T363))","v":0},{"$f":"IF(NOT(ISBLANK(B363)),(A363+P363)+(Settings!$B$5/24),\"\")","v":""},0,0,0,null,0,0,0,0,0,0,0,0]
[null,null,null,0,"*EOL*",0,null,0,"","","","","",{"$error":"#VALUE!"},0,"","",":0:0",{"$f":"IF(ISNA(VLOOKUP(R364,R$4:R363,1,FALSE)),FALSE,IF(O364>0,TRUE,FALSE))","v":false},{"$f":"IF(AND(C364<>\"\",$E364<>\"*ON*\",$E364<>\"*OFF*\",ISNA((VLOOKUP(C364&\"@\"&E364,Q$4:Q363,1,FALSE)))),1,0)","v":0},{"$f":"SUM(O$4:O364)+(100*SUM(T$4:T364))","v":0},{"$f":"IF(NOT(ISBLANK(B364)),(A364+P364)+(Settings!$B$5/24),\"\")","v":""},0,0,0,null,{"$f":"IF($E364=AA$3,$H364,0)","v":0},0,0,0,0,0,0,0]
[null,null,null,0,"*EOL*",0,null,0,"","","","","",{"$error":"#VALUE!"},0,"","",":0:0",{"$f":"IF(ISNA(VLOOKUP(R365,R$4:R364,1,FALSE)),FALSE,IF(O365>0,TRUE,FALSE))","v":false},{"$f":"IF(AND(C365<>\"\",$E365<>\"*ON*\",$E365<>\"*OFF*\",ISNA((VLOOKUP(C365&\"@\"&E365,Q$4:Q364,1,FALSE)))),1,0)","v":0},{"$f":"SUM(O$4:O365)+(100*SUM(T$4:T365))","v":0},{"$f":"IF(NOT(ISBLANK(B365)),(A365+P365)+(Settings!$B$5/24),\"\")","v":""},0,0,0,null,0,0,0,0,0,0,0,0]
[null,null,null,0,"*EOL*",0,null,0,"","","","","",{"$error":"#VALUE!"},0,"","",":0:0",{"$f":"IF(ISNA(VLOOKUP(R366,R$4:R365,1,FALSE)),FALSE,IF(O366>0,TRUE,FALSE))","v":false},{"$f":"IF(AND(C366<>\"\",$E366<>\"*ON*\",$E366<>\"*OFF*\",ISNA((VLOOKUP(C366&\"@\"&E366,Q$4:Q365,1,FALSE)))),1,0)","v":0},{"$f":"SUM(O$4:O366)+(100*SUM(T$4:T366))","v":0},{"$f":"IF(NOT(ISBLANK(B366)),(A366+P366)+(Settings!$B$5/24),\"\")","v":""},0,0,0,null,0,0,0,0,0,0,0,0]
[null,null,null,0,"*EOL*",0,null,0,"","","","","",{"$error":"#VALUE!"},0,"","",":0:0",{"$f":"IF(ISNA(VLOOKUP(R367,R$4:R366,1,FALSE)),FALSE,IF(O367>0,TRUE,FALSE))","v":false},{"$f":"IF(AND(C367<>\"\",$E367<>\"*ON*\",$E367<>\"*OFF*\",ISNA((VLOOKUP(C367&\"@\"&E367,Q$4:Q366,1,FALSE)))),1,0)","v":0},{"$f":"SUM(O$4:O367)+(100*SUM(T$4:T367))","v":0},{"$f":"IF(NOT(ISBLANK(B367)),(A367+P367)+(Settings!$B$5/24),\"\")","v":""},0,0,0,null,0,0,0,0,0,0,0,0]
[null,null,null,0,"*EOL*",0,null,0,"","","","","",{"$error":"#VALUE!"},0,"","",":0:0",{"$f":"IF(ISNA(VLOOKUP(R368,R$4:R367,1,FALSE)),FALSE,IF(O368>0,TRUE,FALSE))","v":false},{"$f":"IF(AND(C368<>\"\",$E368<>\"*ON*\",$E368<>\"*OFF*\",ISNA((VLOOKUP(C368&\"@\"&E368,Q$4:Q367,1,FALSE)))),1,0)","v":0},{"$f":"SUM(O$4:O368)+(100*SUM(T$4:T368))","v":0},{"$f":"IF(NOT(ISBLANK(B368)),(A368+P368)+(Settings!$B$5/24),\"\")","v":""},0,0,0,null,0,0,0,0,0,0,0,0]
[null,null,null,0,"*EOL*",0,null,0,"","","","","",{"$error":"#VALUE!"},0,"","",":0:0",{"$f":"IF(ISNA(VLOOKUP(R369,R$4:R368,1,FALSE)),FALSE,IF(O369>0,TRUE,FALSE))","v":false},{"$f":"IF(AND(C369<>\"\",$E369<>\"*ON*\",$E369<>\"*OFF*\",ISNA((VLOOKUP(C369&\"@\"&E369,Q$4:Q368,1,FALSE)))),1,0)","v":0},{"$f":"SUM(O$4:O369)+(100*SUM(T$4:T369))","v":0},{"$f":"IF(NOT(ISBLANK(B369)),(A369+P369)+(Settings!$B$5/24),\"\")","v":""},0,0,0,null,0,0,0,0,0,0,0,0]
[null,null,null,0,"*EOL*",0,null,0,"","","","","",{"$error":"#VALUE!"},0,"","",":0:0",{"$f":"IF(ISNA(VLOOKUP(R370,R$4:R369,1,FALSE)),FALSE,IF(O370>0,TRUE,FALSE))","v":false},{"$f":"IF(AND(C370<>\"\",$E370<>\"*ON*\",$E370<>\"*OFF*\",ISNA((VLOOKUP(C370&\"@\"&E370,Q$4:Q369,1,FALSE)))),1,0)","v":0},{"$f":"SUM(O$4:O370)+(100*SUM(T$4:T370))","v":0},{"$f":"IF(NOT(ISBLANK(B370)),(A370+P370)+(Settings!$B$5/24),\"\")","v":""},0,0,0,null,0,0,0,0,0,0,0,0]
[null,null,null,0,"*EOL*",0,null,0,"","","","","",{"$error":"#VALUE!"},0,"","",":0:0",{"$f":"IF(ISNA(VLOOKUP(R371,R$4:R370,1,FALSE)),FALSE,IF(O371>0,TRUE,FALSE))","v":false},{"$f":"IF(AND(C371<>\"\",$E371<>\"*ON*\",$E371<>\"*OFF*\",ISNA((VLOOKUP(C371&\"@\"&E371,Q$4:Q370,1,FALSE)))),1,0)","v":0},{"$f":"SUM(O$4:O371)+(100*SUM(T$4:T371))","v":0},{"$f":"IF(NOT(ISBLANK(B371)),(A371+P371)+(Settings!$B$5/24),\"\")","v":""},0,0,0,null,0,0,0,0,0,0,0,0]
[null,null,null,0,"*EOL*",0,null,0,"","","","","",{"$error":"#VALUE!"},0,"","",":0:0",{"$f":"IF(ISNA(VLOOKUP(R372,R$4:R371,1,FALSE)),FALSE,IF(O372>0,TRUE,FALSE))","v":false},{"$f":"IF(AND(C372<>\"\",$E372<>\"*ON*\",$E372<>\"*OFF*\",ISNA((VLOOKUP(C372&\"@\"&E372,Q$4:Q371,1,FALSE)))),1,0)","v":0},{"$f":"SUM(O$4:O372)+(100*SUM(T$4:T372))","v":0},{"$f":"IF(NOT(ISBLANK(B372)),(A372+P372)+(Settings!$B$5/24),\"\")","v":""},0,0,0,null,0,0,0,0,0,0,0,0]
[null,null,null,0,"*EOL*",0,null,0,"","","","","",{"$error":"#VALUE!"},0,"","",":0:0",{"$f":"IF(ISNA(VLOOKUP(R373,R$4:R372,1,FALSE)),FALSE,IF(O373>0,TRUE,FALSE))","v":false},{"$f":"IF(AND(C373<>\"\",$E373<>\"*ON*\",$E373<>\"*OFF*\",ISNA((VLOOKUP(C373&\"@\"&E373,Q$4:Q372,1,FALSE)))),1,0)","v":0},{"$f":"SUM(O$4:O373)+(100*SUM(T$4:T373))","v":0},{"$f":"IF(NOT(ISBLANK(B373)),(A373+P373)+(Settings!$B$5/24),\"\")","v":""},0,0,0,null,0,0,0,0,0,0,0,0]
[null,null,null,0,"*EOL*",0,null,0,"","","","","",{"$error":"#VALUE!"},0,"","",":0:0",{"$f":"IF(ISNA(VLOOKUP(R374,R$4:R373,1,FALSE)),FALSE,IF(O374>0,TRUE,FALSE))","v":false},{"$f":"IF(AND(C374<>\"\",$E374<>\"*ON*\",$E374<>\"*OFF*\",ISNA((VLOOKUP(C374&\"@\"&E374,Q$4:Q373,1,FALSE)))),1,0)","v":0},{"$f":"SUM(O$4:O374)+(100*SUM(T$4:T374))","v":0},{"$f":"IF(NOT(ISBLANK(B374)),(A374+P374)+(Settings!$B$5/24),\"\")","v":""},0,0,0,null,{"$f":"IF($E374=AA$3,$H374,0)","v":0},0,0,0,0,0,0,0]
[null,null,null,0,"*EOL*",0,null,0,"","","","","",{"$error":"#VALUE!"},0,"","",":0:0",{"$f":"IF(ISNA(VLOOKUP(R375,R$4:R374,1,FALSE)),FALSE,IF(O375>0,TRUE,FALSE))","v":false},{"$f":"IF(AND(C375<>\"\",$E375<>\"*ON*\",$E375<>\"*OFF*\",ISNA((VLOOKUP(C375&\"@\"&E375,Q$4:Q374,1,FALSE)))),1,0)","v":0},{"$f":"SUM(O$4:O375)+(100*SUM(T$4:T375))","v":0},{"$f":"IF(NOT(ISBLANK(B375)),(A375+P375)+(Settings!$B$5/24),\"\")","v":""},0,0,0,null,0,0,0,0,0,0,0,0]
[null,null,null,0,"*EOL*",0,null,0,"","","","","",{"$error":"#VALUE!"},0,"","",":0:0",{"$f":"IF(ISNA(VLOOKUP(R376,R$4:R375,1,FALSE)),FALSE,IF(O376>0,TRUE,FALSE))","v":false},{"$f":"IF(AND(C376<>\"\",$E376<>\"*ON*\",$E376<>\"*OFF*\",ISNA((VLOOKUP(C376&\"@\"&E376,Q$4:Q375,1,FALSE)))),1,0)","v":0},{"$f":"SUM(O$4:O376)+(100*SUM(T$4:T376))","v":0},{"$f":"IF(NOT(ISBLANK(B376)),(A376+P376)+(Settings!$B$5/24),\"\")","v":""},0,0,0,null,0,0,0,0,0,0,0,0]
[null,null,null,0,"*EOL*",0,null,0,"","","","","",{"$error":"#VALUE!"},0,"","",":0:0",{"$f":"IF(ISNA(VLOOKUP(R377,R$4:R376,1,FALSE)),FALSE,IF(O377>0,TRUE,FALSE))","v":false},{"$f":"IF(AND(C377<>\"\",$E377<>\"*ON*\",$E377<>\"*OFF*\",ISNA((VLOOKUP(C377&\"@\"&E377,Q$4:Q376,1,FALSE)))),1,0)","v":0},{"$f":"SUM(O$4:O377)+(100*SUM(T$4:T377))","v":0},{"$f":"IF(NOT(ISBLANK(B377)),(A377+P377)+(Settings!$B$5/24),\"\")","v":""},0,0,0,null,0,0,0,0,0,0,0,0]
[null,null,null,0,"*EOL*",0,null,0,"","","","","",{"$error":"#VALUE!"},0,"","",":0:0",{"$f":"IF(ISNA(VLOOKUP(R378,R$4:R377,1,FALSE)),FALSE,IF(O378>0,TRUE,FALSE))","v":false},{"$f":"IF(AND(C378<>\"\",$E378<>\"*ON*\",$E378<>\"*OFF*\",ISNA((VLOOKUP(C378&\"@\"&E378,Q$4:Q377,1,FALSE)))),1,0)","v":0},{"$f":"SUM(O$4:O378)+(100*SUM(T$4:T378))","v":0},{"$f":"IF(NOT(ISBLANK(B378)),(A378+P378)+(Settings!$B$5/24),\"\")","v":""},0,0,0,null,0,0,0,0,0,0,0,0]
[null,null,null,0,"*EOL*",0,null,0,"","","","","",{"$error":"#VALUE!"},0,"","",":0:0",{"$f":"IF(ISNA(VLOOKUP(R379,R$4:R378,1,FALSE)),FALSE,IF(O379>0,TRUE,FALSE))","v":false},{"$f":"IF(AND(C379<>\"\",$E379<>\"*ON*\",$E379<>\"*OFF*\",ISNA((VLOOKUP(C379&\"@\"&E379,Q$4:Q378,1,FALSE)))),1,0)","v":0},{"$f":"SUM(O$4:O379)+(100*SUM(T$4:T379))","v":0},{"$f":"IF(NOT(ISBLANK(B379)),(A379+P379)+(Settings!$B$5/24),\"\")","v":""},0,0,0,null,0,0,0,0,0,0,0,0]
[null,null,null,0,"*EOL*",0,null,0,"","","","","",{"$error":"#VALUE!"},0,"","",":0:0",{"$f":"IF(ISNA(VLOOKUP(R380,R$4:R379,1,FALSE)),FALSE,IF(O380>0,TRUE,FALSE))","v":false},{"$f":"IF(AND(C380<>\"\",$E380<>\"*ON*\",$E380<>\"*OFF*\",ISNA((VLOOKUP(C380&\"@\"&E380,Q$4:Q379,1,FALSE)))),1,0)","v":0},{"$f":"SUM(O$4:O380)+(100*SUM(T$4:T380))","v":0},{"$f":"IF(NOT(ISBLANK(B380)),(A380+P380)+(Settings!$B$5/24),\"\")","v":""},0,0,0,null,0,0,0,0,0,0,0,0]
[null,null,null,0,"*EOL*",0,null,0,"","","","","",{"$error":"#VALUE!"},0,"","",":0:0",{"$f":"IF(ISNA(VLOOKUP(R381,R$4:R380,1,FALSE)),FALSE,IF(O381>0,TRUE,FALSE))","v":false},{"$f":"IF(AND(C381<>\"\",$E381<>\"*ON*\",$E381<>\"*OFF*\",ISNA((VLOOKUP(C381&\"@\"&E381,Q$4:Q380,1,FALSE)))),1,0)","v":0},{"$f":"SUM(O$4:O381)+(100*SUM(T$4:T381))","v":0},{"$f":"IF(NOT(ISBLANK(B381)),(A381+P381)+(Settings!$B$5/24),\"\")","v":""},0,0,0,null,0,0,0,0,0,0,0,0]
[null,null,null,0,"*EOL*",0,null,0,"","","","","",{"$error":"#VALUE!"},0,"","",":0:0",{"$f":"IF(ISNA(VLOOKUP(R382,R$4:R381,1,FALSE)),FALSE,IF(O382>0,TRUE,FALSE))","v":false},{"$f":"IF(AND(C382<>\"\",$E382<>\"*ON*\",$E382<>\"*OFF*\",ISNA((VLOOKUP(C382&\"@\"&E382,Q$4:Q381,1,FALSE)))),1,0)","v":0},{"$f":"SUM(O$4:O382)+(100*SUM(T$4:T382))","v":0},{"$f":"IF(NOT(ISBLANK(B382)),(A382+P382)+(Settings!$B$5/24),\"\")","v":""},0,0,0,null,0,0,0,0,0,0,0,0]
[null,null,null,0,"*EOL*",0,null,0,"","","","","",{"$error":"#VALUE!"},0,"","",":0:0",{"$f":"IF(ISNA(VLOOKUP(R383,R$4:R382,1,FALSE)),FALSE,IF(O383>0,TRUE,FALSE))","v":false},{"$f":"IF(AND(C383<>\"\",$E383<>\"*ON*\",$E383<>\"*OFF*\",ISNA((VLOOKUP(C383&\"@\"&E383,Q$4:Q382,1,FALSE)))),1,0)","v":0},{"$f":"SUM(O$4:O383)+(100*SUM(T$4:T383))","v":0},{"$f":"IF(NOT(ISBLANK(B383)),(A383+P383)+(Settings!$B$5/24),\"\")","v":""},0,0,0,null,0,0,0,0,0,0,0,0]
[null,null,null,0,"*EOL*",0,null,0,"","","","","",{"$error":"#VALUE!"},0,"","",":0:0",{"$f":"IF(ISNA(VLOOKUP(R384,R$4:R383,1,FALSE)),FALSE,IF(O384>0,TRUE,FALSE))","v":false},{"$f":"IF(AND(C384<>\"\",$E384<>\"*ON*\",$E384<>\"*OFF*\",ISNA((VLOOKUP(C384&\"@\"&E384,Q$4:Q383,1,FALSE)))),1,0)","v":0},{"$f":"SUM(O$4:O384)+(100*SUM(T$4:T384))","v":0},{"$f":"IF(NOT(ISBLANK(B384)),(A384+P384)+(Settings!$B$5/24),\"\")","v":""},0,0,0,null,{"$f":"IF($E384=AA$3,$H384,0)","v":0},0,0,0,0,0,0,0]
[null,null,null,0,"*EOL*",0,null,0,"","","","","",{"$error":"#VALUE!"},0,"","",":0:0",{"$f":"IF(ISNA(VLOOKUP(R385,R$4:R384,1,FALSE)),FALSE,IF(O385>0,TRUE,FALSE))","v":false},{"$f":"IF(AND(C385<>\"\",$E385<>\"*ON*\",$E385<>\"*OFF*\",ISNA((VLOOKUP(C385&\"@\"&E385,Q$4:Q384,1,FALSE)))),1,0)","v":0},{"$f":"SUM(O$4:O385)+(100*SUM(T$4:T385))","v":0},{"$f":"IF(NOT(ISBLANK(B385)),(A385+P385)+(Settings!$B$5/24),\"\")","v":""},0,0,0,null,0,0,0,0,0,0,0,0]
[null,null,null,0,"*EOL*",0,null,0,"","","","","",{"$error":"#VALUE!"},0,"","",":0:0",{"$f":"IF(ISNA(VLOOKUP(R386,R$4:R385,1,FALSE)),FALSE,IF(O386>0,TRUE,FALSE))","v":false},{"$f":"IF(AND(C386<>\"\",$E386<>\"*ON*\",$E386<>\"*OFF*\",ISNA((VLOOKUP(C386&\"@\"&E386,Q$4:Q385,1,FALSE)))),1,0)","v":0},{"$f":"SUM(O$4:O386)+(100*SUM(T$4:T386))","v":0},{"$f":"IF(NOT(ISBLANK(B386)),(A386+P386)+(Settings!$B$5/24),\"\")","v":""},0,0,0,null,0,0,0,0,0,0,0,0]
[null,null,null,0,"*EOL*",0,null,0,"","","","","",{"$error":"#VALUE!"},0,"","",":0:0",{"$f":"IF(ISNA(VLOOKUP(R387,R$4:R386,1,FALSE)),FALSE,IF(O387>0,TRUE,FALSE))","v":false},{"$f":"IF(AND(C387<>\"\",$E387<>\"*ON*\",$E387<>\"*OFF*\",ISNA((VLOOKUP(C387&\"@\"&E387,Q$4:Q386,1,FALSE)))),1,0)","v":0},{"$f":"SUM(O$4:O387)+(100*SUM(T$4:T387))","v":0},{"$f":"IF(NOT(ISBLANK(B387)),(A387+P387)+(Settings!$B$5/24),\"\")","v":""},0,0,0,null,0,0,0,0,0,0,0,0]
[null,null,null,0,"*EOL*",0,null,0,"",{"$f":"MH2Lat(F388)","v":""},{"$f":"MH2Lon(F388)","v":""},{"$f":"MH2Lat(D388)","v":""},{"$f":"MH2Lon(D388)","v":""},{"$f":"Distance(J388,K388,L388,M388)","v":{"$error":"#VALUE!"}},0,{"$f":"IF(ISBLANK(B388),\"\",IF(LEN(B388)=1,TIMEVALUE(\"00:0\"&B388),IF(LEN(B388)=2,TIMEVALUE(\"00:\"&B388),IF(LEN(B388)=3,TIMEVALUE(\"0\"&LEFT(B388,1)&\":\"&RIGHT(B388,2)),TIMEVALUE(LEFT(B388,2)&\":\"&RIGHT(B388,2))))))","v":""},"",":0:0",{"$f":"IF(ISNA(VLOOKUP(R388,R$4:R387,1,FALSE)),FALSE,IF(O388>0,TRUE,FALSE))","v":false},{"$f":"IF(AND(C388<>\"\",$E388<>\"*ON*\",$E388<>\"*OFF*\",ISNA((VLOOKUP(C388&\"@\"&E388,Q$4:Q387,1,FALSE)))),1,0)","v":0},{"$f":"SUM(O$4:O388)+(100*SUM(T$4:T388))","v":0},{"$f":"IF(NOT(ISBLANK(B388)),(A388+P388)+(Settings!$B$5/24),\"\")","v":""},{"$f":"IF(E388=\"*ON*\",1,0)","v":0},{"$f":"IF(E388=\"*OFF*\",1,0)","v":0},0,null,0,0,0,0,0,0,0,0]
[null,null,null,0,"*EOL*",0,null,0,"","","","","",{"$error":"#VALUE!"},{"$f":"IF(NOT(ISERR(N389)),ROUND(N389,0),0)","v":0},"",{"$f":"IF(AND(NOT(ISBLANK(C389)),NOT(ISBLANK(E389))),C389&\"@\"&E389,\"\")","v":""},{"$f":"Q389&\":\"&F389&\":\"&D389","v":":0:0"},{"$f":"IF(ISNA(VLOOKUP(R389,R$4:R388,1,FALSE)),FALSE,IF(O389>0,TRUE,FALSE))","v":false},{"$f":"IF(AND(C389<>\"\",$E389<>\"*ON*\",$E389<>\"*OFF*\",ISNA((VLOOKUP(C389&\"@\"&E389,Q$4:Q388,1,FALSE)))),1,0)","v":0},{"$f":"SUM(O$4:O389)+(100*SUM(T$4:T389))","v":0},{"$f":"IF(NOT(ISBLANK(B389)),(A389+P389)+(Settings!$B$5/24),\"\")","v":""},0,0,0,null,0,0,0,0,0,0,0,0]
[null,null,null,0,"*EOL*",0,null,{"$f":"IF(OR($S390,ISERR($N390),ISBLANK($B390),ISBLANK($C390)),0,MAX(O390,1))","v":0},{"$f":"IF(OR(ISBLANK($B390),ISBLANK($C390),ISBLANK($D390),ISBLANK($F390),NOT($S390)),\"\",\"Dupe!\")","v":""},"","","","",{"$error":"#VALUE!"},0,"","",":0:0",{"$f":"IF(ISNA(VLOOKUP(R390,R$4:R389,1,FALSE)),FALSE,IF(O390>0,TRUE,FALSE))","v":false},{"$f":"IF(AND(C390<>\"\",$E390<>\"*ON*\",$E390<>\"*OFF*\",ISNA((VLOOKUP(C390&\"@\"&E390,Q$4:Q389,1,FALSE)))),1,0)","v":0},{"$f":"SUM(O$4:O390)+(100*SUM(T$4:T390))","v":0},{"$f":"IF(NOT(ISBLANK(B390)),(A390+P390)+(Settings!$B$5/24),\"\")","v":""},0,0,0,null,0,0,0,0,0,0,0,0]
[null,null,null,{"$f":"D390","v":0},{"$f":"E390","v":"*EOL*"},{"$f":"F390","v":0},null,0,"","","","","",{"$error":"#VALUE!"},0,"","",":0:0",{"$f":"IF(ISNA(VLOOKUP(R391,R$4:R390,1,FALSE)),FALSE,IF(O391>0,TRUE,FALSE))","v":false},{"$f":"IF(AND(C391<>\"\",$E391<>\"*ON*\",$E391<>\"*OFF*\",ISNA((VLOOKUP(C391&\"@\"&E391,Q$4:Q390,1,FALSE)))),1,0)","v":0},{"$f":"SUM(O$4:O391)+(100*SUM(T$4:T391))","v":0},{"$f":"IF(NOT(ISBLANK(B391)),(A391+P391)+(Settings!$B$5/24),\"\")","v":""},0,0,0,null,0,0,0,0,0,0,0,0]
[null,null,null,0,"*EOL*",0,null,0,"","","","","",{"$error":"#VALUE!"},0,"","",":0:0",{"$f":"IF(ISNA(VLOOKUP(R392,R$4:R391,1,FALSE)),FALSE,IF(O392>0,TRUE,FALSE))","v":false},{"$f":"IF(AND(C392<>\"\",$E392<>\"*ON*\",$E392<>\"*OFF*\",ISNA((VLOOKUP(C392&\"@\"&E392,Q$4:Q391,1,FALSE)))),1,0)","v":0},{"$f":"SUM(O$4:O392)+(100*SUM(T$4:T392))","v":0},{"$f":"IF(NOT(ISBLANK(B392)),(A392+P392)+(Settings!$B$5/24),\"\")","v":""},0,0,0,null,0,0,0,0,0,0,0,0]
[null,null,null,0,"*EOL*",0,null,0,"","","","","",{"$error":"#VALUE!"},0,"","",":0:0",{"$f":"IF(ISNA(VLOOKUP(R393,R$4:R392,1,FALSE)),FALSE,IF(O393>0,TRUE,FALSE))","v":false},{"$f":"IF(AND(C393<>\"\",$E393<>\"*ON*\",$E393<>\"*OFF*\",ISNA((VLOOKUP(C393&\"@\"&E393,Q$4:Q392,1,FALSE)))),1,0)","v":0},{"$f":"SUM(O$4:O393)+(100*SUM(T$4:T393))","v":0},{"$f":"IF(NOT(ISBLANK(B393)),(A393+P393)+(Settings!$B$5/24),\"\")","v":""},0,0,0,null,0,0,0,0,0,0,0,0]
[null,null,null,0,"*EOL*",0,null,0,"","","","","",{"$error":"#VALUE!"},0,"","",":0:0",{"$f":"IF(ISNA(VLOOKUP(R394,R$4:R393,1,FALSE)),FALSE,IF(O394>0,TRUE,FALSE))","v":false},{"$f":"IF(AND(C394<>\"\",$E394<>\"*ON*\",$E394<>\"*OFF*\",ISNA((VLOOKUP(C394&\"@\"&E394,Q$4:Q393,1,FALSE)))),1,0)","v":0},{"$f":"SUM(O$4:O394)+(100*SUM(T$4:T394))","v":0},{"$f":"IF(NOT(ISBLANK(B394)),(A394+P394)+(Settings!$B$5/24),\"\")","v":""},0,0,0,null,{"$f":"IF($E394=AA$3,$H394,0)","v":0},0,0,0,0,0,0,0]
[null,null,null,0,"*EOL*",0,null,0,"","","","","",{"$error":"#VALUE!"},0,"","",":0:0",{"$f":"IF(ISNA(VLOOKUP(R395,R$4:R394,1,FALSE)),FALSE,IF(O395>0,TRUE,FALSE))","v":false},{"$f":"IF(AND(C395<>\"\",$E395<>\"*ON*\",$E395<>\"*OFF*\",ISNA((VLOOKUP(C395&\"@\"&E395,Q$4:Q394,1,FALSE)))),1,0)","v":0},{"$f":"SUM(O$4:O395)+(100*SUM(T$4:T395))","v":0},{"$f":"IF(NOT(ISBLANK(B395)),(A395+P395)+(Settings!$B$5/24),\"\")","v":""},0,0,0,null,0,0,0,0,0,0,0,0]
[null,null,null,0,"*EOL*",0,null,0,"","","","","",{"$error":"#VALUE!"},0,"","",":0:0",{"$f":"IF(ISNA(VLOOKUP(R396,R$4:R395,1,FALSE)),FALSE,IF(O396>0,TRUE,FALSE))","v":false},{"$f":"IF(AND(C396<>\"\",$E396<>\"*ON*\",$E396<>\"*OFF*\",ISNA((VLOOKUP(C396&\"@\"&E396,Q$4:Q395,1,FALSE)))),1,0)","v":0},{"$f":"SUM(O$4:O396)+(100*SUM(T$4:T396))","v":0},{"$f":"IF(NOT(ISBLANK(B396)),(A396+P396)+(Settings!$B$5/24),\"\")","v":""},0,0,0,null,0,0,0,0,0,0,0,0]
[null,null,null,0,"*EOL*",0,null,0,"","","","","",{"$error":"#VALUE!"},0,"","",":0:0",{"$f":"IF(ISNA(VLOOKUP(R397,R$4:R396,1,FALSE)),FALSE,IF(O397>0,TRUE,FALSE))","v":false},{"$f":"IF(AND(C397<>\"\",$E397<>\"*ON*\",$E397<>\"*OFF*\",ISNA((VLOOKUP(C397&\"@\"&E397,Q$4:Q396,1,FALSE)))),1,0)","v":0},{"$f":"SUM(O$4:O397)+(100*SUM(T$4:T397))","v":0},{"$f":"IF(NOT(ISBLANK(B397)),(A397+P397)+(Settings!$B$5/24),\"\")","v":""},0,0,0,null,0,0,0,0,0,0,0,0]
[null,null,null,0,"*EOL*",0,null,0,"","","","","",{"$error":"#VALUE!"},0,"","",":0:0",{"$f":"IF(ISNA(VLOOKUP(R398,R$4:R397,1,FALSE)),FALSE,IF(O398>0,TRUE,FALSE))","v":false},{"$f":"IF(AND(C398<>\"\",$E398<>\"*ON*\",$E398<>\"*OFF*\",ISNA((VLOOKUP(C398&\"@\"&E398,Q$4:Q397,1,FALSE)))),1,0)","v":0},{"$f":"SUM(O$4:O398)+(100*SUM(T$4:T398))","v":0},{"$f":"IF(NOT(ISBLANK(B398)),(A398+P398)+(Settings!$B$5/24),\"\")","v":""},0,0,0,null,0,0,0,0,0,0,0,0]
[null,null,null,0,"*EOL*",0,null,0,"","","","","",{"$error":"#VALUE!"},0,"","",":0:0",{"$f":"IF(ISNA(VLOOKUP(R399,R$4:R398,1,FALSE)),FALSE,IF(O399>0,TRUE,FALSE))","v":false},{"$f":"IF(AND(C399<>\"\",$E399<>\"*ON*\",$E399<>\"*OFF*\",ISNA((VLOOKUP(C399&\"@\"&E399,Q$4:Q398,1,FALSE)))),1,0)","v":0},{"$f":"SUM(O$4:O399)+(100*SUM(T$4:T399))","v":0},{"$f":"IF(NOT(ISBLANK(B399)),(A399+P399)+(Settings!$B$5/24),\"\")","v":""},0,0,{"$f":"IF($E399=\"*EOL*\",0,IF(X398,0,V399-V398)*24)","v":0},null,0,0,0,0,0,0,0,0]
[null,null,null,0,"*EOL*",0,null,0,"","","","","",{"$error":"#VALUE!"},0,"","",":0:0",{"$f":"IF(ISNA(VLOOKUP(R400,R$4:R399,1,FALSE)),FALSE,IF(O400>0,TRUE,FALSE))","v":false},{"$f":"IF(AND(C400<>\"\",$E400<>\"*ON*\",$E400<>\"*OFF*\",ISNA((VLOOKUP(C400&\"@\"&E400,Q$4:Q399,1,FALSE)))),1,0)","v":0},{"$f":"SUM(O$4:O400)+(100*SUM(T$4:T400))","v":0},{"$f":"IF(NOT(ISBLANK(B400)),(A400+P400)+(Settings!$B$5/24),\"\")","v":""},0,0,0,null,0,0,0,0,0,0,0,0]
[null,null,null,0,"*EOL*",0,null,0,"","","","","",{"$error":"#VALUE!"},0,"","",":0:0",{"$f":"IF(ISNA(VLOOKUP(R401,R$4:R400,1,FALSE)),FALSE,IF(O401>0,TRUE,FALSE))","v":false},{"$f":"IF(AND(C401<>\"\",$E401<>\"*ON*\",$E401<>\"*OFF*\",ISNA((VLOOKUP(C401&\"@\"&E401,Q$4:Q400,1,FALSE)))),1,0)","v":0},{"$f":"SUM(O$4:O401)+(100*SUM(T$4:T401))","v":0},{"$f":"IF(NOT(ISBLANK(B401)),(A401+P401)+(Settings!$B$5/24),\"\")","v":""},0,0,0,null,0,0,0,0,0,0,0,0]
[null,null,null,0,"*EOL*",0,null,0,"","","","","",{"$error":"#VALUE!"},0,"","",":0:0",{"$f":"IF(ISNA(VLOOKUP(R402,R$4:R401,1,FALSE)),FALSE,IF(O402>0,TRUE,FALSE))","v":false},{"$f":"IF(AND(C402<>\"\",$E402<>\"*ON*\",$E402<>\"*OFF*\",ISNA((VLOOKUP(C402&\"@\"&E402,Q$4:Q401,1,FALSE)))),1,0)","v":0},{"$f":"SUM(O$4:O402)+(100*SUM(T$4:T402))","v":0},{"$f":"IF(NOT(ISBLANK(B402)),(A402+P402)+(Settings!$B$5/24),\"\")","v":""},0,0,0,null,0,0,0,0,0,0,0,0]
[null,null,null,0,"*EOL*",0,null,0,"","","","","",{"$error":"#VALUE!"},0,"","",":0:0",{"$f":"IF(ISNA(VLOOKUP(R403,R$4:R402,1,FALSE)),FALSE,IF(O403>0,TRUE,FALSE))","v":false},{"$f":"IF(AND(C403<>\"\",$E403<>\"*ON*\",$E403<>\"*OFF*\",ISNA((VLOOKUP(C403&\"@\"&E403,Q$4:Q402,1,FALSE)))),1,0)","v":0},{"$f":"SUM(O$4:O403)+(100*SUM(T$4:T403))","v":0},{"$f":"IF(NOT(ISBLANK(B403)),(A403+P403)+(Settings!$B$5/24),\"\")","v":""},0,0,0,null,0,0,0,0,0,0,0,0]
[null,null,null,0,"*EOL*",0,null,0,"","","","","",{"$error":"#VALUE!"},0,"","",":0:0",{"$f":"IF(ISNA(VLOOKUP(R404,R$4:R403,1,FALSE)),FALSE,IF(O404>0,TRUE,FALSE))","v":false},{"$f":"IF(AND(C404<>\"\",$E404<>\"*ON*\",$E404<>\"*OFF*\",ISNA((VLOOKUP(C404&\"@\"&E404,Q$4:Q403,1,FALSE)))),1,0)","v":0},{"$f":"SUM(O$4:O404)+(100*SUM(T$4:T404))","v":0},{"$f":"IF(NOT(ISBLANK(B404)),(A404+P404)+(Settings!$B$5/24),\"\")","v":""},0,0,0,null,{"$f":"IF($E404=AA$3,$H404,0)","v":0},0,0,0,0,0,0,0]
[null,null,null,0,"*EOL*",0,null,0,"","","","","",{"$error":"#VALUE!"},0,"","",":0:0",{"$f":"IF(ISNA(VLOOKUP(R405,R$4:R404,1,FALSE)),FALSE,IF(O405>0,TRUE,FALSE))","v":false},{"$f":"IF(AND(C405<>\"\",$E405<>\"*ON*\",$E405<>\"*OFF*\",ISNA((VLOOKUP(C405&\"@\"&E405,Q$4:Q404,1,FALSE)))),1,0)","v":0},{"$f":"SUM(O$4:O405)+(100*SUM(T$4:T405))","v":0},{"$f":"IF(NOT(ISBLANK(B405)),(A405+P405)+(Settings!$B$5/24),\"\")","v":""},0,0,0,null,0,0,0,0,0,0,0,0]
[null,null,null,0,"*EOL*",0,null,0,"","","","","",{"$error":"#VALUE!"},0,"","",":0:0",{"$f":"IF(ISNA(VLOOKUP(R406,R$4:R405,1,FALSE)),FALSE,IF(O406>0,TRUE,FALSE))","v":false},{"$f":"IF(AND(C406<>\"\",$E406<>\"*ON*\",$E406<>\"*OFF*\",ISNA((VLOOKUP(C406&\"@\"&E406,Q$4:Q405,1,FALSE)))),1,0)","v":0},{"$f":"SUM(O$4:O406)+(100*SUM(T$4:T406))","v":0},{"$f":"IF(NOT(ISBLANK(B406)),(A406+P406)+(Settings!$B$5/24),\"\")","v":""},0,0,0,null,0,0,0,0,0,0,0,0]
[null,null,null,0,"*EOL*",0,null,0,"","","","","",{"$error":"#VALUE!"},0,"","",":0:0",{"$f":"IF(ISNA(VLOOKUP(R407,R$4:R406,1,FALSE)),FALSE,IF(O407>0,TRUE,FALSE))","v":false},{"$f":"IF(AND(C407<>\"\",$E407<>\"*ON*\",$E407<>\"*OFF*\",ISNA((VLOOKUP(C407&\"@\"&E407,Q$4:Q406,1,FALSE)))),1,0)","v":0},{"$f":"SUM(O$4:O407)+(100*SUM(T$4:T407))","v":0},{"$f":"IF(NOT(ISBLANK(B407)),(A407+P407)+(Settings!$B$5/24),\"\")","v":""},0,0,0,null,0,0,0,0,0,0,0,0]
[null,null,null,0,"*EOL*",0,null,0,"","","","","",{"$error":"#VALUE!"},0,"","",":0:0",{"$f":"IF(ISNA(VLOOKUP(R408,R$4:R407,1,FALSE)),FALSE,IF(O408>0,TRUE,FALSE))","v":false},{"$f":"IF(AND(C408<>\"\",$E408<>\"*ON*\",$E408<>\"*OFF*\",ISNA((VLOOKUP(C408&\"@\"&E408,Q$4:Q407,1,FALSE)))),1,0)","v":0},{"$f":"SUM(O$4:O408)+(100*SUM(T$4:T408))","v":0},{"$f":"IF(NOT(ISBLANK(B408)),(A408+P408)+(Settings!$B$5/24),\"\")","v":""},0,0,0,null,0,0,0,0,0,0,0,0]
[null,null,null,0,"*EOL*",0,null,0,"","","","","",{"$error":"#VALUE!"},0,"","",":0:0",{"$f":"IF(ISNA(VLOOKUP(R409,R$4:R408,1,FALSE)),FALSE,IF(O409>0,TRUE,FALSE))","v":false},{"$f":"IF(AND(C409<>\"\",$E409<>\"*ON*\",$E409<>\"*OFF*\",ISNA((VLOOKUP(C409&\"@\"&E409,Q$4:Q408,1,FALSE)))),1,0)","v":0},{"$f":"SUM(O$4:O409)+(100*SUM(T$4:T409))","v":0},{"$f":"IF(NOT(ISBLANK(B409)),(A409+P409)+(Settings!$B$5/24),\"\")","v":""},0,0,0,null,0,0,0,0,0,0,0,0]
[null,null,null,0,"*EOL*",0,null,0,"","","","","",{"$error":"#VALUE!"},0,"","",":0:0",{"$f":"IF(ISNA(VLOOKUP(R410,R$4:R409,1,FALSE)),FALSE,IF(O410>0,TRUE,FALSE))","v":false},{"$f":"IF(AND(C410<>\"\",$E410<>\"*ON*\",$E410<>\"*OFF*\",ISNA((VLOOKUP(C410&\"@\"&E410,Q$4:Q409,1,FALSE)))),1,0)","v":0},{"$f":"SUM(O$4:O410)+(100*SUM(T$4:T410))","v":0},{"$f":"IF(NOT(ISBLANK(B410)),(A410+P410)+(Settings!$B$5/24),\"\")","v":""},0,0,0,null,0,0,0,0,0,0,0,0]
[null,null,null,0,"*EOL*",0,null,0,"","","","","",{"$error":"#VALUE!"},0,"","",":0:0",{"$f":"IF(ISNA(VLOOKUP(R411,R$4:R410,1,FALSE)),FALSE,IF(O411>0,TRUE,FALSE))","v":false},{"$f":"IF(AND(C411<>\"\",$E411<>\"*ON*\",$E411<>\"*OFF*\",ISNA((VLOOKUP(C411&\"@\"&E411,Q$4:Q410,1,FALSE)))),1,0)","v":0},{"$f":"SUM(O$4:O411)+(100*SUM(T$4:T411))","v":0},{"$f":"IF(NOT(ISBLANK(B411)),(A411+P411)+(Settings!$B$5/24),\"\")","v":""},0,0,0,null,0,0,0,0,0,0,0,0]
[null,null,null,0,"*EOL*",0,null,0,"","","","","",{"$error":"#VALUE!"},0,"","",":0:0",{"$f":"IF(ISNA(VLOOKUP(R412,R$4:R411,1,FALSE)),FALSE,IF(O412>0,TRUE,FALSE))","v":false},{"$f":"IF(AND(C412<>\"\",$E412<>\"*ON*\",$E412<>\"*OFF*\",ISNA((VLOOKUP(C412&\"@\"&E412,Q$4:Q411,1,FALSE)))),1,0)","v":0},{"$f":"SUM(O$4:O412)+(100*SUM(T$4:T412))","v":0},{"$f":"IF(NOT(ISBLANK(B412)),(A412+P412)+(Settings!$B$5/24),\"\")","v":""},0,0,0,null,0,0,0,0,0,0,0,0]
[null,null,null,0,"*EOL*",0,null,0,"","","","","",{"$error":"#VALUE!"},0,"","",":0:0",{"$f":"IF(ISNA(VLOOKUP(R413,R$4:R412,1,FALSE)),FALSE,IF(O413>0,TRUE,FALSE))","v":false},{"$f":"IF(AND(C413<>\"\",$E413<>\"*ON*\",$E413<>\"*OFF*\",ISNA((VLOOKUP(C413&\"@\"&E413,Q$4:Q412,1,FALSE)))),1,0)","v":0},{"$f":"SUM(O$4:O413)+(100*SUM(T$4:T413))","v":0},{"$f":"IF(NOT(ISBLANK(B413)),(A413+P413)+(Settings!$B$5/24),\"\")","v":""},0,0,0,null,0,0,0,0,0,0,0,0]
[null,null,null,0,"*EOL*",0,null,0,"","","","","",{"$error":"#VALUE!"},0,"","",":0:0",{"$f":"IF(ISNA(VLOOKUP(R414,R$4:R413,1,FALSE)),FALSE,IF(O414>0,TRUE,FALSE))","v":false},{"$f":"IF(AND(C414<>\"\",$E414<>\"*ON*\",$E414<>\"*OFF*\",ISNA((VLOOKUP(C414&\"@\"&E414,Q$4:Q413,1,FALSE)))),1,0)","v":0},{"$f":"SUM(O$4:O414)+(100*SUM(T$4:T414))","v":0},{"$f":"IF(NOT(ISBLANK(B414)),(A414+P414)+(Settings!$B$5/24),\"\")","v":""},0,0,0,null,{"$f":"IF($E414=AA$3,$H414,0)","v":0},0,0,0,0,0,0,0]
[null,null,null,0,"*EOL*",0,null,0,"","","","","",{"$error":"#VALUE!"},0,"","",":0:0",{"$f":"IF(ISNA(VLOOKUP(R415,R$4:R414,1,FALSE)),FALSE,IF(O415>0,TRUE,FALSE))","v":false},{"$f":"IF(AND(C415<>\"\",$E415<>\"*ON*\",$E415<>\"*OFF*\",ISNA((VLOOKUP(C415&\"@\"&E415,Q$4:Q414,1,FALSE)))),1,0)","v":0},{"$f":"SUM(O$4:O415)+(100*SUM(T$4:T415))","v":0},{"$f":"IF(NOT(ISBLANK(B415)),(A415+P415)+(Settings!$B$5/24),\"\")","v":""},0,0,0,null,0,0,0,0,0,0,0,0]
[null,null,null,0,"*EOL*",0,null,0,"","","","","",{"$error":"#VALUE!"},0,"","",":0:0",{"$f":"IF(ISNA(VLOOKUP(R416,R$4:R415,1,FALSE)),FALSE,IF(O416>0,TRUE,FALSE))","v":false},{"$f":"IF(AND(C416<>\"\",$E416<>\"*ON*\",$E416<>\"*OFF*\",ISNA((VLOOKUP(C416&\"@\"&E416,Q$4:Q415,1,FALSE)))),1,0)","v":0},{"$f":"SUM(O$4:O416)+(100*SUM(T$4:T416))","v":0},{"$f":"IF(NOT(ISBLANK(B416)),(A416+P416)+(Settings!$B$5/24),\"\")","v":""},0,0,0,null,0,0,0,0,0,0,0,0]
[null,null,null,0,"*EOL*",0,null,0,"","","","","",{"$error":"#VALUE!"},0,"","",":0:0",{"$f":"IF(ISNA(VLOOKUP(R417,R$4:R416,1,FALSE)),FALSE,IF(O417>0,TRUE,FALSE))","v":false},{"$f":"IF(AND(C417<>\"\",$E417<>\"*ON*\",$E417<>\"*OFF*\",ISNA((VLOOKUP(C417&\"@\"&E417,Q$4:Q416,1,FALSE)))),1,0)","v":0},{"$f":"SUM(O$4:O417)+(100*SUM(T$4:T417))","v":0},{"$f":"IF(NOT(ISBLANK(B417)),(A417+P417)+(Settings!$B$5/24),\"\")","v":""},0,0,0,null,0,0,0,0,0,0,0,0]
[null,null,null,0,"*EOL*",0,null,0,"","","","","",{"$error":"#VALUE!"},0,"","",":0:0",{"$f":"IF(ISNA(VLOOKUP(R418,R$4:R417,1,FALSE)),FALSE,IF(O418>0,TRUE,FALSE))","v":false},{"$f":"IF(AND(C418<>\"\",$E418<>\"*ON*\",$E418<>\"*OFF*\",ISNA((VLOOKUP(C418&\"@\"&E418,Q$4:Q417,1,FALSE)))),1,0)","v":0},{"$f":"SUM(O$4:O418)+(100*SUM(T$4:T418))","v":0},{"$f":"IF(NOT(ISBLANK(B418)),(A418+P418)+(Settings!$B$5/24),\"\")","v":""},0,0,0,null,0,0,0,0,0,0,0,0]
[null,null,null,0,"*EOL*",0,null,0,"","","","","",{"$error":"#VALUE!"},0,"","",":0:0",{"$f":"IF(ISNA(VLOOKUP(R419,R$4:R418,1,FALSE)),FALSE,IF(O419>0,TRUE,FALSE))","v":false},{"$f":"IF(AND(C419<>\"\",$E419<>\"*ON*\",$E419<>\"*OFF*\",ISNA((VLOOKUP(C419&\"@\"&E419,Q$4:Q418,1,FALSE)))),1,0)","v":0},{"$f":"SUM(O$4:O419)+(100*SUM(T$4:T419))","v":0},{"$f":"IF(NOT(ISBLANK(B419)),(A419+P419)+(Settings!$B$5/24),\"\")","v":""},0,0,0,null,0,0,0,0,0,0,0,0]
[null,null,null,0,"*EOL*",0,null,0,"","","","","",{"$error":"#VALUE!"},0,"","",":0:0",{"$f":"IF(ISNA(VLOOKUP(R420,R$4:R419,1,FALSE)),FALSE,IF(O420>0,TRUE,FALSE))","v":false},{"$f":"IF(AND(C420<>\"\",$E420<>\"*ON*\",$E420<>\"*OFF*\",ISNA((VLOOKUP(C420&\"@\"&E420,Q$4:Q419,1,FALSE)))),1,0)","v":0},{"$f":"SUM(O$4:O420)+(100*SUM(T$4:T420))","v":0},{"$f":"IF(NOT(ISBLANK(B420)),(A420+P420)+(Settings!$B$5/24),\"\")","v":""},0,0,0,null,0,0,0,0,0,0,0,0]
[null,null,null,0,"*EOL*",0,null,0,"","","","","",{"$error":"#VALUE!"},0,"","",":0:0",{"$f":"IF(ISNA(VLOOKUP(R421,R$4:R420,1,FALSE)),FALSE,IF(O421>0,TRUE,FALSE))","v":false},{"$f":"IF(AND(C421<>\"\",$E421<>\"*ON*\",$E421<>\"*OFF*\",ISNA((VLOOKUP(C421&\"@\"&E421,Q$4:Q420,1,FALSE)))),1,0)","v":0},{"$f":"SUM(O$4:O421)+(100*SUM(T$4:T421))","v":0},{"$f":"IF(NOT(ISBLANK(B421)),(A421+P421)+(Settings!$B$5/24),\"\")","v":""},0,0,0,null,0,0,0,0,0,0,0,0]
[null,null,null,0,"*EOL*",0,null,0,"","","","","",{"$error":"#VALUE!"},0,"","",":0:0",{"$f":"IF(ISNA(VLOOKUP(R422,R$4:R421,1,FALSE)),FALSE,IF(O422>0,TRUE,FALSE))","v":false},{"$f":"IF(AND(C422<>\"\",$E422<>\"*ON*\",$E422<>\"*OFF*\",ISNA((VLOOKUP(C422&\"@\"&E422,Q$4:Q421,1,FALSE)))),1,0)","v":0},{"$f":"SUM(O$4:O422)+(100*SUM(T$4:T422))","v":0},{"$f":"IF(NOT(ISBLANK(B422)),(A422+P422)+(Settings!$B$5/24),\"\")","v":""},0,0,0,null,0,0,0,0,0,0,0,0]
[null,null,null,0,"*EOL*",0,null,0,"","","","","",{"$error":"#VALUE!"},0,"","",":0:0",{"$f":"IF(ISNA(VLOOKUP(R423,R$4:R422,1,FALSE)),FALSE,IF(O423>0,TRUE,FALSE))","v":false},{"$f":"IF(AND(C423<>\"\",$E423<>\"*ON*\",$E423<>\"*OFF*\",ISNA((VLOOKUP(C423&\"@\"&E423,Q$4:Q422,1,FALSE)))),1,0)","v":0},{"$f":"SUM(O$4:O423)+(100*SUM(T$4:T423))","v":0},{"$f":"IF(NOT(ISBLANK(B423)),(A423+P423)+(Settings!$B$5/24),\"\")","v":""},0,0,0,null,0,0,0,0,0,0,0,0]
[null,null,null,0,"*EOL*",0,null,0,"","","","","",{"$error":"#VALUE!"},0,"","",":0:0",{"$f":"IF(ISNA(VLOOKUP(R424,R$4:R423,1,FALSE)),FALSE,IF(O424>0,TRUE,FALSE))","v":false},{"$f":"IF(AND(C424<>\"\",$E424<>\"*ON*\",$E424<>\"*OFF*\",ISNA((VLOOKUP(C424&\"@\"&E424,Q$4:Q423,1,FALSE)))),1,0)","v":0},{"$f":"SUM(O$4:O424)+(100*SUM(T$4:T424))","v":0},{"$f":"IF(NOT(ISBLANK(B424)),(A424+P424)+(Settings!$B$5/24),\"\")","v":""},0,0,0,null,{"$f":"IF($E424=AA$3,$H424,0)","v":0},0,0,0,0,0,0,0]
[null,null,null,0,"*EOL*",0,null,0,"","","","","",{"$error":"#VALUE!"},0,"","",":0:0",{"$f":"IF(ISNA(VLOOKUP(R425,R$4:R424,1,FALSE)),FALSE,IF(O425>0,TRUE,FALSE))","v":false},{"$f":"IF(AND(C425<>\"\",$E425<>\"*ON*\",$E425<>\"*OFF*\",ISNA((VLOOKUP(C425&\"@\"&E425,Q$4:Q424,1,FALSE)))),1,0)","v":0},{"$f":"SUM(O$4:O425)+(100*SUM(T$4:T425))","v":0},{"$f":"IF(NOT(ISBLANK(B425)),(A425+P425)+(Settings!$B$5/24),\"\")","v":""},0,0,0,null,0,0,0,0,0,0,0,0]
[null,null,null,0,"*EOL*",0,null,0,"","","","","",{"$error":"#VALUE!"},0,"","",":0:0",{"$f":"IF(ISNA(VLOOKUP(R426,R$4:R425,1,FALSE)),FALSE,IF(O426>0,TRUE,FALSE))","v":false},{"$f":"IF(AND(C426<>\"\",$E426<>\"*ON*\",$E426<>\"*OFF*\",ISNA((VLOOKUP(C426&\"@\"&E426,Q$4:Q425,1,FALSE)))),1,0)","v":0},{"$f":"SUM(O$4:O426)+(100*SUM(T$4:T426))","v":0},{"$f":"IF(NOT(ISBLANK(B426)),(A426+P426)+(Settings!$B$5/24),\"\")","v":""},0,0,0,null,0,0,0,0,0,0,0,0]
[null,null,null,0,"*EOL*",0,null,0,"","","","","",{"$error":"#VALUE!"},0,"","",":0:0",{"$f":"IF(ISNA(VLOOKUP(R427,R$4:R426,1,FALSE)),FALSE,IF(O427>0,TRUE,FALSE))","v":false},{"$f":"IF(AND(C427<>\"\",$E427<>\"*ON*\",$E427<>\"*OFF*\",ISNA((VLOOKUP(C427&\"@\"&E427,Q$4:Q426,1,FALSE)))),1,0)","v":0},{"$f":"SUM(O$4:O427)+(100*SUM(T$4:T427))","v":0},{"$f":"IF(NOT(ISBLANK(B427)),(A427+P427)+(Settings!$B$5/24),\"\")","v":""},0,0,0,null,0,0,0,0,0,0,0,0]
[null,null,null,0,"*EOL*",0,null,0,"","","","","",{"$error":"#VALUE!"},0,"","",":0:0",{"$f":"IF(ISNA(VLOOKUP(R428,R$4:R427,1,FALSE)),FALSE,IF(O428>0,TRUE,FALSE))","v":false},{"$f":"IF(AND(C428<>\"\",$E428<>\"*ON*\",$E428<>\"*OFF*\",ISNA((VLOOKUP(C428&\"@\"&E428,Q$4:Q427,1,FALSE)))),1,0)","v":0},{"$f":"SUM(O$4:O428)+(100*SUM(T$4:T428))","v":0},{"$f":"IF(NOT(ISBLANK(B428)),(A428+P428)+(Settings!$B$5/24),\"\")","v":""},0,0,0,null,0,0,0,0,0,0,0,0]
[null,null,null,0,"*EOL*",0,null,0,"","","","","",{"$error":"#VALUE!"},0,"","",":0:0",{"$f":"IF(ISNA(VLOOKUP(R429,R$4:R428,1,FALSE)),FALSE,IF(O429>0,TRUE,FALSE))","v":false},{"$f":"IF(AND(C429<>\"\",$E429<>\"*ON*\",$E429<>\"*OFF*\",ISNA((VLOOKUP(C429&\"@\"&E429,Q$4:Q428,1,FALSE)))),1,0)","v":0},{"$f":"SUM(O$4:O429)+(100*SUM(T$4:T429))","v":0},{"$f":"IF(NOT(ISBLANK(B429)),(A429+P429)+(Settings!$B$5/24),\"\")","v":""},0,0,0,null,0,0,0,0,0,0,0,0]
[null,null,null,0,"*EOL*",0,null,0,"","","","","",{"$error":"#VALUE!"},0,"","",":0:0",{"$f":"IF(ISNA(VLOOKUP(R430,R$4:R429,1,FALSE)),FALSE,IF(O430>0,TRUE,FALSE))","v":false},{"$f":"IF(AND(C430<>\"\",$E430<>\"*ON*\",$E430<>\"*OFF*\",ISNA((VLOOKUP(C430&\"@\"&E430,Q$4:Q429,1,FALSE)))),1,0)","v":0},{"$f":"SUM(O$4:O430)+(100*SUM(T$4:T430))","v":0},{"$f":"IF(NOT(ISBLANK(B430)),(A430+P430)+(Settings!$B$5/24),\"\")","v":""},0,0,0,null,0,0,0,0,0,0,0,0]
[null,null,null,0,"*EOL*",0,null,0,"","","","","",{"$error":"#VALUE!"},0,"","",":0:0",{"$f":"IF(ISNA(VLOOKUP(R431,R$4:R430,1,FALSE)),FALSE,IF(O431>0,TRUE,FALSE))","v":false},{"$f":"IF(AND(C431<>\"\",$E431<>\"*ON*\",$E431<>\"*OFF*\",ISNA((VLOOKUP(C431&\"@\"&E431,Q$4:Q430,1,FALSE)))),1,0)","v":0},{"$f":"SUM(O$4:O431)+(100*SUM(T$4:T431))","v":0},{"$f":"IF(NOT(ISBLANK(B431)),(A431+P431)+(Settings!$B$5/24),\"\")","v":""},0,0,0,null,0,0,0,0,0,0,0,0]
[null,null,null,0,"*EOL*",0,null,0,"","","","","",{"$error":"#VALUE!"},0,"","",":0:0",{"$f":"IF(ISNA(VLOOKUP(R432,R$4:R431,1,FALSE)),FALSE,IF(O432>0,TRUE,FALSE))","v":false},{"$f":"IF(AND(C432<>\"\",$E432<>\"*ON*\",$E432<>\"*OFF*\",ISNA((VLOOKUP(C432&\"@\"&E432,Q$4:Q431,1,FALSE)))),1,0)","v":0},{"$f":"SUM(O$4:O432)+(100*SUM(T$4:T432))","v":0},{"$f":"IF(NOT(ISBLANK(B432)),(A432+P432)+(Settings!$B$5/24),\"\")","v":""},0,0,0,null,0,0,0,0,0,0,0,0]
[null,null,null,0,"*EOL*",0,null,0,"","","","","",{"$error":"#VALUE!"},0,"","",":0:0",{"$f":"IF(ISNA(VLOOKUP(R433,R$4:R432,1,FALSE)),FALSE,IF(O433>0,TRUE,FALSE))","v":false},{"$f":"IF(AND(C433<>\"\",$E433<>\"*ON*\",$E433<>\"*OFF*\",ISNA((VLOOKUP(C433&\"@\"&E433,Q$4:Q432,1,FALSE)))),1,0)","v":0},{"$f":"SUM(O$4:O433)+(100*SUM(T$4:T433))","v":0},{"$f":"IF(NOT(ISBLANK(B433)),(A433+P433)+(Settings!$B$5/24),\"\")","v":""},0,0,0,null,0,0,0,0,0,0,0,0]
[null,null,null,0,"*EOL*",0,null,0,"","","","","",{"$error":"#VALUE!"},0,"","",":0:0",{"$f":"IF(ISNA(VLOOKUP(R434,R$4:R433,1,FALSE)),FALSE,IF(O434>0,TRUE,FALSE))","v":false},{"$f":"IF(AND(C434<>\"\",$E434<>\"*ON*\",$E434<>\"*OFF*\",ISNA((VLOOKUP(C434&\"@\"&E434,Q$4:Q433,1,FALSE)))),1,0)","v":0},{"$f":"SUM(O$4:O434)+(100*SUM(T$4:T434))","v":0},{"$f":"IF(NOT(ISBLANK(B434)),(A434+P434)+(Settings!$B$5/24),\"\")","v":""},0,0,0,null,{"$f":"IF($E434=AA$3,$H434,0)","v":0},0,0,0,0,0,0,0]
[null,null,null,0,"*EOL*",0,null,0,"","","","","",{"$error":"#VALUE!"},0,"","",":0:0",{"$f":"IF(ISNA(VLOOKUP(R435,R$4:R434,1,FALSE)),FALSE,IF(O435>0,TRUE,FALSE))","v":false},{"$f":"IF(AND(C435<>\"\",$E435<>\"*ON*\",$E435<>\"*OFF*\",ISNA((VLOOKUP(C435&\"@\"&E435,Q$4:Q434,1,FALSE)))),1,0)","v":0},{"$f":"SUM(O$4:O435)+(100*SUM(T$4:T435))","v":0},{"$f":"IF(NOT(ISBLANK(B435)),(A435+P435)+(Settings!$B$5/24),\"\")","v":""},0,0,0,null,0,0,0,0,0,0,0,0]
[null,null,null,0,"*EOL*",0,null,0,"","","","","",{"$error":"#VALUE!"},0,"","",":0:0",{"$f":"IF(ISNA(VLOOKUP(R436,R$4:R435,1,FALSE)),FALSE,IF(O436>0,TRUE,FALSE))","v":false},{"$f":"IF(AND(C436<>\"\",$E436<>\"*ON*\",$E436<>\"*OFF*\",ISNA((VLOOKUP(C436&\"@\"&E436,Q$4:Q435,1,FALSE)))),1,0)","v":0},{"$f":"SUM(O$4:O436)+(100*SUM(T$4:T436))","v":0},{"$f":"IF(NOT(ISBLANK(B436)),(A436+P436)+(Settings!$B$5/24),\"\")","v":""},0,0,0,null,0,0,0,0,0,0,0,0]
[null,null,null,0,"*EOL*",0,null,0,"","","","","",{"$error":"#VALUE!"},0,"","",":0:0",{"$f":"IF(ISNA(VLOOKUP(R437,R$4:R436,1,FALSE)),FALSE,IF(O437>0,TRUE,FALSE))","v":false},{"$f":"IF(AND(C437<>\"\",$E437<>\"*ON*\",$E437<>\"*OFF*\",ISNA((VLOOKUP(C437&\"@\"&E437,Q$4:Q436,1,FALSE)))),1,0)","v":0},{"$f":"SUM(O$4:O437)+(100*SUM(T$4:T437))","v":0},{"$f":"IF(NOT(ISBLANK(B437)),(A437+P437)+(Settings!$B$5/24),\"\")","v":""},0,0,0,null,0,0,0,0,0,0,0,0]
[null,null,null,0,"*EOL*",0,null,0,"","","","","",{"$error":"#VALUE!"},0,"","",":0:0",{"$f":"IF(ISNA(VLOOKUP(R438,R$4:R437,1,FALSE)),FALSE,IF(O438>0,TRUE,FALSE))","v":false},{"$f":"IF(AND(C438<>\"\",$E438<>\"*ON*\",$E438<>\"*OFF*\",ISNA((VLOOKUP(C438&\"@\"&E438,Q$4:Q437,1,FALSE)))),1,0)","v":0},{"$f":"SUM(O$4:O438)+(100*SUM(T$4:T438))","v":0},{"$f":"IF(NOT(ISBLANK(B438)),(A438+P438)+(Settings!$B$5/24),\"\")","v":""},0,0,0,null,0,0,0,0,0,0,0,0]
[null,null,null,0,"*EOL*",0,null,0,"","","","","",{"$error":"#VALUE!"},0,"","",":0:0",{"$f":"IF(ISNA(VLOOKUP(R439,R$4:R438,1,FALSE)),FALSE,IF(O439>0,TRUE,FALSE))","v":false},{"$f":"IF(AND(C439<>\"\",$E439<>\"*ON*\",$E439<>\"*OFF*\",ISNA((VLOOKUP(C439&\"@\"&E439,Q$4:Q438,1,FALSE)))),1,0)","v":0},{"$f":"SUM(O$4:O439)+(100*SUM(T$4:T439))","v":0},{"$f":"IF(NOT(ISBLANK(B439)),(A439+P439)+(Settings!$B$5/24),\"\")","v":""},0,0,0,null,0,0,0,0,0,0,0,0]
[null,null,null,0,"*EOL*",0,null,0,"","","","","",{"$error":"#VALUE!"},0,"","",":0:0",{"$f":"IF(ISNA(VLOOKUP(R440,R$4:R439,1,FALSE)),FALSE,IF(O440>0,TRUE,FALSE))","v":false},{"$f":"IF(AND(C440<>\"\",$E440<>\"*ON*\",$E440<>\"*OFF*\",ISNA((VLOOKUP(C440&\"@\"&E440,Q$4:Q439,1,FALSE)))),1,0)","v":0},{"$f":"SUM(O$4:O440)+(100*SUM(T$4:T440))","v":0},{"$f":"IF(NOT(ISBLANK(B440)),(A440+P440)+(Settings!$B$5/24),\"\")","v":""},0,0,0,null,0,0,0,0,0,0,0,0]
[null,null,null,0,"*EOL*",0,null,0,"","","","","",{"$error":"#VALUE!"},0,"","",":0:0",{"$f":"IF(ISNA(VLOOKUP(R441,R$4:R440,1,FALSE)),FALSE,IF(O441>0,TRUE,FALSE))","v":false},{"$f":"IF(AND(C441<>\"\",$E441<>\"*ON*\",$E441<>\"*OFF*\",ISNA((VLOOKUP(C441&\"@\"&E441,Q$4:Q440,1,FALSE)))),1,0)","v":0},{"$f":"SUM(O$4:O441)+(100*SUM(T$4:T441))","v":0},{"$f":"IF(NOT(ISBLANK(B441)),(A441+P441)+(Settings!$B$5/24),\"\")","v":""},0,0,0,null,0,0,0,0,0,0,0,0]
[null,null,null,0,"*EOL*",0,null,0,"","","","","",{"$error":"#VALUE!"},0,"","",":0:0",{"$f":"IF(ISNA(VLOOKUP(R442,R$4:R441,1,FALSE)),FALSE,IF(O442>0,TRUE,FALSE))","v":false},{"$f":"IF(AND(C442<>\"\",$E442<>\"*ON*\",$E442<>\"*OFF*\",ISNA((VLOOKUP(C442&\"@\"&E442,Q$4:Q441,1,FALSE)))),1,0)","v":0},{"$f":"SUM(O$4:O442)+(100*SUM(T$4:T442))","v":0},{"$f":"IF(NOT(ISBLANK(B442)),(A442+P442)+(Settings!$B$5/24),\"\")","v":""},0,0,0,null,0,0,0,0,0,0,0,0]
[null,null,null,0,"*EOL*",0,null,0,"","","","","",{"$error":"#VALUE!"},0,"","",":0:0",{"$f":"IF(ISNA(VLOOKUP(R443,R$4:R442,1,FALSE)),FALSE,IF(O443>0,TRUE,FALSE))","v":false},{"$f":"IF(AND(C443<>\"\",$E443<>\"*ON*\",$E443<>\"*OFF*\",ISNA((VLOOKUP(C443&\"@\"&E443,Q$4:Q442,1,FALSE)))),1,0)","v":0},{"$f":"SUM(O$4:O443)+(100*SUM(T$4:T443))","v":0},{"$f":"IF(NOT(ISBLANK(B443)),(A443+P443)+(Settings!$B$5/24),\"\")","v":""},0,0,0,null,0,0,0,0,0,0,0,0]
[null,null,null,0,"*EOL*",0,null,0,"","","","","",{"$error":"#VALUE!"},0,"","",":0:0",{"$f":"IF(ISNA(VLOOKUP(R444,R$4:R443,1,FALSE)),FALSE,IF(O444>0,TRUE,FALSE))","v":false},{"$f":"IF(AND(C444<>\"\",$E444<>\"*ON*\",$E444<>\"*OFF*\",ISNA((VLOOKUP(C444&\"@\"&E444,Q$4:Q443,1,FALSE)))),1,0)","v":0},{"$f":"SUM(O$4:O444)+(100*SUM(T$4:T444))","v":0},{"$f":"IF(NOT(ISBLANK(B444)),(A444+P444)+(Settings!$B$5/24),\"\")","v":""},0,0,0,null,{"$f":"IF($E444=AA$3,$H444,0)","v":0},0,0,0,0,0,0,0]
[null,null,null,0,"*EOL*",0,null,0,"","","","","",{"$error":"#VALUE!"},0,"","",":0:0",{"$f":"IF(ISNA(VLOOKUP(R445,R$4:R444,1,FALSE)),FALSE,IF(O445>0,TRUE,FALSE))","v":false},{"$f":"IF(AND(C445<>\"\",$E445<>\"*ON*\",$E445<>\"*OFF*\",ISNA((VLOOKUP(C445&\"@\"&E445,Q$4:Q444,1,FALSE)))),1,0)","v":0},{"$f":"SUM(O$4:O445)+(100*SUM(T$4:T445))","v":0},{"$f":"IF(NOT(ISBLANK(B445)),(A445+P445)+(Settings!$B$5/24),\"\")","v":""},0,0,0,null,0,0,0,0,0,0,0,0]
[null,null,null,0,"*EOL*",0,null,0,"","","","","",{"$error":"#VALUE!"},0,"","",":0:0",{"$f":"IF(ISNA(VLOOKUP(R446,R$4:R445,1,FALSE)),FALSE,IF(O446>0,TRUE,FALSE))","v":false},{"$f":"IF(AND(C446<>\"\",$E446<>\"*ON*\",$E446<>\"*OFF*\",ISNA((VLOOKUP(C446&\"@\"&E446,Q$4:Q445,1,FALSE)))),1,0)","v":0},{"$f":"SUM(O$4:O446)+(100*SUM(T$4:T446))","v":0},{"$f":"IF(NOT(ISBLANK(B446)),(A446+P446)+(Settings!$B$5/24),\"\")","v":""},0,0,0,null,0,0,0,0,0,0,0,0]
[null,null,null,0,"*EOL*",0,null,0,"","","","","",{"$error":"#VALUE!"},0,"","",":0:0",{"$f":"IF(ISNA(VLOOKUP(R447,R$4:R446,1,FALSE)),FALSE,IF(O447>0,TRUE,FALSE))","v":false},{"$f":"IF(AND(C447<>\"\",$E447<>\"*ON*\",$E447<>\"*OFF*\",ISNA((VLOOKUP(C447&\"@\"&E447,Q$4:Q446,1,FALSE)))),1,0)","v":0},{"$f":"SUM(O$4:O447)+(100*SUM(T$4:T447))","v":0},{"$f":"IF(NOT(ISBLANK(B447)),(A447+P447)+(Settings!$B$5/24),\"\")","v":""},0,0,0,null,0,0,0,0,0,0,0,0]
[null,null,null,0,"*EOL*",0,null,0,"","","","","",{"$error":"#VALUE!"},0,"","",":0:0",{"$f":"IF(ISNA(VLOOKUP(R448,R$4:R447,1,FALSE)),FALSE,IF(O448>0,TRUE,FALSE))","v":false},{"$f":"IF(AND(C448<>\"\",$E448<>\"*ON*\",$E448<>\"*OFF*\",ISNA((VLOOKUP(C448&\"@\"&E448,Q$4:Q447,1,FALSE)))),1,0)","v":0},{"$f":"SUM(O$4:O448)+(100*SUM(T$4:T448))","v":0},{"$f":"IF(NOT(ISBLANK(B448)),(A448+P448)+(Settings!$B$5/24),\"\")","v":""},0,0,0,null,0,0,0,0,0,0,0,0]
[null,null,null,0,"*EOL*",0,null,0,"","","","","",{"$error":"#VALUE!"},0,"","",":0:0",{"$f":"IF(ISNA(VLOOKUP(R449,R$4:R448,1,FALSE)),FALSE,IF(O449>0,TRUE,FALSE))","v":false},{"$f":"IF(AND(C449<>\"\",$E449<>\"*ON*\",$E449<>\"*OFF*\",ISNA((VLOOKUP(C449&\"@\"&E449,Q$4:Q448,1,FALSE)))),1,0)","v":0},{"$f":"SUM(O$4:O449)+(100*SUM(T$4:T449))","v":0},{"$f":"IF(NOT(ISBLANK(B449)),(A449+P449)+(Settings!$B$5/24),\"\")","v":""},0,0,0,null,0,0,0,0,0,0,0,0]
[null,null,null,0,"*EOL*",0,null,0,"","","","","",{"$error":"#VALUE!"},0,"","",":0:0",{"$f":"IF(ISNA(VLOOKUP(R450,R$4:R449,1,FALSE)),FALSE,IF(O450>0,TRUE,FALSE))","v":false},{"$f":"IF(AND(C450<>\"\",$E450<>\"*ON*\",$E450<>\"*OFF*\",ISNA((VLOOKUP(C450&\"@\"&E450,Q$4:Q449,1,FALSE)))),1,0)","v":0},{"$f":"SUM(O$4:O450)+(100*SUM(T$4:T450))","v":0},{"$f":"IF(NOT(ISBLANK(B450)),(A450+P450)+(Settings!$B$5/24),\"\")","v":""},0,0,0,null,0,0,0,0,0,0,0,0]
[null,null,null,0,"*EOL*",0,null,0,"","","","","",{"$error":"#VALUE!"},0,"","",":0:0",{"$f":"IF(ISNA(VLOOKUP(R451,R$4:R450,1,FALSE)),FALSE,IF(O451>0,TRUE,FALSE))","v":false},{"$f":"IF(AND(C451<>\"\",$E451<>\"*ON*\",$E451<>\"*OFF*\",ISNA((VLOOKUP(C451&\"@\"&E451,Q$4:Q450,1,FALSE)))),1,0)","v":0},{"$f":"SUM(O$4:O451)+(100*SUM(T$4:T451))","v":0},{"$f":"IF(NOT(ISBLANK(B451)),(A451+P451)+(Settings!$B$5/24),\"\")","v":""},0,0,0,null,0,0,0,0,0,0,0,0]
[null,null,null,0,"*EOL*",0,null,0,"",{"$f":"MH2Lat(F452)","v":""},{"$f":"MH2Lon(F452)","v":""},{"$f":"MH2Lat(D452)","v":""},{"$f":"MH2Lon(D452)","v":""},{"$f":"Distance(J452,K452,L452,M452)","v":{"$error":"#VALUE!"}},0,{"$f":"IF(ISBLANK(B452),\"\",IF(LEN(B452)=1,TIMEVALUE(\"00:0\"&B452),IF(LEN(B452)=2,TIMEVALUE(\"00:\"&B452),IF(LEN(B452)=3,TIMEVALUE(\"0\"&LEFT(B452,1)&\":\"&RIGHT(B452,2)),TIMEVALUE(LEFT(B452,2)&\":\"&RIGHT(B452,2))))))","v":""},"",":0:0",{"$f":"IF(ISNA(VLOOKUP(R452,R$4:R451,1,FALSE)),FALSE,IF(O452>0,TRUE,FALSE))","v":false},{"$f":"IF(AND(C452<>\"\",$E452<>\"*ON*\",$E452<>\"*OFF*\",ISNA((VLOOKUP(C452&\"@\"&E452,Q$4:Q451,1,FALSE)))),1,0)","v":0},{"$f":"SUM(O$4:O452)+(100*SUM(T$4:T452))","v":0},{"$f":"IF(NOT(ISBLANK(B452)),(A452+P452)+(Settings!$B$5/24),\"\")","v":""},{"$f":"IF(E452=\"*ON*\",1,0)","v":0},{"$f":"IF(E452=\"*OFF*\",1,0)","v":0},0,null,0,0,0,0,0,0,0,0]
[null,null,null,0,"*EOL*",0,null,0,"","","","","",{"$error":"#VALUE!"},{"$f":"IF(NOT(ISERR(N453)),ROUND(N453,0),0)","v":0},"",{"$f":"IF(AND(NOT(ISBLANK(C453)),NOT(ISBLANK(E453))),C453&\"@\"&E453,\"\")","v":""},{"$f":"Q453&\":\"&F453&\":\"&D453","v":":0:0"},{"$f":"IF(ISNA(VLOOKUP(R453,R$4:R452,1,FALSE)),FALSE,IF(O453>0,TRUE,FALSE))","v":false},{"$f":"IF(AND(C453<>\"\",$E453<>\"*ON*\",$E453<>\"*OFF*\",ISNA((VLOOKUP(C453&\"@\"&E453,Q$4:Q452,1,FALSE)))),1,0)","v":0},{"$f":"SUM(O$4:O453)+(100*SUM(T$4:T453))","v":0},{"$f":"IF(NOT(ISBLANK(B453)),(A453+P453)+(Settings!$B$5/24),\"\")","v":""},0,0,0,null,0,0,0,0,0,0,0,0]
[null,null,null,0,"*EOL*",0,null,{"$f":"IF(OR($S454,ISERR($N454),ISBLANK($B454),ISBLANK($C454)),0,MAX(O454,1))","v":0},{"$f":"IF(OR(ISBLANK($B454),ISBLANK($C454),ISBLANK($D454),ISBLANK($F454),NOT($S454)),\"\",\"Dupe!\")","v":""},"","","","",{"$error":"#VALUE!"},0,"","",":0:0",{"$f":"IF(ISNA(VLOOKUP(R454,R$4:R453,1,FALSE)),FALSE,IF(O454>0,TRUE,FALSE))","v":false},{"$f":"IF(AND(C454<>\"\",$E454<>\"*ON*\",$E454<>\"*OFF*\",ISNA((VLOOKUP(C454&\"@\"&E454,Q$4:Q453,1,FALSE)))),1,0)","v":0},{"$f":"SUM(O$4:O454)+(100*SUM(T$4:T454))","v":0},{"$f":"IF(NOT(ISBLANK(B454)),(A454+P454)+(Settings!$B$5/24),\"\")","v":""},0,0,0,null,{"$f":"IF($E454=AA$3,$H454,0)","v":0},0,0,0,0,0,0,0]
[null,null,null,{"$f":"D454","v":0},{"$f":"E454","v":"*EOL*"},{"$f":"F454","v":0},null,0,"","","","","",{"$error":"#VALUE!"},0,"","",":0:0",{"$f":"IF(ISNA(VLOOKUP(R455,R$4:R454,1,FALSE)),FALSE,IF(O455>0,TRUE,FALSE))","v":false},{"$f":"IF(AND(C455<>\"\",$E455<>\"*ON*\",$E455<>\"*OFF*\",ISNA((VLOOKUP(C455&\"@\"&E455,Q$4:Q454,1,FALSE)))),1,0)","v":0},{"$f":"SUM(O$4:O455)+(100*SUM(T$4:T455))","v":0},{"$f":"IF(NOT(ISBLANK(B455)),(A455+P455)+(Settings!$B$5/24),\"\")","v":""},0,0,0,null,0,0,0,0,0,0,0,0]
[null,null,null,0,"*EOL*",0,null,0,"","","","","",{"$error":"#VALUE!"},0,"","",":0:0",{"$f":"IF(ISNA(VLOOKUP(R456,R$4:R455,1,FALSE)),FALSE,IF(O456>0,TRUE,FALSE))","v":false},{"$f":"IF(AND(C456<>\"\",$E456<>\"*ON*\",$E456<>\"*OFF*\",ISNA((VLOOKUP(C456&\"@\"&E456,Q$4:Q455,1,FALSE)))),1,0)","v":0},{"$f":"SUM(O$4:O456)+(100*SUM(T$4:T456))","v":0},{"$f":"IF(NOT(ISBLANK(B456)),(A456+P456)+(Settings!$B$5/24),\"\")","v":""},0,0,0,null,0,0,0,0,0,0,0,0]
[null,null,null,0,"*EOL*",0,null,0,"","","","","",{"$error":"#VALUE!"},0,"","",":0:0",{"$f":"IF(ISNA(VLOOKUP(R457,R$4:R456,1,FALSE)),FALSE,IF(O457>0,TRUE,FALSE))","v":false},{"$f":"IF(AND(C457<>\"\",$E457<>\"*ON*\",$E457<>\"*OFF*\",ISNA((VLOOKUP(C457&\"@\"&E457,Q$4:Q456,1,FALSE)))),1,0)","v":0},{"$f":"SUM(O$4:O457)+(100*SUM(T$4:T457))","v":0},{"$f":"IF(NOT(ISBLANK(B457)),(A457+P457)+(Settings!$B$5/24),\"\")","v":""},0,0,0,null,0,0,0,0,0,0,0,0]
[null,null,null,0,"*EOL*",0,null,0,"","","","","",{"$error":"#VALUE!"},0,"","",":0:0",{"$f":"IF(ISNA(VLOOKUP(R458,R$4:R457,1,FALSE)),FALSE,IF(O458>0,TRUE,FALSE))","v":false},{"$f":"IF(AND(C458<>\"\",$E458<>\"*ON*\",$E458<>\"*OFF*\",ISNA((VLOOKUP(C458&\"@\"&E458,Q$4:Q457,1,FALSE)))),1,0)","v":0},{"$f":"SUM(O$4:O458)+(100*SUM(T$4:T458))","v":0},{"$f":"IF(NOT(ISBLANK(B458)),(A458+P458)+(Settings!$B$5/24),\"\")","v":""},0,0,0,null,0,0,0,0,0,0,0,0]
[null,null,null,0,"*EOL*",0,null,0,"","","","","",{"$error":"#VALUE!"},0,"","",":0:0",{"$f":"IF(ISNA(VLOOKUP(R459,R$4:R458,1,FALSE)),FALSE,IF(O459>0,TRUE,FALSE))","v":false},{"$f":"IF(AND(C459<>\"\",$E459<>\"*ON*\",$E459<>\"*OFF*\",ISNA((VLOOKUP(C459&\"@\"&E459,Q$4:Q458,1,FALSE)))),1,0)","v":0},{"$f":"SUM(O$4:O459)+(100*SUM(T$4:T459))","v":0},{"$f":"IF(NOT(ISBLANK(B459)),(A459+P459)+(Settings!$B$5/24),\"\")","v":""},0,0,0,null,0,0,0,0,0,0,0,0]
[null,null,null,0,"*EOL*",0,null,0,"","","","","",{"$error":"#VALUE!"},0,"","",":0:0",{"$f":"IF(ISNA(VLOOKUP(R460,R$4:R459,1,FALSE)),FALSE,IF(O460>0,TRUE,FALSE))","v":false},{"$f":"IF(AND(C460<>\"\",$E460<>\"*ON*\",$E460<>\"*OFF*\",ISNA((VLOOKUP(C460&\"@\"&E460,Q$4:Q459,1,FALSE)))),1,0)","v":0},{"$f":"SUM(O$4:O460)+(100*SUM(T$4:T460))","v":0},{"$f":"IF(NOT(ISBLANK(B460)),(A460+P460)+(Settings!$B$5/24),\"\")","v":""},0,0,0,null,0,0,0,0,0,0,0,0]
[null,null,null,0,"*EOL*",0,null,0,"","","","","",{"$error":"#VALUE!"},0,"","",":0:0",{"$f":"IF(ISNA(VLOOKUP(R461,R$4:R460,1,FALSE)),FALSE,IF(O461>0,TRUE,FALSE))","v":false},{"$f":"IF(AND(C461<>\"\",$E461<>\"*ON*\",$E461<>\"*OFF*\",ISNA((VLOOKUP(C461&\"@\"&E461,Q$4:Q460,1,FALSE)))),1,0)","v":0},{"$f":"SUM(O$4:O461)+(100*SUM(T$4:T461))","v":0},{"$f":"IF(NOT(ISBLANK(B461)),(A461+P461)+(Settings!$B$5/24),\"\")","v":""},0,0,0,null,0,0,0,0,0,0,0,0]
[null,null,null,0,"*EOL*",0,null,0,"","","","","",{"$error":"#VALUE!"},0,"","",":0:0",{"$f":"IF(ISNA(VLOOKUP(R462,R$4:R461,1,FALSE)),FALSE,IF(O462>0,TRUE,FALSE))","v":false},{"$f":"IF(AND(C462<>\"\",$E462<>\"*ON*\",$E462<>\"*OFF*\",ISNA((VLOOKUP(C462&\"@\"&E462,Q$4:Q461,1,FALSE)))),1,0)","v":0},{"$f":"SUM(O$4:O462)+(100*SUM(T$4:T462))","v":0},{"$f":"IF(NOT(ISBLANK(B462)),(A462+P462)+(Settings!$B$5/24),\"\")","v":""},0,0,0,null,0,0,0,0,0,0,0,0]
[null,null,null,0,"*EOL*",0,null,0,"","","","","",{"$error":"#VALUE!"},0,"","",":0:0",{"$f":"IF(ISNA(VLOOKUP(R463,R$4:R462,1,FALSE)),FALSE,IF(O463>0,TRUE,FALSE))","v":false},{"$f":"IF(AND(C463<>\"\",$E463<>\"*ON*\",$E463<>\"*OFF*\",ISNA((VLOOKUP(C463&\"@\"&E463,Q$4:Q462,1,FALSE)))),1,0)","v":0},{"$f":"SUM(O$4:O463)+(100*SUM(T$4:T463))","v":0},{"$f":"IF(NOT(ISBLANK(B463)),(A463+P463)+(Settings!$B$5/24),\"\")","v":""},0,0,{"$f":"IF($E463=\"*EOL*\",0,IF(X462,0,V463-V462)*24)","v":0},null,0,0,0,0,0,0,0,0]
[null,null,null,0,"*EOL*",0,null,0,"","","","","",{"$error":"#VALUE!"},0,"","",":0:0",{"$f":"IF(ISNA(VLOOKUP(R464,R$4:R463,1,FALSE)),FALSE,IF(O464>0,TRUE,FALSE))","v":false},{"$f":"IF(AND(C464<>\"\",$E464<>\"*ON*\",$E464<>\"*OFF*\",ISNA((VLOOKUP(C464&\"@\"&E464,Q$4:Q463,1,FALSE)))),1,0)","v":0},{"$f":"SUM(O$4:O464)+(100*SUM(T$4:T464))","v":0},{"$f":"IF(NOT(ISBLANK(B464)),(A464+P464)+(Settings!$B$5/24),\"\")","v":""},0,0,0,null,{"$f":"IF($E464=AA$3,$H464,0)","v":0},0,0,0,0,0,0,0]
[null,null,null,0,"*EOL*",0,null,0,"","","","","",{"$error":"#VALUE!"},0,"","",":0:0",{"$f":"IF(ISNA(VLOOKUP(R465,R$4:R464,1,FALSE)),FALSE,IF(O465>0,TRUE,FALSE))","v":false},{"$f":"IF(AND(C465<>\"\",$E465<>\"*ON*\",$E465<>\"*OFF*\",ISNA((VLOOKUP(C465&\"@\"&E465,Q$4:Q464,1,FALSE)))),1,0)","v":0},{"$f":"SUM(O$4:O465)+(100*SUM(T$4:T465))","v":0},{"$f":"IF(NOT(ISBLANK(B465)),(A465+P465)+(Settings!$B$5/24),\"\")","v":""},0,0,0,null,0,0,0,0,0,0,0,0]
[null,null,null,0,"*EOL*",0,null,0,"","","","","",{"$error":"#VALUE!"},0,"","",":0:0",{"$f":"IF(ISNA(VLOOKUP(R466,R$4:R465,1,FALSE)),FALSE,IF(O466>0,TRUE,FALSE))","v":false},{"$f":"IF(AND(C466<>\"\",$E466<>\"*ON*\",$E466<>\"*OFF*\",ISNA((VLOOKUP(C466&\"@\"&E466,Q$4:Q465,1,FALSE)))),1,0)","v":0},{"$f":"SUM(O$4:O466)+(100*SUM(T$4:T466))","v":0},{"$f":"IF(NOT(ISBLANK(B466)),(A466+P466)+(Settings!$B$5/24),\"\")","v":""},0,0,0,null,0,0,0,0,0,0,0,0]
[null,null,null,0,"*EOL*",0,null,0,"","","","","",{"$error":"#VALUE!"},0,"","",":0:0",{"$f":"IF(ISNA(VLOOKUP(R467,R$4:R466,1,FALSE)),FALSE,IF(O467>0,TRUE,FALSE))","v":false},{"$f":"IF(AND(C467<>\"\",$E467<>\"*ON*\",$E467<>\"*OFF*\",ISNA((VLOOKUP(C467&\"@\"&E467,Q$4:Q466,1,FALSE)))),1,0)","v":0},{"$f":"SUM(O$4:O467)+(100*SUM(T$4:T467))","v":0},{"$f":"IF(NOT(ISBLANK(B467)),(A467+P467)+(Settings!$B$5/24),\"\")","v":""},0,0,0,null,0,0,0,0,0,0,0,0]
[null,null,null,0,"*EOL*",0,null,0,"","","","","",{"$error":"#VALUE!"},0,"","",":0:0",{"$f":"IF(ISNA(VLOOKUP(R468,R$4:R467,1,FALSE)),FALSE,IF(O468>0,TRUE,FALSE))","v":false},{"$f":"IF(AND(C468<>\"\",$E468<>\"*ON*\",$E468<>\"*OFF*\",ISNA((VLOOKUP(C468&\"@\"&E468,Q$4:Q467,1,FALSE)))),1,0)","v":0},{"$f":"SUM(O$4:O468)+(100*SUM(T$4:T468))","v":0},{"$f":"IF(NOT(ISBLANK(B468)),(A468+P468)+(Settings!$B$5/24),\"\")","v":""},0,0,0,null,0,0,0,0,0,0,0,0]
[null,null,null,0,"*EOL*",0,null,0,"","","","","",{"$error":"#VALUE!"},0,"","",":0:0",{"$f":"IF(ISNA(VLOOKUP(R469,R$4:R468,1,FALSE)),FALSE,IF(O469>0,TRUE,FALSE))","v":false},{"$f":"IF(AND(C469<>\"\",$E469<>\"*ON*\",$E469<>\"*OFF*\",ISNA((VLOOKUP(C469&\"@\"&E469,Q$4:Q468,1,FALSE)))),1,0)","v":0},{"$f":"SUM(O$4:O469)+(100*SUM(T$4:T469))","v":0},{"$f":"IF(NOT(ISBLANK(B469)),(A469+P469)+(Settings!$B$5/24),\"\")","v":""},0,0,0,null,0,0,0,0,0,0,0,0]
[null,null,null,0,"*EOL*",0,null,0,"","","","","",{"$error":"#VALUE!"},0,"","",":0:0",{"$f":"IF(ISNA(VLOOKUP(R470,R$4:R469,1,FALSE)),FALSE,IF(O470>0,TRUE,FALSE))","v":false},{"$f":"IF(AND(C470<>\"\",$E470<>\"*ON*\",$E470<>\"*OFF*\",ISNA((VLOOKUP(C470&\"@\"&E470,Q$4:Q469,1,FALSE)))),1,0)","v":0},{"$f":"SUM(O$4:O470)+(100*SUM(T$4:T470))","v":0},{"$f":"IF(NOT(ISBLANK(B470)),(A470+P470)+(Settings!$B$5/24),\"\")","v":""},0,0,0,null,0,0,0,0,0,0,0,0]
[null,null,null,0,"*EOL*",0,null,0,"","","","","",{"$error":"#VALUE!"},0,"","",":0:0",{"$f":"IF(ISNA(VLOOKUP(R471,R$4:R470,1,FALSE)),FALSE,IF(O471>0,TRUE,FALSE))","v":false},{"$f":"IF(AND(C471<>\"\",$E471<>\"*ON*\",$E471<>\"*OFF*\",ISNA((VLOOKUP(C471&\"@\"&E471,Q$4:Q470,1,FALSE)))),1,0)","v":0},{"$f":"SUM(O$4:O471)+(100*SUM(T$4:T471))","v":0},{"$f":"IF(NOT(ISBLANK(B471)),(A471+P471)+(Settings!$B$5/24),\"\")","v":""},0,0,0,null,0,0,0,0,0,0,0,0]
[null,null,null,0,"*EOL*",0,null,0,"","","","","",{"$error":"#VALUE!"},0,"","",":0:0",{"$f":"IF(ISNA(VLOOKUP(R472,R$4:R471,1,FALSE)),FALSE,IF(O472>0,TRUE,FALSE))","v":false},{"$f":"IF(AND(C472<>\"\",$E472<>\"*ON*\",$E472<>\"*OFF*\",ISNA((VLOOKUP(C472&\"@\"&E472,Q$4:Q471,1,FALSE)))),1,0)","v":0},{"$f":"SUM(O$4:O472)+(100*SUM(T$4:T472))","v":0},{"$f":"IF(NOT(ISBLANK(B472)),(A472+P472)+(Settings!$B$5/24),\"\")","v":""},0,0,0,null,0,0,0,0,0,0,0,0]
[null,null,null,0,"*EOL*",0,null,0,"","","","","",{"$error":"#VALUE!"},0,"","",":0:0",{"$f":"IF(ISNA(VLOOKUP(R473,R$4:R472,1,FALSE)),FALSE,IF(O473>0,TRUE,FALSE))","v":false},{"$f":"IF(AND(C473<>\"\",$E473<>\"*ON*\",$E473<>\"*OFF*\",ISNA((VLOOKUP(C473&\"@\"&E473,Q$4:Q472,1,FALSE)))),1,0)","v":0},{"$f":"SUM(O$4:O473)+(100*SUM(T$4:T473))","v":0},{"$f":"IF(NOT(ISBLANK(B473)),(A473+P473)+(Settings!$B$5/24),\"\")","v":""},0,0,0,null,0,0,0,0,0,0,0,0]
[null,null,null,0,"*EOL*",0,null,0,"","","","","",{"$error":"#VALUE!"},0,"","",":0:0",{"$f":"IF(ISNA(VLOOKUP(R474,R$4:R473,1,FALSE)),FALSE,IF(O474>0,TRUE,FALSE))","v":false},{"$f":"IF(AND(C474<>\"\",$E474<>\"*ON*\",$E474<>\"*OFF*\",ISNA((VLOOKUP(C474&\"@\"&E474,Q$4:Q473,1,FALSE)))),1,0)","v":0},{"$f":"SUM(O$4:O474)+(100*SUM(T$4:T474))","v":0},{"$f":"IF(NOT(ISBLANK(B474)),(A474+P474)+(Settings!$B$5/24),\"\")","v":""},0,0,0,null,{"$f":"IF($E474=AA$3,$H474,0)","v":0},0,0,0,0,0,0,0]
[null,null,null,0,"*EOL*",0,null,0,"","","","","",{"$error":"#VALUE!"},0,"","",":0:0",{"$f":"IF(ISNA(VLOOKUP(R475,R$4:R474,1,FALSE)),FALSE,IF(O475>0,TRUE,FALSE))","v":false},{"$f":"IF(AND(C475<>\"\",$E475<>\"*ON*\",$E475<>\"*OFF*\",ISNA((VLOOKUP(C475&\"@\"&E475,Q$4:Q474,1,FALSE)))),1,0)","v":0},{"$f":"SUM(O$4:O475)+(100*SUM(T$4:T475))","v":0},{"$f":"IF(NOT(ISBLANK(B475)),(A475+P475)+(Settings!$B$5/24),\"\")","v":""},0,0,0,null,0,0,0,0,0,0,0,0]
[null,null,null,0,"*EOL*",0,null,0,"","","","","",{"$error":"#VALUE!"},0,"","",":0:0",{"$f":"IF(ISNA(VLOOKUP(R476,R$4:R475,1,FALSE)),FALSE,IF(O476>0,TRUE,FALSE))","v":false},{"$f":"IF(AND(C476<>\"\",$E476<>\"*ON*\",$E476<>\"*OFF*\",ISNA((VLOOKUP(C476&\"@\"&E476,Q$4:Q475,1,FALSE)))),1,0)","v":0},{"$f":"SUM(O$4:O476)+(100*SUM(T$4:T476))","v":0},{"$f":"IF(NOT(ISBLANK(B476)),(A476+P476)+(Settings!$B$5/24),\"\")","v":""},0,0,0,null,0,0,0,0,0,0,0,0]
[null,null,null,0,"*EOL*",0,null,0,"","","","","",{"$error":"#VALUE!"},0,"","",":0:0",{"$f":"IF(ISNA(VLOOKUP(R477,R$4:R476,1,FALSE)),FALSE,IF(O477>0,TRUE,FALSE))","v":false},{"$f":"IF(AND(C477<>\"\",$E477<>\"*ON*\",$E477<>\"*OFF*\",ISNA((VLOOKUP(C477&\"@\"&E477,Q$4:Q476,1,FALSE)))),1,0)","v":0},{"$f":"SUM(O$4:O477)+(100*SUM(T$4:T477))","v":0},{"$f":"IF(NOT(ISBLANK(B477)),(A477+P477)+(Settings!$B$5/24),\"\")","v":""},0,0,0,null,0,0,0,0,0,0,0,0]
[null,null,null,0,"*EOL*",0,null,0,"","","","","",{"$error":"#VALUE!"},0,"","",":0:0",{"$f":"IF(ISNA(VLOOKUP(R478,R$4:R477,1,FALSE)),FALSE,IF(O478>0,TRUE,FALSE))","v":false},{"$f":"IF(AND(C478<>\"\",$E478<>\"*ON*\",$E478<>\"*OFF*\",ISNA((VLOOKUP(C478&\"@\"&E478,Q$4:Q477,1,FALSE)))),1,0)","v":0},{"$f":"SUM(O$4:O478)+(100*SUM(T$4:T478))","v":0},{"$f":"IF(NOT(ISBLANK(B478)),(A478+P478)+(Settings!$B$5/24),\"\")","v":""},0,0,0,null,0,0,0,0,0,0,0,0]
[null,null,null,0,"*EOL*",0,null,0,"","","","","",{"$error":"#VALUE!"},0,"","",":0:0",{"$f":"IF(ISNA(VLOOKUP(R479,R$4:R478,1,FALSE)),FALSE,IF(O479>0,TRUE,FALSE))","v":false},{"$f":"IF(AND(C479<>\"\",$E479<>\"*ON*\",$E479<>\"*OFF*\",ISNA((VLOOKUP(C479&\"@\"&E479,Q$4:Q478,1,FALSE)))),1,0)","v":0},{"$f":"SUM(O$4:O479)+(100*SUM(T$4:T479))","v":0},{"$f":"IF(NOT(ISBLANK(B479)),(A479+P479)+(Settings!$B$5/24),\"\")","v":""},0,0,0,null,0,0,0,0,0,0,0,0]
[null,null,null,0,"*EOL*",0,null,0,"","","","","",{"$error":"#VALUE!"},0,"","",":0:0",{"$f":"IF(ISNA(VLOOKUP(R480,R$4:R479,1,FALSE)),FALSE,IF(O480>0,TRUE,FALSE))","v":false},{"$f":"IF(AND(C480<>\"\",$E480<>\"*ON*\",$E480<>\"*OFF*\",ISNA((VLOOKUP(C480&\"@\"&E480,Q$4:Q479,1,FALSE)))),1,0)","v":0},{"$f":"SUM(O$4:O480)+(100*SUM(T$4:T480))","v":0},{"$f":"IF(NOT(ISBLANK(B480)),(A480+P480)+(Settings!$B$5/24),\"\")","v":""},0,0,0,null,0,0,0,0,0,0,0,0]
[null,null,null,0,"*EOL*",0,null,0,"","","","","",{"$error":"#VALUE!"},0,"","",":0:0",{"$f":"IF(ISNA(VLOOKUP(R481,R$4:R480,1,FALSE)),FALSE,IF(O481>0,TRUE,FALSE))","v":false},{"$f":"IF(AND(C481<>\"\",$E481<>\"*ON*\",$E481<>\"*OFF*\",ISNA((VLOOKUP(C481&\"@\"&E481,Q$4:Q480,1,FALSE)))),1,0)","v":0},{"$f":"SUM(O$4:O481)+(100*SUM(T$4:T481))","v":0},{"$f":"IF(NOT(ISBLANK(B481)),(A481+P481)+(Settings!$B$5/24),\"\")","v":""},0,0,0,null,0,0,0,0,0,0,0,0]
[null,null,null,0,"*EOL*",0,null,0,"","","","","",{"$error":"#VALUE!"},0,"","",":0:0",{"$f":"IF(ISNA(VLOOKUP(R482,R$4:R481,1,FALSE)),FALSE,IF(O482>0,TRUE,FALSE))","v":false},{"$f":"IF(AND(C482<>\"\",$E482<>\"*ON*\",$E482<>\"*OFF*\",ISNA((VLOOKUP(C482&\"@\"&E482,Q$4:Q481,1,FALSE)))),1,0)","v":0},{"$f":"SUM(O$4:O482)+(100*SUM(T$4:T482))","v":0},{"$f":"IF(NOT(ISBLANK(B482)),(A482+P482)+(Settings!$B$5/24),\"\")","v":""},0,0,0,null,0,0,0,0,0,0,0,0]
[null,null,null,0,"*EOL*",0,null,0,"","","","","",{"$error":"#VALUE!"},0,"","",":0:0",{"$f":"IF(ISNA(VLOOKUP(R483,R$4:R482,1,FALSE)),FALSE,IF(O483>0,TRUE,FALSE))","v":false},{"$f":"IF(AND(C483<>\"\",$E483<>\"*ON*\",$E483<>\"*OFF*\",ISNA((VLOOKUP(C483&\"@\"&E483,Q$4:Q482,1,FALSE)))),1,0)","v":0},{"$f":"SUM(O$4:O483)+(100*SUM(T$4:T483))","v":0},{"$f":"IF(NOT(ISBLANK(B483)),(A483+P483)+(Settings!$B$5/24),\"\")","v":""},0,0,0,null,0,0,0,0,0,0,0,0]
[null,null,null,0,"*EOL*",0,null,0,"","","","","",{"$error":"#VALUE!"},0,"","",":0:0",{"$f":"IF(ISNA(VLOOKUP(R484,R$4:R483,1,FALSE)),FALSE,IF(O484>0,TRUE,FALSE))","v":false},{"$f":"IF(AND(C484<>\"\",$E484<>\"*ON*\",$E484<>\"*OFF*\",ISNA((VLOOKUP(C484&\"@\"&E484,Q$4:Q483,1,FALSE)))),1,0)","v":0},{"$f":"SUM(O$4:O484)+(100*SUM(T$4:T484))","v":0},{"$f":"IF(NOT(ISBLANK(B484)),(A484+P484)+(Settings!$B$5/24),\"\")","v":""},0,0,0,null,{"$f":"IF($E484=AA$3,$H484,0)","v":0},0,0,0,0,0,0,0]
[null,null,null,0,"*EOL*",0,null,0,"","","","","",{"$error":"#VALUE!"},0,"","",":0:0",{"$f":"IF(ISNA(VLOOKUP(R485,R$4:R484,1,FALSE)),FALSE,IF(O485>0,TRUE,FALSE))","v":false},{"$f":"IF(AND(C485<>\"\",$E485<>\"*ON*\",$E485<>\"*OFF*\",ISNA((VLOOKUP(C485&\"@\"&E485,Q$4:Q484,1,FALSE)))),1,0)","v":0},{"$f":"SUM(O$4:O485)+(100*SUM(T$4:T485))","v":0},{"$f":"IF(NOT(ISBLANK(B485)),(A485+P485)+(Settings!$B$5/24),\"\")","v":""},0,0,0,null,0,0,0,0,0,0,0,0]
[null,null,null,0,"*EOL*",0,null,0,"","","","","",{"$error":"#VALUE!"},0,"","",":0:0",{"$f":"IF(ISNA(VLOOKUP(R486,R$4:R485,1,FALSE)),FALSE,IF(O486>0,TRUE,FALSE))","v":false},{"$f":"IF(AND(C486<>\"\",$E486<>\"*ON*\",$E486<>\"*OFF*\",ISNA((VLOOKUP(C486&\"@\"&E486,Q$4:Q485,1,FALSE)))),1,0)","v":0},{"$f":"SUM(O$4:O486)+(100*SUM(T$4:T486))","v":0},{"$f":"IF(NOT(ISBLANK(B486)),(A486+P486)+(Settings!$B$5/24),\"\")","v":""},0,0,0,null,0,0,0,0,0,0,0,0]
[null,null,null,0,"*EOL*",0,null,0,"","","","","",{"$error":"#VALUE!"},0,"","",":0:0",{"$f":"IF(ISNA(VLOOKUP(R487,R$4:R486,1,FALSE)),FALSE,IF(O487>0,TRUE,FALSE))","v":false},{"$f":"IF(AND(C487<>\"\",$E487<>\"*ON*\",$E487<>\"*OFF*\",ISNA((VLOOKUP(C487&\"@\"&E487,Q$4:Q486,1,FALSE)))),1,0)","v":0},{"$f":"SUM(O$4:O487)+(100*SUM(T$4:T487))","v":0},{"$f":"IF(NOT(ISBLANK(B487)),(A487+P487)+(Settings!$B$5/24),\"\")","v":""},0,0,0,null,0,0,0,0,0,0,0,0]
[null,null,null,0,"*EOL*",0,null,0,"","","","","",{"$error":"#VALUE!"},0,"","",":0:0",{"$f":"IF(ISNA(VLOOKUP(R488,R$4:R487,1,FALSE)),FALSE,IF(O488>0,TRUE,FALSE))","v":false},{"$f":"IF(AND(C488<>\"\",$E488<>\"*ON*\",$E488<>\"*OFF*\",ISNA((VLOOKUP(C488&\"@\"&E488,Q$4:Q487,1,FALSE)))),1,0)","v":0},{"$f":"SUM(O$4:O488)+(100*SUM(T$4:T488))","v":0},{"$f":"IF(NOT(ISBLANK(B488)),(A488+P488)+(Settings!$B$5/24),\"\")","v":""},0,0,0,null,0,0,0,0,0,0,0,0]
[null,null,null,0,"*EOL*",0,null,0,"","","","","",{"$error":"#VALUE!"},0,"","",":0:0",{"$f":"IF(ISNA(VLOOKUP(R489,R$4:R488,1,FALSE)),FALSE,IF(O489>0,TRUE,FALSE))","v":false},{"$f":"IF(AND(C489<>\"\",$E489<>\"*ON*\",$E489<>\"*OFF*\",ISNA((VLOOKUP(C489&\"@\"&E489,Q$4:Q488,1,FALSE)))),1,0)","v":0},{"$f":"SUM(O$4:O489)+(100*SUM(T$4:T489))","v":0},{"$f":"IF(NOT(ISBLANK(B489)),(A489+P489)+(Settings!$B$5/24),\"\")","v":""},0,0,0,null,0,0,0,0,0,0,0,0]
[null,null,null,0,"*EOL*",0,null,0,"","","","","",{"$error":"#VALUE!"},0,"","",":0:0",{"$f":"IF(ISNA(VLOOKUP(R490,R$4:R489,1,FALSE)),FALSE,IF(O490>0,TRUE,FALSE))","v":false},{"$f":"IF(AND(C490<>\"\",$E490<>\"*ON*\",$E490<>\"*OFF*\",ISNA((VLOOKUP(C490&\"@\"&E490,Q$4:Q489,1,FALSE)))),1,0)","v":0},{"$f":"SUM(O$4:O490)+(100*SUM(T$4:T490))","v":0},{"$f":"IF(NOT(ISBLANK(B490)),(A490+P490)+(Settings!$B$5/24),\"\")","v":""},0,0,0,null,0,0,0,0,0,0,0,0]
[null,null,null,0,"*EOL*",0,null,0,"","","","","",{"$error":"#VALUE!"},0,"","",":0:0",{"$f":"IF(ISNA(VLOOKUP(R491,R$4:R490,1,FALSE)),FALSE,IF(O491>0,TRUE,FALSE))","v":false},{"$f":"IF(AND(C491<>\"\",$E491<>\"*ON*\",$E491<>\"*OFF*\",ISNA((VLOOKUP(C491&\"@\"&E491,Q$4:Q490,1,FALSE)))),1,0)","v":0},{"$f":"SUM(O$4:O491)+(100*SUM(T$4:T491))","v":0},{"$f":"IF(NOT(ISBLANK(B491)),(A491+P491)+(Settings!$B$5/24),\"\")","v":""},0,0,0,null,0,0,0,0,0,0,0,0]
[null,null,null,0,"*EOL*",0,null,0,"","","","","",{"$error":"#VALUE!"},0,"","",":0:0",{"$f":"IF(ISNA(VLOOKUP(R492,R$4:R491,1,FALSE)),FALSE,IF(O492>0,TRUE,FALSE))","v":false},{"$f":"IF(AND(C492<>\"\",$E492<>\"*ON*\",$E492<>\"*OFF*\",ISNA((VLOOKUP(C492&\"@\"&E492,Q$4:Q491,1,FALSE)))),1,0)","v":0},{"$f":"SUM(O$4:O492)+(100*SUM(T$4:T492))","v":0},{"$f":"IF(NOT(ISBLANK(B492)),(A492+P492)+(Settings!$B$5/24),\"\")","v":""},0,0,0,null,0,0,0,0,0,0,0,0]
[null,null,null,0,"*EOL*",0,null,0,"","","","","",{"$error":"#VALUE!"},0,"","",":0:0",{"$f":"IF(ISNA(VLOOKUP(R493,R$4:R492,1,FALSE)),FALSE,IF(O493>0,TRUE,FALSE))","v":false},{"$f":"IF(AND(C493<>\"\",$E493<>\"*ON*\",$E493<>\"*OFF*\",ISNA((VLOOKUP(C493&\"@\"&E493,Q$4:Q492,1,FALSE)))),1,0)","v":0},{"$f":"SUM(O$4:O493)+(100*SUM(T$4:T493))","v":0},{"$f":"IF(NOT(ISBLANK(B493)),(A493+P493)+(Settings!$B$5/24),\"\")","v":""},0,0,0,null,0,0,0,0,0,0,0,0]
[null,null,null,0,"*EOL*",0,null,0,"","","","","",{"$error":"#VALUE!"},0,"","",":0:0",{"$f":"IF(ISNA(VLOOKUP(R494,R$4:R493,1,FALSE)),FALSE,IF(O494>0,TRUE,FALSE))","v":false},{"$f":"IF(AND(C494<>\"\",$E494<>\"*ON*\",$E494<>\"*OFF*\",ISNA((VLOOKUP(C494&\"@\"&E494,Q$4:Q493,1,FALSE)))),1,0)","v":0},{"$f":"SUM(O$4:O494)+(100*SUM(T$4:T494))","v":0},{"$f":"IF(NOT(ISBLANK(B494)),(A494+P494)+(Settings!$B$5/24),\"\")","v":""},0,0,0,null,{"$f":"IF($E494=AA$3,$H494,0)","v":0},0,0,0,0,0,0,0]
[null,null,null,0,"*EOL*",0,null,0,"","","","","",{"$error":"#VALUE!"},0,"","",":0:0",{"$f":"IF(ISNA(VLOOKUP(R495,R$4:R494,1,FALSE)),FALSE,IF(O495>0,TRUE,FALSE))","v":false},{"$f":"IF(AND(C495<>\"\",$E495<>\"*ON*\",$E495<>\"*OFF*\",ISNA((VLOOKUP(C495&\"@\"&E495,Q$4:Q494,1,FALSE)))),1,0)","v":0},{"$f":"SUM(O$4:O495)+(100*SUM(T$4:T495))","v":0},{"$f":"IF(NOT(ISBLANK(B495)),(A495+P495)+(Settings!$B$5/24),\"\")","v":""},0,0,0,null,0,0,0,0,0,0,0,0]
[null,null,null,0,"*EOL*",0,null,0,"","","","","",{"$error":"#VALUE!"},0,"","",":0:0",{"$f":"IF(ISNA(VLOOKUP(R496,R$4:R495,1,FALSE)),FALSE,IF(O496>0,TRUE,FALSE))","v":false},{"$f":"IF(AND(C496<>\"\",$E496<>\"*ON*\",$E496<>\"*OFF*\",ISNA((VLOOKUP(C496&\"@\"&E496,Q$4:Q495,1,FALSE)))),1,0)","v":0},{"$f":"SUM(O$4:O496)+(100*SUM(T$4:T496))","v":0},{"$f":"IF(NOT(ISBLANK(B496)),(A496+P496)+(Settings!$B$5/24),\"\")","v":""},0,0,0,null,0,0,0,0,0,0,0,0]
[null,null,null,0,"*EOL*",0,null,0,"","","","","",{"$error":"#VALUE!"},0,"","",":0:0",{"$f":"IF(ISNA(VLOOKUP(R497,R$4:R496,1,FALSE)),FALSE,IF(O497>0,TRUE,FALSE))","v":false},{"$f":"IF(AND(C497<>\"\",$E497<>\"*ON*\",$E497<>\"*OFF*\",ISNA((VLOOKUP(C497&\"@\"&E497,Q$4:Q496,1,FALSE)))),1,0)","v":0},{"$f":"SUM(O$4:O497)+(100*SUM(T$4:T497))","v":0},{"$f":"IF(NOT(ISBLANK(B497)),(A497+P497)+(Settings!$B$5/24),\"\")","v":""},0,0,0,null,0,0,0,0,0,0,0,0]
[null,null,null,0,"*EOL*",0,null,0,"","","","","",{"$error":"#VALUE!"},0,"","",":0:0",{"$f":"IF(ISNA(VLOOKUP(R498,R$4:R497,1,FALSE)),FALSE,IF(O498>0,TRUE,FALSE))","v":false},{"$f":"IF(AND(C498<>\"\",$E498<>\"*ON*\",$E498<>\"*OFF*\",ISNA((VLOOKUP(C498&\"@\"&E498,Q$4:Q497,1,FALSE)))),1,0)","v":0},{"$f":"SUM(O$4:O498)+(100*SUM(T$4:T498))","v":0},{"$f":"IF(NOT(ISBLANK(B498)),(A498+P498)+(Settings!$B$5/24),\"\")","v":""},0,0,0,null,0,0,0,0,0,0,0,0]
[null,null,null,0,"*EOL*",0,null,0,"","","","","",{"$error":"#VALUE!"},0,"","",":0:0",{"$f":"IF(ISNA(VLOOKUP(R499,R$4:R498,1,FALSE)),FALSE,IF(O499>0,TRUE,FALSE))","v":false},{"$f":"IF(AND(C499<>\"\",$E499<>\"*ON*\",$E499<>\"*OFF*\",ISNA((VLOOKUP(C499&\"@\"&E499,Q$4:Q498,1,FALSE)))),1,0)","v":0},{"$f":"SUM(O$4:O499)+(100*SUM(T$4:T499))","v":0},{"$f":"IF(NOT(ISBLANK(B499)),(A499+P499)+(Settings!$B$5/24),\"\")","v":""},0,0,0,null,0,0,0,0,0,0,0,0]
[null,null,null,0,"*EOL*",0,null,0,"","","","","",{"$error":"#VALUE!"},0,"","",":0:0",{"$f":"IF(ISNA(VLOOKUP(R500,R$4:R499,1,FALSE)),FALSE,IF(O500>0,TRUE,FALSE))","v":false},{"$f":"IF(AND(C500<>\"\",$E500<>\"*ON*\",$E500<>\"*OFF*\",ISNA((VLOOKUP(C500&\"@\"&E500,Q$4:Q499,1,FALSE)))),1,0)","v":0},{"$f":"SUM(O$4:O500)+(100*SUM(T$4:T500))","v":0},{"$f":"IF(NOT(ISBLANK(B500)),(A500+P500)+(Settings!$B$5/24),\"\")","v":""},0,0,0,null,0,0,0,0,0,0,0,0]
[null,null,null,0,"*EOL*",0,null,0,"","","","","",{"$error":"#VALUE!"},0,"","",":0:0",{"$f":"IF(ISNA(VLOOKUP(R501,R$4:R500,1,FALSE)),FALSE,IF(O501>0,TRUE,FALSE))","v":false},{"$f":"IF(AND(C501<>\"\",$E501<>\"*ON*\",$E501<>\"*OFF*\",ISNA((VLOOKUP(C501&\"@\"&E501,Q$4:Q500,1,FALSE)))),1,0)","v":0},{"$f":"SUM(O$4:O501)+(100*SUM(T$4:T501))","v":0},{"$f":"IF(NOT(ISBLANK(B501)),(A501+P501)+(Settings!$B$5/24),\"\")","v":""},0,0,0,null,0,0,0,0,0,0,0,0]
[null,null,null,0,"*EOL*",0,null,0,"","","","","",{"$error":"#VALUE!"},0,"","",":0:0",{"$f":"IF(ISNA(VLOOKUP(R502,R$4:R501,1,FALSE)),FALSE,IF(O502>0,TRUE,FALSE))","v":false},{"$f":"IF(AND(C502<>\"\",$E502<>\"*ON*\",$E502<>\"*OFF*\",ISNA((VLOOKUP(C502&\"@\"&E502,Q$4:Q501,1,FALSE)))),1,0)","v":0},{"$f":"SUM(O$4:O502)+(100*SUM(T$4:T502))","v":0},{"$f":"IF(NOT(ISBLANK(B502)),(A502+P502)+(Settings!$B$5/24),\"\")","v":""},0,0,0,null,0,0,0,0,0,0,0,0]
[null,null,null,0,"*EOL*",0,null,0,"","","","","",{"$error":"#VALUE!"},0,"","",":0:0",{"$f":"IF(ISNA(VLOOKUP(R503,R$4:R502,1,FALSE)),FALSE,IF(O503>0,TRUE,FALSE))","v":false},{"$f":"IF(AND(C503<>\"\",$E503<>\"*ON*\",$E503<>\"*OFF*\",ISNA((VLOOKUP(C503&\"@\"&E503,Q$4:Q502,1,FALSE)))),1,0)","v":0},{"$f":"SUM(O$4:O503)+(100*SUM(T$4:T503))","v":0},{"$f":"IF(NOT(ISBLANK(B503)),(A503+P503)+(Settings!$B$5/24),\"\")","v":""},0,0,0,null,0,0,0,0,0,0,0,0]
[null,null,null,0,"*EOL*",0,null,0,"","","","","",{"$error":"#VALUE!"},0,"","",":0:0",{"$f":"IF(ISNA(VLOOKUP(R504,R$4:R503,1,FALSE)),FALSE,IF(O504>0,TRUE,FALSE))","v":false},{"$f":"IF(AND(C504<>\"\",$E504<>\"*ON*\",$E504<>\"*OFF*\",ISNA((VLOOKUP(C504&\"@\"&E504,Q$4:Q503,1,FALSE)))),1,0)","v":0},{"$f":"SUM(O$4:O504)+(100*SUM(T$4:T504))","v":0},{"$f":"IF(NOT(ISBLANK(B504)),(A504+P504)+(Settings!$B$5/24),\"\")","v":""},0,0,0,null,{"$f":"IF($E504=AA$3,$H504,0)","v":0},0,0,0,0,0,0,0]
[null,null,null,0,"*EOL*",0,null,0,"","","","","",{"$error":"#VALUE!"},0,"","",":0:0",{"$f":"IF(ISNA(VLOOKUP(R505,R$4:R504,1,FALSE)),FALSE,IF(O505>0,TRUE,FALSE))","v":false},{"$f":"IF(AND(C505<>\"\",$E505<>\"*ON*\",$E505<>\"*OFF*\",ISNA((VLOOKUP(C505&\"@\"&E505,Q$4:Q504,1,FALSE)))),1,0)","v":0},{"$f":"SUM(O$4:O505)+(100*SUM(T$4:T505))","v":0},{"$f":"IF(NOT(ISBLANK(B505)),(A505+P505)+(Settings!$B$5/24),\"\")","v":""},0,0,0,null,0,0,0,0,0,0,0,0]
[null,null,null,0,"*EOL*",0,null,0,"","","","","",{"$error":"#VALUE!"},0,"","",":0:0",{"$f":"IF(ISNA(VLOOKUP(R506,R$4:R505,1,FALSE)),FALSE,IF(O506>0,TRUE,FALSE))","v":false},{"$f":"IF(AND(C506<>\"\",$E506<>\"*ON*\",$E506<>\"*OFF*\",ISNA((VLOOKUP(C506&\"@\"&E506,Q$4:Q505,1,FALSE)))),1,0)","v":0},{"$f":"SUM(O$4:O506)+(100*SUM(T$4:T506))","v":0},{"$f":"IF(NOT(ISBLANK(B506)),(A506+P506)+(Settings!$B$5/24),\"\")","v":""},0,0,0,null,0,0,0,0,0,0,0,0]
[null,null,null,0,"*EOL*",0,null,0,"","","","","",{"$error":"#VALUE!"},0,"","",":0:0",{"$f":"IF(ISNA(VLOOKUP(R507,R$4:R506,1,FALSE)),FALSE,IF(O507>0,TRUE,FALSE))","v":false},{"$f":"IF(AND(C507<>\"\",$E507<>\"*ON*\",$E507<>\"*OFF*\",ISNA((VLOOKUP(C507&\"@\"&E507,Q$4:Q506,1,FALSE)))),1,0)","v":0},{"$f":"SUM(O$4:O507)+(100*SUM(T$4:T507))","v":0},{"$f":"IF(NOT(ISBLANK(B507)),(A507+P507)+(Settings!$B$5/24),\"\")","v":""},0,0,0,null,0,0,0,0,0,0,0,0]
[null,null,null,0,"*EOL*",0,null,0,"","","","","",{"$error":"#VALUE!"},0,"","",":0:0",{"$f":"IF(ISNA(VLOOKUP(R508,R$4:R507,1,FALSE)),FALSE,IF(O508>0,TRUE,FALSE))","v":false},{"$f":"IF(AND(C508<>\"\",$E508<>\"*ON*\",$E508<>\"*OFF*\",ISNA((VLOOKUP(C508&\"@\"&E508,Q$4:Q507,1,FALSE)))),1,0)","v":0},{"$f":"SUM(O$4:O508)+(100*SUM(T$4:T508))","v":0},{"$f":"IF(NOT(ISBLANK(B508)),(A508+P508)+(Settings!$B$5/24),\"\")","v":""},0,0,0,null,0,0,0,0,0,0,0,0]
[null,null,null,0,"*EOL*",0,null,0,"","","","","",{"$error":"#VALUE!"},0,"","",":0:0",{"$f":"IF(ISNA(VLOOKUP(R509,R$4:R508,1,FALSE)),FALSE,IF(O509>0,TRUE,FALSE))","v":false},{"$f":"IF(AND(C509<>\"\",$E509<>\"*ON*\",$E509<>\"*OFF*\",ISNA((VLOOKUP(C509&\"@\"&E509,Q$4:Q508,1,FALSE)))),1,0)","v":0},{"$f":"SUM(O$4:O509)+(100*SUM(T$4:T509))","v":0},{"$f":"IF(NOT(ISBLANK(B509)),(A509+P509)+(Settings!$B$5/24),\"\")","v":""},0,0,0,null,0,0,0,0,0,0,0,0]
[null,null,null,0,"*EOL*",0,null,0,"","","","","",{"$error":"#VALUE!"},0,"","",":0:0",{"$f":"IF(ISNA(VLOOKUP(R510,R$4:R509,1,FALSE)),FALSE,IF(O510>0,TRUE,FALSE))","v":false},{"$f":"IF(AND(C510<>\"\",$E510<>\"*ON*\",$E510<>\"*OFF*\",ISNA((VLOOKUP(C510&\"@\"&E510,Q$4:Q509,1,FALSE)))),1,0)","v":0},{"$f":"SUM(O$4:O510)+(100*SUM(T$4:T510))","v":0},{"$f":"IF(NOT(ISBLANK(B510)),(A510+P510)+(Settings!$B$5/24),\"\")","v":""},0,0,0,null,0,0,0,0,0,0,0,0]
[null,null,null,0,"*EOL*",0,null,0,"","","","","",{"$error":"#VALUE!"},0,"","",":0:0",{"$f":"IF(ISNA(VLOOKUP(R511,R$4:R510,1,FALSE)),FALSE,IF(O511>0,TRUE,FALSE))","v":false},{"$f":"IF(AND(C511<>\"\",$E511<>\"*ON*\",$E511<>\"*OFF*\",ISNA((VLOOKUP(C511&\"@\"&E511,Q$4:Q510,1,FALSE)))),1,0)","v":0},{"$f":"SUM(O$4:O511)+(100*SUM(T$4:T511))","v":0},{"$f":"IF(NOT(ISBLANK(B511)),(A511+P511)+(Settings!$B$5/24),\"\")","v":""},0,0,0,null,0,0,0,0,0,0,0,0]
[null,null,null,0,"*EOL*",0,null,0,"","","","","",{"$error":"#VALUE!"},0,"","",":0:0",{"$f":"IF(ISNA(VLOOKUP(R512,R$4:R511,1,FALSE)),FALSE,IF(O512>0,TRUE,FALSE))","v":false},{"$f":"IF(AND(C512<>\"\",$E512<>\"*ON*\",$E512<>\"*OFF*\",ISNA((VLOOKUP(C512&\"@\"&E512,Q$4:Q511,1,FALSE)))),1,0)","v":0},{"$f":"SUM(O$4:O512)+(100*SUM(T$4:T512))","v":0},{"$f":"IF(NOT(ISBLANK(B512)),(A512+P512)+(Settings!$B$5/24),\"\")","v":""},0,0,0,null,0,0,0,0,0,0,0,0]
[null,null,null,0,"*EOL*",0,null,0,"","","","","",{"$error":"#VALUE!"},0,"","",":0:0",{"$f":"IF(ISNA(VLOOKUP(R513,R$4:R512,1,FALSE)),FALSE,IF(O513>0,TRUE,FALSE))","v":false},{"$f":"IF(AND(C513<>\"\",$E513<>\"*ON*\",$E513<>\"*OFF*\",ISNA((VLOOKUP(C513&\"@\"&E513,Q$4:Q512,1,FALSE)))),1,0)","v":0},{"$f":"SUM(O$4:O513)+(100*SUM(T$4:T513))","v":0},{"$f":"IF(NOT(ISBLANK(B513)),(A513+P513)+(Settings!$B$5/24),\"\")","v":""},0,0,0,null,0,0,0,0,0,0,0,0]
[null,null,null,0,"*EOL*",0,null,0,"","","","","",{"$error":"#VALUE!"},0,"","",":0:0",{"$f":"IF(ISNA(VLOOKUP(R514,R$4:R513,1,FALSE)),FALSE,IF(O514>0,TRUE,FALSE))","v":false},{"$f":"IF(AND(C514<>\"\",$E514<>\"*ON*\",$E514<>\"*OFF*\",ISNA((VLOOKUP(C514&\"@\"&E514,Q$4:Q513,1,FALSE)))),1,0)","v":0},{"$f":"SUM(O$4:O514)+(100*SUM(T$4:T514))","v":0},{"$f":"IF(NOT(ISBLANK(B514)),(A514+P514)+(Settings!$B$5/24),\"\")","v":""},0,0,0,null,{"$f":"IF($E514=AA$3,$H514,0)","v":0},0,0,0,0,0,0,0]
[null,null,null,0,"*EOL*",0,null,0,"","","","","",{"$error":"#VALUE!"},0,"","",":0:0",{"$f":"IF(ISNA(VLOOKUP(R515,R$4:R514,1,FALSE)),FALSE,IF(O515>0,TRUE,FALSE))","v":false},{"$f":"IF(AND(C515<>\"\",$E515<>\"*ON*\",$E515<>\"*OFF*\",ISNA((VLOOKUP(C515&\"@\"&E515,Q$4:Q514,1,FALSE)))),1,0)","v":0},{"$f":"SUM(O$4:O515)+(100*SUM(T$4:T515))","v":0},{"$f":"IF(NOT(ISBLANK(B515)),(A515+P515)+(Settings!$B$5/24),\"\")","v":""},0,0,0,null,0,0,0,0,0,0,0,0]
[null,null,null,0,"*EOL*",0,null,0,"",{"$f":"MH2Lat(F516)","v":""},{"$f":"MH2Lon(F516)","v":""},{"$f":"MH2Lat(D516)","v":""},{"$f":"MH2Lon(D516)","v":""},{"$f":"Distance(J516,K516,L516,M516)","v":{"$error":"#VALUE!"}},0,{"$f":"IF(ISBLANK(B516),\"\",IF(LEN(B516)=1,TIMEVALUE(\"00:0\"&B516),IF(LEN(B516)=2,TIMEVALUE(\"00:\"&B516),IF(LEN(B516)=3,TIMEVALUE(\"0\"&LEFT(B516,1)&\":\"&RIGHT(B516,2)),TIMEVALUE(LEFT(B516,2)&\":\"&RIGHT(B516,2))))))","v":""},"",":0:0",{"$f":"IF(ISNA(VLOOKUP(R516,R$4:R515,1,FALSE)),FALSE,IF(O516>0,TRUE,FALSE))","v":false},{"$f":"IF(AND(C516<>\"\",$E516<>\"*ON*\",$E516<>\"*OFF*\",ISNA((VLOOKUP(C516&\"@\"&E516,Q$4:Q515,1,FALSE)))),1,0)","v":0},{"$f":"SUM(O$4:O516)+(100*SUM(T$4:T516))","v":0},{"$f":"IF(NOT(ISBLANK(B516)),(A516+P516)+(Settings!$B$5/24),\"\")","v":""},{"$f":"IF(E516=\"*ON*\",1,0)","v":0},{"$f":"IF(E516=\"*OFF*\",1,0)","v":0},0,null,0,0,0,0,0,0,0,0]
[null,null,null,0,"*EOL*",0,null,0,"","","","","",{"$error":"#VALUE!"},{"$f":"IF(NOT(ISERR(N517)),ROUND(N517,0),0)","v":0},"",{"$f":"IF(AND(NOT(ISBLANK(C517)),NOT(ISBLANK(E517))),C517&\"@\"&E517,\"\")","v":""},{"$f":"Q517&\":\"&F517&\":\"&D517","v":":0:0"},{"$f":"IF(ISNA(VLOOKUP(R517,R$4:R516,1,FALSE)),FALSE,IF(O517>0,TRUE,FALSE))","v":false},{"$f":"IF(AND(C517<>\"\",$E517<>\"*ON*\",$E517<>\"*OFF*\",ISNA((VLOOKUP(C517&\"@\"&E517,Q$4:Q516,1,FALSE)))),1,0)","v":0},{"$f":"SUM(O$4:O517)+(100*SUM(T$4:T517))","v":0},{"$f":"IF(NOT(ISBLANK(B517)),(A517+P517)+(Settings!$B$5/24),\"\")","v":""},0,0,0,null,0,0,0,0,0,0,0,0]
[null,null,null,0,"*EOL*",0,null,{"$f":"IF(OR($S518,ISERR($N518),ISBLANK($B518),ISBLANK($C518)),0,MAX(O518,1))","v":0},{"$f":"IF(OR(ISBLANK($B518),ISBLANK($C518),ISBLANK($D518),ISBLANK($F518),NOT($S518)),\"\",\"Dupe!\")","v":""},"","","","",{"$error":"#VALUE!"},0,"","",":0:0",{"$f":"IF(ISNA(VLOOKUP(R518,R$4:R517,1,FALSE)),FALSE,IF(O518>0,TRUE,FALSE))","v":false},{"$f":"IF(AND(C518<>\"\",$E518<>\"*ON*\",$E518<>\"*OFF*\",ISNA((VLOOKUP(C518&\"@\"&E518,Q$4:Q517,1,FALSE)))),1,0)","v":0},{"$f":"SUM(O$4:O518)+(100*SUM(T$4:T518))","v":0},{"$f":"IF(NOT(ISBLANK(B518)),(A518+P518)+(Settings!$B$5/24),\"\")","v":""},0,0,0,null,0,0,0,0,0,0,0,0]
[null,null,null,{"$f":"D518","v":0},{"$f":"E518","v":"*EOL*"},{"$f":"F518","v":0},null,0,"","","","","",{"$error":"#VALUE!"},0,"","",":0:0",{"$f":"IF(ISNA(VLOOKUP(R519,R$4:R518,1,FALSE)),FALSE,IF(O519>0,TRUE,FALSE))","v":false},{"$f":"IF(AND(C519<>\"\",$E519<>\"*ON*\",$E519<>\"*OFF*\",ISNA((VLOOKUP(C519&\"@\"&E519,Q$4:Q518,1,FALSE)))),1,0)","v":0},{"$f":"SUM(O$4:O519)+(100*SUM(T$4:T519))","v":0},{"$f":"IF(NOT(ISBLANK(B519)),(A519+P519)+(Settings!$B$5/24),\"\")","v":""},0,0,0,null,0,0,0,0,0,0,0,0]
[null,null,null,0,"*EOL*",0,null,0,"","","","","",{"$error":"#VALUE!"},0,"","",":0:0",{"$f":"IF(ISNA(VLOOKUP(R520,R$4:R519,1,FALSE)),FALSE,IF(O520>0,TRUE,FALSE))","v":false},{"$f":"IF(AND(C520<>\"\",$E520<>\"*ON*\",$E520<>\"*OFF*\",ISNA((VLOOKUP(C520&\"@\"&E520,Q$4:Q519,1,FALSE)))),1,0)","v":0},{"$f":"SUM(O$4:O520)+(100*SUM(T$4:T520))","v":0},{"$f":"IF(NOT(ISBLANK(B520)),(A520+P520)+(Settings!$B$5/24),\"\")","v":""},0,0,0,null,0,0,0,0,0,0,0,0]
[null,null,null,0,"*EOL*",0,null,0,"","","","","",{"$error":"#VALUE!"},0,"","",":0:0",{"$f":"IF(ISNA(VLOOKUP(R521,R$4:R520,1,FALSE)),FALSE,IF(O521>0,TRUE,FALSE))","v":false},{"$f":"IF(AND(C521<>\"\",$E521<>\"*ON*\",$E521<>\"*OFF*\",ISNA((VLOOKUP(C521&\"@\"&E521,Q$4:Q520,1,FALSE)))),1,0)","v":0},{"$f":"SUM(O$4:O521)+(100*SUM(T$4:T521))","v":0},{"$f":"IF(NOT(ISBLANK(B521)),(A521+P521)+(Settings!$B$5/24),\"\")","v":""},0,0,0,null,0,0,0,0,0,0,0,0]
[null,null,null,0,"*EOL*",0,null,0,"","","","","",{"$error":"#VALUE!"},0,"","",":0:0",{"$f":"IF(ISNA(VLOOKUP(R522,R$4:R521,1,FALSE)),FALSE,IF(O522>0,TRUE,FALSE))","v":false},{"$f":"IF(AND(C522<>\"\",$E522<>\"*ON*\",$E522<>\"*OFF*\",ISNA((VLOOKUP(C522&\"@\"&E522,Q$4:Q521,1,FALSE)))),1,0)","v":0},{"$f":"SUM(O$4:O522)+(100*SUM(T$4:T522))","v":0},{"$f":"IF(NOT(ISBLANK(B522)),(A522+P522)+(Settings!$B$5/24),\"\")","v":""},0,0,0,null,0,0,0,0,0,0,0,0]
[null,null,null,0,"*EOL*",0,null,0,"","","","","",{"$error":"#VALUE!"},0,"","",":0:0",{"$f":"IF(ISNA(VLOOKUP(R523,R$4:R522,1,FALSE)),FALSE,IF(O523>0,TRUE,FALSE))","v":false},{"$f":"IF(AND(C523<>\"\",$E523<>\"*ON*\",$E523<>\"*OFF*\",ISNA((VLOOKUP(C523&\"@\"&E523,Q$4:Q522,1,FALSE)))),1,0)","v":0},{"$f":"SUM(O$4:O523)+(100*SUM(T$4:T523))","v":0},{"$f":"IF(NOT(ISBLANK(B523)),(A523+P523)+(Settings!$B$5/24),\"\")","v":""},0,0,0,null,0,0,0,0,0,0,0,0]
[null,null,null,0,"*EOL*",0,null,0,"","","","","",{"$error":"#VALUE!"},0,"","",":0:0",{"$f":"IF(ISNA(VLOOKUP(R524,R$4:R523,1,FALSE)),FALSE,IF(O524>0,TRUE,FALSE))","v":false},{"$f":"IF(AND(C524<>\"\",$E524<>\"*ON*\",$E524<>\"*OFF*\",ISNA((VLOOKUP(C524&\"@\"&E524,Q$4:Q523,1,FALSE)))),1,0)","v":0},{"$f":"SUM(O$4:O524)+(100*SUM(T$4:T524))","v":0},{"$f":"IF(NOT(ISBLANK(B524)),(A524+P524)+(Settings!$B$5/24),\"\")","v":""},0,0,0,null,{"$f":"IF($E524=AA$3,$H524,0)","v":0},0,0,0,0,0,0,0]
[null,null,null,0,"*EOL*",0,null,0,"","","","","",{"$error":"#VALUE!"},0,"","",":0:0",{"$f":"IF(ISNA(VLOOKUP(R525,R$4:R524,1,FALSE)),FALSE,IF(O525>0,TRUE,FALSE))","v":false},{"$f":"IF(AND(C525<>\"\",$E525<>\"*ON*\",$E525<>\"*OFF*\",ISNA((VLOOKUP(C525&\"@\"&E525,Q$4:Q524,1,FALSE)))),1,0)","v":0},{"$f":"SUM(O$4:O525)+(100*SUM(T$4:T525))","v":0},{"$f":"IF(NOT(ISBLANK(B525)),(A525+P525)+(Settings!$B$5/24),\"\")","v":""},0,0,0,null,0,0,0,0,0,0,0,0]
[null,null,null,0,"*EOL*",0,null,0,"","","","","",{"$error":"#VALUE!"},0,"","",":0:0",{"$f":"IF(ISNA(VLOOKUP(R526,R$4:R525,1,FALSE)),FALSE,IF(O526>0,TRUE,FALSE))","v":false},{"$f":"IF(AND(C526<>\"\",$E526<>\"*ON*\",$E526<>\"*OFF*\",ISNA((VLOOKUP(C526&\"@\"&E526,Q$4:Q525,1,FALSE)))),1,0)","v":0},{"$f":"SUM(O$4:O526)+(100*SUM(T$4:T526))","v":0},{"$f":"IF(NOT(ISBLANK(B526)),(A526+P526)+(Settings!$B$5/24),\"\")","v":""},0,0,0,null,0,0,0,0,0,0,0,0]
[null,null,null,0,"*EOL*",0,null,0,"","","","","",{"$error":"#VALUE!"},0,"","",":0:0",{"$f":"IF(ISNA(VLOOKUP(R527,R$4:R526,1,FALSE)),FALSE,IF(O527>0,TRUE,FALSE))","v":false},{"$f":"IF(AND(C527<>\"\",$E527<>\"*ON*\",$E527<>\"*OFF*\",ISNA((VLOOKUP(C527&\"@\"&E527,Q$4:Q526,1,FALSE)))),1,0)","v":0},{"$f":"SUM(O$4:O527)+(100*SUM(T$4:T527))","v":0},{"$f":"IF(NOT(ISBLANK(B527)),(A527+P527)+(Settings!$B$5/24),\"\")","v":""},0,0,{"$f":"IF($E527=\"*EOL*\",0,IF(X526,0,V527-V526)*24)","v":0},null,0,0,0,0,0,0,0,0]
[null,null,null,0,"*EOL*",0,null,0,"","","","","",{"$error":"#VALUE!"},0,"","",":0:0",{"$f":"IF(ISNA(VLOOKUP(R528,R$4:R527,1,FALSE)),FALSE,IF(O528>0,TRUE,FALSE))","v":false},{"$f":"IF(AND(C528<>\"\",$E528<>\"*ON*\",$E528<>\"*OFF*\",ISNA((VLOOKUP(C528&\"@\"&E528,Q$4:Q527,1,FALSE)))),1,0)","v":0},{"$f":"SUM(O$4:O528)+(100*SUM(T$4:T528))","v":0},{"$f":"IF(NOT(ISBLANK(B528)),(A528+P528)+(Settings!$B$5/24),\"\")","v":""},0,0,0,null,0,0,0,0,0,0,0,0]
[null,null,null,0,"*EOL*",0,null,0,"","","","","",{"$error":"#VALUE!"},0,"","",":0:0",{"$f":"IF(ISNA(VLOOKUP(R529,R$4:R528,1,FALSE)),FALSE,IF(O529>0,TRUE,FALSE))","v":false},{"$f":"IF(AND(C529<>\"\",$E529<>\"*ON*\",$E529<>\"*OFF*\",ISNA((VLOOKUP(C529&\"@\"&E529,Q$4:Q528,1,FALSE)))),1,0)","v":0},{"$f":"SUM(O$4:O529)+(100*SUM(T$4:T529))","v":0},{"$f":"IF(NOT(ISBLANK(B529)),(A529+P529)+(Settings!$B$5/24),\"\")","v":""},0,0,0,null,0,0,0,0,0,0,0,0]
[null,null,null,0,"*EOL*",0,null,0,"","","","","",{"$error":"#VALUE!"},0,"","",":0:0",{"$f":"IF(ISNA(VLOOKUP(R530,R$4:R529,1,FALSE)),FALSE,IF(O530>0,TRUE,FALSE))","v":false},{"$f":"IF(AND(C530<>\"\",$E530<>\"*ON*\",$E530<>\"*OFF*\",ISNA((VLOOKUP(C530&\"@\"&E530,Q$4:Q529,1,FALSE)))),1,0)","v":0},{"$f":"SUM(O$4:O530)+(100*SUM(T$4:T530))","v":0},{"$f":"IF(NOT(ISBLANK(B530)),(A530+P530)+(Settings!$B$5/24),\"\")","v":""},0,0,0,null,0,0,0,0,0,0,0,0]
[null,null,null,0,"*EOL*",0,null,0,"","","","","",{"$error":"#VALUE!"},0,"","",":0:0",{"$f":"IF(ISNA(VLOOKUP(R531,R$4:R530,1,FALSE)),FALSE,IF(O531>0,TRUE,FALSE))","v":false},{"$f":"IF(AND(C531<>\"\",$E531<>\"*ON*\",$E531<>\"*OFF*\",ISNA((VLOOKUP(C531&\"@\"&E531,Q$4:Q530,1,FALSE)))),1,0)","v":0},{"$f":"SUM(O$4:O531)+(100*SUM(T$4:T531))","v":0},{"$f":"IF(NOT(ISBLANK(B531)),(A531+P531)+(Settings!$B$5/24),\"\")","v":""},0,0,0,null,0,0,0,0,0,0,0,0]
[null,null,null,0,"*EOL*",0,null,0,"","","","","",{"$error":"#VALUE!"},0,"","",":0:0",{"$f":"IF(ISNA(VLOOKUP(R532,R$4:R531,1,FALSE)),FALSE,IF(O532>0,TRUE,FALSE))","v":false},{"$f":"IF(AND(C532<>\"\",$E532<>\"*ON*\",$E532<>\"*OFF*\",ISNA((VLOOKUP(C532&\"@\"&E532,Q$4:Q531,1,FALSE)))),1,0)","v":0},{"$f":"SUM(O$4:O532)+(100*SUM(T$4:T532))","v":0},{"$f":"IF(NOT(ISBLANK(B532)),(A532+P532)+(Settings!$B$5/24),\"\")","v":""},0,0,0,null,0,0,0,0,0,0,0,0]
[null,null,null,0,"*EOL*",0,null,0,"","","","","",{"$error":"#VALUE!"},0,"","",":0:0",{"$f":"IF(ISNA(VLOOKUP(R533,R$4:R532,1,FALSE)),FALSE,IF(O533>0,TRUE,FALSE))","v":false},{"$f":"IF(AND(C533<>\"\",$E533<>\"*ON*\",$E533<>\"*OFF*\",ISNA((VLOOKUP(C533&\"@\"&E533,Q$4:Q532,1,FALSE)))),1,0)","v":0},{"$f":"SUM(O$4:O533)+(100*SUM(T$4:T533))","v":0},{"$f":"IF(NOT(ISBLANK(B533)),(A533+P533)+(Settings!$B$5/24),\"\")","v":""},0,0,0,null,0,0,0,0,0,0,0,0]
[null,null,null,0,"*EOL*",0,null,0,"","","","","",{"$error":"#VALUE!"},0,"","",":0:0",{"$f":"IF(ISNA(VLOOKUP(R534,R$4:R533,1,FALSE)),FALSE,IF(O534>0,TRUE,FALSE))","v":false},{"$f":"IF(AND(C534<>\"\",$E534<>\"*ON*\",$E534<>\"*OFF*\",ISNA((VLOOKUP(C534&\"@\"&E534,Q$4:Q533,1,FALSE)))),1,0)","v":0},{"$f":"SUM(O$4:O534)+(100*SUM(T$4:T534))","v":0},{"$f":"IF(NOT(ISBLANK(B534)),(A534+P534)+(Settings!$B$5/24),\"\")","v":""},0,0,0,null,{"$f":"IF($E534=AA$3,$H534,0)","v":0},0,0,0,0,0,0,0]
[null,null,null,0,"*EOL*",0,null,0,"","","","","",{"$error":"#VALUE!"},0,"","",":0:0",{"$f":"IF(ISNA(VLOOKUP(R535,R$4:R534,1,FALSE)),FALSE,IF(O535>0,TRUE,FALSE))","v":false},{"$f":"IF(AND(C535<>\"\",$E535<>\"*ON*\",$E535<>\"*OFF*\",ISNA((VLOOKUP(C535&\"@\"&E535,Q$4:Q534,1,FALSE)))),1,0)","v":0},{"$f":"SUM(O$4:O535)+(100*SUM(T$4:T535))","v":0},{"$f":"IF(NOT(ISBLANK(B535)),(A535+P535)+(Settings!$B$5/24),\"\")","v":""},0,0,0,null,0,0,0,0,0,0,0,0]
[null,null,null,0,"*EOL*",0,null,0,"","","","","",{"$error":"#VALUE!"},0,"","",":0:0",{"$f":"IF(ISNA(VLOOKUP(R536,R$4:R535,1,FALSE)),FALSE,IF(O536>0,TRUE,FALSE))","v":false},{"$f":"IF(AND(C536<>\"\",$E536<>\"*ON*\",$E536<>\"*OFF*\",ISNA((VLOOKUP(C536&\"@\"&E536,Q$4:Q535,1,FALSE)))),1,0)","v":0},{"$f":"SUM(O$4:O536)+(100*SUM(T$4:T536))","v":0},{"$f":"IF(NOT(ISBLANK(B536)),(A536+P536)+(Settings!$B$5/24),\"\")","v":""},0,0,0,null,0,0,0,0,0,0,0,0]
[null,null,null,0,"*EOL*",0,null,0,"","","","","",{"$error":"#VALUE!"},0,"","",":0:0",{"$f":"IF(ISNA(VLOOKUP(R537,R$4:R536,1,FALSE)),FALSE,IF(O537>0,TRUE,FALSE))","v":false},{"$f":"IF(AND(C537<>\"\",$E537<>\"*ON*\",$E537<>\"*OFF*\",ISNA((VLOOKUP(C537&\"@\"&E537,Q$4:Q536,1,FALSE)))),1,0)","v":0},{"$f":"SUM(O$4:O537)+(100*SUM(T$4:T537))","v":0},{"$f":"IF(NOT(ISBLANK(B537)),(A537+P537)+(Settings!$B$5/24),\"\")","v":""},0,0,0,null,0,0,0,0,0,0,0,0]
[null,null,null,0,"*EOL*",0,null,0,"","","","","",{"$error":"#VALUE!"},0,"","",":0:0",{"$f":"IF(ISNA(VLOOKUP(R538,R$4:R537,1,FALSE)),FALSE,IF(O538>0,TRUE,FALSE))","v":false},{"$f":"IF(AND(C538<>\"\",$E538<>\"*ON*\",$E538<>\"*OFF*\",ISNA((VLOOKUP(C538&\"@\"&E538,Q$4:Q537,1,FALSE)))),1,0)","v":0},{"$f":"SUM(O$4:O538)+(100*SUM(T$4:T538))","v":0},{"$f":"IF(NOT(ISBLANK(B538)),(A538+P538)+(Settings!$B$5/24),\"\")","v":""},0,0,0,null,0,0,0,0,0,0,0,0]
[null,null,null,0,"*EOL*",0,null,0,"","","","","",{"$error":"#VALUE!"},0,"","",":0:0",{"$f":"IF(ISNA(VLOOKUP(R539,R$4:R538,1,FALSE)),FALSE,IF(O539>0,TRUE,FALSE))","v":false},{"$f":"IF(AND(C539<>\"\",$E539<>\"*ON*\",$E539<>\"*OFF*\",ISNA((VLOOKUP(C539&\"@\"&E539,Q$4:Q538,1,FALSE)))),1,0)","v":0},{"$f":"SUM(O$4:O539)+(100*SUM(T$4:T539))","v":0},{"$f":"IF(NOT(ISBLANK(B539)),(A539+P539)+(Settings!$B$5/24),\"\")","v":""},0,0,0,null,0,0,0,0,0,0,0,0]
[null,null,null,0,"*EOL*",0,null,0,"","","","","",{"$error":"#VALUE!"},0,"","",":0:0",{"$f":"IF(ISNA(VLOOKUP(R540,R$4:R539,1,FALSE)),FALSE,IF(O540>0,TRUE,FALSE))","v":false},{"$f":"IF(AND(C540<>\"\",$E540<>\"*ON*\",$E540<>\"*OFF*\",ISNA((VLOOKUP(C540&\"@\"&E540,Q$4:Q539,1,FALSE)))),1,0)","v":0},{"$f":"SUM(O$4:O540)+(100*SUM(T$4:T540))","v":0},{"$f":"IF(NOT(ISBLANK(B540)),(A540+P540)+(Settings!$B$5/24),\"\")","v":""},0,0,0,null,0,0,0,0,0,0,0,0]
[null,null,null,0,"*EOL*",0,null,0,"","","","","",{"$error":"#VALUE!"},0,"","",":0:0",{"$f":"IF(ISNA(VLOOKUP(R541,R$4:R540,1,FALSE)),FALSE,IF(O541>0,TRUE,FALSE))","v":false},{"$f":"IF(AND(C541<>\"\",$E541<>\"*ON*\",$E541<>\"*OFF*\",ISNA((VLOOKUP(C541&\"@\"&E541,Q$4:Q540,1,FALSE)))),1,0)","v":0},{"$f":"SUM(O$4:O541)+(100*SUM(T$4:T541))","v":0},{"$f":"IF(NOT(ISBLANK(B541)),(A541+P541)+(Settings!$B$5/24),\"\")","v":""},0,0,0,null,0,0,0,0,0,0,0,0]
[null,null,null,0,"*EOL*",0,null,0,"","","","","",{"$error":"#VALUE!"},0,"","",":0:0",{"$f":"IF(ISNA(VLOOKUP(R542,R$4:R541,1,FALSE)),FALSE,IF(O542>0,TRUE,FALSE))","v":false},{"$f":"IF(AND(C542<>\"\",$E542<>\"*ON*\",$E542<>\"*OFF*\",ISNA((VLOOKUP(C542&\"@\"&E542,Q$4:Q541,1,FALSE)))),1,0)","v":0},{"$f":"SUM(O$4:O542)+(100*SUM(T$4:T542))","v":0},{"$f":"IF(NOT(ISBLANK(B542)),(A542+P542)+(Settings!$B$5/24),\"\")","v":""},0,0,0,null,0,0,0,0,0,0,0,0]
[null,null,null,0,"*EOL*",0,null,0,"","","","","",{"$error":"#VALUE!"},0,"","",":0:0",{"$f":"IF(ISNA(VLOOKUP(R543,R$4:R542,1,FALSE)),FALSE,IF(O543>0,TRUE,FALSE))","v":false},{"$f":"IF(AND(C543<>\"\",$E543<>\"*ON*\",$E543<>\"*OFF*\",ISNA((VLOOKUP(C543&\"@\"&E543,Q$4:Q542,1,FALSE)))),1,0)","v":0},{"$f":"SUM(O$4:O543)+(100*SUM(T$4:T543))","v":0},{"$f":"IF(NOT(ISBLANK(B543)),(A543+P543)+(Settings!$B$5/24),\"\")","v":""},0,0,0,null,0,0,0,0,0,0,0,0]
[null,null,null,0,"*EOL*",0,null,0,"","","","","",{"$error":"#VALUE!"},0,"","",":0:0",{"$f":"IF(ISNA(VLOOKUP(R544,R$4:R543,1,FALSE)),FALSE,IF(O544>0,TRUE,FALSE))","v":false},{"$f":"IF(AND(C544<>\"\",$E544<>\"*ON*\",$E544<>\"*OFF*\",ISNA((VLOOKUP(C544&\"@\"&E544,Q$4:Q543,1,FALSE)))),1,0)","v":0},{"$f":"SUM(O$4:O544)+(100*SUM(T$4:T544))","v":0},{"$f":"IF(NOT(ISBLANK(B544)),(A544+P544)+(Settings!$B$5/24),\"\")","v":""},0,0,0,null,{"$f":"IF($E544=AA$3,$H544,0)","v":0},0,0,0,0,0,0,0]
[null,null,null,0,"*EOL*",0,null,0,"","","","","",{"$error":"#VALUE!"},0,"","",":0:0",{"$f":"IF(ISNA(VLOOKUP(R545,R$4:R544,1,FALSE)),FALSE,IF(O545>0,TRUE,FALSE))","v":false},{"$f":"IF(AND(C545<>\"\",$E545<>\"*ON*\",$E545<>\"*OFF*\",ISNA((VLOOKUP(C545&\"@\"&E545,Q$4:Q544,1,FALSE)))),1,0)","v":0},{"$f":"SUM(O$4:O545)+(100*SUM(T$4:T545))","v":0},{"$f":"IF(NOT(ISBLANK(B545)),(A545+P545)+(Settings!$B$5/24),\"\")","v":""},0,0,0,null,0,0,0,0,0,0,0,0]
[null,null,null,0,"*EOL*",0,null,0,"","","","","",{"$error":"#VALUE!"},0,"","",":0:0",{"$f":"IF(ISNA(VLOOKUP(R546,R$4:R545,1,FALSE)),FALSE,IF(O546>0,TRUE,FALSE))","v":false},{"$f":"IF(AND(C546<>\"\",$E546<>\"*ON*\",$E546<>\"*OFF*\",ISNA((VLOOKUP(C546&\"@\"&E546,Q$4:Q545,1,FALSE)))),1,0)","v":0},{"$f":"SUM(O$4:O546)+(100*SUM(T$4:T546))","v":0},{"$f":"IF(NOT(ISBLANK(B546)),(A546+P546)+(Settings!$B$5/24),\"\")","v":""},0,0,0,null,0,0,0,0,0,0,0,0]
[null,null,null,0,"*EOL*",0,null,0,"","","","","",{"$error":"#VALUE!"},0,"","",":0:0",{"$f":"IF(ISNA(VLOOKUP(R547,R$4:R546,1,FALSE)),FALSE,IF(O547>0,TRUE,FALSE))","v":false},{"$f":"IF(AND(C547<>\"\",$E547<>\"*ON*\",$E547<>\"*OFF*\",ISNA((VLOOKUP(C547&\"@\"&E547,Q$4:Q546,1,FALSE)))),1,0)","v":0},{"$f":"SUM(O$4:O547)+(100*SUM(T$4:T547))","v":0},{"$f":"IF(NOT(ISBLANK(B547)),(A547+P547)+(Settings!$B$5/24),\"\")","v":""},0,0,0,null,0,0,0,0,0,0,0,0]
[null,null,null,0,"*EOL*",0,null,0,"","","","","",{"$error":"#VALUE!"},0,"","",":0:0",{"$f":"IF(ISNA(VLOOKUP(R548,R$4:R547,1,FALSE)),FALSE,IF(O548>0,TRUE,FALSE))","v":false},{"$f":"IF(AND(C548<>\"\",$E548<>\"*ON*\",$E548<>\"*OFF*\",ISNA((VLOOKUP(C548&\"@\"&E548,Q$4:Q547,1,FALSE)))),1,0)","v":0},{"$f":"SUM(O$4:O548)+(100*SUM(T$4:T548))","v":0},{"$f":"IF(NOT(ISBLANK(B548)),(A548+P548)+(Settings!$B$5/24),\"\")","v":""},0,0,0,null,0,0,0,0,0,0,0,0]
[null,null,null,0,"*EOL*",0,null,0,"","","","","",{"$error":"#VALUE!"},0,"","",":0:0",{"$f":"IF(ISNA(VLOOKUP(R549,R$4:R548,1,FALSE)),FALSE,IF(O549>0,TRUE,FALSE))","v":false},{"$f":"IF(AND(C549<>\"\",$E549<>\"*ON*\",$E549<>\"*OFF*\",ISNA((VLOOKUP(C549&\"@\"&E549,Q$4:Q548,1,FALSE)))),1,0)","v":0},{"$f":"SUM(O$4:O549)+(100*SUM(T$4:T549))","v":0},{"$f":"IF(NOT(ISBLANK(B549)),(A549+P549)+(Settings!$B$5/24),\"\")","v":""},0,0,0,null,0,0,0,0,0,0,0,0]
[null,null,null,0,"*EOL*",0,null,0,"","","","","",{"$error":"#VALUE!"},0,"","",":0:0",{"$f":"IF(ISNA(VLOOKUP(R550,R$4:R549,1,FALSE)),FALSE,IF(O550>0,TRUE,FALSE))","v":false},{"$f":"IF(AND(C550<>\"\",$E550<>\"*ON*\",$E550<>\"*OFF*\",ISNA((VLOOKUP(C550&\"@\"&E550,Q$4:Q549,1,FALSE)))),1,0)","v":0},{"$f":"SUM(O$4:O550)+(100*SUM(T$4:T550))","v":0},{"$f":"IF(NOT(ISBLANK(B550)),(A550+P550)+(Settings!$B$5/24),\"\")","v":""},0,0,0,null,0,0,0,0,0,0,0,0]
[null,null,null,0,"*EOL*",0,null,0,"","","","","",{"$error":"#VALUE!"},0,"","",":0:0",{"$f":"IF(ISNA(VLOOKUP(R551,R$4:R550,1,FALSE)),FALSE,IF(O551>0,TRUE,FALSE))","v":false},{"$f":"IF(AND(C551<>\"\",$E551<>\"*ON*\",$E551<>\"*OFF*\",ISNA((VLOOKUP(C551&\"@\"&E551,Q$4:Q550,1,FALSE)))),1,0)","v":0},{"$f":"SUM(O$4:O551)+(100*SUM(T$4:T551))","v":0},{"$f":"IF(NOT(ISBLANK(B551)),(A551+P551)+(Settings!$B$5/24),\"\")","v":""},0,0,0,null,0,0,0,0,0,0,0,0]
[null,null,null,0,"*EOL*",0,null,0,"","","","","",{"$error":"#VALUE!"},0,"","",":0:0",{"$f":"IF(ISNA(VLOOKUP(R552,R$4:R551,1,FALSE)),FALSE,IF(O552>0,TRUE,FALSE))","v":false},{"$f":"IF(AND(C552<>\"\",$E552<>\"*ON*\",$E552<>\"*OFF*\",ISNA((VLOOKUP(C552&\"@\"&E552,Q$4:Q551,1,FALSE)))),1,0)","v":0},{"$f":"SUM(O$4:O552)+(100*SUM(T$4:T552))","v":0},{"$f":"IF(NOT(ISBLANK(B552)),(A552+P552)+(Settings!$B$5/24),\"\")","v":""},0,0,0,null,0,0,0,0,0,0,0,0]
[null,null,null,0,"*EOL*",0,null,0,"","","","","",{"$error":"#VALUE!"},0,"","",":0:0",{"$f":"IF(ISNA(VLOOKUP(R553,R$4:R552,1,FALSE)),FALSE,IF(O553>0,TRUE,FALSE))","v":false},{"$f":"IF(AND(C553<>\"\",$E553<>\"*ON*\",$E553<>\"*OFF*\",ISNA((VLOOKUP(C553&\"@\"&E553,Q$4:Q552,1,FALSE)))),1,0)","v":0},{"$f":"SUM(O$4:O553)+(100*SUM(T$4:T553))","v":0},{"$f":"IF(NOT(ISBLANK(B553)),(A553+P553)+(Settings!$B$5/24),\"\")","v":""},0,0,0,null,0,0,0,0,0,0,0,0]
[null,null,null,0,"*EOL*",0,null,0,"","","","","",{"$error":"#VALUE!"},0,"","",":0:0",{"$f":"IF(ISNA(VLOOKUP(R554,R$4:R553,1,FALSE)),FALSE,IF(O554>0,TRUE,FALSE))","v":false},{"$f":"IF(AND(C554<>\"\",$E554<>\"*ON*\",$E554<>\"*OFF*\",ISNA((VLOOKUP(C554&\"@\"&E554,Q$4:Q553,1,FALSE)))),1,0)","v":0},{"$f":"SUM(O$4:O554)+(100*SUM(T$4:T554))","v":0},{"$f":"IF(NOT(ISBLANK(B554)),(A554+P554)+(Settings!$B$5/24),\"\")","v":""},0,0,0,null,{"$f":"IF($E554=AA$3,$H554,0)","v":0},0,0,0,0,0,0,0]
[null,null,null,0,"*EOL*",0,null,0,"","","","","",{"$error":"#VALUE!"},0,"","",":0:0",{"$f":"IF(ISNA(VLOOKUP(R555,R$4:R554,1,FALSE)),FALSE,IF(O555>0,TRUE,FALSE))","v":false},{"$f":"IF(AND(C555<>\"\",$E555<>\"*ON*\",$E555<>\"*OFF*\",ISNA((VLOOKUP(C555&\"@\"&E555,Q$4:Q554,1,FALSE)))),1,0)","v":0},{"$f":"SUM(O$4:O555)+(100*SUM(T$4:T555))","v":0},{"$f":"IF(NOT(ISBLANK(B555)),(A555+P555)+(Settings!$B$5/24),\"\")","v":""},0,0,0,null,0,0,0,0,0,0,0,0]
[null,null,null,0,"*EOL*",0,null,0,"","","","","",{"$error":"#VALUE!"},0,"","",":0:0",{"$f":"IF(ISNA(VLOOKUP(R556,R$4:R555,1,FALSE)),FALSE,IF(O556>0,TRUE,FALSE))","v":false},{"$f":"IF(AND(C556<>\"\",$E556<>\"*ON*\",$E556<>\"*OFF*\",ISNA((VLOOKUP(C556&\"@\"&E556,Q$4:Q555,1,FALSE)))),1,0)","v":0},{"$f":"SUM(O$4:O556)+(100*SUM(T$4:T556))","v":0},{"$f":"IF(NOT(ISBLANK(B556)),(A556+P556)+(Settings!$B$5/24),\"\")","v":""},0,0,0,null,0,0,0,0,0,0,0,0]
[null,null,null,0,"*EOL*",0,null,0,"","","","","",{"$error":"#VALUE!"},0,"","",":0:0",{"$f":"IF(ISNA(VLOOKUP(R557,R$4:R556,1,FALSE)),FALSE,IF(O557>0,TRUE,FALSE))","v":false},{"$f":"IF(AND(C557<>\"\",$E557<>\"*ON*\",$E557<>\"*OFF*\",ISNA((VLOOKUP(C557&\"@\"&E557,Q$4:Q556,1,FALSE)))),1,0)","v":0},{"$f":"SUM(O$4:O557)+(100*SUM(T$4:T557))","v":0},{"$f":"IF(NOT(ISBLANK(B557)),(A557+P557)+(Settings!$B$5/24),\"\")","v":""},0,0,0,null,0,0,0,0,0,0,0,0]
[null,null,null,0,"*EOL*",0,null,0,"","","","","",{"$error":"#VALUE!"},0,"","",":0:0",{"$f":"IF(ISNA(VLOOKUP(R558,R$4:R557,1,FALSE)),FALSE,IF(O558>0,TRUE,FALSE))","v":false},{"$f":"IF(AND(C558<>\"\",$E558<>\"*ON*\",$E558<>\"*OFF*\",ISNA((VLOOKUP(C558&\"@\"&E558,Q$4:Q557,1,FALSE)))),1,0)","v":0},{"$f":"SUM(O$4:O558)+(100*SUM(T$4:T558))","v":0},{"$f":"IF(NOT(ISBLANK(B558)),(A558+P558)+(Settings!$B$5/24),\"\")","v":""},0,0,0,null,0,0,0,0,0,0,0,0]
[null,null,null,0,"*EOL*",0,null,0,"","","","","",{"$error":"#VALUE!"},0,"","",":0:0",{"$f":"IF(ISNA(VLOOKUP(R559,R$4:R558,1,FALSE)),FALSE,IF(O559>0,TRUE,FALSE))","v":false},{"$f":"IF(AND(C559<>\"\",$E559<>\"*ON*\",$E559<>\"*OFF*\",ISNA((VLOOKUP(C559&\"@\"&E559,Q$4:Q558,1,FALSE)))),1,0)","v":0},{"$f":"SUM(O$4:O559)+(100*SUM(T$4:T559))","v":0},{"$f":"IF(NOT(ISBLANK(B559)),(A559+P559)+(Settings!$B$5/24),\"\")","v":""},0,0,0,null,0,0,0,0,0,0,0,0]
[null,null,null,0,"*EOL*",0,null,0,"","","","","",{"$error":"#VALUE!"},0,"","",":0:0",{"$f":"IF(ISNA(VLOOKUP(R560,R$4:R559,1,FALSE)),FALSE,IF(O560>0,TRUE,FALSE))","v":false},{"$f":"IF(AND(C560<>\"\",$E560<>\"*ON*\",$E560<>\"*OFF*\",ISNA((VLOOKUP(C560&\"@\"&E560,Q$4:Q559,1,FALSE)))),1,0)","v":0},{"$f":"SUM(O$4:O560)+(100*SUM(T$4:T560))","v":0},{"$f":"IF(NOT(ISBLANK(B560)),(A560+P560)+(Settings!$B$5/24),\"\")","v":""},0,0,0,null,0,0,0,0,0,0,0,0]
[null,null,null,0,"*EOL*",0,null,0,"","","","","",{"$error":"#VALUE!"},0,"","",":0:0",{"$f":"IF(ISNA(VLOOKUP(R561,R$4:R560,1,FALSE)),FALSE,IF(O561>0,TRUE,FALSE))","v":false},{"$f":"IF(AND(C561<>\"\",$E561<>\"*ON*\",$E561<>\"*OFF*\",ISNA((VLOOKUP(C561&\"@\"&E561,Q$4:Q560,1,FALSE)))),1,0)","v":0},{"$f":"SUM(O$4:O561)+(100*SUM(T$4:T561))","v":0},{"$f":"IF(NOT(ISBLANK(B561)),(A561+P561)+(Settings!$B$5/24),\"\")","v":""},0,0,0,null,0,0,0,0,0,0,0,0]
[null,null,null,0,"*EOL*",0,null,0,"","","","","",{"$error":"#VALUE!"},0,"","",":0:0",{"$f":"IF(ISNA(VLOOKUP(R562,R$4:R561,1,FALSE)),FALSE,IF(O562>0,TRUE,FALSE))","v":false},{"$f":"IF(AND(C562<>\"\",$E562<>\"*ON*\",$E562<>\"*OFF*\",ISNA((VLOOKUP(C562&\"@\"&E562,Q$4:Q561,1,FALSE)))),1,0)","v":0},{"$f":"SUM(O$4:O562)+(100*SUM(T$4:T562))","v":0},{"$f":"IF(NOT(ISBLANK(B562)),(A562+P562)+(Settings!$B$5/24),\"\")","v":""},0,0,0,null,0,0,0,0,0,0,0,0]
[null,null,null,0,"*EOL*",0,null,0,"","","","","",{"$error":"#VALUE!"},0,"","",":0:0",{"$f":"IF(ISNA(VLOOKUP(R563,R$4:R562,1,FALSE)),FALSE,IF(O563>0,TRUE,FALSE))","v":false},{"$f":"IF(AND(C563<>\"\",$E563<>\"*ON*\",$E563<>\"*OFF*\",ISNA((VLOOKUP(C563&\"@\"&E563,Q$4:Q562,1,FALSE)))),1,0)","v":0},{"$f":"SUM(O$4:O563)+(100*SUM(T$4:T563))","v":0},{"$f":"IF(NOT(ISBLANK(B563)),(A563+P563)+(Settings!$B$5/24),\"\")","v":""},0,0,0,null,0,0,0,0,0,0,0,0]
[null,null,null,0,"*EOL*",0,null,0,"","","","","",{"$error":"#VALUE!"},0,"","",":0:0",{"$f":"IF(ISNA(VLOOKUP(R564,R$4:R563,1,FALSE)),FALSE,IF(O564>0,TRUE,FALSE))","v":false},{"$f":"IF(AND(C564<>\"\",$E564<>\"*ON*\",$E564<>\"*OFF*\",ISNA((VLOOKUP(C564&\"@\"&E564,Q$4:Q563,1,FALSE)))),1,0)","v":0},{"$f":"SUM(O$4:O564)+(100*SUM(T$4:T564))","v":0},{"$f":"IF(NOT(ISBLANK(B564)),(A564+P564)+(Settings!$B$5/24),\"\")","v":""},0,0,0,null,{"$f":"IF($E564=AA$3,$H564,0)","v":0},0,0,0,0,0,0,0]
[null,null,null,0,"*EOL*",0,null,0,"","","","","",{"$error":"#VALUE!"},0,"","",":0:0",{"$f":"IF(ISNA(VLOOKUP(R565,R$4:R564,1,FALSE)),FALSE,IF(O565>0,TRUE,FALSE))","v":false},{"$f":"IF(AND(C565<>\"\",$E565<>\"*ON*\",$E565<>\"*OFF*\",ISNA((VLOOKUP(C565&\"@\"&E565,Q$4:Q564,1,FALSE)))),1,0)","v":0},{"$f":"SUM(O$4:O565)+(100*SUM(T$4:T565))","v":0},{"$f":"IF(NOT(ISBLANK(B565)),(A565+P565)+(Settings!$B$5/24),\"\")","v":""},0,0,0,null,0,0,0,0,0,0,0,0]
[null,null,null,0,"*EOL*",0,null,0,"","","","","",{"$error":"#VALUE!"},0,"","",":0:0",{"$f":"IF(ISNA(VLOOKUP(R566,R$4:R565,1,FALSE)),FALSE,IF(O566>0,TRUE,FALSE))","v":false},{"$f":"IF(AND(C566<>\"\",$E566<>\"*ON*\",$E566<>\"*OFF*\",ISNA((VLOOKUP(C566&\"@\"&E566,Q$4:Q565,1,FALSE)))),1,0)","v":0},{"$f":"SUM(O$4:O566)+(100*SUM(T$4:T566))","v":0},{"$f":"IF(NOT(ISBLANK(B566)),(A566+P566)+(Settings!$B$5/24),\"\")","v":""},0,0,0,null,0,0,0,0,0,0,0,0]
[null,null,null,0,"*EOL*",0,null,0,"","","","","",{"$error":"#VALUE!"},0,"","",":0:0",{"$f":"IF(ISNA(VLOOKUP(R567,R$4:R566,1,FALSE)),FALSE,IF(O567>0,TRUE,FALSE))","v":false},{"$f":"IF(AND(C567<>\"\",$E567<>\"*ON*\",$E567<>\"*OFF*\",ISNA((VLOOKUP(C567&\"@\"&E567,Q$4:Q566,1,FALSE)))),1,0)","v":0},{"$f":"SUM(O$4:O567)+(100*SUM(T$4:T567))","v":0},{"$f":"IF(NOT(ISBLANK(B567)),(A567+P567)+(Settings!$B$5/24),\"\")","v":""},0,0,0,null,0,0,0,0,0,0,0,0]
[null,null,null,0,"*EOL*",0,null,0,"","","","","",{"$error":"#VALUE!"},0,"","",":0:0",{"$f":"IF(ISNA(VLOOKUP(R568,R$4:R567,1,FALSE)),FALSE,IF(O568>0,TRUE,FALSE))","v":false},{"$f":"IF(AND(C568<>\"\",$E568<>\"*ON*\",$E568<>\"*OFF*\",ISNA((VLOOKUP(C568&\"@\"&E568,Q$4:Q567,1,FALSE)))),1,0)","v":0},{"$f":"SUM(O$4:O568)+(100*SUM(T$4:T568))","v":0},{"$f":"IF(NOT(ISBLANK(B568)),(A568+P568)+(Settings!$B$5/24),\"\")","v":""},0,0,0,null,0,0,0,0,0,0,0,0]
[null,null,null,0,"*EOL*",0,null,0,"","","","","",{"$error":"#VALUE!"},0,"","",":0:0",{"$f":"IF(ISNA(VLOOKUP(R569,R$4:R568,1,FALSE)),FALSE,IF(O569>0,TRUE,FALSE))","v":false},{"$f":"IF(AND(C569<>\"\",$E569<>\"*ON*\",$E569<>\"*OFF*\",ISNA((VLOOKUP(C569&\"@\"&E569,Q$4:Q568,1,FALSE)))),1,0)","v":0},{"$f":"SUM(O$4:O569)+(100*SUM(T$4:T569))","v":0},{"$f":"IF(NOT(ISBLANK(B569)),(A569+P569)+(Settings!$B$5/24),\"\")","v":""},0,0,0,null,0,0,0,0,0,0,0,0]
[null,null,null,0,"*EOL*",0,null,0,"","","","","",{"$error":"#VALUE!"},0,"","",":0:0",{"$f":"IF(ISNA(VLOOKUP(R570,R$4:R569,1,FALSE)),FALSE,IF(O570>0,TRUE,FALSE))","v":false},{"$f":"IF(AND(C570<>\"\",$E570<>\"*ON*\",$E570<>\"*OFF*\",ISNA((VLOOKUP(C570&\"@\"&E570,Q$4:Q569,1,FALSE)))),1,0)","v":0},{"$f":"SUM(O$4:O570)+(100*SUM(T$4:T570))","v":0},{"$f":"IF(NOT(ISBLANK(B570)),(A570+P570)+(Settings!$B$5/24),\"\")","v":""},0,0,0,null,0,0,0,0,0,0,0,0]
[null,null,null,0,"*EOL*",0,null,0,"","","","","",{"$error":"#VALUE!"},0,"","",":0:0",{"$f":"IF(ISNA(VLOOKUP(R571,R$4:R570,1,FALSE)),FALSE,IF(O571>0,TRUE,FALSE))","v":false},{"$f":"IF(AND(C571<>\"\",$E571<>\"*ON*\",$E571<>\"*OFF*\",ISNA((VLOOKUP(C571&\"@\"&E571,Q$4:Q570,1,FALSE)))),1,0)","v":0},{"$f":"SUM(O$4:O571)+(100*SUM(T$4:T571))","v":0},{"$f":"IF(NOT(ISBLANK(B571)),(A571+P571)+(Settings!$B$5/24),\"\")","v":""},0,0,0,null,0,0,0,0,0,0,0,0]
[null,null,null,0,"*EOL*",0,null,0,"","","","","",{"$error":"#VALUE!"},0,"","",":0:0",{"$f":"IF(ISNA(VLOOKUP(R572,R$4:R571,1,FALSE)),FALSE,IF(O572>0,TRUE,FALSE))","v":false},{"$f":"IF(AND(C572<>\"\",$E572<>\"*ON*\",$E572<>\"*OFF*\",ISNA((VLOOKUP(C572&\"@\"&E572,Q$4:Q571,1,FALSE)))),1,0)","v":0},{"$f":"SUM(O$4:O572)+(100*SUM(T$4:T572))","v":0},{"$f":"IF(NOT(ISBLANK(B572)),(A572+P572)+(Settings!$B$5/24),\"\")","v":""},0,0,0,null,0,0,0,0,0,0,0,0]
[null,null,null,0,"*EOL*",0,null,0,"","","","","",{"$error":"#VALUE!"},0,"","",":0:0",{"$f":"IF(ISNA(VLOOKUP(R573,R$4:R572,1,FALSE)),FALSE,IF(O573>0,TRUE,FALSE))","v":false},{"$f":"IF(AND(C573<>\"\",$E573<>\"*ON*\",$E573<>\"*OFF*\",ISNA((VLOOKUP(C573&\"@\"&E573,Q$4:Q572,1,FALSE)))),1,0)","v":0},{"$f":"SUM(O$4:O573)+(100*SUM(T$4:T573))","v":0},{"$f":"IF(NOT(ISBLANK(B573)),(A573+P573)+(Settings!$B$5/24),\"\")","v":""},0,0,0,null,0,0,0,0,0,0,0,0]
[null,null,null,0,"*EOL*",0,null,0,"","","","","",{"$error":"#VALUE!"},0,"","",":0:0",{"$f":"IF(ISNA(VLOOKUP(R574,R$4:R573,1,FALSE)),FALSE,IF(O574>0,TRUE,FALSE))","v":false},{"$f":"IF(AND(C574<>\"\",$E574<>\"*ON*\",$E574<>\"*OFF*\",ISNA((VLOOKUP(C574&\"@\"&E574,Q$4:Q573,1,FALSE)))),1,0)","v":0},{"$f":"SUM(O$4:O574)+(100*SUM(T$4:T574))","v":0},{"$f":"IF(NOT(ISBLANK(B574)),(A574+P574)+(Settings!$B$5/24),\"\")","v":""},0,0,0,null,{"$f":"IF($E574=AA$3,$H574,0)","v":0},0,0,0,0,0,0,0]
[null,null,null,0,"*EOL*",0,null,0,"","","","","",{"$error":"#VALUE!"},0,"","",":0:0",{"$f":"IF(ISNA(VLOOKUP(R575,R$4:R574,1,FALSE)),FALSE,IF(O575>0,TRUE,FALSE))","v":false},{"$f":"IF(AND(C575<>\"\",$E575<>\"*ON*\",$E575<>\"*OFF*\",ISNA((VLOOKUP(C575&\"@\"&E575,Q$4:Q574,1,FALSE)))),1,0)","v":0},{"$f":"SUM(O$4:O575)+(100*SUM(T$4:T575))","v":0},{"$f":"IF(NOT(ISBLANK(B575)),(A575+P575)+(Settings!$B$5/24),\"\")","v":""},0,0,0,null,0,0,0,0,0,0,0,0]
[null,null,null,0,"*EOL*",0,null,0,"","","","","",{"$error":"#VALUE!"},0,"","",":0:0",{"$f":"IF(ISNA(VLOOKUP(R576,R$4:R575,1,FALSE)),FALSE,IF(O576>0,TRUE,FALSE))","v":false},{"$f":"IF(AND(C576<>\"\",$E576<>\"*ON*\",$E576<>\"*OFF*\",ISNA((VLOOKUP(C576&\"@\"&E576,Q$4:Q575,1,FALSE)))),1,0)","v":0},{"$f":"SUM(O$4:O576)+(100*SUM(T$4:T576))","v":0},{"$f":"IF(NOT(ISBLANK(B576)),(A576+P576)+(Settings!$B$5/24),\"\")","v":""},0,0,0,null,0,0,0,0,0,0,0,0]
[null,null,null,0,"*EOL*",0,null,0,"","","","","",{"$error":"#VALUE!"},0,"","",":0:0",{"$f":"IF(ISNA(VLOOKUP(R577,R$4:R576,1,FALSE)),FALSE,IF(O577>0,TRUE,FALSE))","v":false},{"$f":"IF(AND(C577<>\"\",$E577<>\"*ON*\",$E577<>\"*OFF*\",ISNA((VLOOKUP(C577&\"@\"&E577,Q$4:Q576,1,FALSE)))),1,0)","v":0},{"$f":"SUM(O$4:O577)+(100*SUM(T$4:T577))","v":0},{"$f":"IF(NOT(ISBLANK(B577)),(A577+P577)+(Settings!$B$5/24),\"\")","v":""},0,0,0,null,0,0,0,0,0,0,0,0]
[null,null,null,0,"*EOL*",0,null,0,"","","","","",{"$error":"#VALUE!"},0,"","",":0:0",{"$f":"IF(ISNA(VLOOKUP(R578,R$4:R577,1,FALSE)),FALSE,IF(O578>0,TRUE,FALSE))","v":false},{"$f":"IF(AND(C578<>\"\",$E578<>\"*ON*\",$E578<>\"*OFF*\",ISNA((VLOOKUP(C578&\"@\"&E578,Q$4:Q577,1,FALSE)))),1,0)","v":0},{"$f":"SUM(O$4:O578)+(100*SUM(T$4:T578))","v":0},{"$f":"IF(NOT(ISBLANK(B578)),(A578+P578)+(Settings!$B$5/24),\"\")","v":""},0,0,0,null,0,0,0,0,0,0,0,0]
[null,null,null,0,"*EOL*",0,null,0,"","","","","",{"$error":"#VALUE!"},0,"","",":0:0",{"$f":"IF(ISNA(VLOOKUP(R579,R$4:R578,1,FALSE)),FALSE,IF(O579>0,TRUE,FALSE))","v":false},{"$f":"IF(AND(C579<>\"\",$E579<>\"*ON*\",$E579<>\"*OFF*\",ISNA((VLOOKUP(C579&\"@\"&E579,Q$4:Q578,1,FALSE)))),1,0)","v":0},{"$f":"SUM(O$4:O579)+(100*SUM(T$4:T579))","v":0},{"$f":"IF(NOT(ISBLANK(B579)),(A579+P579)+(Settings!$B$5/24),\"\")","v":""},0,0,0,null,0,0,0,0,0,0,0,0]
[null,null,null,0,"*EOL*",0,null,0,"",{"$f":"MH2Lat(F580)","v":""},{"$f":"MH2Lon(F580)","v":""},{"$f":"MH2Lat(D580)","v":""},{"$f":"MH2Lon(D580)","v":""},{"$f":"Distance(J580,K580,L580,M580)","v":{"$error":"#VALUE!"}},0,{"$f":"IF(ISBLANK(B580),\"\",IF(LEN(B580)=1,TIMEVALUE(\"00:0\"&B580),IF(LEN(B580)=2,TIMEVALUE(\"00:\"&B580),IF(LEN(B580)=3,TIMEVALUE(\"0\"&LEFT(B580,1)&\":\"&RIGHT(B580,2)),TIMEVALUE(LEFT(B580,2)&\":\"&RIGHT(B580,2))))))","v":""},"",":0:0",{"$f":"IF(ISNA(VLOOKUP(R580,R$4:R579,1,FALSE)),FALSE,IF(O580>0,TRUE,FALSE))","v":false},{"$f":"IF(AND(C580<>\"\",$E580<>\"*ON*\",$E580<>\"*OFF*\",ISNA((VLOOKUP(C580&\"@\"&E580,Q$4:Q579,1,FALSE)))),1,0)","v":0},{"$f":"SUM(O$4:O580)+(100*SUM(T$4:T580))","v":0},{"$f":"IF(NOT(ISBLANK(B580)),(A580+P580)+(Settings!$B$5/24),\"\")","v":""},{"$f":"IF(E580=\"*ON*\",1,0)","v":0},{"$f":"IF(E580=\"*OFF*\",1,0)","v":0},0,null,0,0,0,0,0,0,0,0]
[null,null,null,0,"*EOL*",0,null,0,"","","","","",{"$error":"#VALUE!"},{"$f":"IF(NOT(ISERR(N581)),ROUND(N581,0),0)","v":0},"",{"$f":"IF(AND(NOT(ISBLANK(C581)),NOT(ISBLANK(E581))),C581&\"@\"&E581,\"\")","v":""},{"$f":"Q581&\":\"&F581&\":\"&D581","v":":0:0"},{"$f":"IF(ISNA(VLOOKUP(R581,R$4:R580,1,FALSE)),FALSE,IF(O581>0,TRUE,FALSE))","v":false},{"$f":"IF(AND(C581<>\"\",$E581<>\"*ON*\",$E581<>\"*OFF*\",ISNA((VLOOKUP(C581&\"@\"&E581,Q$4:Q580,1,FALSE)))),1,0)","v":0},{"$f":"SUM(O$4:O581)+(100*SUM(T$4:T581))","v":0},{"$f":"IF(NOT(ISBLANK(B581)),(A581+P581)+(Settings!$B$5/24),\"\")","v":""},0,0,0,null,0,0,0,0,0,0,0,0]
[null,null,null,0,"*EOL*",0,null,{"$f":"IF(OR($S582,ISERR($N582),ISBLANK($B582),ISBLANK($C582)),0,MAX(O582,1))","v":0},{"$f":"IF(OR(ISBLANK($B582),ISBLANK($C582),ISBLANK($D582),ISBLANK($F582),NOT($S582)),\"\",\"Dupe!\")","v":""},"","","","",{"$error":"#VALUE!"},0,"","",":0:0",{"$f":"IF(ISNA(VLOOKUP(R582,R$4:R581,1,FALSE)),FALSE,IF(O582>0,TRUE,FALSE))","v":false},{"$f":"IF(AND(C582<>\"\",$E582<>\"*ON*\",$E582<>\"*OFF*\",ISNA((VLOOKUP(C582&\"@\"&E582,Q$4:Q581,1,FALSE)))),1,0)","v":0},{"$f":"SUM(O$4:O582)+(100*SUM(T$4:T582))","v":0},{"$f":"IF(NOT(ISBLANK(B582)),(A582+P582)+(Settings!$B$5/24),\"\")","v":""},0,0,0,null,0,0,0,0,0,0,0,0]
[null,null,null,{"$f":"D582","v":0},{"$f":"E582","v":"*EOL*"},{"$f":"F582","v":0},null,0,"","","","","",{"$error":"#VALUE!"},0,"","",":0:0",{"$f":"IF(ISNA(VLOOKUP(R583,R$4:R582,1,FALSE)),FALSE,IF(O583>0,TRUE,FALSE))","v":false},{"$f":"IF(AND(C583<>\"\",$E583<>\"*ON*\",$E583<>\"*OFF*\",ISNA((VLOOKUP(C583&\"@\"&E583,Q$4:Q582,1,FALSE)))),1,0)","v":0},{"$f":"SUM(O$4:O583)+(100*SUM(T$4:T583))","v":0},{"$f":"IF(NOT(ISBLANK(B583)),(A583+P583)+(Settings!$B$5/24),\"\")","v":""},0,0,0,null,0,0,0,0,0,0,0,0]
[null,null,null,0,"*EOL*",0,null,0,"","","","","",{"$error":"#VALUE!"},0,"","",":0:0",{"$f":"IF(ISNA(VLOOKUP(R584,R$4:R583,1,FALSE)),FALSE,IF(O584>0,TRUE,FALSE))","v":false},{"$f":"IF(AND(C584<>\"\",$E584<>\"*ON*\",$E584<>\"*OFF*\",ISNA((VLOOKUP(C584&\"@\"&E584,Q$4:Q583,1,FALSE)))),1,0)","v":0},{"$f":"SUM(O$4:O584)+(100*SUM(T$4:T584))","v":0},{"$f":"IF(NOT(ISBLANK(B584)),(A584+P584)+(Settings!$B$5/24),\"\")","v":""},0,0,0,null,{"$f":"IF($E584=AA$3,$H584,0)","v":0},0,0,0,0,0,0,0]
[null,null,null,0,"*EOL*",0,null,0,"","","","","",{"$error":"#VALUE!"},0,"","",":0:0",{"$f":"IF(ISNA(VLOOKUP(R585,R$4:R584,1,FALSE)),FALSE,IF(O585>0,TRUE,FALSE))","v":false},{"$f":"IF(AND(C585<>\"\",$E585<>\"*ON*\",$E585<>\"*OFF*\",ISNA((VLOOKUP(C585&\"@\"&E585,Q$4:Q584,1,FALSE)))),1,0)","v":0},{"$f":"SUM(O$4:O585)+(100*SUM(T$4:T585))","v":0},{"$f":"IF(NOT(ISBLANK(B585)),(A585+P585)+(Settings!$B$5/24),\"\")","v":""},0,0,0,null,0,0,0,0,0,0,0,0]
[null,null,null,0,"*EOL*",0,null,0,"","","","","",{"$error":"#VALUE!"},0,"","",":0:0",{"$f":"IF(ISNA(VLOOKUP(R586,R$4:R585,1,FALSE)),FALSE,IF(O586>0,TRUE,FALSE))","v":false},{"$f":"IF(AND(C586<>\"\",$E586<>\"*ON*\",$E586<>\"*OFF*\",ISNA((VLOOKUP(C586&\"@\"&E586,Q$4:Q585,1,FALSE)))),1,0)","v":0},{"$f":"SUM(O$4:O586)+(100*SUM(T$4:T586))","v":0},{"$f":"IF(NOT(ISBLANK(B586)),(A586+P586)+(Settings!$B$5/24),\"\")","v":""},0,0,0,null,0,0,0,0,0,0,0,0]
[null,null,null,0,"*EOL*",0,null,0,"","","","","",{"$error":"#VALUE!"},0,"","",":0:0",{"$f":"IF(ISNA(VLOOKUP(R587,R$4:R586,1,FALSE)),FALSE,IF(O587>0,TRUE,FALSE))","v":false},{"$f":"IF(AND(C587<>\"\",$E587<>\"*ON*\",$E587<>\"*OFF*\",ISNA((VLOOKUP(C587&\"@\"&E587,Q$4:Q586,1,FALSE)))),1,0)","v":0},{"$f":"SUM(O$4:O587)+(100*SUM(T$4:T587))","v":0},{"$f":"IF(NOT(ISBLANK(B587)),(A587+P587)+(Settings!$B$5/24),\"\")","v":""},0,0,0,null,0,0,0,0,0,0,0,0]
[null,null,null,0,"*EOL*",0,null,0,"","","","","",{"$error":"#VALUE!"},0,"","",":0:0",{"$f":"IF(ISNA(VLOOKUP(R588,R$4:R587,1,FALSE)),FALSE,IF(O588>0,TRUE,FALSE))","v":false},{"$f":"IF(AND(C588<>\"\",$E588<>\"*ON*\",$E588<>\"*OFF*\",ISNA((VLOOKUP(C588&\"@\"&E588,Q$4:Q587,1,FALSE)))),1,0)","v":0},{"$f":"SUM(O$4:O588)+(100*SUM(T$4:T588))","v":0},{"$f":"IF(NOT(ISBLANK(B588)),(A588+P588)+(Settings!$B$5/24),\"\")","v":""},0,0,0,null,0,0,0,0,0,0,0,0]
[null,null,null,0,"*EOL*",0,null,0,"","","","","",{"$error":"#VALUE!"},0,"","",":0:0",{"$f":"IF(ISNA(VLOOKUP(R589,R$4:R588,1,FALSE)),FALSE,IF(O589>0,TRUE,FALSE))","v":false},{"$f":"IF(AND(C589<>\"\",$E589<>\"*ON*\",$E589<>\"*OFF*\",ISNA((VLOOKUP(C589&\"@\"&E589,Q$4:Q588,1,FALSE)))),1,0)","v":0},{"$f":"SUM(O$4:O589)+(100*SUM(T$4:T589))","v":0},{"$f":"IF(NOT(ISBLANK(B589)),(A589+P589)+(Settings!$B$5/24),\"\")","v":""},0,0,0,null,0,0,0,0,0,0,0,0]
[null,null,null,0,"*EOL*",0,null,0,"","","","","",{"$error":"#VALUE!"},0,"","",":0:0",{"$f":"IF(ISNA(VLOOKUP(R590,R$4:R589,1,FALSE)),FALSE,IF(O590>0,TRUE,FALSE))","v":false},{"$f":"IF(AND(C590<>\"\",$E590<>\"*ON*\",$E590<>\"*OFF*\",ISNA((VLOOKUP(C590&\"@\"&E590,Q$4:Q589,1,FALSE)))),1,0)","v":0},{"$f":"SUM(O$4:O590)+(100*SUM(T$4:T590))","v":0},{"$f":"IF(NOT(ISBLANK(B590)),(A590+P590)+(Settings!$B$5/24),\"\")","v":""},0,0,0,null,0,0,0,0,0,0,0,0]
[null,null,null,0,"*EOL*",0,null,0,"","","","","",{"$error":"#VALUE!"},0,"","",":0:0",{"$f":"IF(ISNA(VLOOKUP(R591,R$4:R590,1,FALSE)),FALSE,IF(O591>0,TRUE,FALSE))","v":false},{"$f":"IF(AND(C591<>\"\",$E591<>\"*ON*\",$E591<>\"*OFF*\",ISNA((VLOOKUP(C591&\"@\"&E591,Q$4:Q590,1,FALSE)))),1,0)","v":0},{"$f":"SUM(O$4:O591)+(100*SUM(T$4:T591))","v":0},{"$f":"IF(NOT(ISBLANK(B591)),(A591+P591)+(Settings!$B$5/24),\"\")","v":""},0,0,{"$f":"IF($E591=\"*EOL*\",0,IF(X590,0,V591-V590)*24)","v":0},null,0,0,0,0,0,0,0,0]
[null,null,null,0,"*EOL*",0,null,0,"","","","","",{"$error":"#VALUE!"},0,"","",":0:0",{"$f":"IF(ISNA(VLOOKUP(R592,R$4:R591,1,FALSE)),FALSE,IF(O592>0,TRUE,FALSE))","v":false},{"$f":"IF(AND(C592<>\"\",$E592<>\"*ON*\",$E592<>\"*OFF*\",ISNA((VLOOKUP(C592&\"@\"&E592,Q$4:Q591,1,FALSE)))),1,0)","v":0},{"$f":"SUM(O$4:O592)+(100*SUM(T$4:T592))","v":0},{"$f":"IF(NOT(ISBLANK(B592)),(A592+P592)+(Settings!$B$5/24),\"\")","v":""},0,0,0,null,0,0,0,0,0,0,0,0]
[null,null,null,0,"*EOL*",0,null,0,"","","","","",{"$error":"#VALUE!"},0,"","",":0:0",{"$f":"IF(ISNA(VLOOKUP(R593,R$4:R592,1,FALSE)),FALSE,IF(O593>0,TRUE,FALSE))","v":false},{"$f":"IF(AND(C593<>\"\",$E593<>\"*ON*\",$E593<>\"*OFF*\",ISNA((VLOOKUP(C593&\"@\"&E593,Q$4:Q592,1,FALSE)))),1,0)","v":0},{"$f":"SUM(O$4:O593)+(100*SUM(T$4:T593))","v":0},{"$f":"IF(NOT(ISBLANK(B593)),(A593+P593)+(Settings!$B$5/24),\"\")","v":""},0,0,0,null,0,0,0,0,0,0,0,0]
[null,null,null,0,"*EOL*",0,null,0,"","","","","",{"$error":"#VALUE!"},0,"","",":0:0",{"$f":"IF(ISNA(VLOOKUP(R594,R$4:R593,1,FALSE)),FALSE,IF(O594>0,TRUE,FALSE))","v":false},{"$f":"IF(AND(C594<>\"\",$E594<>\"*ON*\",$E594<>\"*OFF*\",ISNA((VLOOKUP(C594&\"@\"&E594,Q$4:Q593,1,FALSE)))),1,0)","v":0},{"$f":"SUM(O$4:O594)+(100*SUM(T$4:T594))","v":0},{"$f":"IF(NOT(ISBLANK(B594)),(A594+P594)+(Settings!$B$5/24),\"\")","v":""},0,0,0,null,{"$f":"IF($E594=AA$3,$H594,0)","v":0},0,0,0,0,0,0,0]
[null,null,null,0,"*EOL*",0,null,0,"","","","","",{"$error":"#VALUE!"},0,"","",":0:0",{"$f":"IF(ISNA(VLOOKUP(R595,R$4:R594,1,FALSE)),FALSE,IF(O595>0,TRUE,FALSE))","v":false},{"$f":"IF(AND(C595<>\"\",$E595<>\"*ON*\",$E595<>\"*OFF*\",ISNA((VLOOKUP(C595&\"@\"&E595,Q$4:Q594,1,FALSE)))),1,0)","v":0},{"$f":"SUM(O$4:O595)+(100*SUM(T$4:T595))","v":0},{"$f":"IF(NOT(ISBLANK(B595)),(A595+P595)+(Settings!$B$5/24),\"\")","v":""},0,0,0,null,0,0,0,0,0,0,0,0]
[null,null,null,0,"*EOL*",0,null,0,"","","","","",{"$error":"#VALUE!"},0,"","",":0:0",{"$f":"IF(ISNA(VLOOKUP(R596,R$4:R595,1,FALSE)),FALSE,IF(O596>0,TRUE,FALSE))","v":false},{"$f":"IF(AND(C596<>\"\",$E596<>\"*ON*\",$E596<>\"*OFF*\",ISNA((VLOOKUP(C596&\"@\"&E596,Q$4:Q595,1,FALSE)))),1,0)","v":0},{"$f":"SUM(O$4:O596)+(100*SUM(T$4:T596))","v":0},{"$f":"IF(NOT(ISBLANK(B596)),(A596+P596)+(Settings!$B$5/24),\"\")","v":""},0,0,0,null,0,0,0,0,0,0,0,0]
[null,null,null,0,"*EOL*",0,null,0,"","","","","",{"$error":"#VALUE!"},0,"","",":0:0",{"$f":"IF(ISNA(VLOOKUP(R597,R$4:R596,1,FALSE)),FALSE,IF(O597>0,TRUE,FALSE))","v":false},{"$f":"IF(AND(C597<>\"\",$E597<>\"*ON*\",$E597<>\"*OFF*\",ISNA((VLOOKUP(C597&\"@\"&E597,Q$4:Q596,1,FALSE)))),1,0)","v":0},{"$f":"SUM(O$4:O597)+(100*SUM(T$4:T597))","v":0},{"$f":"IF(NOT(ISBLANK(B597)),(A597+P597)+(Settings!$B$5/24),\"\")","v":""},0,0,0,null,0,0,0,0,0,0,0,0]
[null,null,null,0,"*EOL*",0,null,0,"","","","","",{"$error":"#VALUE!"},0,"","",":0:0",{"$f":"IF(ISNA(VLOOKUP(R598,R$4:R597,1,FALSE)),FALSE,IF(O598>0,TRUE,FALSE))","v":false},{"$f":"IF(AND(C598<>\"\",$E598<>\"*ON*\",$E598<>\"*OFF*\",ISNA((VLOOKUP(C598&\"@\"&E598,Q$4:Q597,1,FALSE)))),1,0)","v":0},{"$f":"SUM(O$4:O598)+(100*SUM(T$4:T598))","v":0},{"$f":"IF(NOT(ISBLANK(B598)),(A598+P598)+(Settings!$B$5/24),\"\")","v":""},0,0,0,null,0,0,0,0,0,0,0,0]
[null,null,null,0,"*EOL*",0,null,0,"","","","","",{"$error":"#VALUE!"},0,"","",":0:0",{"$f":"IF(ISNA(VLOOKUP(R599,R$4:R598,1,FALSE)),FALSE,IF(O599>0,TRUE,FALSE))","v":false},{"$f":"IF(AND(C599<>\"\",$E599<>\"*ON*\",$E599<>\"*OFF*\",ISNA((VLOOKUP(C599&\"@\"&E599,Q$4:Q598,1,FALSE)))),1,0)","v":0},{"$f":"SUM(O$4:O599)+(100*SUM(T$4:T599))","v":0},{"$f":"IF(NOT(ISBLANK(B599)),(A599+P599)+(Settings!$B$5/24),\"\")","v":""},0,0,0,null,0,0,0,0,0,0,0,0]
[null,null,null,0,"*EOL*",0,null,0,"","","","","",{"$error":"#VALUE!"},0,"","",":0:0",{"$f":"IF(ISNA(VLOOKUP(R600,R$4:R599,1,FALSE)),FALSE,IF(O600>0,TRUE,FALSE))","v":false},{"$f":"IF(AND(C600<>\"\",$E600<>\"*ON*\",$E600<>\"*OFF*\",ISNA((VLOOKUP(C600&\"@\"&E600,Q$4:Q599,1,FALSE)))),1,0)","v":0},{"$f":"SUM(O$4:O600)+(100*SUM(T$4:T600))","v":0},{"$f":"IF(NOT(ISBLANK(B600)),(A600+P600)+(Settings!$B$5/24),\"\")","v":""},0,0,0,null,0,0,0,0,0,0,0,0]
[null,null,null,0,"*EOL*",0,null,0,"","","","","",{"$error":"#VALUE!"},0,"","",":0:0",{"$f":"IF(ISNA(VLOOKUP(R601,R$4:R600,1,FALSE)),FALSE,IF(O601>0,TRUE,FALSE))","v":false},{"$f":"IF(AND(C601<>\"\",$E601<>\"*ON*\",$E601<>\"*OFF*\",ISNA((VLOOKUP(C601&\"@\"&E601,Q$4:Q600,1,FALSE)))),1,0)","v":0},{"$f":"SUM(O$4:O601)+(100*SUM(T$4:T601))","v":0},{"$f":"IF(NOT(ISBLANK(B601)),(A601+P601)+(Settings!$B$5/24),\"\")","v":""},0,0,0,null,0,0,0,0,0,0,0,0]
[null,null,null,0,"*EOL*",0,null,0,"","","","","",{"$error":"#VALUE!"},0,"","",":0:0",{"$f":"IF(ISNA(VLOOKUP(R602,R$4:R601,1,FALSE)),FALSE,IF(O602>0,TRUE,FALSE))","v":false},{"$f":"IF(AND(C602<>\"\",$E602<>\"*ON*\",$E602<>\"*OFF*\",ISNA((VLOOKUP(C602&\"@\"&E602,Q$4:Q601,1,FALSE)))),1,0)","v":0},{"$f":"SUM(O$4:O602)+(100*SUM(T$4:T602))","v":0},{"$f":"IF(NOT(ISBLANK(B602)),(A602+P602)+(Settings!$B$5/24),\"\")","v":""},0,0,0,null,0,0,0,0,0,0,0,0]
[null,null,null,0,"*EOL*",0,null,0,"","","","","",{"$error":"#VALUE!"},0,"","",":0:0",{"$f":"IF(ISNA(VLOOKUP(R603,R$4:R602,1,FALSE)),FALSE,IF(O603>0,TRUE,FALSE))","v":false},{"$f":"IF(AND(C603<>\"\",$E603<>\"*ON*\",$E603<>\"*OFF*\",ISNA((VLOOKUP(C603&\"@\"&E603,Q$4:Q602,1,FALSE)))),1,0)","v":0},{"$f":"SUM(O$4:O603)+(100*SUM(T$4:T603))","v":0},{"$f":"IF(NOT(ISBLANK(B603)),(A603+P603)+(Settings!$B$5/24),\"\")","v":""},0,0,0,null,0,0,0,0,0,0,0,0]
[null,null,null,0,"*EOL*",0,null,0,"","","","","",{"$error":"#VALUE!"},0,"","",":0:0",{"$f":"IF(ISNA(VLOOKUP(R604,R$4:R603,1,FALSE)),FALSE,IF(O604>0,TRUE,FALSE))","v":false},{"$f":"IF(AND(C604<>\"\",$E604<>\"*ON*\",$E604<>\"*OFF*\",ISNA((VLOOKUP(C604&\"@\"&E604,Q$4:Q603,1,FALSE)))),1,0)","v":0},{"$f":"SUM(O$4:O604)+(100*SUM(T$4:T604))","v":0},{"$f":"IF(NOT(ISBLANK(B604)),(A604+P604)+(Settings!$B$5/24),\"\")","v":""},0,0,0,null,{"$f":"IF($E604=AA$3,$H604,0)","v":0},0,0,0,0,0,0,0]
[null,null,null,0,"*EOL*",0,null,0,"","","","","",{"$error":"#VALUE!"},0,"","",":0:0",{"$f":"IF(ISNA(VLOOKUP(R605,R$4:R604,1,FALSE)),FALSE,IF(O605>0,TRUE,FALSE))","v":false},{"$f":"IF(AND(C605<>\"\",$E605<>\"*ON*\",$E605<>\"*OFF*\",ISNA((VLOOKUP(C605&\"@\"&E605,Q$4:Q604,1,FALSE)))),1,0)","v":0},{"$f":"SUM(O$4:O605)+(100*SUM(T$4:T605))","v":0},{"$f":"IF(NOT(ISBLANK(B605)),(A605+P605)+(Settings!$B$5/24),\"\")","v":""},0,0,0,null,0,0,0,0,0,0,0,0]
[null,null,null,0,"*EOL*",0,null,0,"","","","","",{"$error":"#VALUE!"},0,"","",":0:0",{"$f":"IF(ISNA(VLOOKUP(R606,R$4:R605,1,FALSE)),FALSE,IF(O606>0,TRUE,FALSE))","v":false},{"$f":"IF(AND(C606<>\"\",$E606<>\"*ON*\",$E606<>\"*OFF*\",ISNA((VLOOKUP(C606&\"@\"&E606,Q$4:Q605,1,FALSE)))),1,0)","v":0},{"$f":"SUM(O$4:O606)+(100*SUM(T$4:T606))","v":0},{"$f":"IF(NOT(ISBLANK(B606)),(A606+P606)+(Settings!$B$5/24),\"\")","v":""},0,0,0,null,0,0,0,0,0,0,0,0]
[null,null,null,0,"*EOL*",0,null,0,"","","","","",{"$error":"#VALUE!"},0,"","",":0:0",{"$f":"IF(ISNA(VLOOKUP(R607,R$4:R606,1,FALSE)),FALSE,IF(O607>0,TRUE,FALSE))","v":false},{"$f":"IF(AND(C607<>\"\",$E607<>\"*ON*\",$E607<>\"*OFF*\",ISNA((VLOOKUP(C607&\"@\"&E607,Q$4:Q606,1,FALSE)))),1,0)","v":0},{"$f":"SUM(O$4:O607)+(100*SUM(T$4:T607))","v":0},{"$f":"IF(NOT(ISBLANK(B607)),(A607+P607)+(Settings!$B$5/24),\"\")","v":""},0,0,0,null,0,0,0,0,0,0,0,0]
[null,null,null,0,"*EOL*",0,null,0,"","","","","",{"$error":"#VALUE!"},0,"","",":0:0",{"$f":"IF(ISNA(VLOOKUP(R608,R$4:R607,1,FALSE)),FALSE,IF(O608>0,TRUE,FALSE))","v":false},{"$f":"IF(AND(C608<>\"\",$E608<>\"*ON*\",$E608<>\"*OFF*\",ISNA((VLOOKUP(C608&\"@\"&E608,Q$4:Q607,1,FALSE)))),1,0)","v":0},{"$f":"SUM(O$4:O608)+(100*SUM(T$4:T608))","v":0},{"$f":"IF(NOT(ISBLANK(B608)),(A608+P608)+(Settings!$B$5/24),\"\")","v":""},0,0,0,null,0,0,0,0,0,0,0,0]
[null,null,null,0,"*EOL*",0,null,0,"","","","","",{"$error":"#VALUE!"},0,"","",":0:0",{"$f":"IF(ISNA(VLOOKUP(R609,R$4:R608,1,FALSE)),FALSE,IF(O609>0,TRUE,FALSE))","v":false},{"$f":"IF(AND(C609<>\"\",$E609<>\"*ON*\",$E609<>\"*OFF*\",ISNA((VLOOKUP(C609&\"@\"&E609,Q$4:Q608,1,FALSE)))),1,0)","v":0},{"$f":"SUM(O$4:O609)+(100*SUM(T$4:T609))","v":0},{"$f":"IF(NOT(ISBLANK(B609)),(A609+P609)+(Settings!$B$5/24),\"\")","v":""},0,0,0,null,0,0,0,0,0,0,0,0]
[null,null,null,0,"*EOL*",0,null,0,"","","","","",{"$error":"#VALUE!"},0,"","",":0:0",{"$f":"IF(ISNA(VLOOKUP(R610,R$4:R609,1,FALSE)),FALSE,IF(O610>0,TRUE,FALSE))","v":false},{"$f":"IF(AND(C610<>\"\",$E610<>\"*ON*\",$E610<>\"*OFF*\",ISNA((VLOOKUP(C610&\"@\"&E610,Q$4:Q609,1,FALSE)))),1,0)","v":0},{"$f":"SUM(O$4:O610)+(100*SUM(T$4:T610))","v":0},{"$f":"IF(NOT(ISBLANK(B610)),(A610+P610)+(Settings!$B$5/24),\"\")","v":""},0,0,0,null,0,0,0,0,0,0,0,0]
[null,null,null,0,"*EOL*",0,null,0,"","","","","",{"$error":"#VALUE!"},0,"","",":0:0",{"$f":"IF(ISNA(VLOOKUP(R611,R$4:R610,1,FALSE)),FALSE,IF(O611>0,TRUE,FALSE))","v":false},{"$f":"IF(AND(C611<>\"\",$E611<>\"*ON*\",$E611<>\"*OFF*\",ISNA((VLOOKUP(C611&\"@\"&E611,Q$4:Q610,1,FALSE)))),1,0)","v":0},{"$f":"SUM(O$4:O611)+(100*SUM(T$4:T611))","v":0},{"$f":"IF(NOT(ISBLANK(B611)),(A611+P611)+(Settings!$B$5/24),\"\")","v":""},0,0,0,null,0,0,0,0,0,0,0,0]
[null,null,null,0,"*EOL*",0,null,0,"","","","","",{"$error":"#VALUE!"},0,"","",":0:0",{"$f":"IF(ISNA(VLOOKUP(R612,R$4:R611,1,FALSE)),FALSE,IF(O612>0,TRUE,FALSE))","v":false},{"$f":"IF(AND(C612<>\"\",$E612<>\"*ON*\",$E612<>\"*OFF*\",ISNA((VLOOKUP(C612&\"@\"&E612,Q$4:Q611,1,FALSE)))),1,0)","v":0},{"$f":"SUM(O$4:O612)+(100*SUM(T$4:T612))","v":0},{"$f":"IF(NOT(ISBLANK(B612)),(A612+P612)+(Settings!$B$5/24),\"\")","v":""},0,0,0,null,0,0,0,0,0,0,0,0]
[null,null,null,0,"*EOL*",0,null,0,"","","","","",{"$error":"#VALUE!"},0,"","",":0:0",{"$f":"IF(ISNA(VLOOKUP(R613,R$4:R612,1,FALSE)),FALSE,IF(O613>0,TRUE,FALSE))","v":false},{"$f":"IF(AND(C613<>\"\",$E613<>\"*ON*\",$E613<>\"*OFF*\",ISNA((VLOOKUP(C613&\"@\"&E613,Q$4:Q612,1,FALSE)))),1,0)","v":0},{"$f":"SUM(O$4:O613)+(100*SUM(T$4:T613))","v":0},{"$f":"IF(NOT(ISBLANK(B613)),(A613+P613)+(Settings!$B$5/24),\"\")","v":""},0,0,0,null,0,0,0,0,0,0,0,0]
[null,null,null,0,"*EOL*",0,null,0,"","","","","",{"$error":"#VALUE!"},0,"","",":0:0",{"$f":"IF(ISNA(VLOOKUP(R614,R$4:R613,1,FALSE)),FALSE,IF(O614>0,TRUE,FALSE))","v":false},{"$f":"IF(AND(C614<>\"\",$E614<>\"*ON*\",$E614<>\"*OFF*\",ISNA((VLOOKUP(C614&\"@\"&E614,Q$4:Q613,1,FALSE)))),1,0)","v":0},{"$f":"SUM(O$4:O614)+(100*SUM(T$4:T614))","v":0},{"$f":"IF(NOT(ISBLANK(B614)),(A614+P614)+(Settings!$B$5/24),\"\")","v":""},0,0,0,null,{"$f":"IF($E614=AA$3,$H614,0)","v":0},0,0,0,0,0,0,0]
[null,null,null,0,"*EOL*",0,null,0,"","","","","",{"$error":"#VALUE!"},0,"","",":0:0",{"$f":"IF(ISNA(VLOOKUP(R615,R$4:R614,1,FALSE)),FALSE,IF(O615>0,TRUE,FALSE))","v":false},{"$f":"IF(AND(C615<>\"\",$E615<>\"*ON*\",$E615<>\"*OFF*\",ISNA((VLOOKUP(C615&\"@\"&E615,Q$4:Q614,1,FALSE)))),1,0)","v":0},{"$f":"SUM(O$4:O615)+(100*SUM(T$4:T615))","v":0},{"$f":"IF(NOT(ISBLANK(B615)),(A615+P615)+(Settings!$B$5/24),\"\")","v":""},0,0,0,null,0,0,0,0,0,0,0,0]
[null,null,null,0,"*EOL*",0,null,0,"","","","","",{"$error":"#VALUE!"},0,"","",":0:0",{"$f":"IF(ISNA(VLOOKUP(R616,R$4:R615,1,FALSE)),FALSE,IF(O616>0,TRUE,FALSE))","v":false},{"$f":"IF(AND(C616<>\"\",$E616<>\"*ON*\",$E616<>\"*OFF*\",ISNA((VLOOKUP(C616&\"@\"&E616,Q$4:Q615,1,FALSE)))),1,0)","v":0},{"$f":"SUM(O$4:O616)+(100*SUM(T$4:T616))","v":0},{"$f":"IF(NOT(ISBLANK(B616)),(A616+P616)+(Settings!$B$5/24),\"\")","v":""},0,0,0,null,0,0,0,0,0,0,0,0]
[null,null,null,0,"*EOL*",0,null,0,"","","","","",{"$error":"#VALUE!"},0,"","",":0:0",{"$f":"IF(ISNA(VLOOKUP(R617,R$4:R616,1,FALSE)),FALSE,IF(O617>0,TRUE,FALSE))","v":false},{"$f":"IF(AND(C617<>\"\",$E617<>\"*ON*\",$E617<>\"*OFF*\",ISNA((VLOOKUP(C617&\"@\"&E617,Q$4:Q616,1,FALSE)))),1,0)","v":0},{"$f":"SUM(O$4:O617)+(100*SUM(T$4:T617))","v":0},{"$f":"IF(NOT(ISBLANK(B617)),(A617+P617)+(Settings!$B$5/24),\"\")","v":""},0,0,0,null,0,0,0,0,0,0,0,0]
[null,null,null,0,"*EOL*",0,null,0,"","","","","",{"$error":"#VALUE!"},0,"","",":0:0",{"$f":"IF(ISNA(VLOOKUP(R618,R$4:R617,1,FALSE)),FALSE,IF(O618>0,TRUE,FALSE))","v":false},{"$f":"IF(AND(C618<>\"\",$E618<>\"*ON*\",$E618<>\"*OFF*\",ISNA((VLOOKUP(C618&\"@\"&E618,Q$4:Q617,1,FALSE)))),1,0)","v":0},{"$f":"SUM(O$4:O618)+(100*SUM(T$4:T618))","v":0},{"$f":"IF(NOT(ISBLANK(B618)),(A618+P618)+(Settings!$B$5/24),\"\")","v":""},0,0,0,null,0,0,0,0,0,0,0,0]
[null,null,null,0,"*EOL*",0,null,0,"","","","","",{"$error":"#VALUE!"},0,"","",":0:0",{"$f":"IF(ISNA(VLOOKUP(R619,R$4:R618,1,FALSE)),FALSE,IF(O619>0,TRUE,FALSE))","v":false},{"$f":"IF(AND(C619<>\"\",$E619<>\"*ON*\",$E619<>\"*OFF*\",ISNA((VLOOKUP(C619&\"@\"&E619,Q$4:Q618,1,FALSE)))),1,0)","v":0},{"$f":"SUM(O$4:O619)+(100*SUM(T$4:T619))","v":0},{"$f":"IF(NOT(ISBLANK(B619)),(A619+P619)+(Settings!$B$5/24),\"\")","v":""},0,0,0,null,0,0,0,0,0,0,0,0]
[null,null,null,0,"*EOL*",0,null,0,"","","","","",{"$error":"#VALUE!"},0,"","",":0:0",{"$f":"IF(ISNA(VLOOKUP(R620,R$4:R619,1,FALSE)),FALSE,IF(O620>0,TRUE,FALSE))","v":false},{"$f":"IF(AND(C620<>\"\",$E620<>\"*ON*\",$E620<>\"*OFF*\",ISNA((VLOOKUP(C620&\"@\"&E620,Q$4:Q619,1,FALSE)))),1,0)","v":0},{"$f":"SUM(O$4:O620)+(100*SUM(T$4:T620))","v":0},{"$f":"IF(NOT(ISBLANK(B620)),(A620+P620)+(Settings!$B$5/24),\"\")","v":""},0,0,0,null,0,0,0,0,0,0,0,0]
[null,null,null,0,"*EOL*",0,null,0,"","","","","",{"$error":"#VALUE!"},0,"","",":0:0",{"$f":"IF(ISNA(VLOOKUP(R621,R$4:R620,1,FALSE)),FALSE,IF(O621>0,TRUE,FALSE))","v":false},{"$f":"IF(AND(C621<>\"\",$E621<>\"*ON*\",$E621<>\"*OFF*\",ISNA((VLOOKUP(C621&\"@\"&E621,Q$4:Q620,1,FALSE)))),1,0)","v":0},{"$f":"SUM(O$4:O621)+(100*SUM(T$4:T621))","v":0},{"$f":"IF(NOT(ISBLANK(B621)),(A621+P621)+(Settings!$B$5/24),\"\")","v":""},0,0,0,null,0,0,0,0,0,0,0,0]
[null,null,null,0,"*EOL*",0,null,0,"","","","","",{"$error":"#VALUE!"},0,"","",":0:0",{"$f":"IF(ISNA(VLOOKUP(R622,R$4:R621,1,FALSE)),FALSE,IF(O622>0,TRUE,FALSE))","v":false},{"$f":"IF(AND(C622<>\"\",$E622<>\"*ON*\",$E622<>\"*OFF*\",ISNA((VLOOKUP(C622&\"@\"&E622,Q$4:Q621,1,FALSE)))),1,0)","v":0},{"$f":"SUM(O$4:O622)+(100*SUM(T$4:T622))","v":0},{"$f":"IF(NOT(ISBLANK(B622)),(A622+P622)+(Settings!$B$5/24),\"\")","v":""},0,0,0,null,0,0,0,0,0,0,0,0]
[null,null,null,0,"*EOL*",0,null,0,"","","","","",{"$error":"#VALUE!"},0,"","",":0:0",{"$f":"IF(ISNA(VLOOKUP(R623,R$4:R622,1,FALSE)),FALSE,IF(O623>0,TRUE,FALSE))","v":false},{"$f":"IF(AND(C623<>\"\",$E623<>\"*ON*\",$E623<>\"*OFF*\",ISNA((VLOOKUP(C623&\"@\"&E623,Q$4:Q622,1,FALSE)))),1,0)","v":0},{"$f":"SUM(O$4:O623)+(100*SUM(T$4:T623))","v":0},{"$f":"IF(NOT(ISBLANK(B623)),(A623+P623)+(Settings!$B$5/24),\"\")","v":""},0,0,0,null,0,0,0,0,0,0,0,0]
[null,null,null,0,"*EOL*",0,null,0,"","","","","",{"$error":"#VALUE!"},0,"","",":0:0",{"$f":"IF(ISNA(VLOOKUP(R624,R$4:R623,1,FALSE)),FALSE,IF(O624>0,TRUE,FALSE))","v":false},{"$f":"IF(AND(C624<>\"\",$E624<>\"*ON*\",$E624<>\"*OFF*\",ISNA((VLOOKUP(C624&\"@\"&E624,Q$4:Q623,1,FALSE)))),1,0)","v":0},{"$f":"SUM(O$4:O624)+(100*SUM(T$4:T624))","v":0},{"$f":"IF(NOT(ISBLANK(B624)),(A624+P624)+(Settings!$B$5/24),\"\")","v":""},0,0,0,null,{"$f":"IF($E624=AA$3,$H624,0)","v":0},0,0,0,0,0,0,0]
[null,null,null,0,"*EOL*",0,null,0,"","","","","",{"$error":"#VALUE!"},0,"","",":0:0",{"$f":"IF(ISNA(VLOOKUP(R625,R$4:R624,1,FALSE)),FALSE,IF(O625>0,TRUE,FALSE))","v":false},{"$f":"IF(AND(C625<>\"\",$E625<>\"*ON*\",$E625<>\"*OFF*\",ISNA((VLOOKUP(C625&\"@\"&E625,Q$4:Q624,1,FALSE)))),1,0)","v":0},{"$f":"SUM(O$4:O625)+(100*SUM(T$4:T625))","v":0},{"$f":"IF(NOT(ISBLANK(B625)),(A625+P625)+(Settings!$B$5/24),\"\")","v":""},0,0,0,null,0,0,0,0,0,0,0,0]
[null,null,null,0,"*EOL*",0,null,0,"","","","","",{"$error":"#VALUE!"},0,"","",":0:0",{"$f":"IF(ISNA(VLOOKUP(R626,R$4:R625,1,FALSE)),FALSE,IF(O626>0,TRUE,FALSE))","v":false},{"$f":"IF(AND(C626<>\"\",$E626<>\"*ON*\",$E626<>\"*OFF*\",ISNA((VLOOKUP(C626&\"@\"&E626,Q$4:Q625,1,FALSE)))),1,0)","v":0},{"$f":"SUM(O$4:O626)+(100*SUM(T$4:T626))","v":0},{"$f":"IF(NOT(ISBLANK(B626)),(A626+P626)+(Settings!$B$5/24),\"\")","v":""},0,0,0,null,0,0,0,0,0,0,0,0]
[null,null,null,0,"*EOL*",0,null,0,"","","","","",{"$error":"#VALUE!"},0,"","",":0:0",{"$f":"IF(ISNA(VLOOKUP(R627,R$4:R626,1,FALSE)),FALSE,IF(O627>0,TRUE,FALSE))","v":false},{"$f":"IF(AND(C627<>\"\",$E627<>\"*ON*\",$E627<>\"*OFF*\",ISNA((VLOOKUP(C627&\"@\"&E627,Q$4:Q626,1,FALSE)))),1,0)","v":0},{"$f":"SUM(O$4:O627)+(100*SUM(T$4:T627))","v":0},{"$f":"IF(NOT(ISBLANK(B627)),(A627+P627)+(Settings!$B$5/24),\"\")","v":""},0,0,0,null,0,0,0,0,0,0,0,0]
[null,null,null,0,"*EOL*",0,null,0,"","","","","",{"$error":"#VALUE!"},0,"","",":0:0",{"$f":"IF(ISNA(VLOOKUP(R628,R$4:R627,1,FALSE)),FALSE,IF(O628>0,TRUE,FALSE))","v":false},{"$f":"IF(AND(C628<>\"\",$E628<>\"*ON*\",$E628<>\"*OFF*\",ISNA((VLOOKUP(C628&\"@\"&E628,Q$4:Q627,1,FALSE)))),1,0)","v":0},{"$f":"SUM(O$4:O628)+(100*SUM(T$4:T628))","v":0},{"$f":"IF(NOT(ISBLANK(B628)),(A628+P628)+(Settings!$B$5/24),\"\")","v":""},0,0,0,null,0,0,0,0,0,0,0,0]
[null,null,null,0,"*EOL*",0,null,0,"","","","","",{"$error":"#VALUE!"},0,"","",":0:0",{"$f":"IF(ISNA(VLOOKUP(R629,R$4:R628,1,FALSE)),FALSE,IF(O629>0,TRUE,FALSE))","v":false},{"$f":"IF(AND(C629<>\"\",$E629<>\"*ON*\",$E629<>\"*OFF*\",ISNA((VLOOKUP(C629&\"@\"&E629,Q$4:Q628,1,FALSE)))),1,0)","v":0},{"$f":"SUM(O$4:O629)+(100*SUM(T$4:T629))","v":0},{"$f":"IF(NOT(ISBLANK(B629)),(A629+P629)+(Settings!$B$5/24),\"\")","v":""},0,0,0,null,0,0,0,0,0,0,0,0]
[null,null,null,0,"*EOL*",0,null,0,"","","","","",{"$error":"#VALUE!"},0,"","",":0:0",{"$f":"IF(ISNA(VLOOKUP(R630,R$4:R629,1,FALSE)),FALSE,IF(O630>0,TRUE,FALSE))","v":false},{"$f":"IF(AND(C630<>\"\",$E630<>\"*ON*\",$E630<>\"*OFF*\",ISNA((VLOOKUP(C630&\"@\"&E630,Q$4:Q629,1,FALSE)))),1,0)","v":0},{"$f":"SUM(O$4:O630)+(100*SUM(T$4:T630))","v":0},{"$f":"IF(NOT(ISBLANK(B630)),(A630+P630)+(Settings!$B$5/24),\"\")","v":""},0,0,0,null,0,0,0,0,0,0,0,0]
[null,null,null,0,"*EOL*",0,null,0,"","","","","",{"$error":"#VALUE!"},0,"","",":0:0",{"$f":"IF(ISNA(VLOOKUP(R631,R$4:R630,1,FALSE)),FALSE,IF(O631>0,TRUE,FALSE))","v":false},{"$f":"IF(AND(C631<>\"\",$E631<>\"*ON*\",$E631<>\"*OFF*\",ISNA((VLOOKUP(C631&\"@\"&E631,Q$4:Q630,1,FALSE)))),1,0)","v":0},{"$f":"SUM(O$4:O631)+(100*SUM(T$4:T631))","v":0},{"$f":"IF(NOT(ISBLANK(B631)),(A631+P631)+(Settings!$B$5/24),\"\")","v":""},0,0,0,null,0,0,0,0,0,0,0,0]
[null,null,null,0,"*EOL*",0,null,0,"","","","","",{"$error":"#VALUE!"},0,"","",":0:0",{"$f":"IF(ISNA(VLOOKUP(R632,R$4:R631,1,FALSE)),FALSE,IF(O632>0,TRUE,FALSE))","v":false},{"$f":"IF(AND(C632<>\"\",$E632<>\"*ON*\",$E632<>\"*OFF*\",ISNA((VLOOKUP(C632&\"@\"&E632,Q$4:Q631,1,FALSE)))),1,0)","v":0},{"$f":"SUM(O$4:O632)+(100*SUM(T$4:T632))","v":0},{"$f":"IF(NOT(ISBLANK(B632)),(A632+P632)+(Settings!$B$5/24),\"\")","v":""},0,0,0,null,0,0,0,0,0,0,0,0]
[null,null,null,0,"*EOL*",0,null,0,"","","","","",{"$error":"#VALUE!"},0,"","",":0:0",{"$f":"IF(ISNA(VLOOKUP(R633,R$4:R632,1,FALSE)),FALSE,IF(O633>0,TRUE,FALSE))","v":false},{"$f":"IF(AND(C633<>\"\",$E633<>\"*ON*\",$E633<>\"*OFF*\",ISNA((VLOOKUP(C633&\"@\"&E633,Q$4:Q632,1,FALSE)))),1,0)","v":0},{"$f":"SUM(O$4:O633)+(100*SUM(T$4:T633))","v":0},{"$f":"IF(NOT(ISBLANK(B633)),(A633+P633)+(Settings!$B$5/24),\"\")","v":""},0,0,0,null,0,0,0,0,0,0,0,0]
[null,null,null,0,"*EOL*",0,null,0,"","","","","",{"$error":"#VALUE!"},0,"","",":0:0",{"$f":"IF(ISNA(VLOOKUP(R634,R$4:R633,1,FALSE)),FALSE,IF(O634>0,TRUE,FALSE))","v":false},{"$f":"IF(AND(C634<>\"\",$E634<>\"*ON*\",$E634<>\"*OFF*\",ISNA((VLOOKUP(C634&\"@\"&E634,Q$4:Q633,1,FALSE)))),1,0)","v":0},{"$f":"SUM(O$4:O634)+(100*SUM(T$4:T634))","v":0},{"$f":"IF(NOT(ISBLANK(B634)),(A634+P634)+(Settings!$B$5/24),\"\")","v":""},0,0,0,null,{"$f":"IF($E634=AA$3,$H634,0)","v":0},0,0,0,0,0,0,0]
[null,null,null,0,"*EOL*",0,null,0,"","","","","",{"$error":"#VALUE!"},0,"","",":0:0",{"$f":"IF(ISNA(VLOOKUP(R635,R$4:R634,1,FALSE)),FALSE,IF(O635>0,TRUE,FALSE))","v":false},{"$f":"IF(AND(C635<>\"\",$E635<>\"*ON*\",$E635<>\"*OFF*\",ISNA((VLOOKUP(C635&\"@\"&E635,Q$4:Q634,1,FALSE)))),1,0)","v":0},{"$f":"SUM(O$4:O635)+(100*SUM(T$4:T635))","v":0},{"$f":"IF(NOT(ISBLANK(B635)),(A635+P635)+(Settings!$B$5/24),\"\")","v":""},0,0,0,null,0,0,0,0,0,0,0,0]
[null,null,null,0,"*EOL*",0,null,0,"","","","","",{"$error":"#VALUE!"},0,"","",":0:0",{"$f":"IF(ISNA(VLOOKUP(R636,R$4:R635,1,FALSE)),FALSE,IF(O636>0,TRUE,FALSE))","v":false},{"$f":"IF(AND(C636<>\"\",$E636<>\"*ON*\",$E636<>\"*OFF*\",ISNA((VLOOKUP(C636&\"@\"&E636,Q$4:Q635,1,FALSE)))),1,0)","v":0},{"$f":"SUM(O$4:O636)+(100*SUM(T$4:T636))","v":0},{"$f":"IF(NOT(ISBLANK(B636)),(A636+P636)+(Settings!$B$5/24),\"\")","v":""},0,0,0,null,0,0,0,0,0,0,0,0]
[null,null,null,0,"*EOL*",0,null,0,"","","","","",{"$error":"#VALUE!"},0,"","",":0:0",{"$f":"IF(ISNA(VLOOKUP(R637,R$4:R636,1,FALSE)),FALSE,IF(O637>0,TRUE,FALSE))","v":false},{"$f":"IF(AND(C637<>\"\",$E637<>\"*ON*\",$E637<>\"*OFF*\",ISNA((VLOOKUP(C637&\"@\"&E637,Q$4:Q636,1,FALSE)))),1,0)","v":0},{"$f":"SUM(O$4:O637)+(100*SUM(T$4:T637))","v":0},{"$f":"IF(NOT(ISBLANK(B637)),(A637+P637)+(Settings!$B$5/24),\"\")","v":""},0,0,0,null,0,0,0,0,0,0,0,0]
[null,null,null,0,"*EOL*",0,null,0,"","","","","",{"$error":"#VALUE!"},0,"","",":0:0",{"$f":"IF(ISNA(VLOOKUP(R638,R$4:R637,1,FALSE)),FALSE,IF(O638>0,TRUE,FALSE))","v":false},{"$f":"IF(AND(C638<>\"\",$E638<>\"*ON*\",$E638<>\"*OFF*\",ISNA((VLOOKUP(C638&\"@\"&E638,Q$4:Q637,1,FALSE)))),1,0)","v":0},{"$f":"SUM(O$4:O638)+(100*SUM(T$4:T638))","v":0},{"$f":"IF(NOT(ISBLANK(B638)),(A638+P638)+(Settings!$B$5/24),\"\")","v":""},0,0,0,null,0,0,0,0,0,0,0,0]
[null,null,null,0,"*EOL*",0,null,0,"","","","","",{"$error":"#VALUE!"},0,"","",":0:0",{"$f":"IF(ISNA(VLOOKUP(R639,R$4:R638,1,FALSE)),FALSE,IF(O639>0,TRUE,FALSE))","v":false},{"$f":"IF(AND(C639<>\"\",$E639<>\"*ON*\",$E639<>\"*OFF*\",ISNA((VLOOKUP(C639&\"@\"&E639,Q$4:Q638,1,FALSE)))),1,0)","v":0},{"$f":"SUM(O$4:O639)+(100*SUM(T$4:T639))","v":0},{"$f":"IF(NOT(ISBLANK(B639)),(A639+P639)+(Settings!$B$5/24),\"\")","v":""},0,0,0,null,0,0,0,0,0,0,0,0]
[null,null,null,0,"*EOL*",0,null,0,"","","","","",{"$error":"#VALUE!"},0,"","",":0:0",{"$f":"IF(ISNA(VLOOKUP(R640,R$4:R639,1,FALSE)),FALSE,IF(O640>0,TRUE,FALSE))","v":false},{"$f":"IF(AND(C640<>\"\",$E640<>\"*ON*\",$E640<>\"*OFF*\",ISNA((VLOOKUP(C640&\"@\"&E640,Q$4:Q639,1,FALSE)))),1,0)","v":0},{"$f":"SUM(O$4:O640)+(100*SUM(T$4:T640))","v":0},{"$f":"IF(NOT(ISBLANK(B640)),(A640+P640)+(Settings!$B$5/24),\"\")","v":""},0,0,0,null,0,0,0,0,0,0,0,0]
[null,null,null,0,"*EOL*",0,null,0,"","","","","",{"$error":"#VALUE!"},0,"","",":0:0",{"$f":"IF(ISNA(VLOOKUP(R641,R$4:R640,1,FALSE)),FALSE,IF(O641>0,TRUE,FALSE))","v":false},{"$f":"IF(AND(C641<>\"\",$E641<>\"*ON*\",$E641<>\"*OFF*\",ISNA((VLOOKUP(C641&\"@\"&E641,Q$4:Q640,1,FALSE)))),1,0)","v":0},{"$f":"SUM(O$4:O641)+(100*SUM(T$4:T641))","v":0},{"$f":"IF(NOT(ISBLANK(B641)),(A641+P641)+(Settings!$B$5/24),\"\")","v":""},0,0,0,null,0,0,0,0,0,0,0,0]
[null,null,null,0,"*EOL*",0,null,0,"","","","","",{"$error":"#VALUE!"},0,"","",":0:0",{"$f":"IF(ISNA(VLOOKUP(R642,R$4:R641,1,FALSE)),FALSE,IF(O642>0,TRUE,FALSE))","v":false},{"$f":"IF(AND(C642<>\"\",$E642<>\"*ON*\",$E642<>\"*OFF*\",ISNA((VLOOKUP(C642&\"@\"&E642,Q$4:Q641,1,FALSE)))),1,0)","v":0},{"$f":"SUM(O$4:O642)+(100*SUM(T$4:T642))","v":0},{"$f":"IF(NOT(ISBLANK(B642)),(A642+P642)+(Settings!$B$5/24),\"\")","v":""},0,0,0,null,0,0,0,0,0,0,0,0]
[null,null,null,0,"*EOL*",0,null,0,"","","","","",{"$error":"#VALUE!"},0,"","",":0:0",{"$f":"IF(ISNA(VLOOKUP(R643,R$4:R642,1,FALSE)),FALSE,IF(O643>0,TRUE,FALSE))","v":false},{"$f":"IF(AND(C643<>\"\",$E643<>\"*ON*\",$E643<>\"*OFF*\",ISNA((VLOOKUP(C643&\"@\"&E643,Q$4:Q642,1,FALSE)))),1,0)","v":0},{"$f":"SUM(O$4:O643)+(100*SUM(T$4:T643))","v":0},{"$f":"IF(NOT(ISBLANK(B643)),(A643+P643)+(Settings!$B$5/24),\"\")","v":""},0,0,0,null,0,0,0,0,0,0,0,0]
[null,null,null,0,"*EOL*",0,null,0,"",{"$f":"MH2Lat(F644)","v":""},{"$f":"MH2Lon(F644)","v":""},{"$f":"MH2Lat(D644)","v":""},{"$f":"MH2Lon(D644)","v":""},{"$f":"Distance(J644,K644,L644,M644)","v":{"$error":"#VALUE!"}},0,{"$f":"IF(ISBLANK(B644),\"\",IF(LEN(B644)=1,TIMEVALUE(\"00:0\"&B644),IF(LEN(B644)=2,TIMEVALUE(\"00:\"&B644),IF(LEN(B644)=3,TIMEVALUE(\"0\"&LEFT(B644,1)&\":\"&RIGHT(B644,2)),TIMEVALUE(LEFT(B644,2)&\":\"&RIGHT(B644,2))))))","v":""},"",":0:0",{"$f":"IF(ISNA(VLOOKUP(R644,R$4:R643,1,FALSE)),FALSE,IF(O644>0,TRUE,FALSE))","v":false},{"$f":"IF(AND(C644<>\"\",$E644<>\"*ON*\",$E644<>\"*OFF*\",ISNA((VLOOKUP(C644&\"@\"&E644,Q$4:Q643,1,FALSE)))),1,0)","v":0},{"$f":"SUM(O$4:O644)+(100*SUM(T$4:T644))","v":0},{"$f":"IF(NOT(ISBLANK(B644)),(A644+P644)+(Settings!$B$5/24),\"\")","v":""},{"$f":"IF(E644=\"*ON*\",1,0)","v":0},{"$f":"IF(E644=\"*OFF*\",1,0)","v":0},0,null,{"$f":"IF($E644=AA$3,$H644,0)","v":0},0,0,0,0,0,0,0]
[null,null,null,0,"*EOL*",0,null,0,"","","","","",{"$error":"#VALUE!"},{"$f":"IF(NOT(ISERR(N645)),ROUND(N645,0),0)","v":0},"",{"$f":"IF(AND(NOT(ISBLANK(C645)),NOT(ISBLANK(E645))),C645&\"@\"&E645,\"\")","v":""},{"$f":"Q645&\":\"&F645&\":\"&D645","v":":0:0"},{"$f":"IF(ISNA(VLOOKUP(R645,R$4:R644,1,FALSE)),FALSE,IF(O645>0,TRUE,FALSE))","v":false},{"$f":"IF(AND(C645<>\"\",$E645<>\"*ON*\",$E645<>\"*OFF*\",ISNA((VLOOKUP(C645&\"@\"&E645,Q$4:Q644,1,FALSE)))),1,0)","v":0},{"$f":"SUM(O$4:O645)+(100*SUM(T$4:T645))","v":0},{"$f":"IF(NOT(ISBLANK(B645)),(A645+P645)+(Settings!$B$5/24),\"\")","v":""},0,0,0,null,0,0,0,0,0,0,0,0]
[null,null,null,0,"*EOL*",0,null,{"$f":"IF(OR($S646,ISERR($N646),ISBLANK($B646),ISBLANK($C646)),0,MAX(O646,1))","v":0},{"$f":"IF(OR(ISBLANK($B646),ISBLANK($C646),ISBLANK($D646),ISBLANK($F646),NOT($S646)),\"\",\"Dupe!\")","v":""},"","","","",{"$error":"#VALUE!"},0,"","",":0:0",{"$f":"IF(ISNA(VLOOKUP(R646,R$4:R645,1,FALSE)),FALSE,IF(O646>0,TRUE,FALSE))","v":false},{"$f":"IF(AND(C646<>\"\",$E646<>\"*ON*\",$E646<>\"*OFF*\",ISNA((VLOOKUP(C646&\"@\"&E646,Q$4:Q645,1,FALSE)))),1,0)","v":0},{"$f":"SUM(O$4:O646)+(100*SUM(T$4:T646))","v":0},{"$f":"IF(NOT(ISBLANK(B646)),(A646+P646)+(Settings!$B$5/24),\"\")","v":""},0,0,0,null,0,0,0,0,0,0,0,0]
[null,null,null,{"$f":"D646","v":0},{"$f":"E646","v":"*EOL*"},{"$f":"F646","v":0},null,0,"","","","","",{"$error":"#VALUE!"},0,"","",":0:0",{"$f":"IF(ISNA(VLOOKUP(R647,R$4:R646,1,FALSE)),FALSE,IF(O647>0,TRUE,FALSE))","v":false},{"$f":"IF(AND(C647<>\"\",$E647<>\"*ON*\",$E647<>\"*OFF*\",ISNA((VLOOKUP(C647&\"@\"&E647,Q$4:Q646,1,FALSE)))),1,0)","v":0},{"$f":"SUM(O$4:O647)+(100*SUM(T$4:T647))","v":0},{"$f":"IF(NOT(ISBLANK(B647)),(A647+P647)+(Settings!$B$5/24),\"\")","v":""},0,0,0,null,0,0,0,0,0,0,0,0]
[null,null,null,0,"*EOL*",0,null,0,"","","","","",{"$error":"#VALUE!"},0,"","",":0:0",{"$f":"IF(ISNA(VLOOKUP(R648,R$4:R647,1,FALSE)),FALSE,IF(O648>0,TRUE,FALSE))","v":false},{"$f":"IF(AND(C648<>\"\",$E648<>\"*ON*\",$E648<>\"*OFF*\",ISNA((VLOOKUP(C648&\"@\"&E648,Q$4:Q647,1,FALSE)))),1,0)","v":0},{"$f":"SUM(O$4:O648)+(100*SUM(T$4:T648))","v":0},{"$f":"IF(NOT(ISBLANK(B648)),(A648+P648)+(Settings!$B$5/24),\"\")","v":""},0,0,0,null,0,0,0,0,0,0,0,0]
[null,null,null,0,"*EOL*",0,null,0,"","","","","",{"$error":"#VALUE!"},0,"","",":0:0",{"$f":"IF(ISNA(VLOOKUP(R649,R$4:R648,1,FALSE)),FALSE,IF(O649>0,TRUE,FALSE))","v":false},{"$f":"IF(AND(C649<>\"\",$E649<>\"*ON*\",$E649<>\"*OFF*\",ISNA((VLOOKUP(C649&\"@\"&E649,Q$4:Q648,1,FALSE)))),1,0)","v":0},{"$f":"SUM(O$4:O649)+(100*SUM(T$4:T649))","v":0},{"$f":"IF(NOT(ISBLANK(B649)),(A649+P649)+(Settings!$B$5/24),\"\")","v":""},0,0,0,null,0,0,0,0,0,0,0,0]
[null,null,null,0,"*EOL*",0,null,0,"","","","","",{"$error":"#VALUE!"},0,"","",":0:0",{"$f":"IF(ISNA(VLOOKUP(R650,R$4:R649,1,FALSE)),FALSE,IF(O650>0,TRUE,FALSE))","v":false},{"$f":"IF(AND(C650<>\"\",$E650<>\"*ON*\",$E650<>\"*OFF*\",ISNA((VLOOKUP(C650&\"@\"&E650,Q$4:Q649,1,FALSE)))),1,0)","v":0},{"$f":"SUM(O$4:O650)+(100*SUM(T$4:T650))","v":0},{"$f":"IF(NOT(ISBLANK(B650)),(A650+P650)+(Settings!$B$5/24),\"\")","v":""},0,0,0,null,0,0,0,0,0,0,0,0]
[null,null,null,0,"*EOL*",0,null,0,"","","","","",{"$error":"#VALUE!"},0,"","",":0:0",{"$f":"IF(ISNA(VLOOKUP(R651,R$4:R650,1,FALSE)),FALSE,IF(O651>0,TRUE,FALSE))","v":false},{"$f":"IF(AND(C651<>\"\",$E651<>\"*ON*\",$E651<>\"*OFF*\",ISNA((VLOOKUP(C651&\"@\"&E651,Q$4:Q650,1,FALSE)))),1,0)","v":0},{"$f":"SUM(O$4:O651)+(100*SUM(T$4:T651))","v":0},{"$f":"IF(NOT(ISBLANK(B651)),(A651+P651)+(Settings!$B$5/24),\"\")","v":""},0,0,0,null,0,0,0,0,0,0,0,0]
[null,null,null,0,"*EOL*",0,null,0,"","","","","",{"$error":"#VALUE!"},0,"","",":0:0",{"$f":"IF(ISNA(VLOOKUP(R652,R$4:R651,1,FALSE)),FALSE,IF(O652>0,TRUE,FALSE))","v":false},{"$f":"IF(AND(C652<>\"\",$E652<>\"*ON*\",$E652<>\"*OFF*\",ISNA((VLOOKUP(C652&\"@\"&E652,Q$4:Q651,1,FALSE)))),1,0)","v":0},{"$f":"SUM(O$4:O652)+(100*SUM(T$4:T652))","v":0},{"$f":"IF(NOT(ISBLANK(B652)),(A652+P652)+(Settings!$B$5/24),\"\")","v":""},0,0,0,null,0,0,0,0,0,0,0,0]
[null,null,null,0,"*EOL*",0,null,0,"","","","","",{"$error":"#VALUE!"},0,"","",":0:0",{"$f":"IF(ISNA(VLOOKUP(R653,R$4:R652,1,FALSE)),FALSE,IF(O653>0,TRUE,FALSE))","v":false},{"$f":"IF(AND(C653<>\"\",$E653<>\"*ON*\",$E653<>\"*OFF*\",ISNA((VLOOKUP(C653&\"@\"&E653,Q$4:Q652,1,FALSE)))),1,0)","v":0},{"$f":"SUM(O$4:O653)+(100*SUM(T$4:T653))","v":0},{"$f":"IF(NOT(ISBLANK(B653)),(A653+P653)+(Settings!$B$5/24),\"\")","v":""},0,0,0,null,0,0,0,0,0,0,0,0]
[null,null,null,0,"*EOL*",0,null,0,"","","","","",{"$error":"#VALUE!"},0,"","",":0:0",{"$f":"IF(ISNA(VLOOKUP(R654,R$4:R653,1,FALSE)),FALSE,IF(O654>0,TRUE,FALSE))","v":false},{"$f":"IF(AND(C654<>\"\",$E654<>\"*ON*\",$E654<>\"*OFF*\",ISNA((VLOOKUP(C654&\"@\"&E654,Q$4:Q653,1,FALSE)))),1,0)","v":0},{"$f":"SUM(O$4:O654)+(100*SUM(T$4:T654))","v":0},{"$f":"IF(NOT(ISBLANK(B654)),(A654+P654)+(Settings!$B$5/24),\"\")","v":""},0,0,0,null,{"$f":"IF($E654=AA$3,$H654,0)","v":0},0,0,0,0,0,0,0]
[null,null,null,0,"*EOL*",0,null,0,"","","","","",{"$error":"#VALUE!"},0,"","",":0:0",{"$f":"IF(ISNA(VLOOKUP(R655,R$4:R654,1,FALSE)),FALSE,IF(O655>0,TRUE,FALSE))","v":false},{"$f":"IF(AND(C655<>\"\",$E655<>\"*ON*\",$E655<>\"*OFF*\",ISNA((VLOOKUP(C655&\"@\"&E655,Q$4:Q654,1,FALSE)))),1,0)","v":0},{"$f":"SUM(O$4:O655)+(100*SUM(T$4:T655))","v":0},{"$f":"IF(NOT(ISBLANK(B655)),(A655+P655)+(Settings!$B$5/24),\"\")","v":""},0,0,{"$f":"IF($E655=\"*EOL*\",0,IF(X654,0,V655-V654)*24)","v":0},null,0,0,0,0,0,0,0,0]
[null,null,null,0,"*EOL*",0,null,0,"","","","","",{"$error":"#VALUE!"},0,"","",":0:0",{"$f":"IF(ISNA(VLOOKUP(R656,R$4:R655,1,FALSE)),FALSE,IF(O656>0,TRUE,FALSE))","v":false},{"$f":"IF(AND(C656<>\"\",$E656<>\"*ON*\",$E656<>\"*OFF*\",ISNA((VLOOKUP(C656&\"@\"&E656,Q$4:Q655,1,FALSE)))),1,0)","v":0},{"$f":"SUM(O$4:O656)+(100*SUM(T$4:T656))","v":0},{"$f":"IF(NOT(ISBLANK(B656)),(A656+P656)+(Settings!$B$5/24),\"\")","v":""},0,0,0,null,0,0,0,0,0,0,0,0]
[null,null,null,0,"*EOL*",0,null,0,"","","","","",{"$error":"#VALUE!"},0,"","",":0:0",{"$f":"IF(ISNA(VLOOKUP(R657,R$4:R656,1,FALSE)),FALSE,IF(O657>0,TRUE,FALSE))","v":false},{"$f":"IF(AND(C657<>\"\",$E657<>\"*ON*\",$E657<>\"*OFF*\",ISNA((VLOOKUP(C657&\"@\"&E657,Q$4:Q656,1,FALSE)))),1,0)","v":0},{"$f":"SUM(O$4:O657)+(100*SUM(T$4:T657))","v":0},{"$f":"IF(NOT(ISBLANK(B657)),(A657+P657)+(Settings!$B$5/24),\"\")","v":""},0,0,0,null,0,0,0,0,0,0,0,0]
[null,null,null,0,"*EOL*",0,null,0,"","","","","",{"$error":"#VALUE!"},0,"","",":0:0",{"$f":"IF(ISNA(VLOOKUP(R658,R$4:R657,1,FALSE)),FALSE,IF(O658>0,TRUE,FALSE))","v":false},{"$f":"IF(AND(C658<>\"\",$E658<>\"*ON*\",$E658<>\"*OFF*\",ISNA((VLOOKUP(C658&\"@\"&E658,Q$4:Q657,1,FALSE)))),1,0)","v":0},{"$f":"SUM(O$4:O658)+(100*SUM(T$4:T658))","v":0},{"$f":"IF(NOT(ISBLANK(B658)),(A658+P658)+(Settings!$B$5/24),\"\")","v":""},0,0,0,null,0,0,0,0,0,0,0,0]
[null,null,null,0,"*EOL*",0,null,0,"","","","","",{"$error":"#VALUE!"},0,"","",":0:0",{"$f":"IF(ISNA(VLOOKUP(R659,R$4:R658,1,FALSE)),FALSE,IF(O659>0,TRUE,FALSE))","v":false},{"$f":"IF(AND(C659<>\"\",$E659<>\"*ON*\",$E659<>\"*OFF*\",ISNA((VLOOKUP(C659&\"@\"&E659,Q$4:Q658,1,FALSE)))),1,0)","v":0},{"$f":"SUM(O$4:O659)+(100*SUM(T$4:T659))","v":0},{"$f":"IF(NOT(ISBLANK(B659)),(A659+P659)+(Settings!$B$5/24),\"\")","v":""},0,0,0,null,0,0,0,0,0,0,0,0]
[null,null,null,0,"*EOL*",0,null,0,"","","","","",{"$error":"#VALUE!"},0,"","",":0:0",{"$f":"IF(ISNA(VLOOKUP(R660,R$4:R659,1,FALSE)),FALSE,IF(O660>0,TRUE,FALSE))","v":false},{"$f":"IF(AND(C660<>\"\",$E660<>\"*ON*\",$E660<>\"*OFF*\",ISNA((VLOOKUP(C660&\"@\"&E660,Q$4:Q659,1,FALSE)))),1,0)","v":0},{"$f":"SUM(O$4:O660)+(100*SUM(T$4:T660))","v":0},{"$f":"IF(NOT(ISBLANK(B660)),(A660+P660)+(Settings!$B$5/24),\"\")","v":""},0,0,0,null,0,0,0,0,0,0,0,0]
[null,null,null,0,"*EOL*",0,null,0,"","","","","",{"$error":"#VALUE!"},0,"","",":0:0",{"$f":"IF(ISNA(VLOOKUP(R661,R$4:R660,1,FALSE)),FALSE,IF(O661>0,TRUE,FALSE))","v":false},{"$f":"IF(AND(C661<>\"\",$E661<>\"*ON*\",$E661<>\"*OFF*\",ISNA((VLOOKUP(C661&\"@\"&E661,Q$4:Q660,1,FALSE)))),1,0)","v":0},{"$f":"SUM(O$4:O661)+(100*SUM(T$4:T661))","v":0},{"$f":"IF(NOT(ISBLANK(B661)),(A661+P661)+(Settings!$B$5/24),\"\")","v":""},0,0,0,null,0,0,0,0,0,0,0,0]
[null,null,null,0,"*EOL*",0,null,0,"","","","","",{"$error":"#VALUE!"},0,"","",":0:0",{"$f":"IF(ISNA(VLOOKUP(R662,R$4:R661,1,FALSE)),FALSE,IF(O662>0,TRUE,FALSE))","v":false},{"$f":"IF(AND(C662<>\"\",$E662<>\"*ON*\",$E662<>\"*OFF*\",ISNA((VLOOKUP(C662&\"@\"&E662,Q$4:Q661,1,FALSE)))),1,0)","v":0},{"$f":"SUM(O$4:O662)+(100*SUM(T$4:T662))","v":0},{"$f":"IF(NOT(ISBLANK(B662)),(A662+P662)+(Settings!$B$5/24),\"\")","v":""},0,0,0,null,0,0,0,0,0,0,0,0]
[null,null,null,0,"*EOL*",0,null,0,"","","","","",{"$error":"#VALUE!"},0,"","",":0:0",{"$f":"IF(ISNA(VLOOKUP(R663,R$4:R662,1,FALSE)),FALSE,IF(O663>0,TRUE,FALSE))","v":false},{"$f":"IF(AND(C663<>\"\",$E663<>\"*ON*\",$E663<>\"*OFF*\",ISNA((VLOOKUP(C663&\"@\"&E663,Q$4:Q662,1,FALSE)))),1,0)","v":0},{"$f":"SUM(O$4:O663)+(100*SUM(T$4:T663))","v":0},{"$f":"IF(NOT(ISBLANK(B663)),(A663+P663)+(Settings!$B$5/24),\"\")","v":""},0,0,0,null,0,0,0,0,0,0,0,0]
[null,null,null,0,"*EOL*",0,null,0,"","","","","",{"$error":"#VALUE!"},0,"","",":0:0",{"$f":"IF(ISNA(VLOOKUP(R664,R$4:R663,1,FALSE)),FALSE,IF(O664>0,TRUE,FALSE))","v":false},{"$f":"IF(AND(C664<>\"\",$E664<>\"*ON*\",$E664<>\"*OFF*\",ISNA((VLOOKUP(C664&\"@\"&E664,Q$4:Q663,1,FALSE)))),1,0)","v":0},{"$f":"SUM(O$4:O664)+(100*SUM(T$4:T664))","v":0},{"$f":"IF(NOT(ISBLANK(B664)),(A664+P664)+(Settings!$B$5/24),\"\")","v":""},0,0,0,null,{"$f":"IF($E664=AA$3,$H664,0)","v":0},0,0,0,0,0,0,0]
[null,null,null,0,"*EOL*",0,null,0,"","","","","",{"$error":"#VALUE!"},0,"","",":0:0",{"$f":"IF(ISNA(VLOOKUP(R665,R$4:R664,1,FALSE)),FALSE,IF(O665>0,TRUE,FALSE))","v":false},{"$f":"IF(AND(C665<>\"\",$E665<>\"*ON*\",$E665<>\"*OFF*\",ISNA((VLOOKUP(C665&\"@\"&E665,Q$4:Q664,1,FALSE)))),1,0)","v":0},{"$f":"SUM(O$4:O665)+(100*SUM(T$4:T665))","v":0},{"$f":"IF(NOT(ISBLANK(B665)),(A665+P665)+(Settings!$B$5/24),\"\")","v":""},0,0,0,null,0,0,0,0,0,0,0,0]
[null,null,null,0,"*EOL*",0,null,0,"","","","","",{"$error":"#VALUE!"},0,"","",":0:0",{"$f":"IF(ISNA(VLOOKUP(R666,R$4:R665,1,FALSE)),FALSE,IF(O666>0,TRUE,FALSE))","v":false},{"$f":"IF(AND(C666<>\"\",$E666<>\"*ON*\",$E666<>\"*OFF*\",ISNA((VLOOKUP(C666&\"@\"&E666,Q$4:Q665,1,FALSE)))),1,0)","v":0},{"$f":"SUM(O$4:O666)+(100*SUM(T$4:T666))","v":0},{"$f":"IF(NOT(ISBLANK(B666)),(A666+P666)+(Settings!$B$5/24),\"\")","v":""},0,0,0,null,0,0,0,0,0,0,0,0]
[null,null,null,0,"*EOL*",0,null,0,"","","","","",{"$error":"#VALUE!"},0,"","",":0:0",{"$f":"IF(ISNA(VLOOKUP(R667,R$4:R666,1,FALSE)),FALSE,IF(O667>0,TRUE,FALSE))","v":false},{"$f":"IF(AND(C667<>\"\",$E667<>\"*ON*\",$E667<>\"*OFF*\",ISNA((VLOOKUP(C667&\"@\"&E667,Q$4:Q666,1,FALSE)))),1,0)","v":0},{"$f":"SUM(O$4:O667)+(100*SUM(T$4:T667))","v":0},{"$f":"IF(NOT(ISBLANK(B667)),(A667+P667)+(Settings!$B$5/24),\"\")","v":""},0,0,0,null,0,0,0,0,0,0,0,0]
[null,null,null,0,"*EOL*",0,null,0,"","","","","",{"$error":"#VALUE!"},0,"","",":0:0",{"$f":"IF(ISNA(VLOOKUP(R668,R$4:R667,1,FALSE)),FALSE,IF(O668>0,TRUE,FALSE))","v":false},{"$f":"IF(AND(C668<>\"\",$E668<>\"*ON*\",$E668<>\"*OFF*\",ISNA((VLOOKUP(C668&\"@\"&E668,Q$4:Q667,1,FALSE)))),1,0)","v":0},{"$f":"SUM(O$4:O668)+(100*SUM(T$4:T668))","v":0},{"$f":"IF(NOT(ISBLANK(B668)),(A668+P668)+(Settings!$B$5/24),\"\")","v":""},0,0,0,null,0,0,0,0,0,0,0,0]
[null,null,null,0,"*EOL*",0,null,0,"","","","","",{"$error":"#VALUE!"},0,"","",":0:0",{"$f":"IF(ISNA(VLOOKUP(R669,R$4:R668,1,FALSE)),FALSE,IF(O669>0,TRUE,FALSE))","v":false},{"$f":"IF(AND(C669<>\"\",$E669<>\"*ON*\",$E669<>\"*OFF*\",ISNA((VLOOKUP(C669&\"@\"&E669,Q$4:Q668,1,FALSE)))),1,0)","v":0},{"$f":"SUM(O$4:O669)+(100*SUM(T$4:T669))","v":0},{"$f":"IF(NOT(ISBLANK(B669)),(A669+P669)+(Settings!$B$5/24),\"\")","v":""},0,0,0,null,0,0,0,0,0,0,0,0]
[null,null,null,0,"*EOL*",0,null,0,"","","","","",{"$error":"#VALUE!"},0,"","",":0:0",{"$f":"IF(ISNA(VLOOKUP(R670,R$4:R669,1,FALSE)),FALSE,IF(O670>0,TRUE,FALSE))","v":false},{"$f":"IF(AND(C670<>\"\",$E670<>\"*ON*\",$E670<>\"*OFF*\",ISNA((VLOOKUP(C670&\"@\"&E670,Q$4:Q669,1,FALSE)))),1,0)","v":0},{"$f":"SUM(O$4:O670)+(100*SUM(T$4:T670))","v":0},{"$f":"IF(NOT(ISBLANK(B670)),(A670+P670)+(Settings!$B$5/24),\"\")","v":""},0,0,0,null,0,0,0,0,0,0,0,0]
[null,null,null,0,"*EOL*",0,null,0,"","","","","",{"$error":"#VALUE!"},0,"","",":0:0",{"$f":"IF(ISNA(VLOOKUP(R671,R$4:R670,1,FALSE)),FALSE,IF(O671>0,TRUE,FALSE))","v":false},{"$f":"IF(AND(C671<>\"\",$E671<>\"*ON*\",$E671<>\"*OFF*\",ISNA((VLOOKUP(C671&\"@\"&E671,Q$4:Q670,1,FALSE)))),1,0)","v":0},{"$f":"SUM(O$4:O671)+(100*SUM(T$4:T671))","v":0},{"$f":"IF(NOT(ISBLANK(B671)),(A671+P671)+(Settings!$B$5/24),\"\")","v":""},0,0,0,null,0,0,0,0,0,0,0,0]
[null,null,null,0,"*EOL*",0,null,0,"","","","","",{"$error":"#VALUE!"},0,"","",":0:0",{"$f":"IF(ISNA(VLOOKUP(R672,R$4:R671,1,FALSE)),FALSE,IF(O672>0,TRUE,FALSE))","v":false},{"$f":"IF(AND(C672<>\"\",$E672<>\"*ON*\",$E672<>\"*OFF*\",ISNA((VLOOKUP(C672&\"@\"&E672,Q$4:Q671,1,FALSE)))),1,0)","v":0},{"$f":"SUM(O$4:O672)+(100*SUM(T$4:T672))","v":0},{"$f":"IF(NOT(ISBLANK(B672)),(A672+P672)+(Settings!$B$5/24),\"\")","v":""},0,0,0,null,0,0,0,0,0,0,0,0]
[null,null,null,0,"*EOL*",0,null,0,"","","","","",{"$error":"#VALUE!"},0,"","",":0:0",{"$f":"IF(ISNA(VLOOKUP(R673,R$4:R672,1,FALSE)),FALSE,IF(O673>0,TRUE,FALSE))","v":false},{"$f":"IF(AND(C673<>\"\",$E673<>\"*ON*\",$E673<>\"*OFF*\",ISNA((VLOOKUP(C673&\"@\"&E673,Q$4:Q672,1,FALSE)))),1,0)","v":0},{"$f":"SUM(O$4:O673)+(100*SUM(T$4:T673))","v":0},{"$f":"IF(NOT(ISBLANK(B673)),(A673+P673)+(Settings!$B$5/24),\"\")","v":""},0,0,0,null,0,0,0,0,0,0,0,0]
[null,null,null,0,"*EOL*",0,null,0,"","","","","",{"$error":"#VALUE!"},0,"","",":0:0",{"$f":"IF(ISNA(VLOOKUP(R674,R$4:R673,1,FALSE)),FALSE,IF(O674>0,TRUE,FALSE))","v":false},{"$f":"IF(AND(C674<>\"\",$E674<>\"*ON*\",$E674<>\"*OFF*\",ISNA((VLOOKUP(C674&\"@\"&E674,Q$4:Q673,1,FALSE)))),1,0)","v":0},{"$f":"SUM(O$4:O674)+(100*SUM(T$4:T674))","v":0},{"$f":"IF(NOT(ISBLANK(B674)),(A674+P674)+(Settings!$B$5/24),\"\")","v":""},0,0,0,null,{"$f":"IF($E674=AA$3,$H674,0)","v":0},0,0,0,0,0,0,0]
[null,null,null,0,"*EOL*",0,null,0,"","","","","",{"$error":"#VALUE!"},0,"","",":0:0",{"$f":"IF(ISNA(VLOOKUP(R675,R$4:R674,1,FALSE)),FALSE,IF(O675>0,TRUE,FALSE))","v":false},{"$f":"IF(AND(C675<>\"\",$E675<>\"*ON*\",$E675<>\"*OFF*\",ISNA((VLOOKUP(C675&\"@\"&E675,Q$4:Q674,1,FALSE)))),1,0)","v":0},{"$f":"SUM(O$4:O675)+(100*SUM(T$4:T675))","v":0},{"$f":"IF(NOT(ISBLANK(B675)),(A675+P675)+(Settings!$B$5/24),\"\")","v":""},0,0,0,null,0,0,0,0,0,0,0,0]
[null,null,null,0,"*EOL*",0,null,0,"","","","","",{"$error":"#VALUE!"},0,"","",":0:0",{"$f":"IF(ISNA(VLOOKUP(R676,R$4:R675,1,FALSE)),FALSE,IF(O676>0,TRUE,FALSE))","v":false},{"$f":"IF(AND(C676<>\"\",$E676<>\"*ON*\",$E676<>\"*OFF*\",ISNA((VLOOKUP(C676&\"@\"&E676,Q$4:Q675,1,FALSE)))),1,0)","v":0},{"$f":"SUM(O$4:O676)+(100*SUM(T$4:T676))","v":0},{"$f":"IF(NOT(ISBLANK(B676)),(A676+P676)+(Settings!$B$5/24),\"\")","v":""},0,0,0,null,0,0,0,0,0,0,0,0]
[null,null,null,0,"*EOL*",0,null,0,"","","","","",{"$error":"#VALUE!"},0,"","",":0:0",{"$f":"IF(ISNA(VLOOKUP(R677,R$4:R676,1,FALSE)),FALSE,IF(O677>0,TRUE,FALSE))","v":false},{"$f":"IF(AND(C677<>\"\",$E677<>\"*ON*\",$E677<>\"*OFF*\",ISNA((VLOOKUP(C677&\"@\"&E677,Q$4:Q676,1,FALSE)))),1,0)","v":0},{"$f":"SUM(O$4:O677)+(100*SUM(T$4:T677))","v":0},{"$f":"IF(NOT(ISBLANK(B677)),(A677+P677)+(Settings!$B$5/24),\"\")","v":""},0,0,0,null,0,0,0,0,0,0,0,0]
[null,null,null,0,"*EOL*",0,null,0,"","","","","",{"$error":"#VALUE!"},0,"","",":0:0",{"$f":"IF(ISNA(VLOOKUP(R678,R$4:R677,1,FALSE)),FALSE,IF(O678>0,TRUE,FALSE))","v":false},{"$f":"IF(AND(C678<>\"\",$E678<>\"*ON*\",$E678<>\"*OFF*\",ISNA((VLOOKUP(C678&\"@\"&E678,Q$4:Q677,1,FALSE)))),1,0)","v":0},{"$f":"SUM(O$4:O678)+(100*SUM(T$4:T678))","v":0},{"$f":"IF(NOT(ISBLANK(B678)),(A678+P678)+(Settings!$B$5/24),\"\")","v":""},0,0,0,null,0,0,0,0,0,0,0,0]
[null,null,null,0,"*EOL*",0,null,0,"","","","","",{"$error":"#VALUE!"},0,"","",":0:0",{"$f":"IF(ISNA(VLOOKUP(R679,R$4:R678,1,FALSE)),FALSE,IF(O679>0,TRUE,FALSE))","v":false},{"$f":"IF(AND(C679<>\"\",$E679<>\"*ON*\",$E679<>\"*OFF*\",ISNA((VLOOKUP(C679&\"@\"&E679,Q$4:Q678,1,FALSE)))),1,0)","v":0},{"$f":"SUM(O$4:O679)+(100*SUM(T$4:T679))","v":0},{"$f":"IF(NOT(ISBLANK(B679)),(A679+P679)+(Settings!$B$5/24),\"\")","v":""},0,0,0,null,0,0,0,0,0,0,0,0]
[null,null,null,0,"*EOL*",0,null,0,"","","","","",{"$error":"#VALUE!"},0,"","",":0:0",{"$f":"IF(ISNA(VLOOKUP(R680,R$4:R679,1,FALSE)),FALSE,IF(O680>0,TRUE,FALSE))","v":false},{"$f":"IF(AND(C680<>\"\",$E680<>\"*ON*\",$E680<>\"*OFF*\",ISNA((VLOOKUP(C680&\"@\"&E680,Q$4:Q679,1,FALSE)))),1,0)","v":0},{"$f":"SUM(O$4:O680)+(100*SUM(T$4:T680))","v":0},{"$f":"IF(NOT(ISBLANK(B680)),(A680+P680)+(Settings!$B$5/24),\"\")","v":""},0,0,0,null,0,0,0,0,0,0,0,0]
[null,null,null,0,"*EOL*",0,null,0,"","","","","",{"$error":"#VALUE!"},0,"","",":0:0",{"$f":"IF(ISNA(VLOOKUP(R681,R$4:R680,1,FALSE)),FALSE,IF(O681>0,TRUE,FALSE))","v":false},{"$f":"IF(AND(C681<>\"\",$E681<>\"*ON*\",$E681<>\"*OFF*\",ISNA((VLOOKUP(C681&\"@\"&E681,Q$4:Q680,1,FALSE)))),1,0)","v":0},{"$f":"SUM(O$4:O681)+(100*SUM(T$4:T681))","v":0},{"$f":"IF(NOT(ISBLANK(B681)),(A681+P681)+(Settings!$B$5/24),\"\")","v":""},0,0,0,null,0,0,0,0,0,0,0,0]
[null,null,null,0,"*EOL*",0,null,0,"","","","","",{"$error":"#VALUE!"},0,"","",":0:0",{"$f":"IF(ISNA(VLOOKUP(R682,R$4:R681,1,FALSE)),FALSE,IF(O682>0,TRUE,FALSE))","v":false},{"$f":"IF(AND(C682<>\"\",$E682<>\"*ON*\",$E682<>\"*OFF*\",ISNA((VLOOKUP(C682&\"@\"&E682,Q$4:Q681,1,FALSE)))),1,0)","v":0},{"$f":"SUM(O$4:O682)+(100*SUM(T$4:T682))","v":0},{"$f":"IF(NOT(ISBLANK(B682)),(A682+P682)+(Settings!$B$5/24),\"\")","v":""},0,0,0,null,0,0,0,0,0,0,0,0]
[null,null,null,0,"*EOL*",0,null,0,"","","","","",{"$error":"#VALUE!"},0,"","",":0:0",{"$f":"IF(ISNA(VLOOKUP(R683,R$4:R682,1,FALSE)),FALSE,IF(O683>0,TRUE,FALSE))","v":false},{"$f":"IF(AND(C683<>\"\",$E683<>\"*ON*\",$E683<>\"*OFF*\",ISNA((VLOOKUP(C683&\"@\"&E683,Q$4:Q682,1,FALSE)))),1,0)","v":0},{"$f":"SUM(O$4:O683)+(100*SUM(T$4:T683))","v":0},{"$f":"IF(NOT(ISBLANK(B683)),(A683+P683)+(Settings!$B$5/24),\"\")","v":""},0,0,0,null,0,0,0,0,0,0,0,0]
[null,null,null,0,"*EOL*",0,null,0,"","","","","",{"$error":"#VALUE!"},0,"","",":0:0",{"$f":"IF(ISNA(VLOOKUP(R684,R$4:R683,1,FALSE)),FALSE,IF(O684>0,TRUE,FALSE))","v":false},{"$f":"IF(AND(C684<>\"\",$E684<>\"*ON*\",$E684<>\"*OFF*\",ISNA((VLOOKUP(C684&\"@\"&E684,Q$4:Q683,1,FALSE)))),1,0)","v":0},{"$f":"SUM(O$4:O684)+(100*SUM(T$4:T684))","v":0},{"$f":"IF(NOT(ISBLANK(B684)),(A684+P684)+(Settings!$B$5/24),\"\")","v":""},0,0,0,null,{"$f":"IF($E684=AA$3,$H684,0)","v":0},0,0,0,0,0,0,0]
[null,null,null,0,"*EOL*",0,null,0,"","","","","",{"$error":"#VALUE!"},0,"","",":0:0",{"$f":"IF(ISNA(VLOOKUP(R685,R$4:R684,1,FALSE)),FALSE,IF(O685>0,TRUE,FALSE))","v":false},{"$f":"IF(AND(C685<>\"\",$E685<>\"*ON*\",$E685<>\"*OFF*\",ISNA((VLOOKUP(C685&\"@\"&E685,Q$4:Q684,1,FALSE)))),1,0)","v":0},{"$f":"SUM(O$4:O685)+(100*SUM(T$4:T685))","v":0},{"$f":"IF(NOT(ISBLANK(B685)),(A685+P685)+(Settings!$B$5/24),\"\")","v":""},0,0,0,null,0,0,0,0,0,0,0,0]
[null,null,null,0,"*EOL*",0,null,0,"","","","","",{"$error":"#VALUE!"},0,"","",":0:0",{"$f":"IF(ISNA(VLOOKUP(R686,R$4:R685,1,FALSE)),FALSE,IF(O686>0,TRUE,FALSE))","v":false},{"$f":"IF(AND(C686<>\"\",$E686<>\"*ON*\",$E686<>\"*OFF*\",ISNA((VLOOKUP(C686&\"@\"&E686,Q$4:Q685,1,FALSE)))),1,0)","v":0},{"$f":"SUM(O$4:O686)+(100*SUM(T$4:T686))","v":0},{"$f":"IF(NOT(ISBLANK(B686)),(A686+P686)+(Settings!$B$5/24),\"\")","v":""},0,0,0,null,0,0,0,0,0,0,0,0]
[null,null,null,0,"*EOL*",0,null,0,"","","","","",{"$error":"#VALUE!"},0,"","",":0:0",{"$f":"IF(ISNA(VLOOKUP(R687,R$4:R686,1,FALSE)),FALSE,IF(O687>0,TRUE,FALSE))","v":false},{"$f":"IF(AND(C687<>\"\",$E687<>\"*ON*\",$E687<>\"*OFF*\",ISNA((VLOOKUP(C687&\"@\"&E687,Q$4:Q686,1,FALSE)))),1,0)","v":0},{"$f":"SUM(O$4:O687)+(100*SUM(T$4:T687))","v":0},{"$f":"IF(NOT(ISBLANK(B687)),(A687+P687)+(Settings!$B$5/24),\"\")","v":""},0,0,0,null,0,0,0,0,0,0,0,0]
[null,null,null,0,"*EOL*",0,null,0,"","","","","",{"$error":"#VALUE!"},0,"","",":0:0",{"$f":"IF(ISNA(VLOOKUP(R688,R$4:R687,1,FALSE)),FALSE,IF(O688>0,TRUE,FALSE))","v":false},{"$f":"IF(AND(C688<>\"\",$E688<>\"*ON*\",$E688<>\"*OFF*\",ISNA((VLOOKUP(C688&\"@\"&E688,Q$4:Q687,1,FALSE)))),1,0)","v":0},{"$f":"SUM(O$4:O688)+(100*SUM(T$4:T688))","v":0},{"$f":"IF(NOT(ISBLANK(B688)),(A688+P688)+(Settings!$B$5/24),\"\")","v":""},0,0,0,null,0,0,0,0,0,0,0,0]
[null,null,null,0,"*EOL*",0,null,0,"","","","","",{"$error":"#VALUE!"},0,"","",":0:0",{"$f":"IF(ISNA(VLOOKUP(R689,R$4:R688,1,FALSE)),FALSE,IF(O689>0,TRUE,FALSE))","v":false},{"$f":"IF(AND(C689<>\"\",$E689<>\"*ON*\",$E689<>\"*OFF*\",ISNA((VLOOKUP(C689&\"@\"&E689,Q$4:Q688,1,FALSE)))),1,0)","v":0},{"$f":"SUM(O$4:O689)+(100*SUM(T$4:T689))","v":0},{"$f":"IF(NOT(ISBLANK(B689)),(A689+P689)+(Settings!$B$5/24),\"\")","v":""},0,0,0,null,0,0,0,0,0,0,0,0]
[null,null,null,0,"*EOL*",0,null,0,"","","","","",{"$error":"#VALUE!"},0,"","",":0:0",{"$f":"IF(ISNA(VLOOKUP(R690,R$4:R689,1,FALSE)),FALSE,IF(O690>0,TRUE,FALSE))","v":false},{"$f":"IF(AND(C690<>\"\",$E690<>\"*ON*\",$E690<>\"*OFF*\",ISNA((VLOOKUP(C690&\"@\"&E690,Q$4:Q689,1,FALSE)))),1,0)","v":0},{"$f":"SUM(O$4:O690)+(100*SUM(T$4:T690))","v":0},{"$f":"IF(NOT(ISBLANK(B690)),(A690+P690)+(Settings!$B$5/24),\"\")","v":""},0,0,0,null,0,0,0,0,0,0,0,0]
[null,null,null,0,"*EOL*",0,null,0,"","","","","",{"$error":"#VALUE!"},0,"","",":0:0",{"$f":"IF(ISNA(VLOOKUP(R691,R$4:R690,1,FALSE)),FALSE,IF(O691>0,TRUE,FALSE))","v":false},{"$f":"IF(AND(C691<>\"\",$E691<>\"*ON*\",$E691<>\"*OFF*\",ISNA((VLOOKUP(C691&\"@\"&E691,Q$4:Q690,1,FALSE)))),1,0)","v":0},{"$f":"SUM(O$4:O691)+(100*SUM(T$4:T691))","v":0},{"$f":"IF(NOT(ISBLANK(B691)),(A691+P691)+(Settings!$B$5/24),\"\")","v":""},0,0,0,null,0,0,0,0,0,0,0,0]
[null,null,null,0,"*EOL*",0,null,0,"","","","","",{"$error":"#VALUE!"},0,"","",":0:0",{"$f":"IF(ISNA(VLOOKUP(R692,R$4:R691,1,FALSE)),FALSE,IF(O692>0,TRUE,FALSE))","v":false},{"$f":"IF(AND(C692<>\"\",$E692<>\"*ON*\",$E692<>\"*OFF*\",ISNA((VLOOKUP(C692&\"@\"&E692,Q$4:Q691,1,FALSE)))),1,0)","v":0},{"$f":"SUM(O$4:O692)+(100*SUM(T$4:T692))","v":0},{"$f":"IF(NOT(ISBLANK(B692)),(A692+P692)+(Settings!$B$5/24),\"\")","v":""},0,0,0,null,0,0,0,0,0,0,0,0]
[null,null,null,0,"*EOL*",0,null,0,"","","","","",{"$error":"#VALUE!"},0,"","",":0:0",{"$f":"IF(ISNA(VLOOKUP(R693,R$4:R692,1,FALSE)),FALSE,IF(O693>0,TRUE,FALSE))","v":false},{"$f":"IF(AND(C693<>\"\",$E693<>\"*ON*\",$E693<>\"*OFF*\",ISNA((VLOOKUP(C693&\"@\"&E693,Q$4:Q692,1,FALSE)))),1,0)","v":0},{"$f":"SUM(O$4:O693)+(100*SUM(T$4:T693))","v":0},{"$f":"IF(NOT(ISBLANK(B693)),(A693+P693)+(Settings!$B$5/24),\"\")","v":""},0,0,0,null,0,0,0,0,0,0,0,0]
[null,null,null,0,"*EOL*",0,null,0,"","","","","",{"$error":"#VALUE!"},0,"","",":0:0",{"$f":"IF(ISNA(VLOOKUP(R694,R$4:R693,1,FALSE)),FALSE,IF(O694>0,TRUE,FALSE))","v":false},{"$f":"IF(AND(C694<>\"\",$E694<>\"*ON*\",$E694<>\"*OFF*\",ISNA((VLOOKUP(C694&\"@\"&E694,Q$4:Q693,1,FALSE)))),1,0)","v":0},{"$f":"SUM(O$4:O694)+(100*SUM(T$4:T694))","v":0},{"$f":"IF(NOT(ISBLANK(B694)),(A694+P694)+(Settings!$B$5/24),\"\")","v":""},0,0,0,null,{"$f":"IF($E694=AA$3,$H694,0)","v":0},0,0,0,0,0,0,0]
[null,null,null,0,"*EOL*",0,null,0,"","","","","",{"$error":"#VALUE!"},0,"","",":0:0",{"$f":"IF(ISNA(VLOOKUP(R695,R$4:R694,1,FALSE)),FALSE,IF(O695>0,TRUE,FALSE))","v":false},{"$f":"IF(AND(C695<>\"\",$E695<>\"*ON*\",$E695<>\"*OFF*\",ISNA((VLOOKUP(C695&\"@\"&E695,Q$4:Q694,1,FALSE)))),1,0)","v":0},{"$f":"SUM(O$4:O695)+(100*SUM(T$4:T695))","v":0},{"$f":"IF(NOT(ISBLANK(B695)),(A695+P695)+(Settings!$B$5/24),\"\")","v":""},0,0,0,null,0,0,0,0,0,0,0,0]
[null,null,null,0,"*EOL*",0,null,0,"","","","","",{"$error":"#VALUE!"},0,"","",":0:0",{"$f":"IF(ISNA(VLOOKUP(R696,R$4:R695,1,FALSE)),FALSE,IF(O696>0,TRUE,FALSE))","v":false},{"$f":"IF(AND(C696<>\"\",$E696<>\"*ON*\",$E696<>\"*OFF*\",ISNA((VLOOKUP(C696&\"@\"&E696,Q$4:Q695,1,FALSE)))),1,0)","v":0},{"$f":"SUM(O$4:O696)+(100*SUM(T$4:T696))","v":0},{"$f":"IF(NOT(ISBLANK(B696)),(A696+P696)+(Settings!$B$5/24),\"\")","v":""},0,0,0,null,0,0,0,0,0,0,0,0]
[null,null,null,0,"*EOL*",0,null,0,"","","","","",{"$error":"#VALUE!"},0,"","",":0:0",{"$f":"IF(ISNA(VLOOKUP(R697,R$4:R696,1,FALSE)),FALSE,IF(O697>0,TRUE,FALSE))","v":false},{"$f":"IF(AND(C697<>\"\",$E697<>\"*ON*\",$E697<>\"*OFF*\",ISNA((VLOOKUP(C697&\"@\"&E697,Q$4:Q696,1,FALSE)))),1,0)","v":0},{"$f":"SUM(O$4:O697)+(100*SUM(T$4:T697))","v":0},{"$f":"IF(NOT(ISBLANK(B697)),(A697+P697)+(Settings!$B$5/24),\"\")","v":""},0,0,0,null,0,0,0,0,0,0,0,0]
[null,null,null,0,"*EOL*",0,null,0,"","","","","",{"$error":"#VALUE!"},0,"","",":0:0",{"$f":"IF(ISNA(VLOOKUP(R698,R$4:R697,1,FALSE)),FALSE,IF(O698>0,TRUE,FALSE))","v":false},{"$f":"IF(AND(C698<>\"\",$E698<>\"*ON*\",$E698<>\"*OFF*\",ISNA((VLOOKUP(C698&\"@\"&E698,Q$4:Q697,1,FALSE)))),1,0)","v":0},{"$f":"SUM(O$4:O698)+(100*SUM(T$4:T698))","v":0},{"$f":"IF(NOT(ISBLANK(B698)),(A698+P698)+(Settings!$B$5/24),\"\")","v":""},0,0,0,null,0,0,0,0,0,0,0,0]
[null,null,null,0,"*EOL*",0,null,0,"","","","","",{"$error":"#VALUE!"},0,"","",":0:0",{"$f":"IF(ISNA(VLOOKUP(R699,R$4:R698,1,FALSE)),FALSE,IF(O699>0,TRUE,FALSE))","v":false},{"$f":"IF(AND(C699<>\"\",$E699<>\"*ON*\",$E699<>\"*OFF*\",ISNA((VLOOKUP(C699&\"@\"&E699,Q$4:Q698,1,FALSE)))),1,0)","v":0},{"$f":"SUM(O$4:O699)+(100*SUM(T$4:T699))","v":0},{"$f":"IF(NOT(ISBLANK(B699)),(A699+P699)+(Settings!$B$5/24),\"\")","v":""},0,0,0,null,0,0,0,0,0,0,0,0]
[null,null,null,0,"*EOL*",0,null,0,"","","","","",{"$error":"#VALUE!"},0,"","",":0:0",{"$f":"IF(ISNA(VLOOKUP(R700,R$4:R699,1,FALSE)),FALSE,IF(O700>0,TRUE,FALSE))","v":false},{"$f":"IF(AND(C700<>\"\",$E700<>\"*ON*\",$E700<>\"*OFF*\",ISNA((VLOOKUP(C700&\"@\"&E700,Q$4:Q699,1,FALSE)))),1,0)","v":0},{"$f":"SUM(O$4:O700)+(100*SUM(T$4:T700))","v":0},{"$f":"IF(NOT(ISBLANK(B700)),(A700+P700)+(Settings!$B$5/24),\"\")","v":""},0,0,0,null,0,0,0,0,0,0,0,0]
[null,null,null,0,"*EOL*",0,null,0,"","","","","",{"$error":"#VALUE!"},0,"","",":0:0",{"$f":"IF(ISNA(VLOOKUP(R701,R$4:R700,1,FALSE)),FALSE,IF(O701>0,TRUE,FALSE))","v":false},{"$f":"IF(AND(C701<>\"\",$E701<>\"*ON*\",$E701<>\"*OFF*\",ISNA((VLOOKUP(C701&\"@\"&E701,Q$4:Q700,1,FALSE)))),1,0)","v":0},{"$f":"SUM(O$4:O701)+(100*SUM(T$4:T701))","v":0},{"$f":"IF(NOT(ISBLANK(B701)),(A701+P701)+(Settings!$B$5/24),\"\")","v":""},0,0,0,null,0,0,0,0,0,0,0,0]
[null,null,null,0,"*EOL*",0,null,0,"","","","","",{"$error":"#VALUE!"},0,"","",":0:0",{"$f":"IF(ISNA(VLOOKUP(R702,R$4:R701,1,FALSE)),FALSE,IF(O702>0,TRUE,FALSE))","v":false},{"$f":"IF(AND(C702<>\"\",$E702<>\"*ON*\",$E702<>\"*OFF*\",ISNA((VLOOKUP(C702&\"@\"&E702,Q$4:Q701,1,FALSE)))),1,0)","v":0},{"$f":"SUM(O$4:O702)+(100*SUM(T$4:T702))","v":0},{"$f":"IF(NOT(ISBLANK(B702)),(A702+P702)+(Settings!$B$5/24),\"\")","v":""},0,0,0,null,0,0,0,0,0,0,0,0]
[null,null,null,0,"*EOL*",0,null,0,"","","","","",{"$error":"#VALUE!"},0,"","",":0:0",{"$f":"IF(ISNA(VLOOKUP(R703,R$4:R702,1,FALSE)),FALSE,IF(O703>0,TRUE,FALSE))","v":false},{"$f":"IF(AND(C703<>\"\",$E703<>\"*ON*\",$E703<>\"*OFF*\",ISNA((VLOOKUP(C703&\"@\"&E703,Q$4:Q702,1,FALSE)))),1,0)","v":0},{"$f":"SUM(O$4:O703)+(100*SUM(T$4:T703))","v":0},{"$f":"IF(NOT(ISBLANK(B703)),(A703+P703)+(Settings!$B$5/24),\"\")","v":""},0,0,0,null,0,0,0,0,0,0,0,0]
[null,null,null,0,"*EOL*",0,null,0,"","","","","",{"$error":"#VALUE!"},0,"","",":0:0",{"$f":"IF(ISNA(VLOOKUP(R704,R$4:R703,1,FALSE)),FALSE,IF(O704>0,TRUE,FALSE))","v":false},{"$f":"IF(AND(C704<>\"\",$E704<>\"*ON*\",$E704<>\"*OFF*\",ISNA((VLOOKUP(C704&\"@\"&E704,Q$4:Q703,1,FALSE)))),1,0)","v":0},{"$f":"SUM(O$4:O704)+(100*SUM(T$4:T704))","v":0},{"$f":"IF(NOT(ISBLANK(B704)),(A704+P704)+(Settings!$B$5/24),\"\")","v":""},0,0,0,null,{"$f":"IF($E704=AA$3,$H704,0)","v":0},0,0,0,0,0,0,0]
[null,null,null,0,"*EOL*",0,null,0,"","","","","",{"$error":"#VALUE!"},0,"","",":0:0",{"$f":"IF(ISNA(VLOOKUP(R705,R$4:R704,1,FALSE)),FALSE,IF(O705>0,TRUE,FALSE))","v":false},{"$f":"IF(AND(C705<>\"\",$E705<>\"*ON*\",$E705<>\"*OFF*\",ISNA((VLOOKUP(C705&\"@\"&E705,Q$4:Q704,1,FALSE)))),1,0)","v":0},{"$f":"SUM(O$4:O705)+(100*SUM(T$4:T705))","v":0},{"$f":"IF(NOT(ISBLANK(B705)),(A705+P705)+(Settings!$B$5/24),\"\")","v":""},0,0,0,null,0,0,0,0,0,0,0,0]
[null,null,null,0,"*EOL*",0,null,0,"","","","","",{"$error":"#VALUE!"},0,"","",":0:0",{"$f":"IF(ISNA(VLOOKUP(R706,R$4:R705,1,FALSE)),FALSE,IF(O706>0,TRUE,FALSE))","v":false},{"$f":"IF(AND(C706<>\"\",$E706<>\"*ON*\",$E706<>\"*OFF*\",ISNA((VLOOKUP(C706&\"@\"&E706,Q$4:Q705,1,FALSE)))),1,0)","v":0},{"$f":"SUM(O$4:O706)+(100*SUM(T$4:T706))","v":0},{"$f":"IF(NOT(ISBLANK(B706)),(A706+P706)+(Settings!$B$5/24),\"\")","v":""},0,0,0,null,0,0,0,0,0,0,0,0]
[null,null,null,0,"*EOL*",0,null,0,"","","","","",{"$error":"#VALUE!"},0,"","",":0:0",{"$f":"IF(ISNA(VLOOKUP(R707,R$4:R706,1,FALSE)),FALSE,IF(O707>0,TRUE,FALSE))","v":false},{"$f":"IF(AND(C707<>\"\",$E707<>\"*ON*\",$E707<>\"*OFF*\",ISNA((VLOOKUP(C707&\"@\"&E707,Q$4:Q706,1,FALSE)))),1,0)","v":0},{"$f":"SUM(O$4:O707)+(100*SUM(T$4:T707))","v":0},{"$f":"IF(NOT(ISBLANK(B707)),(A707+P707)+(Settings!$B$5/24),\"\")","v":""},0,0,0,null,0,0,0,0,0,0,0,0]
[null,null,null,0,"*EOL*",0,null,0,"",{"$f":"MH2Lat(F708)","v":""},{"$f":"MH2Lon(F708)","v":""},{"$f":"MH2Lat(D708)","v":""},{"$f":"MH2Lon(D708)","v":""},{"$f":"Distance(J708,K708,L708,M708)","v":{"$error":"#VALUE!"}},0,{"$f":"IF(ISBLANK(B708),\"\",IF(LEN(B708)=1,TIMEVALUE(\"00:0\"&B708),IF(LEN(B708)=2,TIMEVALUE(\"00:\"&B708),IF(LEN(B708)=3,TIMEVALUE(\"0\"&LEFT(B708,1)&\":\"&RIGHT(B708,2)),TIMEVALUE(LEFT(B708,2)&\":\"&RIGHT(B708,2))))))","v":""},"",":0:0",{"$f":"IF(ISNA(VLOOKUP(R708,R$4:R707,1,FALSE)),FALSE,IF(O708>0,TRUE,FALSE))","v":false},{"$f":"IF(AND(C708<>\"\",$E708<>\"*ON*\",$E708<>\"*OFF*\",ISNA((VLOOKUP(C708&\"@\"&E708,Q$4:Q707,1,FALSE)))),1,0)","v":0},{"$f":"SUM(O$4:O708)+(100*SUM(T$4:T708))","v":0},{"$f":"IF(NOT(ISBLANK(B708)),(A708+P708)+(Settings!$B$5/24),\"\")","v":""},{"$f":"IF(E708=\"*ON*\",1,0)","v":0},{"$f":"IF(E708=\"*OFF*\",1,0)","v":0},0,null,0,0,0,0,0,0,0,0]
[null,null,null,0,"*EOL*",0,null,0,"","","","","",{"$error":"#VALUE!"},{"$f":"IF(NOT(ISERR(N709)),ROUND(N709,0),0)","v":0},"",{"$f":"IF(AND(NOT(ISBLANK(C709)),NOT(ISBLANK(E709))),C709&\"@\"&E709,\"\")","v":""},{"$f":"Q709&\":\"&F709&\":\"&D709","v":":0:0"},{"$f":"IF(ISNA(VLOOKUP(R709,R$4:R708,1,FALSE)),FALSE,IF(O709>0,TRUE,FALSE))","v":false},{"$f":"IF(AND(C709<>\"\",$E709<>\"*ON*\",$E709<>\"*OFF*\",ISNA((VLOOKUP(C709&\"@\"&E709,Q$4:Q708,1,FALSE)))),1,0)","v":0},{"$f":"SUM(O$4:O709)+(100*SUM(T$4:T709))","v":0},{"$f":"IF(NOT(ISBLANK(B709)),(A709+P709)+(Settings!$B$5/24),\"\")","v":""},0,0,0,null,0,0,0,0,0,0,0,0]
[null,null,null,0,"*EOL*",0,null,{"$f":"IF(OR($S710,ISERR($N710),ISBLANK($B710),ISBLANK($C710)),0,MAX(O710,1))","v":0},{"$f":"IF(OR(ISBLANK($B710),ISBLANK($C710),ISBLANK($D710),ISBLANK($F710),NOT($S710)),\"\",\"Dupe!\")","v":""},"","","","",{"$error":"#VALUE!"},0,"","",":0:0",{"$f":"IF(ISNA(VLOOKUP(R710,R$4:R709,1,FALSE)),FALSE,IF(O710>0,TRUE,FALSE))","v":false},{"$f":"IF(AND(C710<>\"\",$E710<>\"*ON*\",$E710<>\"*OFF*\",ISNA((VLOOKUP(C710&\"@\"&E710,Q$4:Q709,1,FALSE)))),1,0)","v":0},{"$f":"SUM(O$4:O710)+(100*SUM(T$4:T710))","v":0},{"$f":"IF(NOT(ISBLANK(B710)),(A710+P710)+(Settings!$B$5/24),\"\")","v":""},0,0,0,null,0,0,0,0,0,0,0,0]
[null,null,null,{"$f":"D710","v":0},{"$f":"E710","v":"*EOL*"},{"$f":"F710","v":0},null,0,"","","","","",{"$error":"#VALUE!"},0,"","",":0:0",{"$f":"IF(ISNA(VLOOKUP(R711,R$4:R710,1,FALSE)),FALSE,IF(O711>0,TRUE,FALSE))","v":false},{"$f":"IF(AND(C711<>\"\",$E711<>\"*ON*\",$E711<>\"*OFF*\",ISNA((VLOOKUP(C711&\"@\"&E711,Q$4:Q710,1,FALSE)))),1,0)","v":0},{"$f":"SUM(O$4:O711)+(100*SUM(T$4:T711))","v":0},{"$f":"IF(NOT(ISBLANK(B711)),(A711+P711)+(Settings!$B$5/24),\"\")","v":""},0,0,0,null,0,0,0,0,0,0,0,0]
[null,null,null,0,"*EOL*",0,null,0,"","","","","",{"$error":"#VALUE!"},0,"","",":0:0",{"$f":"IF(ISNA(VLOOKUP(R712,R$4:R711,1,FALSE)),FALSE,IF(O712>0,TRUE,FALSE))","v":false},{"$f":"IF(AND(C712<>\"\",$E712<>\"*ON*\",$E712<>\"*OFF*\",ISNA((VLOOKUP(C712&\"@\"&E712,Q$4:Q711,1,FALSE)))),1,0)","v":0},{"$f":"SUM(O$4:O712)+(100*SUM(T$4:T712))","v":0},{"$f":"IF(NOT(ISBLANK(B712)),(A712+P712)+(Settings!$B$5/24),\"\")","v":""},0,0,0,null,0,0,0,0,0,0,0,0]
[null,null,null,0,"*EOL*",0,null,0,"","","","","",{"$error":"#VALUE!"},0,"","",":0:0",{"$f":"IF(ISNA(VLOOKUP(R713,R$4:R712,1,FALSE)),FALSE,IF(O713>0,TRUE,FALSE))","v":false},{"$f":"IF(AND(C713<>\"\",$E713<>\"*ON*\",$E713<>\"*OFF*\",ISNA((VLOOKUP(C713&\"@\"&E713,Q$4:Q712,1,FALSE)))),1,0)","v":0},{"$f":"SUM(O$4:O713)+(100*SUM(T$4:T713))","v":0},{"$f":"IF(NOT(ISBLANK(B713)),(A713+P713)+(Settings!$B$5/24),\"\")","v":""},0,0,0,null,0,0,0,0,0,0,0,0]
[null,null,null,0,"*EOL*",0,null,0,"","","","","",{"$error":"#VALUE!"},0,"","",":0:0",{"$f":"IF(ISNA(VLOOKUP(R714,R$4:R713,1,FALSE)),FALSE,IF(O714>0,TRUE,FALSE))","v":false},{"$f":"IF(AND(C714<>\"\",$E714<>\"*ON*\",$E714<>\"*OFF*\",ISNA((VLOOKUP(C714&\"@\"&E714,Q$4:Q713,1,FALSE)))),1,0)","v":0},{"$f":"SUM(O$4:O714)+(100*SUM(T$4:T714))","v":0},{"$f":"IF(NOT(ISBLANK(B714)),(A714+P714)+(Settings!$B$5/24),\"\")","v":""},0,0,0,null,{"$f":"IF($E714=AA$3,$H714,0)","v":0},0,0,0,0,0,0,0]
[null,null,null,0,"*EOL*",0,null,0,"","","","","",{"$error":"#VALUE!"},0,"","",":0:0",{"$f":"IF(ISNA(VLOOKUP(R715,R$4:R714,1,FALSE)),FALSE,IF(O715>0,TRUE,FALSE))","v":false},{"$f":"IF(AND(C715<>\"\",$E715<>\"*ON*\",$E715<>\"*OFF*\",ISNA((VLOOKUP(C715&\"@\"&E715,Q$4:Q714,1,FALSE)))),1,0)","v":0},{"$f":"SUM(O$4:O715)+(100*SUM(T$4:T715))","v":0},{"$f":"IF(NOT(ISBLANK(B715)),(A715+P715)+(Settings!$B$5/24),\"\")","v":""},0,0,0,null,0,0,0,0,0,0,0,0]
[null,null,null,0,"*EOL*",0,null,0,"","","","","",{"$error":"#VALUE!"},0,"","",":0:0",{"$f":"IF(ISNA(VLOOKUP(R716,R$4:R715,1,FALSE)),FALSE,IF(O716>0,TRUE,FALSE))","v":false},{"$f":"IF(AND(C716<>\"\",$E716<>\"*ON*\",$E716<>\"*OFF*\",ISNA((VLOOKUP(C716&\"@\"&E716,Q$4:Q715,1,FALSE)))),1,0)","v":0},{"$f":"SUM(O$4:O716)+(100*SUM(T$4:T716))","v":0},{"$f":"IF(NOT(ISBLANK(B716)),(A716+P716)+(Settings!$B$5/24),\"\")","v":""},0,0,0,null,0,0,0,0,0,0,0,0]
[null,null,null,0,"*EOL*",0,null,0,"","","","","",{"$error":"#VALUE!"},0,"","",":0:0",{"$f":"IF(ISNA(VLOOKUP(R717,R$4:R716,1,FALSE)),FALSE,IF(O717>0,TRUE,FALSE))","v":false},{"$f":"IF(AND(C717<>\"\",$E717<>\"*ON*\",$E717<>\"*OFF*\",ISNA((VLOOKUP(C717&\"@\"&E717,Q$4:Q716,1,FALSE)))),1,0)","v":0},{"$f":"SUM(O$4:O717)+(100*SUM(T$4:T717))","v":0},{"$f":"IF(NOT(ISBLANK(B717)),(A717+P717)+(Settings!$B$5/24),\"\")","v":""},0,0,0,null,0,0,0,0,0,0,0,0]
[null,null,null,0,"*EOL*",0,null,0,"","","","","",{"$error":"#VALUE!"},0,"","",":0:0",{"$f":"IF(ISNA(VLOOKUP(R718,R$4:R717,1,FALSE)),FALSE,IF(O718>0,TRUE,FALSE))","v":false},{"$f":"IF(AND(C718<>\"\",$E718<>\"*ON*\",$E718<>\"*OFF*\",ISNA((VLOOKUP(C718&\"@\"&E718,Q$4:Q717,1,FALSE)))),1,0)","v":0},{"$f":"SUM(O$4:O718)+(100*SUM(T$4:T718))","v":0},{"$f":"IF(NOT(ISBLANK(B718)),(A718+P718)+(Settings!$B$5/24),\"\")","v":""},0,0,0,null,0,0,0,0,0,0,0,0]
[null,null,null,0,"*EOL*",0,null,0,"","","","","",{"$error":"#VALUE!"},0,"","",":0:0",{"$f":"IF(ISNA(VLOOKUP(R719,R$4:R718,1,FALSE)),FALSE,IF(O719>0,TRUE,FALSE))","v":false},{"$f":"IF(AND(C719<>\"\",$E719<>\"*ON*\",$E719<>\"*OFF*\",ISNA((VLOOKUP(C719&\"@\"&E719,Q$4:Q718,1,FALSE)))),1,0)","v":0},{"$f":"SUM(O$4:O719)+(100*SUM(T$4:T719))","v":0},{"$f":"IF(NOT(ISBLANK(B719)),(A719+P719)+(Settings!$B$5/24),\"\")","v":""},0,0,{"$f":"IF($E719=\"*EOL*\",0,IF(X718,0,V719-V718)*24)","v":0},null,0,0,0,0,0,0,0,0]
[null,null,null,0,"*EOL*",0,null,0,"","","","","",{"$error":"#VALUE!"},0,"","",":0:0",{"$f":"IF(ISNA(VLOOKUP(R720,R$4:R719,1,FALSE)),FALSE,IF(O720>0,TRUE,FALSE))","v":false},{"$f":"IF(AND(C720<>\"\",$E720<>\"*ON*\",$E720<>\"*OFF*\",ISNA((VLOOKUP(C720&\"@\"&E720,Q$4:Q719,1,FALSE)))),1,0)","v":0},{"$f":"SUM(O$4:O720)+(100*SUM(T$4:T720))","v":0},{"$f":"IF(NOT(ISBLANK(B720)),(A720+P720)+(Settings!$B$5/24),\"\")","v":""},0,0,0,null,0,0,0,0,0,0,0,0]
[null,null,null,0,"*EOL*",0,null,0,"","","","","",{"$error":"#VALUE!"},0,"","",":0:0",{"$f":"IF(ISNA(VLOOKUP(R721,R$4:R720,1,FALSE)),FALSE,IF(O721>0,TRUE,FALSE))","v":false},{"$f":"IF(AND(C721<>\"\",$E721<>\"*ON*\",$E721<>\"*OFF*\",ISNA((VLOOKUP(C721&\"@\"&E721,Q$4:Q720,1,FALSE)))),1,0)","v":0},{"$f":"SUM(O$4:O721)+(100*SUM(T$4:T721))","v":0},{"$f":"IF(NOT(ISBLANK(B721)),(A721+P721)+(Settings!$B$5/24),\"\")","v":""},0,0,0,null,0,0,0,0,0,0,0,0]
[null,null,null,0,"*EOL*",0,null,0,"","","","","",{"$error":"#VALUE!"},0,"","",":0:0",{"$f":"IF(ISNA(VLOOKUP(R722,R$4:R721,1,FALSE)),FALSE,IF(O722>0,TRUE,FALSE))","v":false},{"$f":"IF(AND(C722<>\"\",$E722<>\"*ON*\",$E722<>\"*OFF*\",ISNA((VLOOKUP(C722&\"@\"&E722,Q$4:Q721,1,FALSE)))),1,0)","v":0},{"$f":"SUM(O$4:O722)+(100*SUM(T$4:T722))","v":0},{"$f":"IF(NOT(ISBLANK(B722)),(A722+P722)+(Settings!$B$5/24),\"\")","v":""},0,0,0,null,0,0,0,0,0,0,0,0]
[null,null,null,0,"*EOL*",0,null,0,"","","","","",{"$error":"#VALUE!"},0,"","",":0:0",{"$f":"IF(ISNA(VLOOKUP(R723,R$4:R722,1,FALSE)),FALSE,IF(O723>0,TRUE,FALSE))","v":false},{"$f":"IF(AND(C723<>\"\",$E723<>\"*ON*\",$E723<>\"*OFF*\",ISNA((VLOOKUP(C723&\"@\"&E723,Q$4:Q722,1,FALSE)))),1,0)","v":0},{"$f":"SUM(O$4:O723)+(100*SUM(T$4:T723))","v":0},{"$f":"IF(NOT(ISBLANK(B723)),(A723+P723)+(Settings!$B$5/24),\"\")","v":""},0,0,0,null,0,0,0,0,0,0,0,0]
[null,null,null,0,"*EOL*",0,null,0,"","","","","",{"$error":"#VALUE!"},0,"","",":0:0",{"$f":"IF(ISNA(VLOOKUP(R724,R$4:R723,1,FALSE)),FALSE,IF(O724>0,TRUE,FALSE))","v":false},{"$f":"IF(AND(C724<>\"\",$E724<>\"*ON*\",$E724<>\"*OFF*\",ISNA((VLOOKUP(C724&\"@\"&E724,Q$4:Q723,1,FALSE)))),1,0)","v":0},{"$f":"SUM(O$4:O724)+(100*SUM(T$4:T724))","v":0},{"$f":"IF(NOT(ISBLANK(B724)),(A724+P724)+(Settings!$B$5/24),\"\")","v":""},0,0,0,null,{"$f":"IF($E724=AA$3,$H724,0)","v":0},0,0,0,0,0,0,0]
[null,null,null,0,"*EOL*",0,null,0,"","","","","",{"$error":"#VALUE!"},0,"","",":0:0",{"$f":"IF(ISNA(VLOOKUP(R725,R$4:R724,1,FALSE)),FALSE,IF(O725>0,TRUE,FALSE))","v":false},{"$f":"IF(AND(C725<>\"\",$E725<>\"*ON*\",$E725<>\"*OFF*\",ISNA((VLOOKUP(C725&\"@\"&E725,Q$4:Q724,1,FALSE)))),1,0)","v":0},{"$f":"SUM(O$4:O725)+(100*SUM(T$4:T725))","v":0},{"$f":"IF(NOT(ISBLANK(B725)),(A725+P725)+(Settings!$B$5/24),\"\")","v":""},0,0,0,null,0,0,0,0,0,0,0,0]
[null,null,null,0,"*EOL*",0,null,0,"","","","","",{"$error":"#VALUE!"},0,"","",":0:0",{"$f":"IF(ISNA(VLOOKUP(R726,R$4:R725,1,FALSE)),FALSE,IF(O726>0,TRUE,FALSE))","v":false},{"$f":"IF(AND(C726<>\"\",$E726<>\"*ON*\",$E726<>\"*OFF*\",ISNA((VLOOKUP(C726&\"@\"&E726,Q$4:Q725,1,FALSE)))),1,0)","v":0},{"$f":"SUM(O$4:O726)+(100*SUM(T$4:T726))","v":0},{"$f":"IF(NOT(ISBLANK(B726)),(A726+P726)+(Settings!$B$5/24),\"\")","v":""},0,0,0,null,0,0,0,0,0,0,0,0]
[null,null,null,0,"*EOL*",0,null,0,"","","","","",{"$error":"#VALUE!"},0,"","",":0:0",{"$f":"IF(ISNA(VLOOKUP(R727,R$4:R726,1,FALSE)),FALSE,IF(O727>0,TRUE,FALSE))","v":false},{"$f":"IF(AND(C727<>\"\",$E727<>\"*ON*\",$E727<>\"*OFF*\",ISNA((VLOOKUP(C727&\"@\"&E727,Q$4:Q726,1,FALSE)))),1,0)","v":0},{"$f":"SUM(O$4:O727)+(100*SUM(T$4:T727))","v":0},{"$f":"IF(NOT(ISBLANK(B727)),(A727+P727)+(Settings!$B$5/24),\"\")","v":""},0,0,0,null,0,0,0,0,0,0,0,0]
[null,null,null,0,"*EOL*",0,null,0,"","","","","",{"$error":"#VALUE!"},0,"","",":0:0",{"$f":"IF(ISNA(VLOOKUP(R728,R$4:R727,1,FALSE)),FALSE,IF(O728>0,TRUE,FALSE))","v":false},{"$f":"IF(AND(C728<>\"\",$E728<>\"*ON*\",$E728<>\"*OFF*\",ISNA((VLOOKUP(C728&\"@\"&E728,Q$4:Q727,1,FALSE)))),1,0)","v":0},{"$f":"SUM(O$4:O728)+(100*SUM(T$4:T728))","v":0},{"$f":"IF(NOT(ISBLANK(B728)),(A728+P728)+(Settings!$B$5/24),\"\")","v":""},0,0,0,null,0,0,0,0,0,0,0,0]
[null,null,null,0,"*EOL*",0,null,0,"","","","","",{"$error":"#VALUE!"},0,"","",":0:0",{"$f":"IF(ISNA(VLOOKUP(R729,R$4:R728,1,FALSE)),FALSE,IF(O729>0,TRUE,FALSE))","v":false},{"$f":"IF(AND(C729<>\"\",$E729<>\"*ON*\",$E729<>\"*OFF*\",ISNA((VLOOKUP(C729&\"@\"&E729,Q$4:Q728,1,FALSE)))),1,0)","v":0},{"$f":"SUM(O$4:O729)+(100*SUM(T$4:T729))","v":0},{"$f":"IF(NOT(ISBLANK(B729)),(A729+P729)+(Settings!$B$5/24),\"\")","v":""},0,0,0,null,0,0,0,0,0,0,0,0]
[null,null,null,0,"*EOL*",0,null,0,"","","","","",{"$error":"#VALUE!"},0,"","",":0:0",{"$f":"IF(ISNA(VLOOKUP(R730,R$4:R729,1,FALSE)),FALSE,IF(O730>0,TRUE,FALSE))","v":false},{"$f":"IF(AND(C730<>\"\",$E730<>\"*ON*\",$E730<>\"*OFF*\",ISNA((VLOOKUP(C730&\"@\"&E730,Q$4:Q729,1,FALSE)))),1,0)","v":0},{"$f":"SUM(O$4:O730)+(100*SUM(T$4:T730))","v":0},{"$f":"IF(NOT(ISBLANK(B730)),(A730+P730)+(Settings!$B$5/24),\"\")","v":""},0,0,0,null,0,0,0,0,0,0,0,0]
[null,null,null,0,"*EOL*",0,null,0,"","","","","",{"$error":"#VALUE!"},0,"","",":0:0",{"$f":"IF(ISNA(VLOOKUP(R731,R$4:R730,1,FALSE)),FALSE,IF(O731>0,TRUE,FALSE))","v":false},{"$f":"IF(AND(C731<>\"\",$E731<>\"*ON*\",$E731<>\"*OFF*\",ISNA((VLOOKUP(C731&\"@\"&E731,Q$4:Q730,1,FALSE)))),1,0)","v":0},{"$f":"SUM(O$4:O731)+(100*SUM(T$4:T731))","v":0},{"$f":"IF(NOT(ISBLANK(B731)),(A731+P731)+(Settings!$B$5/24),\"\")","v":""},0,0,0,null,0,0,0,0,0,0,0,0]
[null,null,null,0,"*EOL*",0,null,0,"","","","","",{"$error":"#VALUE!"},0,"","",":0:0",{"$f":"IF(ISNA(VLOOKUP(R732,R$4:R731,1,FALSE)),FALSE,IF(O732>0,TRUE,FALSE))","v":false},{"$f":"IF(AND(C732<>\"\",$E732<>\"*ON*\",$E732<>\"*OFF*\",ISNA((VLOOKUP(C732&\"@\"&E732,Q$4:Q731,1,FALSE)))),1,0)","v":0},{"$f":"SUM(O$4:O732)+(100*SUM(T$4:T732))","v":0},{"$f":"IF(NOT(ISBLANK(B732)),(A732+P732)+(Settings!$B$5/24),\"\")","v":""},0,0,0,null,0,0,0,0,0,0,0,0]
[null,null,null,0,"*EOL*",0,null,0,"","","","","",{"$error":"#VALUE!"},0,"","",":0:0",{"$f":"IF(ISNA(VLOOKUP(R733,R$4:R732,1,FALSE)),FALSE,IF(O733>0,TRUE,FALSE))","v":false},{"$f":"IF(AND(C733<>\"\",$E733<>\"*ON*\",$E733<>\"*OFF*\",ISNA((VLOOKUP(C733&\"@\"&E733,Q$4:Q732,1,FALSE)))),1,0)","v":0},{"$f":"SUM(O$4:O733)+(100*SUM(T$4:T733))","v":0},{"$f":"IF(NOT(ISBLANK(B733)),(A733+P733)+(Settings!$B$5/24),\"\")","v":""},0,0,0,null,0,0,0,0,0,0,0,0]
[null,null,null,0,"*EOL*",0,null,0,"","","","","",{"$error":"#VALUE!"},0,"","",":0:0",{"$f":"IF(ISNA(VLOOKUP(R734,R$4:R733,1,FALSE)),FALSE,IF(O734>0,TRUE,FALSE))","v":false},{"$f":"IF(AND(C734<>\"\",$E734<>\"*ON*\",$E734<>\"*OFF*\",ISNA((VLOOKUP(C734&\"@\"&E734,Q$4:Q733,1,FALSE)))),1,0)","v":0},{"$f":"SUM(O$4:O734)+(100*SUM(T$4:T734))","v":0},{"$f":"IF(NOT(ISBLANK(B734)),(A734+P734)+(Settings!$B$5/24),\"\")","v":""},0,0,0,null,{"$f":"IF($E734=AA$3,$H734,0)","v":0},0,0,0,0,0,0,0]
[null,null,null,0,"*EOL*",0,null,0,"","","","","",{"$error":"#VALUE!"},0,"","",":0:0",{"$f":"IF(ISNA(VLOOKUP(R735,R$4:R734,1,FALSE)),FALSE,IF(O735>0,TRUE,FALSE))","v":false},{"$f":"IF(AND(C735<>\"\",$E735<>\"*ON*\",$E735<>\"*OFF*\",ISNA((VLOOKUP(C735&\"@\"&E735,Q$4:Q734,1,FALSE)))),1,0)","v":0},{"$f":"SUM(O$4:O735)+(100*SUM(T$4:T735))","v":0},{"$f":"IF(NOT(ISBLANK(B735)),(A735+P735)+(Settings!$B$5/24),\"\")","v":""},0,0,0,null,0,0,0,0,0,0,0,0]
[null,null,null,0,"*EOL*",0,null,0,"","","","","",{"$error":"#VALUE!"},0,"","",":0:0",{"$f":"IF(ISNA(VLOOKUP(R736,R$4:R735,1,FALSE)),FALSE,IF(O736>0,TRUE,FALSE))","v":false},{"$f":"IF(AND(C736<>\"\",$E736<>\"*ON*\",$E736<>\"*OFF*\",ISNA((VLOOKUP(C736&\"@\"&E736,Q$4:Q735,1,FALSE)))),1,0)","v":0},{"$f":"SUM(O$4:O736)+(100*SUM(T$4:T736))","v":0},{"$f":"IF(NOT(ISBLANK(B736)),(A736+P736)+(Settings!$B$5/24),\"\")","v":""},0,0,0,null,0,0,0,0,0,0,0,0]
[null,null,null,0,"*EOL*",0,null,0,"","","","","",{"$error":"#VALUE!"},0,"","",":0:0",{"$f":"IF(ISNA(VLOOKUP(R737,R$4:R736,1,FALSE)),FALSE,IF(O737>0,TRUE,FALSE))","v":false},{"$f":"IF(AND(C737<>\"\",$E737<>\"*ON*\",$E737<>\"*OFF*\",ISNA((VLOOKUP(C737&\"@\"&E737,Q$4:Q736,1,FALSE)))),1,0)","v":0},{"$f":"SUM(O$4:O737)+(100*SUM(T$4:T737))","v":0},{"$f":"IF(NOT(ISBLANK(B737)),(A737+P737)+(Settings!$B$5/24),\"\")","v":""},0,0,0,null,0,0,0,0,0,0,0,0]
[null,null,null,0,"*EOL*",0,null,0,"","","","","",{"$error":"#VALUE!"},0,"","",":0:0",{"$f":"IF(ISNA(VLOOKUP(R738,R$4:R737,1,FALSE)),FALSE,IF(O738>0,TRUE,FALSE))","v":false},{"$f":"IF(AND(C738<>\"\",$E738<>\"*ON*\",$E738<>\"*OFF*\",ISNA((VLOOKUP(C738&\"@\"&E738,Q$4:Q737,1,FALSE)))),1,0)","v":0},{"$f":"SUM(O$4:O738)+(100*SUM(T$4:T738))","v":0},{"$f":"IF(NOT(ISBLANK(B738)),(A738+P738)+(Settings!$B$5/24),\"\")","v":""},0,0,0,null,0,0,0,0,0,0,0,0]
[null,null,null,0,"*EOL*",0,null,0,"","","","","",{"$error":"#VALUE!"},0,"","",":0:0",{"$f":"IF(ISNA(VLOOKUP(R739,R$4:R738,1,FALSE)),FALSE,IF(O739>0,TRUE,FALSE))","v":false},{"$f":"IF(AND(C739<>\"\",$E739<>\"*ON*\",$E739<>\"*OFF*\",ISNA((VLOOKUP(C739&\"@\"&E739,Q$4:Q738,1,FALSE)))),1,0)","v":0},{"$f":"SUM(O$4:O739)+(100*SUM(T$4:T739))","v":0},{"$f":"IF(NOT(ISBLANK(B739)),(A739+P739)+(Settings!$B$5/24),\"\")","v":""},0,0,0,null,0,0,0,0,0,0,0,0]
[null,null,null,0,"*EOL*",0,null,0,"","","","","",{"$error":"#VALUE!"},0,"","",":0:0",{"$f":"IF(ISNA(VLOOKUP(R740,R$4:R739,1,FALSE)),FALSE,IF(O740>0,TRUE,FALSE))","v":false},{"$f":"IF(AND(C740<>\"\",$E740<>\"*ON*\",$E740<>\"*OFF*\",ISNA((VLOOKUP(C740&\"@\"&E740,Q$4:Q739,1,FALSE)))),1,0)","v":0},{"$f":"SUM(O$4:O740)+(100*SUM(T$4:T740))","v":0},{"$f":"IF(NOT(ISBLANK(B740)),(A740+P740)+(Settings!$B$5/24),\"\")","v":""},0,0,0,null,0,0,0,0,0,0,0,0]
[null,null,null,0,"*EOL*",0,null,0,"","","","","",{"$error":"#VALUE!"},0,"","",":0:0",{"$f":"IF(ISNA(VLOOKUP(R741,R$4:R740,1,FALSE)),FALSE,IF(O741>0,TRUE,FALSE))","v":false},{"$f":"IF(AND(C741<>\"\",$E741<>\"*ON*\",$E741<>\"*OFF*\",ISNA((VLOOKUP(C741&\"@\"&E741,Q$4:Q740,1,FALSE)))),1,0)","v":0},{"$f":"SUM(O$4:O741)+(100*SUM(T$4:T741))","v":0},{"$f":"IF(NOT(ISBLANK(B741)),(A741+P741)+(Settings!$B$5/24),\"\")","v":""},0,0,0,null,0,0,0,0,0,0,0,0]
[null,null,null,0,"*EOL*",0,null,0,"","","","","",{"$error":"#VALUE!"},0,"","",":0:0",{"$f":"IF(ISNA(VLOOKUP(R742,R$4:R741,1,FALSE)),FALSE,IF(O742>0,TRUE,FALSE))","v":false},{"$f":"IF(AND(C742<>\"\",$E742<>\"*ON*\",$E742<>\"*OFF*\",ISNA((VLOOKUP(C742&\"@\"&E742,Q$4:Q741,1,FALSE)))),1,0)","v":0},{"$f":"SUM(O$4:O742)+(100*SUM(T$4:T742))","v":0},{"$f":"IF(NOT(ISBLANK(B742)),(A742+P742)+(Settings!$B$5/24),\"\")","v":""},0,0,0,null,0,0,0,0,0,0,0,0]
[null,null,null,0,"*EOL*",0,null,0,"","","","","",{"$error":"#VALUE!"},0,"","",":0:0",{"$f":"IF(ISNA(VLOOKUP(R743,R$4:R742,1,FALSE)),FALSE,IF(O743>0,TRUE,FALSE))","v":false},{"$f":"IF(AND(C743<>\"\",$E743<>\"*ON*\",$E743<>\"*OFF*\",ISNA((VLOOKUP(C743&\"@\"&E743,Q$4:Q742,1,FALSE)))),1,0)","v":0},{"$f":"SUM(O$4:O743)+(100*SUM(T$4:T743))","v":0},{"$f":"IF(NOT(ISBLANK(B743)),(A743+P743)+(Settings!$B$5/24),\"\")","v":""},0,0,0,null,0,0,0,0,0,0,0,0]
[null,null,null,0,"*EOL*",0,null,0,"","","","","",{"$error":"#VALUE!"},0,"","",":0:0",{"$f":"IF(ISNA(VLOOKUP(R744,R$4:R743,1,FALSE)),FALSE,IF(O744>0,TRUE,FALSE))","v":false},{"$f":"IF(AND(C744<>\"\",$E744<>\"*ON*\",$E744<>\"*OFF*\",ISNA((VLOOKUP(C744&\"@\"&E744,Q$4:Q743,1,FALSE)))),1,0)","v":0},{"$f":"SUM(O$4:O744)+(100*SUM(T$4:T744))","v":0},{"$f":"IF(NOT(ISBLANK(B744)),(A744+P744)+(Settings!$B$5/24),\"\")","v":""},0,0,0,null,{"$f":"IF($E744=AA$3,$H744,0)","v":0},0,0,0,0,0,0,0]
[null,null,null,0,"*EOL*",0,null,0,"","","","","",{"$error":"#VALUE!"},0,"","",":0:0",{"$f":"IF(ISNA(VLOOKUP(R745,R$4:R744,1,FALSE)),FALSE,IF(O745>0,TRUE,FALSE))","v":false},{"$f":"IF(AND(C745<>\"\",$E745<>\"*ON*\",$E745<>\"*OFF*\",ISNA((VLOOKUP(C745&\"@\"&E745,Q$4:Q744,1,FALSE)))),1,0)","v":0},{"$f":"SUM(O$4:O745)+(100*SUM(T$4:T745))","v":0},{"$f":"IF(NOT(ISBLANK(B745)),(A745+P745)+(Settings!$B$5/24),\"\")","v":""},0,0,0,null,0,0,0,0,0,0,0,0]
[null,null,null,0,"*EOL*",0,null,0,"","","","","",{"$error":"#VALUE!"},0,"","",":0:0",{"$f":"IF(ISNA(VLOOKUP(R746,R$4:R745,1,FALSE)),FALSE,IF(O746>0,TRUE,FALSE))","v":false},{"$f":"IF(AND(C746<>\"\",$E746<>\"*ON*\",$E746<>\"*OFF*\",ISNA((VLOOKUP(C746&\"@\"&E746,Q$4:Q745,1,FALSE)))),1,0)","v":0},{"$f":"SUM(O$4:O746)+(100*SUM(T$4:T746))","v":0},{"$f":"IF(NOT(ISBLANK(B746)),(A746+P746)+(Settings!$B$5/24),\"\")","v":""},0,0,0,null,0,0,0,0,0,0,0,0]
[null,null,null,0,"*EOL*",0,null,0,"","","","","",{"$error":"#VALUE!"},0,"","",":0:0",{"$f":"IF(ISNA(VLOOKUP(R747,R$4:R746,1,FALSE)),FALSE,IF(O747>0,TRUE,FALSE))","v":false},{"$f":"IF(AND(C747<>\"\",$E747<>\"*ON*\",$E747<>\"*OFF*\",ISNA((VLOOKUP(C747&\"@\"&E747,Q$4:Q746,1,FALSE)))),1,0)","v":0},{"$f":"SUM(O$4:O747)+(100*SUM(T$4:T747))","v":0},{"$f":"IF(NOT(ISBLANK(B747)),(A747+P747)+(Settings!$B$5/24),\"\")","v":""},0,0,0,null,0,0,0,0,0,0,0,0]
[null,null,null,0,"*EOL*",0,null,0,"","","","","",{"$error":"#VALUE!"},0,"","",":0:0",{"$f":"IF(ISNA(VLOOKUP(R748,R$4:R747,1,FALSE)),FALSE,IF(O748>0,TRUE,FALSE))","v":false},{"$f":"IF(AND(C748<>\"\",$E748<>\"*ON*\",$E748<>\"*OFF*\",ISNA((VLOOKUP(C748&\"@\"&E748,Q$4:Q747,1,FALSE)))),1,0)","v":0},{"$f":"SUM(O$4:O748)+(100*SUM(T$4:T748))","v":0},{"$f":"IF(NOT(ISBLANK(B748)),(A748+P748)+(Settings!$B$5/24),\"\")","v":""},0,0,0,null,0,0,0,0,0,0,0,0]
[null,null,null,0,"*EOL*",0,null,0,"","","","","",{"$error":"#VALUE!"},0,"","",":0:0",{"$f":"IF(ISNA(VLOOKUP(R749,R$4:R748,1,FALSE)),FALSE,IF(O749>0,TRUE,FALSE))","v":false},{"$f":"IF(AND(C749<>\"\",$E749<>\"*ON*\",$E749<>\"*OFF*\",ISNA((VLOOKUP(C749&\"@\"&E749,Q$4:Q748,1,FALSE)))),1,0)","v":0},{"$f":"SUM(O$4:O749)+(100*SUM(T$4:T749))","v":0},{"$f":"IF(NOT(ISBLANK(B749)),(A749+P749)+(Settings!$B$5/24),\"\")","v":""},0,0,0,null,0,0,0,0,0,0,0,0]
[null,null,null,0,"*EOL*",0,null,0,"","","","","",{"$error":"#VALUE!"},0,"","",":0:0",{"$f":"IF(ISNA(VLOOKUP(R750,R$4:R749,1,FALSE)),FALSE,IF(O750>0,TRUE,FALSE))","v":false},{"$f":"IF(AND(C750<>\"\",$E750<>\"*ON*\",$E750<>\"*OFF*\",ISNA((VLOOKUP(C750&\"@\"&E750,Q$4:Q749,1,FALSE)))),1,0)","v":0},{"$f":"SUM(O$4:O750)+(100*SUM(T$4:T750))","v":0},{"$f":"IF(NOT(ISBLANK(B750)),(A750+P750)+(Settings!$B$5/24),\"\")","v":""},0,0,0,null,0,0,0,0,0,0,0,0]
[null,null,null,0,"*EOL*",0,null,0,"","","","","",{"$error":"#VALUE!"},0,"","",":0:0",{"$f":"IF(ISNA(VLOOKUP(R751,R$4:R750,1,FALSE)),FALSE,IF(O751>0,TRUE,FALSE))","v":false},{"$f":"IF(AND(C751<>\"\",$E751<>\"*ON*\",$E751<>\"*OFF*\",ISNA((VLOOKUP(C751&\"@\"&E751,Q$4:Q750,1,FALSE)))),1,0)","v":0},{"$f":"SUM(O$4:O751)+(100*SUM(T$4:T751))","v":0},{"$f":"IF(NOT(ISBLANK(B751)),(A751+P751)+(Settings!$B$5/24),\"\")","v":""},0,0,0,null,0,0,0,0,0,0,0,0]
[null,null,null,0,"*EOL*",0,null,0,"","","","","",{"$error":"#VALUE!"},0,"","",":0:0",{"$f":"IF(ISNA(VLOOKUP(R752,R$4:R751,1,FALSE)),FALSE,IF(O752>0,TRUE,FALSE))","v":false},{"$f":"IF(AND(C752<>\"\",$E752<>\"*ON*\",$E752<>\"*OFF*\",ISNA((VLOOKUP(C752&\"@\"&E752,Q$4:Q751,1,FALSE)))),1,0)","v":0},{"$f":"SUM(O$4:O752)+(100*SUM(T$4:T752))","v":0},{"$f":"IF(NOT(ISBLANK(B752)),(A752+P752)+(Settings!$B$5/24),\"\")","v":""},0,0,0,null,0,0,0,0,0,0,0,0]
[null,null,null,0,"*EOL*",0,null,0,"","","","","",{"$error":"#VALUE!"},0,"","",":0:0",{"$f":"IF(ISNA(VLOOKUP(R753,R$4:R752,1,FALSE)),FALSE,IF(O753>0,TRUE,FALSE))","v":false},{"$f":"IF(AND(C753<>\"\",$E753<>\"*ON*\",$E753<>\"*OFF*\",ISNA((VLOOKUP(C753&\"@\"&E753,Q$4:Q752,1,FALSE)))),1,0)","v":0},{"$f":"SUM(O$4:O753)+(100*SUM(T$4:T753))","v":0},{"$f":"IF(NOT(ISBLANK(B753)),(A753+P753)+(Settings!$B$5/24),\"\")","v":""},0,0,0,null,0,0,0,0,0,0,0,0]
[null,null,null,0,"*EOL*",0,null,0,"","","","","",{"$error":"#VALUE!"},0,"","",":0:0",{"$f":"IF(ISNA(VLOOKUP(R754,R$4:R753,1,FALSE)),FALSE,IF(O754>0,TRUE,FALSE))","v":false},{"$f":"IF(AND(C754<>\"\",$E754<>\"*ON*\",$E754<>\"*OFF*\",ISNA((VLOOKUP(C754&\"@\"&E754,Q$4:Q753,1,FALSE)))),1,0)","v":0},{"$f":"SUM(O$4:O754)+(100*SUM(T$4:T754))","v":0},{"$f":"IF(NOT(ISBLANK(B754)),(A754+P754)+(Settings!$B$5/24),\"\")","v":""},0,0,0,null,{"$f":"IF($E754=AA$3,$H754,0)","v":0},0,0,0,0,0,0,0]
[null,null,null,0,"*EOL*",0,null,0,"","","","","",{"$error":"#VALUE!"},0,"","",":0:0",{"$f":"IF(ISNA(VLOOKUP(R755,R$4:R754,1,FALSE)),FALSE,IF(O755>0,TRUE,FALSE))","v":false},{"$f":"IF(AND(C755<>\"\",$E755<>\"*ON*\",$E755<>\"*OFF*\",ISNA((VLOOKUP(C755&\"@\"&E755,Q$4:Q754,1,FALSE)))),1,0)","v":0},{"$f":"SUM(O$4:O755)+(100*SUM(T$4:T755))","v":0},{"$f":"IF(NOT(ISBLANK(B755)),(A755+P755)+(Settings!$B$5/24),\"\")","v":""},0,0,0,null,0,0,0,0,0,0,0,0]
[null,null,null,0,"*EOL*",0,null,0,"","","","","",{"$error":"#VALUE!"},0,"","",":0:0",{"$f":"IF(ISNA(VLOOKUP(R756,R$4:R755,1,FALSE)),FALSE,IF(O756>0,TRUE,FALSE))","v":false},{"$f":"IF(AND(C756<>\"\",$E756<>\"*ON*\",$E756<>\"*OFF*\",ISNA((VLOOKUP(C756&\"@\"&E756,Q$4:Q755,1,FALSE)))),1,0)","v":0},{"$f":"SUM(O$4:O756)+(100*SUM(T$4:T756))","v":0},{"$f":"IF(NOT(ISBLANK(B756)),(A756+P756)+(Settings!$B$5/24),\"\")","v":""},0,0,0,null,0,0,0,0,0,0,0,0]
[null,null,null,0,"*EOL*",0,null,0,"","","","","",{"$error":"#VALUE!"},0,"","",":0:0",{"$f":"IF(ISNA(VLOOKUP(R757,R$4:R756,1,FALSE)),FALSE,IF(O757>0,TRUE,FALSE))","v":false},{"$f":"IF(AND(C757<>\"\",$E757<>\"*ON*\",$E757<>\"*OFF*\",ISNA((VLOOKUP(C757&\"@\"&E757,Q$4:Q756,1,FALSE)))),1,0)","v":0},{"$f":"SUM(O$4:O757)+(100*SUM(T$4:T757))","v":0},{"$f":"IF(NOT(ISBLANK(B757)),(A757+P757)+(Settings!$B$5/24),\"\")","v":""},0,0,0,null,0,0,0,0,0,0,0,0]
[null,null,null,0,"*EOL*",0,null,0,"","","","","",{"$error":"#VALUE!"},0,"","",":0:0",{"$f":"IF(ISNA(VLOOKUP(R758,R$4:R757,1,FALSE)),FALSE,IF(O758>0,TRUE,FALSE))","v":false},{"$f":"IF(AND(C758<>\"\",$E758<>\"*ON*\",$E758<>\"*OFF*\",ISNA((VLOOKUP(C758&\"@\"&E758,Q$4:Q757,1,FALSE)))),1,0)","v":0},{"$f":"SUM(O$4:O758)+(100*SUM(T$4:T758))","v":0},{"$f":"IF(NOT(ISBLANK(B758)),(A758+P758)+(Settings!$B$5/24),\"\")","v":""},0,0,0,null,0,0,0,0,0,0,0,0]
[null,null,null,0,"*EOL*",0,null,0,"","","","","",{"$error":"#VALUE!"},0,"","",":0:0",{"$f":"IF(ISNA(VLOOKUP(R759,R$4:R758,1,FALSE)),FALSE,IF(O759>0,TRUE,FALSE))","v":false},{"$f":"IF(AND(C759<>\"\",$E759<>\"*ON*\",$E759<>\"*OFF*\",ISNA((VLOOKUP(C759&\"@\"&E759,Q$4:Q758,1,FALSE)))),1,0)","v":0},{"$f":"SUM(O$4:O759)+(100*SUM(T$4:T759))","v":0},{"$f":"IF(NOT(ISBLANK(B759)),(A759+P759)+(Settings!$B$5/24),\"\")","v":""},0,0,0,null,0,0,0,0,0,0,0,0]
[null,null,null,0,"*EOL*",0,null,0,"","","","","",{"$error":"#VALUE!"},0,"","",":0:0",{"$f":"IF(ISNA(VLOOKUP(R760,R$4:R759,1,FALSE)),FALSE,IF(O760>0,TRUE,FALSE))","v":false},{"$f":"IF(AND(C760<>\"\",$E760<>\"*ON*\",$E760<>\"*OFF*\",ISNA((VLOOKUP(C760&\"@\"&E760,Q$4:Q759,1,FALSE)))),1,0)","v":0},{"$f":"SUM(O$4:O760)+(100*SUM(T$4:T760))","v":0},{"$f":"IF(NOT(ISBLANK(B760)),(A760+P760)+(Settings!$B$5/24),\"\")","v":""},0,0,0,null,0,0,0,0,0,0,0,0]
[null,null,null,0,"*EOL*",0,null,0,"","","","","",{"$error":"#VALUE!"},0,"","",":0:0",{"$f":"IF(ISNA(VLOOKUP(R761,R$4:R760,1,FALSE)),FALSE,IF(O761>0,TRUE,FALSE))","v":false},{"$f":"IF(AND(C761<>\"\",$E761<>\"*ON*\",$E761<>\"*OFF*\",ISNA((VLOOKUP(C761&\"@\"&E761,Q$4:Q760,1,FALSE)))),1,0)","v":0},{"$f":"SUM(O$4:O761)+(100*SUM(T$4:T761))","v":0},{"$f":"IF(NOT(ISBLANK(B761)),(A761+P761)+(Settings!$B$5/24),\"\")","v":""},0,0,0,null,0,0,0,0,0,0,0,0]
[null,null,null,0,"*EOL*",0,null,0,"","","","","",{"$error":"#VALUE!"},0,"","",":0:0",{"$f":"IF(ISNA(VLOOKUP(R762,R$4:R761,1,FALSE)),FALSE,IF(O762>0,TRUE,FALSE))","v":false},{"$f":"IF(AND(C762<>\"\",$E762<>\"*ON*\",$E762<>\"*OFF*\",ISNA((VLOOKUP(C762&\"@\"&E762,Q$4:Q761,1,FALSE)))),1,0)","v":0},{"$f":"SUM(O$4:O762)+(100*SUM(T$4:T762))","v":0},{"$f":"IF(NOT(ISBLANK(B762)),(A762+P762)+(Settings!$B$5/24),\"\")","v":""},0,0,0,null,0,0,0,0,0,0,0,0]
[null,null,null,0,"*EOL*",0,null,0,"","","","","",{"$error":"#VALUE!"},0,"","",":0:0",{"$f":"IF(ISNA(VLOOKUP(R763,R$4:R762,1,FALSE)),FALSE,IF(O763>0,TRUE,FALSE))","v":false},{"$f":"IF(AND(C763<>\"\",$E763<>\"*ON*\",$E763<>\"*OFF*\",ISNA((VLOOKUP(C763&\"@\"&E763,Q$4:Q762,1,FALSE)))),1,0)","v":0},{"$f":"SUM(O$4:O763)+(100*SUM(T$4:T763))","v":0},{"$f":"IF(NOT(ISBLANK(B763)),(A763+P763)+(Settings!$B$5/24),\"\")","v":""},0,0,0,null,0,0,0,0,0,0,0,0]
[null,null,null,0,"*EOL*",0,null,0,"","","","","",{"$error":"#VALUE!"},0,"","",":0:0",{"$f":"IF(ISNA(VLOOKUP(R764,R$4:R763,1,FALSE)),FALSE,IF(O764>0,TRUE,FALSE))","v":false},{"$f":"IF(AND(C764<>\"\",$E764<>\"*ON*\",$E764<>\"*OFF*\",ISNA((VLOOKUP(C764&\"@\"&E764,Q$4:Q763,1,FALSE)))),1,0)","v":0},{"$f":"SUM(O$4:O764)+(100*SUM(T$4:T764))","v":0},{"$f":"IF(NOT(ISBLANK(B764)),(A764+P764)+(Settings!$B$5/24),\"\")","v":""},0,0,0,null,{"$f":"IF($E764=AA$3,$H764,0)","v":0},0,0,0,0,0,0,0]
[null,null,null,0,"*EOL*",0,null,0,"","","","","",{"$error":"#VALUE!"},0,"","",":0:0",{"$f":"IF(ISNA(VLOOKUP(R765,R$4:R764,1,FALSE)),FALSE,IF(O765>0,TRUE,FALSE))","v":false},{"$f":"IF(AND(C765<>\"\",$E765<>\"*ON*\",$E765<>\"*OFF*\",ISNA((VLOOKUP(C765&\"@\"&E765,Q$4:Q764,1,FALSE)))),1,0)","v":0},{"$f":"SUM(O$4:O765)+(100*SUM(T$4:T765))","v":0},{"$f":"IF(NOT(ISBLANK(B765)),(A765+P765)+(Settings!$B$5/24),\"\")","v":""},0,0,0,null,0,0,0,0,0,0,0,0]
[null,null,null,0,"*EOL*",0,null,0,"","","","","",{"$error":"#VALUE!"},0,"","",":0:0",{"$f":"IF(ISNA(VLOOKUP(R766,R$4:R765,1,FALSE)),FALSE,IF(O766>0,TRUE,FALSE))","v":false},{"$f":"IF(AND(C766<>\"\",$E766<>\"*ON*\",$E766<>\"*OFF*\",ISNA((VLOOKUP(C766&\"@\"&E766,Q$4:Q765,1,FALSE)))),1,0)","v":0},{"$f":"SUM(O$4:O766)+(100*SUM(T$4:T766))","v":0},{"$f":"IF(NOT(ISBLANK(B766)),(A766+P766)+(Settings!$B$5/24),\"\")","v":""},0,0,0,null,0,0,0,0,0,0,0,0]
[null,null,null,0,"*EOL*",0,null,0,"","","","","",{"$error":"#VALUE!"},0,"","",":0:0",{"$f":"IF(ISNA(VLOOKUP(R767,R$4:R766,1,FALSE)),FALSE,IF(O767>0,TRUE,FALSE))","v":false},{"$f":"IF(AND(C767<>\"\",$E767<>\"*ON*\",$E767<>\"*OFF*\",ISNA((VLOOKUP(C767&\"@\"&E767,Q$4:Q766,1,FALSE)))),1,0)","v":0},{"$f":"SUM(O$4:O767)+(100*SUM(T$4:T767))","v":0},{"$f":"IF(NOT(ISBLANK(B767)),(A767+P767)+(Settings!$B$5/24),\"\")","v":""},0,0,0,null,0,0,0,0,0,0,0,0]
[null,null,null,0,"*EOL*",0,null,0,"","","","","",{"$error":"#VALUE!"},0,"","",":0:0",{"$f":"IF(ISNA(VLOOKUP(R768,R$4:R767,1,FALSE)),FALSE,IF(O768>0,TRUE,FALSE))","v":false},{"$f":"IF(AND(C768<>\"\",$E768<>\"*ON*\",$E768<>\"*OFF*\",ISNA((VLOOKUP(C768&\"@\"&E768,Q$4:Q767,1,FALSE)))),1,0)","v":0},{"$f":"SUM(O$4:O768)+(100*SUM(T$4:T768))","v":0},{"$f":"IF(NOT(ISBLANK(B768)),(A768+P768)+(Settings!$B$5/24),\"\")","v":""},0,0,0,null,0,0,0,0,0,0,0,0]
[null,null,null,0,"*EOL*",0,null,0,"","","","","",{"$error":"#VALUE!"},0,"","",":0:0",{"$f":"IF(ISNA(VLOOKUP(R769,R$4:R768,1,FALSE)),FALSE,IF(O769>0,TRUE,FALSE))","v":false},{"$f":"IF(AND(C769<>\"\",$E769<>\"*ON*\",$E769<>\"*OFF*\",ISNA((VLOOKUP(C769&\"@\"&E769,Q$4:Q768,1,FALSE)))),1,0)","v":0},{"$f":"SUM(O$4:O769)+(100*SUM(T$4:T769))","v":0},{"$f":"IF(NOT(ISBLANK(B769)),(A769+P769)+(Settings!$B$5/24),\"\")","v":""},0,0,0,null,0,0,0,0,0,0,0,0]
[null,null,null,0,"*EOL*",0,null,0,"","","","","",{"$error":"#VALUE!"},0,"","",":0:0",{"$f":"IF(ISNA(VLOOKUP(R770,R$4:R769,1,FALSE)),FALSE,IF(O770>0,TRUE,FALSE))","v":false},{"$f":"IF(AND(C770<>\"\",$E770<>\"*ON*\",$E770<>\"*OFF*\",ISNA((VLOOKUP(C770&\"@\"&E770,Q$4:Q769,1,FALSE)))),1,0)","v":0},{"$f":"SUM(O$4:O770)+(100*SUM(T$4:T770))","v":0},{"$f":"IF(NOT(ISBLANK(B770)),(A770+P770)+(Settings!$B$5/24),\"\")","v":""},0,0,0,null,0,0,0,0,0,0,0,0]
[null,null,null,0,"*EOL*",0,null,0,"","","","","",{"$error":"#VALUE!"},0,"","",":0:0",{"$f":"IF(ISNA(VLOOKUP(R771,R$4:R770,1,FALSE)),FALSE,IF(O771>0,TRUE,FALSE))","v":false},{"$f":"IF(AND(C771<>\"\",$E771<>\"*ON*\",$E771<>\"*OFF*\",ISNA((VLOOKUP(C771&\"@\"&E771,Q$4:Q770,1,FALSE)))),1,0)","v":0},{"$f":"SUM(O$4:O771)+(100*SUM(T$4:T771))","v":0},{"$f":"IF(NOT(ISBLANK(B771)),(A771+P771)+(Settings!$B$5/24),\"\")","v":""},0,0,0,null,0,0,0,0,0,0,0,0]
[null,null,null,0,"*EOL*",0,null,0,"",{"$f":"MH2Lat(F772)","v":""},{"$f":"MH2Lon(F772)","v":""},{"$f":"MH2Lat(D772)","v":""},{"$f":"MH2Lon(D772)","v":""},{"$f":"Distance(J772,K772,L772,M772)","v":{"$error":"#VALUE!"}},0,{"$f":"IF(ISBLANK(B772),\"\",IF(LEN(B772)=1,TIMEVALUE(\"00:0\"&B772),IF(LEN(B772)=2,TIMEVALUE(\"00:\"&B772),IF(LEN(B772)=3,TIMEVALUE(\"0\"&LEFT(B772,1)&\":\"&RIGHT(B772,2)),TIMEVALUE(LEFT(B772,2)&\":\"&RIGHT(B772,2))))))","v":""},"",":0:0",{"$f":"IF(ISNA(VLOOKUP(R772,R$4:R771,1,FALSE)),FALSE,IF(O772>0,TRUE,FALSE))","v":false},{"$f":"IF(AND(C772<>\"\",$E772<>\"*ON*\",$E772<>\"*OFF*\",ISNA((VLOOKUP(C772&\"@\"&E772,Q$4:Q771,1,FALSE)))),1,0)","v":0},{"$f":"SUM(O$4:O772)+(100*SUM(T$4:T772))","v":0},{"$f":"IF(NOT(ISBLANK(B772)),(A772+P772)+(Settings!$B$5/24),\"\")","v":""},{"$f":"IF(E772=\"*ON*\",1,0)","v":0},{"$f":"IF(E772=\"*OFF*\",1,0)","v":0},0,null,0,0,0,0,0,0,0,0]
[null,null,null,0,"*EOL*",0,null,0,"","","","","",{"$error":"#VALUE!"},{"$f":"IF(NOT(ISERR(N773)),ROUND(N773,0),0)","v":0},"",{"$f":"IF(AND(NOT(ISBLANK(C773)),NOT(ISBLANK(E773))),C773&\"@\"&E773,\"\")","v":""},{"$f":"Q773&\":\"&F773&\":\"&D773","v":":0:0"},{"$f":"IF(ISNA(VLOOKUP(R773,R$4:R772,1,FALSE)),FALSE,IF(O773>0,TRUE,FALSE))","v":false},{"$f":"IF(AND(C773<>\"\",$E773<>\"*ON*\",$E773<>\"*OFF*\",ISNA((VLOOKUP(C773&\"@\"&E773,Q$4:Q772,1,FALSE)))),1,0)","v":0},{"$f":"SUM(O$4:O773)+(100*SUM(T$4:T773))","v":0},{"$f":"IF(NOT(ISBLANK(B773)),(A773+P773)+(Settings!$B$5/24),\"\")","v":""},0,0,0,null,0,0,0,0,0,0,0,0]
[null,null,null,0,"*EOL*",0,null,{"$f":"IF(OR($S774,ISERR($N774),ISBLANK($B774),ISBLANK($C774)),0,MAX(O774,1))","v":0},{"$f":"IF(OR(ISBLANK($B774),ISBLANK($C774),ISBLANK($D774),ISBLANK($F774),NOT($S774)),\"\",\"Dupe!\")","v":""},"","","","",{"$error":"#VALUE!"},0,"","",":0:0",{"$f":"IF(ISNA(VLOOKUP(R774,R$4:R773,1,FALSE)),FALSE,IF(O774>0,TRUE,FALSE))","v":false},{"$f":"IF(AND(C774<>\"\",$E774<>\"*ON*\",$E774<>\"*OFF*\",ISNA((VLOOKUP(C774&\"@\"&E774,Q$4:Q773,1,FALSE)))),1,0)","v":0},{"$f":"SUM(O$4:O774)+(100*SUM(T$4:T774))","v":0},{"$f":"IF(NOT(ISBLANK(B774)),(A774+P774)+(Settings!$B$5/24),\"\")","v":""},0,0,0,null,{"$f":"IF($E774=AA$3,$H774,0)","v":0},0,0,0,0,0,0,0]
[null,null,null,{"$f":"D774","v":0},{"$f":"E774","v":"*EOL*"},{"$f":"F774","v":0},null,0,"","","","","",{"$error":"#VALUE!"},0,"","",":0:0",{"$f":"IF(ISNA(VLOOKUP(R775,R$4:R774,1,FALSE)),FALSE,IF(O775>0,TRUE,FALSE))","v":false},{"$f":"IF(AND(C775<>\"\",$E775<>\"*ON*\",$E775<>\"*OFF*\",ISNA((VLOOKUP(C775&\"@\"&E775,Q$4:Q774,1,FALSE)))),1,0)","v":0},{"$f":"SUM(O$4:O775)+(100*SUM(T$4:T775))","v":0},{"$f":"IF(NOT(ISBLANK(B775)),(A775+P775)+(Settings!$B$5/24),\"\")","v":""},0,0,0,null,0,0,0,0,0,0,0,0]
[null,null,null,0,"*EOL*",0,null,0,"","","","","",{"$error":"#VALUE!"},0,"","",":0:0",{"$f":"IF(ISNA(VLOOKUP(R776,R$4:R775,1,FALSE)),FALSE,IF(O776>0,TRUE,FALSE))","v":false},{"$f":"IF(AND(C776<>\"\",$E776<>\"*ON*\",$E776<>\"*OFF*\",ISNA((VLOOKUP(C776&\"@\"&E776,Q$4:Q775,1,FALSE)))),1,0)","v":0},{"$f":"SUM(O$4:O776)+(100*SUM(T$4:T776))","v":0},{"$f":"IF(NOT(ISBLANK(B776)),(A776+P776)+(Settings!$B$5/24),\"\")","v":""},0,0,0,null,0,0,0,0,0,0,0,0]
[null,null,null,0,"*EOL*",0,null,0,"","","","","",{"$error":"#VALUE!"},0,"","",":0:0",{"$f":"IF(ISNA(VLOOKUP(R777,R$4:R776,1,FALSE)),FALSE,IF(O777>0,TRUE,FALSE))","v":false},{"$f":"IF(AND(C777<>\"\",$E777<>\"*ON*\",$E777<>\"*OFF*\",ISNA((VLOOKUP(C777&\"@\"&E777,Q$4:Q776,1,FALSE)))),1,0)","v":0},{"$f":"SUM(O$4:O777)+(100*SUM(T$4:T777))","v":0},{"$f":"IF(NOT(ISBLANK(B777)),(A777+P777)+(Settings!$B$5/24),\"\")","v":""},0,0,0,null,0,0,0,0,0,0,0,0]
[null,null,null,0,"*EOL*",0,null,0,"","","","","",{"$error":"#VALUE!"},0,"","",":0:0",{"$f":"IF(ISNA(VLOOKUP(R778,R$4:R777,1,FALSE)),FALSE,IF(O778>0,TRUE,FALSE))","v":false},{"$f":"IF(AND(C778<>\"\",$E778<>\"*ON*\",$E778<>\"*OFF*\",ISNA((VLOOKUP(C778&\"@\"&E778,Q$4:Q777,1,FALSE)))),1,0)","v":0},{"$f":"SUM(O$4:O778)+(100*SUM(T$4:T778))","v":0},{"$f":"IF(NOT(ISBLANK(B778)),(A778+P778)+(Settings!$B$5/24),\"\")","v":""},0,0,0,null,0,0,0,0,0,0,0,0]
[null,null,null,0,"*EOL*",0,null,0,"","","","","",{"$error":"#VALUE!"},0,"","",":0:0",{"$f":"IF(ISNA(VLOOKUP(R779,R$4:R778,1,FALSE)),FALSE,IF(O779>0,TRUE,FALSE))","v":false},{"$f":"IF(AND(C779<>\"\",$E779<>\"*ON*\",$E779<>\"*OFF*\",ISNA((VLOOKUP(C779&\"@\"&E779,Q$4:Q778,1,FALSE)))),1,0)","v":0},{"$f":"SUM(O$4:O779)+(100*SUM(T$4:T779))","v":0},{"$f":"IF(NOT(ISBLANK(B779)),(A779+P779)+(Settings!$B$5/24),\"\")","v":""},0,0,0,null,0,0,0,0,0,0,0,0]
[null,null,null,0,"*EOL*",0,null,0,"","","","","",{"$error":"#VALUE!"},0,"","",":0:0",{"$f":"IF(ISNA(VLOOKUP(R780,R$4:R779,1,FALSE)),FALSE,IF(O780>0,TRUE,FALSE))","v":false},{"$f":"IF(AND(C780<>\"\",$E780<>\"*ON*\",$E780<>\"*OFF*\",ISNA((VLOOKUP(C780&\"@\"&E780,Q$4:Q779,1,FALSE)))),1,0)","v":0},{"$f":"SUM(O$4:O780)+(100*SUM(T$4:T780))","v":0},{"$f":"IF(NOT(ISBLANK(B780)),(A780+P780)+(Settings!$B$5/24),\"\")","v":""},0,0,0,null,0,0,0,0,0,0,0,0]
[null,null,null,0,"*EOL*",0,null,0,"","","","","",{"$error":"#VALUE!"},0,"","",":0:0",{"$f":"IF(ISNA(VLOOKUP(R781,R$4:R780,1,FALSE)),FALSE,IF(O781>0,TRUE,FALSE))","v":false},{"$f":"IF(AND(C781<>\"\",$E781<>\"*ON*\",$E781<>\"*OFF*\",ISNA((VLOOKUP(C781&\"@\"&E781,Q$4:Q780,1,FALSE)))),1,0)","v":0},{"$f":"SUM(O$4:O781)+(100*SUM(T$4:T781))","v":0},{"$f":"IF(NOT(ISBLANK(B781)),(A781+P781)+(Settings!$B$5/24),\"\")","v":""},0,0,0,null,0,0,0,0,0,0,0,0]
[null,null,null,0,"*EOL*",0,null,0,"","","","","",{"$error":"#VALUE!"},0,"","",":0:0",{"$f":"IF(ISNA(VLOOKUP(R782,R$4:R781,1,FALSE)),FALSE,IF(O782>0,TRUE,FALSE))","v":false},{"$f":"IF(AND(C782<>\"\",$E782<>\"*ON*\",$E782<>\"*OFF*\",ISNA((VLOOKUP(C782&\"@\"&E782,Q$4:Q781,1,FALSE)))),1,0)","v":0},{"$f":"SUM(O$4:O782)+(100*SUM(T$4:T782))","v":0},{"$f":"IF(NOT(ISBLANK(B782)),(A782+P782)+(Settings!$B$5/24),\"\")","v":""},0,0,0,null,0,0,0,0,0,0,0,0]
[null,null,null,0,"*EOL*",0,null,0,"","","","","",{"$error":"#VALUE!"},0,"","",":0:0",{"$f":"IF(ISNA(VLOOKUP(R783,R$4:R782,1,FALSE)),FALSE,IF(O783>0,TRUE,FALSE))","v":false},{"$f":"IF(AND(C783<>\"\",$E783<>\"*ON*\",$E783<>\"*OFF*\",ISNA((VLOOKUP(C783&\"@\"&E783,Q$4:Q782,1,FALSE)))),1,0)","v":0},{"$f":"SUM(O$4:O783)+(100*SUM(T$4:T783))","v":0},{"$f":"IF(NOT(ISBLANK(B783)),(A783+P783)+(Settings!$B$5/24),\"\")","v":""},0,0,{"$f":"IF($E783=\"*EOL*\",0,IF(X782,0,V783-V782)*24)","v":0},null,0,0,0,0,0,0,0,0]
[null,null,null,0,"*EOL*",0,null,0,"","","","","",{"$error":"#VALUE!"},0,"","",":0:0",{"$f":"IF(ISNA(VLOOKUP(R784,R$4:R783,1,FALSE)),FALSE,IF(O784>0,TRUE,FALSE))","v":false},{"$f":"IF(AND(C784<>\"\",$E784<>\"*ON*\",$E784<>\"*OFF*\",ISNA((VLOOKUP(C784&\"@\"&E784,Q$4:Q783,1,FALSE)))),1,0)","v":0},{"$f":"SUM(O$4:O784)+(100*SUM(T$4:T784))","v":0},{"$f":"IF(NOT(ISBLANK(B784)),(A784+P784)+(Settings!$B$5/24),\"\")","v":""},0,0,0,null,{"$f":"IF($E784=AA$3,$H784,0)","v":0},0,0,0,0,0,0,0]
[null,null,null,0,"*EOL*",0,null,0,"","","","","",{"$error":"#VALUE!"},0,"","",":0:0",{"$f":"IF(ISNA(VLOOKUP(R785,R$4:R784,1,FALSE)),FALSE,IF(O785>0,TRUE,FALSE))","v":false},{"$f":"IF(AND(C785<>\"\",$E785<>\"*ON*\",$E785<>\"*OFF*\",ISNA((VLOOKUP(C785&\"@\"&E785,Q$4:Q784,1,FALSE)))),1,0)","v":0},{"$f":"SUM(O$4:O785)+(100*SUM(T$4:T785))","v":0},{"$f":"IF(NOT(ISBLANK(B785)),(A785+P785)+(Settings!$B$5/24),\"\")","v":""},0,0,0,null,0,0,0,0,0,0,0,0]
[null,null,null,0,"*EOL*",0,null,0,"","","","","",{"$error":"#VALUE!"},0,"","",":0:0",{"$f":"IF(ISNA(VLOOKUP(R786,R$4:R785,1,FALSE)),FALSE,IF(O786>0,TRUE,FALSE))","v":false},{"$f":"IF(AND(C786<>\"\",$E786<>\"*ON*\",$E786<>\"*OFF*\",ISNA((VLOOKUP(C786&\"@\"&E786,Q$4:Q785,1,FALSE)))),1,0)","v":0},{"$f":"SUM(O$4:O786)+(100*SUM(T$4:T786))","v":0},{"$f":"IF(NOT(ISBLANK(B786)),(A786+P786)+(Settings!$B$5/24),\"\")","v":""},0,0,0,null,0,0,0,0,0,0,0,0]
[null,null,null,0,"*EOL*",0,null,0,"","","","","",{"$error":"#VALUE!"},0,"","",":0:0",{"$f":"IF(ISNA(VLOOKUP(R787,R$4:R786,1,FALSE)),FALSE,IF(O787>0,TRUE,FALSE))","v":false},{"$f":"IF(AND(C787<>\"\",$E787<>\"*ON*\",$E787<>\"*OFF*\",ISNA((VLOOKUP(C787&\"@\"&E787,Q$4:Q786,1,FALSE)))),1,0)","v":0},{"$f":"SUM(O$4:O787)+(100*SUM(T$4:T787))","v":0},{"$f":"IF(NOT(ISBLANK(B787)),(A787+P787)+(Settings!$B$5/24),\"\")","v":""},0,0,0,null,0,0,0,0,0,0,0,0]
[null,null,null,0,"*EOL*",0,null,0,"","","","","",{"$error":"#VALUE!"},0,"","",":0:0",{"$f":"IF(ISNA(VLOOKUP(R788,R$4:R787,1,FALSE)),FALSE,IF(O788>0,TRUE,FALSE))","v":false},{"$f":"IF(AND(C788<>\"\",$E788<>\"*ON*\",$E788<>\"*OFF*\",ISNA((VLOOKUP(C788&\"@\"&E788,Q$4:Q787,1,FALSE)))),1,0)","v":0},{"$f":"SUM(O$4:O788)+(100*SUM(T$4:T788))","v":0},{"$f":"IF(NOT(ISBLANK(B788)),(A788+P788)+(Settings!$B$5/24),\"\")","v":""},0,0,0,null,0,0,0,0,0,0,0,0]
[null,null,null,0,"*EOL*",0,null,0,"","","","","",{"$error":"#VALUE!"},0,"","",":0:0",{"$f":"IF(ISNA(VLOOKUP(R789,R$4:R788,1,FALSE)),FALSE,IF(O789>0,TRUE,FALSE))","v":false},{"$f":"IF(AND(C789<>\"\",$E789<>\"*ON*\",$E789<>\"*OFF*\",ISNA((VLOOKUP(C789&\"@\"&E789,Q$4:Q788,1,FALSE)))),1,0)","v":0},{"$f":"SUM(O$4:O789)+(100*SUM(T$4:T789))","v":0},{"$f":"IF(NOT(ISBLANK(B789)),(A789+P789)+(Settings!$B$5/24),\"\")","v":""},0,0,0,null,0,0,0,0,0,0,0,0]
[null,null,null,0,"*EOL*",0,null,0,"","","","","",{"$error":"#VALUE!"},0,"","",":0:0",{"$f":"IF(ISNA(VLOOKUP(R790,R$4:R789,1,FALSE)),FALSE,IF(O790>0,TRUE,FALSE))","v":false},{"$f":"IF(AND(C790<>\"\",$E790<>\"*ON*\",$E790<>\"*OFF*\",ISNA((VLOOKUP(C790&\"@\"&E790,Q$4:Q789,1,FALSE)))),1,0)","v":0},{"$f":"SUM(O$4:O790)+(100*SUM(T$4:T790))","v":0},{"$f":"IF(NOT(ISBLANK(B790)),(A790+P790)+(Settings!$B$5/24),\"\")","v":""},0,0,0,null,0,0,0,0,0,0,0,0]
[null,null,null,0,"*EOL*",0,null,0,"","","","","",{"$error":"#VALUE!"},0,"","",":0:0",{"$f":"IF(ISNA(VLOOKUP(R791,R$4:R790,1,FALSE)),FALSE,IF(O791>0,TRUE,FALSE))","v":false},{"$f":"IF(AND(C791<>\"\",$E791<>\"*ON*\",$E791<>\"*OFF*\",ISNA((VLOOKUP(C791&\"@\"&E791,Q$4:Q790,1,FALSE)))),1,0)","v":0},{"$f":"SUM(O$4:O791)+(100*SUM(T$4:T791))","v":0},{"$f":"IF(NOT(ISBLANK(B791)),(A791+P791)+(Settings!$B$5/24),\"\")","v":""},0,0,0,null,0,0,0,0,0,0,0,0]
[null,null,null,0,"*EOL*",0,null,0,"","","","","",{"$error":"#VALUE!"},0,"","",":0:0",{"$f":"IF(ISNA(VLOOKUP(R792,R$4:R791,1,FALSE)),FALSE,IF(O792>0,TRUE,FALSE))","v":false},{"$f":"IF(AND(C792<>\"\",$E792<>\"*ON*\",$E792<>\"*OFF*\",ISNA((VLOOKUP(C792&\"@\"&E792,Q$4:Q791,1,FALSE)))),1,0)","v":0},{"$f":"SUM(O$4:O792)+(100*SUM(T$4:T792))","v":0},{"$f":"IF(NOT(ISBLANK(B792)),(A792+P792)+(Settings!$B$5/24),\"\")","v":""},0,0,0,null,0,0,0,0,0,0,0,0]
[null,null,null,0,"*EOL*",0,null,0,"","","","","",{"$error":"#VALUE!"},0,"","",":0:0",{"$f":"IF(ISNA(VLOOKUP(R793,R$4:R792,1,FALSE)),FALSE,IF(O793>0,TRUE,FALSE))","v":false},{"$f":"IF(AND(C793<>\"\",$E793<>\"*ON*\",$E793<>\"*OFF*\",ISNA((VLOOKUP(C793&\"@\"&E793,Q$4:Q792,1,FALSE)))),1,0)","v":0},{"$f":"SUM(O$4:O793)+(100*SUM(T$4:T793))","v":0},{"$f":"IF(NOT(ISBLANK(B793)),(A793+P793)+(Settings!$B$5/24),\"\")","v":""},0,0,0,null,0,0,0,0,0,0,0,0]
[null,null,null,0,"*EOL*",0,null,0,"","","","","",{"$error":"#VALUE!"},0,"","",":0:0",{"$f":"IF(ISNA(VLOOKUP(R794,R$4:R793,1,FALSE)),FALSE,IF(O794>0,TRUE,FALSE))","v":false},{"$f":"IF(AND(C794<>\"\",$E794<>\"*ON*\",$E794<>\"*OFF*\",ISNA((VLOOKUP(C794&\"@\"&E794,Q$4:Q793,1,FALSE)))),1,0)","v":0},{"$f":"SUM(O$4:O794)+(100*SUM(T$4:T794))","v":0},{"$f":"IF(NOT(ISBLANK(B794)),(A794+P794)+(Settings!$B$5/24),\"\")","v":""},0,0,0,null,{"$f":"IF($E794=AA$3,$H794,0)","v":0},0,0,0,0,0,0,0]
[null,null,null,0,"*EOL*",0,null,0,"","","","","",{"$error":"#VALUE!"},0,"","",":0:0",{"$f":"IF(ISNA(VLOOKUP(R795,R$4:R794,1,FALSE)),FALSE,IF(O795>0,TRUE,FALSE))","v":false},{"$f":"IF(AND(C795<>\"\",$E795<>\"*ON*\",$E795<>\"*OFF*\",ISNA((VLOOKUP(C795&\"@\"&E795,Q$4:Q794,1,FALSE)))),1,0)","v":0},{"$f":"SUM(O$4:O795)+(100*SUM(T$4:T795))","v":0},{"$f":"IF(NOT(ISBLANK(B795)),(A795+P795)+(Settings!$B$5/24),\"\")","v":""},0,0,0,null,0,0,0,0,0,0,0,0]
[null,null,null,0,"*EOL*",0,null,0,"","","","","",{"$error":"#VALUE!"},0,"","",":0:0",{"$f":"IF(ISNA(VLOOKUP(R796,R$4:R795,1,FALSE)),FALSE,IF(O796>0,TRUE,FALSE))","v":false},{"$f":"IF(AND(C796<>\"\",$E796<>\"*ON*\",$E796<>\"*OFF*\",ISNA((VLOOKUP(C796&\"@\"&E796,Q$4:Q795,1,FALSE)))),1,0)","v":0},{"$f":"SUM(O$4:O796)+(100*SUM(T$4:T796))","v":0},{"$f":"IF(NOT(ISBLANK(B796)),(A796+P796)+(Settings!$B$5/24),\"\")","v":""},0,0,0,null,0,0,0,0,0,0,0,0]
[null,null,null,0,"*EOL*",0,null,0,"","","","","",{"$error":"#VALUE!"},0,"","",":0:0",{"$f":"IF(ISNA(VLOOKUP(R797,R$4:R796,1,FALSE)),FALSE,IF(O797>0,TRUE,FALSE))","v":false},{"$f":"IF(AND(C797<>\"\",$E797<>\"*ON*\",$E797<>\"*OFF*\",ISNA((VLOOKUP(C797&\"@\"&E797,Q$4:Q796,1,FALSE)))),1,0)","v":0},{"$f":"SUM(O$4:O797)+(100*SUM(T$4:T797))","v":0},{"$f":"IF(NOT(ISBLANK(B797)),(A797+P797)+(Settings!$B$5/24),\"\")","v":""},0,0,0,null,0,0,0,0,0,0,0,0]
[null,null,null,0,"*EOL*",0,null,0,"","","","","",{"$error":"#VALUE!"},0,"","",":0:0",{"$f":"IF(ISNA(VLOOKUP(R798,R$4:R797,1,FALSE)),FALSE,IF(O798>0,TRUE,FALSE))","v":false},{"$f":"IF(AND(C798<>\"\",$E798<>\"*ON*\",$E798<>\"*OFF*\",ISNA((VLOOKUP(C798&\"@\"&E798,Q$4:Q797,1,FALSE)))),1,0)","v":0},{"$f":"SUM(O$4:O798)+(100*SUM(T$4:T798))","v":0},{"$f":"IF(NOT(ISBLANK(B798)),(A798+P798)+(Settings!$B$5/24),\"\")","v":""},0,0,0,null,0,0,0,0,0,0,0,0]
[null,null,null,0,"*EOL*",0,null,0,"","","","","",{"$error":"#VALUE!"},0,"","",":0:0",{"$f":"IF(ISNA(VLOOKUP(R799,R$4:R798,1,FALSE)),FALSE,IF(O799>0,TRUE,FALSE))","v":false},{"$f":"IF(AND(C799<>\"\",$E799<>\"*ON*\",$E799<>\"*OFF*\",ISNA((VLOOKUP(C799&\"@\"&E799,Q$4:Q798,1,FALSE)))),1,0)","v":0},{"$f":"SUM(O$4:O799)+(100*SUM(T$4:T799))","v":0},{"$f":"IF(NOT(ISBLANK(B799)),(A799+P799)+(Settings!$B$5/24),\"\")","v":""},0,0,0,null,0,0,0,0,0,0,0,0]
[null,null,null,0,"*EOL*",0,null,0,"","","","","",{"$error":"#VALUE!"},0,"","",":0:0",{"$f":"IF(ISNA(VLOOKUP(R800,R$4:R799,1,FALSE)),FALSE,IF(O800>0,TRUE,FALSE))","v":false},{"$f":"IF(AND(C800<>\"\",$E800<>\"*ON*\",$E800<>\"*OFF*\",ISNA((VLOOKUP(C800&\"@\"&E800,Q$4:Q799,1,FALSE)))),1,0)","v":0},{"$f":"SUM(O$4:O800)+(100*SUM(T$4:T800))","v":0},{"$f":"IF(NOT(ISBLANK(B800)),(A800+P800)+(Settings!$B$5/24),\"\")","v":""},0,0,0,null,0,0,0,0,0,0,0,0]
[null,null,null,0,"*EOL*",0,null,0,"","","","","",{"$error":"#VALUE!"},0,"","",":0:0",{"$f":"IF(ISNA(VLOOKUP(R801,R$4:R800,1,FALSE)),FALSE,IF(O801>0,TRUE,FALSE))","v":false},{"$f":"IF(AND(C801<>\"\",$E801<>\"*ON*\",$E801<>\"*OFF*\",ISNA((VLOOKUP(C801&\"@\"&E801,Q$4:Q800,1,FALSE)))),1,0)","v":0},{"$f":"SUM(O$4:O801)+(100*SUM(T$4:T801))","v":0},{"$f":"IF(NOT(ISBLANK(B801)),(A801+P801)+(Settings!$B$5/24),\"\")","v":""},0,0,0,null,0,0,0,0,0,0,0,0]
[null,null,null,0,"*EOL*",0,null,0,"","","","","",{"$error":"#VALUE!"},0,"","",":0:0",{"$f":"IF(ISNA(VLOOKUP(R802,R$4:R801,1,FALSE)),FALSE,IF(O802>0,TRUE,FALSE))","v":false},{"$f":"IF(AND(C802<>\"\",$E802<>\"*ON*\",$E802<>\"*OFF*\",ISNA((VLOOKUP(C802&\"@\"&E802,Q$4:Q801,1,FALSE)))),1,0)","v":0},{"$f":"SUM(O$4:O802)+(100*SUM(T$4:T802))","v":0},{"$f":"IF(NOT(ISBLANK(B802)),(A802+P802)+(Settings!$B$5/24),\"\")","v":""},0,0,0,null,0,0,0,0,0,0,0,0]
[null,null,null,0,"*EOL*",0,null,0,"","","","","",{"$error":"#VALUE!"},0,"","",":0:0",{"$f":"IF(ISNA(VLOOKUP(R803,R$4:R802,1,FALSE)),FALSE,IF(O803>0,TRUE,FALSE))","v":false},{"$f":"IF(AND(C803<>\"\",$E803<>\"*ON*\",$E803<>\"*OFF*\",ISNA((VLOOKUP(C803&\"@\"&E803,Q$4:Q802,1,FALSE)))),1,0)","v":0},{"$f":"SUM(O$4:O803)+(100*SUM(T$4:T803))","v":0},{"$f":"IF(NOT(ISBLANK(B803)),(A803+P803)+(Settings!$B$5/24),\"\")","v":""},0,0,0,null,0,0,0,0,0,0,0,0]
[null,null,null,0,"*EOL*",0,null,0,"","","","","",{"$error":"#VALUE!"},0,"","",":0:0",{"$f":"IF(ISNA(VLOOKUP(R804,R$4:R803,1,FALSE)),FALSE,IF(O804>0,TRUE,FALSE))","v":false},{"$f":"IF(AND(C804<>\"\",$E804<>\"*ON*\",$E804<>\"*OFF*\",ISNA((VLOOKUP(C804&\"@\"&E804,Q$4:Q803,1,FALSE)))),1,0)","v":0},{"$f":"SUM(O$4:O804)+(100*SUM(T$4:T804))","v":0},{"$f":"IF(NOT(ISBLANK(B804)),(A804+P804)+(Settings!$B$5/24),\"\")","v":""},0,0,0,null,{"$f":"IF($E804=AA$3,$H804,0)","v":0},0,0,0,0,0,0,0]
[null,null,null,0,"*EOL*",0,null,0,"","","","","",{"$error":"#VALUE!"},0,"","",":0:0",{"$f":"IF(ISNA(VLOOKUP(R805,R$4:R804,1,FALSE)),FALSE,IF(O805>0,TRUE,FALSE))","v":false},{"$f":"IF(AND(C805<>\"\",$E805<>\"*ON*\",$E805<>\"*OFF*\",ISNA((VLOOKUP(C805&\"@\"&E805,Q$4:Q804,1,FALSE)))),1,0)","v":0},{"$f":"SUM(O$4:O805)+(100*SUM(T$4:T805))","v":0},{"$f":"IF(NOT(ISBLANK(B805)),(A805+P805)+(Settings!$B$5/24),\"\")","v":""},0,0,0,null,0,0,0,0,0,0,0,0]
[null,null,null,0,"*EOL*",0,null,0,"","","","","",{"$error":"#VALUE!"},0,"","",":0:0",{"$f":"IF(ISNA(VLOOKUP(R806,R$4:R805,1,FALSE)),FALSE,IF(O806>0,TRUE,FALSE))","v":false},{"$f":"IF(AND(C806<>\"\",$E806<>\"*ON*\",$E806<>\"*OFF*\",ISNA((VLOOKUP(C806&\"@\"&E806,Q$4:Q805,1,FALSE)))),1,0)","v":0},{"$f":"SUM(O$4:O806)+(100*SUM(T$4:T806))","v":0},{"$f":"IF(NOT(ISBLANK(B806)),(A806+P806)+(Settings!$B$5/24),\"\")","v":""},0,0,0,null,0,0,0,0,0,0,0,0]
[null,null,null,0,"*EOL*",0,null,0,"","","","","",{"$error":"#VALUE!"},0,"","",":0:0",{"$f":"IF(ISNA(VLOOKUP(R807,R$4:R806,1,FALSE)),FALSE,IF(O807>0,TRUE,FALSE))","v":false},{"$f":"IF(AND(C807<>\"\",$E807<>\"*ON*\",$E807<>\"*OFF*\",ISNA((VLOOKUP(C807&\"@\"&E807,Q$4:Q806,1,FALSE)))),1,0)","v":0},{"$f":"SUM(O$4:O807)+(100*SUM(T$4:T807))","v":0},{"$f":"IF(NOT(ISBLANK(B807)),(A807+P807)+(Settings!$B$5/24),\"\")","v":""},0,0,0,null,0,0,0,0,0,0,0,0]
[null,null,null,0,"*EOL*",0,null,0,"","","","","",{"$error":"#VALUE!"},0,"","",":0:0",{"$f":"IF(ISNA(VLOOKUP(R808,R$4:R807,1,FALSE)),FALSE,IF(O808>0,TRUE,FALSE))","v":false},{"$f":"IF(AND(C808<>\"\",$E808<>\"*ON*\",$E808<>\"*OFF*\",ISNA((VLOOKUP(C808&\"@\"&E808,Q$4:Q807,1,FALSE)))),1,0)","v":0},{"$f":"SUM(O$4:O808)+(100*SUM(T$4:T808))","v":0},{"$f":"IF(NOT(ISBLANK(B808)),(A808+P808)+(Settings!$B$5/24),\"\")","v":""},0,0,0,null,0,0,0,0,0,0,0,0]
[null,null,null,0,"*EOL*",0,null,0,"","","","","",{"$error":"#VALUE!"},0,"","",":0:0",{"$f":"IF(ISNA(VLOOKUP(R809,R$4:R808,1,FALSE)),FALSE,IF(O809>0,TRUE,FALSE))","v":false},{"$f":"IF(AND(C809<>\"\",$E809<>\"*ON*\",$E809<>\"*OFF*\",ISNA((VLOOKUP(C809&\"@\"&E809,Q$4:Q808,1,FALSE)))),1,0)","v":0},{"$f":"SUM(O$4:O809)+(100*SUM(T$4:T809))","v":0},{"$f":"IF(NOT(ISBLANK(B809)),(A809+P809)+(Settings!$B$5/24),\"\")","v":""},0,0,0,null,0,0,0,0,0,0,0,0]
[null,null,null,0,"*EOL*",0,null,0,"","","","","",{"$error":"#VALUE!"},0,"","",":0:0",{"$f":"IF(ISNA(VLOOKUP(R810,R$4:R809,1,FALSE)),FALSE,IF(O810>0,TRUE,FALSE))","v":false},{"$f":"IF(AND(C810<>\"\",$E810<>\"*ON*\",$E810<>\"*OFF*\",ISNA((VLOOKUP(C810&\"@\"&E810,Q$4:Q809,1,FALSE)))),1,0)","v":0},{"$f":"SUM(O$4:O810)+(100*SUM(T$4:T810))","v":0},{"$f":"IF(NOT(ISBLANK(B810)),(A810+P810)+(Settings!$B$5/24),\"\")","v":""},0,0,0,null,0,0,0,0,0,0,0,0]
[null,null,null,0,"*EOL*",0,null,0,"","","","","",{"$error":"#VALUE!"},0,"","",":0:0",{"$f":"IF(ISNA(VLOOKUP(R811,R$4:R810,1,FALSE)),FALSE,IF(O811>0,TRUE,FALSE))","v":false},{"$f":"IF(AND(C811<>\"\",$E811<>\"*ON*\",$E811<>\"*OFF*\",ISNA((VLOOKUP(C811&\"@\"&E811,Q$4:Q810,1,FALSE)))),1,0)","v":0},{"$f":"SUM(O$4:O811)+(100*SUM(T$4:T811))","v":0},{"$f":"IF(NOT(ISBLANK(B811)),(A811+P811)+(Settings!$B$5/24),\"\")","v":""},0,0,0,null,0,0,0,0,0,0,0,0]
[null,null,null,0,"*EOL*",0,null,0,"","","","","",{"$error":"#VALUE!"},0,"","",":0:0",{"$f":"IF(ISNA(VLOOKUP(R812,R$4:R811,1,FALSE)),FALSE,IF(O812>0,TRUE,FALSE))","v":false},{"$f":"IF(AND(C812<>\"\",$E812<>\"*ON*\",$E812<>\"*OFF*\",ISNA((VLOOKUP(C812&\"@\"&E812,Q$4:Q811,1,FALSE)))),1,0)","v":0},{"$f":"SUM(O$4:O812)+(100*SUM(T$4:T812))","v":0},{"$f":"IF(NOT(ISBLANK(B812)),(A812+P812)+(Settings!$B$5/24),\"\")","v":""},0,0,0,null,0,0,0,0,0,0,0,0]
[null,null,null,0,"*EOL*",0,null,0,"","","","","",{"$error":"#VALUE!"},0,"","",":0:0",{"$f":"IF(ISNA(VLOOKUP(R813,R$4:R812,1,FALSE)),FALSE,IF(O813>0,TRUE,FALSE))","v":false},{"$f":"IF(AND(C813<>\"\",$E813<>\"*ON*\",$E813<>\"*OFF*\",ISNA((VLOOKUP(C813&\"@\"&E813,Q$4:Q812,1,FALSE)))),1,0)","v":0},{"$f":"SUM(O$4:O813)+(100*SUM(T$4:T813))","v":0},{"$f":"IF(NOT(ISBLANK(B813)),(A813+P813)+(Settings!$B$5/24),\"\")","v":""},0,0,0,null,0,0,0,0,0,0,0,0]
[null,null,null,0,"*EOL*",0,null,0,"","","","","",{"$error":"#VALUE!"},0,"","",":0:0",{"$f":"IF(ISNA(VLOOKUP(R814,R$4:R813,1,FALSE)),FALSE,IF(O814>0,TRUE,FALSE))","v":false},{"$f":"IF(AND(C814<>\"\",$E814<>\"*ON*\",$E814<>\"*OFF*\",ISNA((VLOOKUP(C814&\"@\"&E814,Q$4:Q813,1,FALSE)))),1,0)","v":0},{"$f":"SUM(O$4:O814)+(100*SUM(T$4:T814))","v":0},{"$f":"IF(NOT(ISBLANK(B814)),(A814+P814)+(Settings!$B$5/24),\"\")","v":""},0,0,0,null,{"$f":"IF($E814=AA$3,$H814,0)","v":0},0,0,0,0,0,0,0]
[null,null,null,0,"*EOL*",0,null,0,"","","","","",{"$error":"#VALUE!"},0,"","",":0:0",{"$f":"IF(ISNA(VLOOKUP(R815,R$4:R814,1,FALSE)),FALSE,IF(O815>0,TRUE,FALSE))","v":false},{"$f":"IF(AND(C815<>\"\",$E815<>\"*ON*\",$E815<>\"*OFF*\",ISNA((VLOOKUP(C815&\"@\"&E815,Q$4:Q814,1,FALSE)))),1,0)","v":0},{"$f":"SUM(O$4:O815)+(100*SUM(T$4:T815))","v":0},{"$f":"IF(NOT(ISBLANK(B815)),(A815+P815)+(Settings!$B$5/24),\"\")","v":""},0,0,0,null,0,0,0,0,0,0,0,0]
[null,null,null,0,"*EOL*",0,null,0,"","","","","",{"$error":"#VALUE!"},0,"","",":0:0",{"$f":"IF(ISNA(VLOOKUP(R816,R$4:R815,1,FALSE)),FALSE,IF(O816>0,TRUE,FALSE))","v":false},{"$f":"IF(AND(C816<>\"\",$E816<>\"*ON*\",$E816<>\"*OFF*\",ISNA((VLOOKUP(C816&\"@\"&E816,Q$4:Q815,1,FALSE)))),1,0)","v":0},{"$f":"SUM(O$4:O816)+(100*SUM(T$4:T816))","v":0},{"$f":"IF(NOT(ISBLANK(B816)),(A816+P816)+(Settings!$B$5/24),\"\")","v":""},0,0,0,null,0,0,0,0,0,0,0,0]
[null,null,null,0,"*EOL*",0,null,0,"","","","","",{"$error":"#VALUE!"},0,"","",":0:0",{"$f":"IF(ISNA(VLOOKUP(R817,R$4:R816,1,FALSE)),FALSE,IF(O817>0,TRUE,FALSE))","v":false},{"$f":"IF(AND(C817<>\"\",$E817<>\"*ON*\",$E817<>\"*OFF*\",ISNA((VLOOKUP(C817&\"@\"&E817,Q$4:Q816,1,FALSE)))),1,0)","v":0},{"$f":"SUM(O$4:O817)+(100*SUM(T$4:T817))","v":0},{"$f":"IF(NOT(ISBLANK(B817)),(A817+P817)+(Settings!$B$5/24),\"\")","v":""},0,0,0,null,0,0,0,0,0,0,0,0]
[null,null,null,0,"*EOL*",0,null,0,"","","","","",{"$error":"#VALUE!"},0,"","",":0:0",{"$f":"IF(ISNA(VLOOKUP(R818,R$4:R817,1,FALSE)),FALSE,IF(O818>0,TRUE,FALSE))","v":false},{"$f":"IF(AND(C818<>\"\",$E818<>\"*ON*\",$E818<>\"*OFF*\",ISNA((VLOOKUP(C818&\"@\"&E818,Q$4:Q817,1,FALSE)))),1,0)","v":0},{"$f":"SUM(O$4:O818)+(100*SUM(T$4:T818))","v":0},{"$f":"IF(NOT(ISBLANK(B818)),(A818+P818)+(Settings!$B$5/24),\"\")","v":""},0,0,0,null,0,0,0,0,0,0,0,0]
[null,null,null,0,"*EOL*",0,null,0,"","","","","",{"$error":"#VALUE!"},0,"","",":0:0",{"$f":"IF(ISNA(VLOOKUP(R819,R$4:R818,1,FALSE)),FALSE,IF(O819>0,TRUE,FALSE))","v":false},{"$f":"IF(AND(C819<>\"\",$E819<>\"*ON*\",$E819<>\"*OFF*\",ISNA((VLOOKUP(C819&\"@\"&E819,Q$4:Q818,1,FALSE)))),1,0)","v":0},{"$f":"SUM(O$4:O819)+(100*SUM(T$4:T819))","v":0},{"$f":"IF(NOT(ISBLANK(B819)),(A819+P819)+(Settings!$B$5/24),\"\")","v":""},0,0,0,null,0,0,0,0,0,0,0,0]
[null,null,null,0,"*EOL*",0,null,0,"","","","","",{"$error":"#VALUE!"},0,"","",":0:0",{"$f":"IF(ISNA(VLOOKUP(R820,R$4:R819,1,FALSE)),FALSE,IF(O820>0,TRUE,FALSE))","v":false},{"$f":"IF(AND(C820<>\"\",$E820<>\"*ON*\",$E820<>\"*OFF*\",ISNA((VLOOKUP(C820&\"@\"&E820,Q$4:Q819,1,FALSE)))),1,0)","v":0},{"$f":"SUM(O$4:O820)+(100*SUM(T$4:T820))","v":0},{"$f":"IF(NOT(ISBLANK(B820)),(A820+P820)+(Settings!$B$5/24),\"\")","v":""},0,0,0,null,0,0,0,0,0,0,0,0]
[null,null,null,0,"*EOL*",0,null,0,"","","","","",{"$error":"#VALUE!"},0,"","",":0:0",{"$f":"IF(ISNA(VLOOKUP(R821,R$4:R820,1,FALSE)),FALSE,IF(O821>0,TRUE,FALSE))","v":false},{"$f":"IF(AND(C821<>\"\",$E821<>\"*ON*\",$E821<>\"*OFF*\",ISNA((VLOOKUP(C821&\"@\"&E821,Q$4:Q820,1,FALSE)))),1,0)","v":0},{"$f":"SUM(O$4:O821)+(100*SUM(T$4:T821))","v":0},{"$f":"IF(NOT(ISBLANK(B821)),(A821+P821)+(Settings!$B$5/24),\"\")","v":""},0,0,0,null,0,0,0,0,0,0,0,0]
[null,null,null,0,"*EOL*",0,null,0,"","","","","",{"$error":"#VALUE!"},0,"","",":0:0",{"$f":"IF(ISNA(VLOOKUP(R822,R$4:R821,1,FALSE)),FALSE,IF(O822>0,TRUE,FALSE))","v":false},{"$f":"IF(AND(C822<>\"\",$E822<>\"*ON*\",$E822<>\"*OFF*\",ISNA((VLOOKUP(C822&\"@\"&E822,Q$4:Q821,1,FALSE)))),1,0)","v":0},{"$f":"SUM(O$4:O822)+(100*SUM(T$4:T822))","v":0},{"$f":"IF(NOT(ISBLANK(B822)),(A822+P822)+(Settings!$B$5/24),\"\")","v":""},0,0,0,null,0,0,0,0,0,0,0,0]
[null,null,null,0,"*EOL*",0,null,0,"","","","","",{"$error":"#VALUE!"},0,"","",":0:0",{"$f":"IF(ISNA(VLOOKUP(R823,R$4:R822,1,FALSE)),FALSE,IF(O823>0,TRUE,FALSE))","v":false},{"$f":"IF(AND(C823<>\"\",$E823<>\"*ON*\",$E823<>\"*OFF*\",ISNA((VLOOKUP(C823&\"@\"&E823,Q$4:Q822,1,FALSE)))),1,0)","v":0},{"$f":"SUM(O$4:O823)+(100*SUM(T$4:T823))","v":0},{"$f":"IF(NOT(ISBLANK(B823)),(A823+P823)+(Settings!$B$5/24),\"\")","v":""},0,0,0,null,0,0,0,0,0,0,0,0]
[null,null,null,0,"*EOL*",0,null,0,"","","","","",{"$error":"#VALUE!"},0,"","",":0:0",{"$f":"IF(ISNA(VLOOKUP(R824,R$4:R823,1,FALSE)),FALSE,IF(O824>0,TRUE,FALSE))","v":false},{"$f":"IF(AND(C824<>\"\",$E824<>\"*ON*\",$E824<>\"*OFF*\",ISNA((VLOOKUP(C824&\"@\"&E824,Q$4:Q823,1,FALSE)))),1,0)","v":0},{"$f":"SUM(O$4:O824)+(100*SUM(T$4:T824))","v":0},{"$f":"IF(NOT(ISBLANK(B824)),(A824+P824)+(Settings!$B$5/24),\"\")","v":""},0,0,0,null,{"$f":"IF($E824=AA$3,$H824,0)","v":0},0,0,0,0,0,0,0]
[null,null,null,0,"*EOL*",0,null,0,"","","","","",{"$error":"#VALUE!"},0,"","",":0:0",{"$f":"IF(ISNA(VLOOKUP(R825,R$4:R824,1,FALSE)),FALSE,IF(O825>0,TRUE,FALSE))","v":false},{"$f":"IF(AND(C825<>\"\",$E825<>\"*ON*\",$E825<>\"*OFF*\",ISNA((VLOOKUP(C825&\"@\"&E825,Q$4:Q824,1,FALSE)))),1,0)","v":0},{"$f":"SUM(O$4:O825)+(100*SUM(T$4:T825))","v":0},{"$f":"IF(NOT(ISBLANK(B825)),(A825+P825)+(Settings!$B$5/24),\"\")","v":""},0,0,0,null,0,0,0,0,0,0,0,0]
[null,null,null,0,"*EOL*",0,null,0,"","","","","",{"$error":"#VALUE!"},0,"","",":0:0",{"$f":"IF(ISNA(VLOOKUP(R826,R$4:R825,1,FALSE)),FALSE,IF(O826>0,TRUE,FALSE))","v":false},{"$f":"IF(AND(C826<>\"\",$E826<>\"*ON*\",$E826<>\"*OFF*\",ISNA((VLOOKUP(C826&\"@\"&E826,Q$4:Q825,1,FALSE)))),1,0)","v":0},{"$f":"SUM(O$4:O826)+(100*SUM(T$4:T826))","v":0},{"$f":"IF(NOT(ISBLANK(B826)),(A826+P826)+(Settings!$B$5/24),\"\")","v":""},0,0,0,null,0,0,0,0,0,0,0,0]
[null,null,null,0,"*EOL*",0,null,0,"","","","","",{"$error":"#VALUE!"},0,"","",":0:0",{"$f":"IF(ISNA(VLOOKUP(R827,R$4:R826,1,FALSE)),FALSE,IF(O827>0,TRUE,FALSE))","v":false},{"$f":"IF(AND(C827<>\"\",$E827<>\"*ON*\",$E827<>\"*OFF*\",ISNA((VLOOKUP(C827&\"@\"&E827,Q$4:Q826,1,FALSE)))),1,0)","v":0},{"$f":"SUM(O$4:O827)+(100*SUM(T$4:T827))","v":0},{"$f":"IF(NOT(ISBLANK(B827)),(A827+P827)+(Settings!$B$5/24),\"\")","v":""},0,0,0,null,0,0,0,0,0,0,0,0]
[null,null,null,0,"*EOL*",0,null,0,"","","","","",{"$error":"#VALUE!"},0,"","",":0:0",{"$f":"IF(ISNA(VLOOKUP(R828,R$4:R827,1,FALSE)),FALSE,IF(O828>0,TRUE,FALSE))","v":false},{"$f":"IF(AND(C828<>\"\",$E828<>\"*ON*\",$E828<>\"*OFF*\",ISNA((VLOOKUP(C828&\"@\"&E828,Q$4:Q827,1,FALSE)))),1,0)","v":0},{"$f":"SUM(O$4:O828)+(100*SUM(T$4:T828))","v":0},{"$f":"IF(NOT(ISBLANK(B828)),(A828+P828)+(Settings!$B$5/24),\"\")","v":""},0,0,0,null,0,0,0,0,0,0,0,0]
[null,null,null,0,"*EOL*",0,null,0,"","","","","",{"$error":"#VALUE!"},0,"","",":0:0",{"$f":"IF(ISNA(VLOOKUP(R829,R$4:R828,1,FALSE)),FALSE,IF(O829>0,TRUE,FALSE))","v":false},{"$f":"IF(AND(C829<>\"\",$E829<>\"*ON*\",$E829<>\"*OFF*\",ISNA((VLOOKUP(C829&\"@\"&E829,Q$4:Q828,1,FALSE)))),1,0)","v":0},{"$f":"SUM(O$4:O829)+(100*SUM(T$4:T829))","v":0},{"$f":"IF(NOT(ISBLANK(B829)),(A829+P829)+(Settings!$B$5/24),\"\")","v":""},0,0,0,null,0,0,0,0,0,0,0,0]
[null,null,null,0,"*EOL*",0,null,0,"","","","","",{"$error":"#VALUE!"},0,"","",":0:0",{"$f":"IF(ISNA(VLOOKUP(R830,R$4:R829,1,FALSE)),FALSE,IF(O830>0,TRUE,FALSE))","v":false},{"$f":"IF(AND(C830<>\"\",$E830<>\"*ON*\",$E830<>\"*OFF*\",ISNA((VLOOKUP(C830&\"@\"&E830,Q$4:Q829,1,FALSE)))),1,0)","v":0},{"$f":"SUM(O$4:O830)+(100*SUM(T$4:T830))","v":0},{"$f":"IF(NOT(ISBLANK(B830)),(A830+P830)+(Settings!$B$5/24),\"\")","v":""},0,0,0,null,0,0,0,0,0,0,0,0]
[null,null,null,0,"*EOL*",0,null,0,"","","","","",{"$error":"#VALUE!"},0,"","",":0:0",{"$f":"IF(ISNA(VLOOKUP(R831,R$4:R830,1,FALSE)),FALSE,IF(O831>0,TRUE,FALSE))","v":false},{"$f":"IF(AND(C831<>\"\",$E831<>\"*ON*\",$E831<>\"*OFF*\",ISNA((VLOOKUP(C831&\"@\"&E831,Q$4:Q830,1,FALSE)))),1,0)","v":0},{"$f":"SUM(O$4:O831)+(100*SUM(T$4:T831))","v":0},{"$f":"IF(NOT(ISBLANK(B831)),(A831+P831)+(Settings!$B$5/24),\"\")","v":""},0,0,0,null,0,0,0,0,0,0,0,0]
[null,null,null,0,"*EOL*",0,null,0,"","","","","",{"$error":"#VALUE!"},0,"","",":0:0",{"$f":"IF(ISNA(VLOOKUP(R832,R$4:R831,1,FALSE)),FALSE,IF(O832>0,TRUE,FALSE))","v":false},{"$f":"IF(AND(C832<>\"\",$E832<>\"*ON*\",$E832<>\"*OFF*\",ISNA((VLOOKUP(C832&\"@\"&E832,Q$4:Q831,1,FALSE)))),1,0)","v":0},{"$f":"SUM(O$4:O832)+(100*SUM(T$4:T832))","v":0},{"$f":"IF(NOT(ISBLANK(B832)),(A832+P832)+(Settings!$B$5/24),\"\")","v":""},0,0,0,null,0,0,0,0,0,0,0,0]
[null,null,null,0,"*EOL*",0,null,0,"","","","","",{"$error":"#VALUE!"},0,"","",":0:0",{"$f":"IF(ISNA(VLOOKUP(R833,R$4:R832,1,FALSE)),FALSE,IF(O833>0,TRUE,FALSE))","v":false},{"$f":"IF(AND(C833<>\"\",$E833<>\"*ON*\",$E833<>\"*OFF*\",ISNA((VLOOKUP(C833&\"@\"&E833,Q$4:Q832,1,FALSE)))),1,0)","v":0},{"$f":"SUM(O$4:O833)+(100*SUM(T$4:T833))","v":0},{"$f":"IF(NOT(ISBLANK(B833)),(A833+P833)+(Settings!$B$5/24),\"\")","v":""},0,0,0,null,0,0,0,0,0,0,0,0]
[null,null,null,0,"*EOL*",0,null,0,"","","","","",{"$error":"#VALUE!"},0,"","",":0:0",{"$f":"IF(ISNA(VLOOKUP(R834,R$4:R833,1,FALSE)),FALSE,IF(O834>0,TRUE,FALSE))","v":false},{"$f":"IF(AND(C834<>\"\",$E834<>\"*ON*\",$E834<>\"*OFF*\",ISNA((VLOOKUP(C834&\"@\"&E834,Q$4:Q833,1,FALSE)))),1,0)","v":0},{"$f":"SUM(O$4:O834)+(100*SUM(T$4:T834))","v":0},{"$f":"IF(NOT(ISBLANK(B834)),(A834+P834)+(Settings!$B$5/24),\"\")","v":""},0,0,0,null,{"$f":"IF($E834=AA$3,$H834,0)","v":0},0,0,0,0,0,0,0]
[null,null,null,0,"*EOL*",0,null,0,"","","","","",{"$error":"#VALUE!"},0,"","",":0:0",{"$f":"IF(ISNA(VLOOKUP(R835,R$4:R834,1,FALSE)),FALSE,IF(O835>0,TRUE,FALSE))","v":false},{"$f":"IF(AND(C835<>\"\",$E835<>\"*ON*\",$E835<>\"*OFF*\",ISNA((VLOOKUP(C835&\"@\"&E835,Q$4:Q834,1,FALSE)))),1,0)","v":0},{"$f":"SUM(O$4:O835)+(100*SUM(T$4:T835))","v":0},{"$f":"IF(NOT(ISBLANK(B835)),(A835+P835)+(Settings!$B$5/24),\"\")","v":""},0,0,0,null,0,0,0,0,0,0,0,0]
[null,null,null,0,"*EOL*",0,null,0,"",{"$f":"MH2Lat(F836)","v":""},{"$f":"MH2Lon(F836)","v":""},{"$f":"MH2Lat(D836)","v":""},{"$f":"MH2Lon(D836)","v":""},{"$f":"Distance(J836,K836,L836,M836)","v":{"$error":"#VALUE!"}},0,{"$f":"IF(ISBLANK(B836),\"\",IF(LEN(B836)=1,TIMEVALUE(\"00:0\"&B836),IF(LEN(B836)=2,TIMEVALUE(\"00:\"&B836),IF(LEN(B836)=3,TIMEVALUE(\"0\"&LEFT(B836,1)&\":\"&RIGHT(B836,2)),TIMEVALUE(LEFT(B836,2)&\":\"&RIGHT(B836,2))))))","v":""},"",":0:0",{"$f":"IF(ISNA(VLOOKUP(R836,R$4:R835,1,FALSE)),FALSE,IF(O836>0,TRUE,FALSE))","v":false},{"$f":"IF(AND(C836<>\"\",$E836<>\"*ON*\",$E836<>\"*OFF*\",ISNA((VLOOKUP(C836&\"@\"&E836,Q$4:Q835,1,FALSE)))),1,0)","v":0},{"$f":"SUM(O$4:O836)+(100*SUM(T$4:T836))","v":0},{"$f":"IF(NOT(ISBLANK(B836)),(A836+P836)+(Settings!$B$5/24),\"\")","v":""},{"$f":"IF(E836=\"*ON*\",1,0)","v":0},{"$f":"IF(E836=\"*OFF*\",1,0)","v":0},0,null,0,0,0,0,0,0,0,0]
[null,null,null,0,"*EOL*",0,null,0,"","","","","",{"$error":"#VALUE!"},{"$f":"IF(NOT(ISERR(N837)),ROUND(N837,0),0)","v":0},"",{"$f":"IF(AND(NOT(ISBLANK(C837)),NOT(ISBLANK(E837))),C837&\"@\"&E837,\"\")","v":""},{"$f":"Q837&\":\"&F837&\":\"&D837","v":":0:0"},{"$f":"IF(ISNA(VLOOKUP(R837,R$4:R836,1,FALSE)),FALSE,IF(O837>0,TRUE,FALSE))","v":false},{"$f":"IF(AND(C837<>\"\",$E837<>\"*ON*\",$E837<>\"*OFF*\",ISNA((VLOOKUP(C837&\"@\"&E837,Q$4:Q836,1,FALSE)))),1,0)","v":0},{"$f":"SUM(O$4:O837)+(100*SUM(T$4:T837))","v":0},{"$f":"IF(NOT(ISBLANK(B837)),(A837+P837)+(Settings!$B$5/24),\"\")","v":""},0,0,0,null,0,0,0,0,0,0,0,0]
[null,null,null,0,"*EOL*",0,null,{"$f":"IF(OR($S838,ISERR($N838),ISBLANK($B838),ISBLANK($C838)),0,MAX(O838,1))","v":0},{"$f":"IF(OR(ISBLANK($B838),ISBLANK($C838),ISBLANK($D838),ISBLANK($F838),NOT($S838)),\"\",\"Dupe!\")","v":""},"","","","",{"$error":"#VALUE!"},0,"","",":0:0",{"$f":"IF(ISNA(VLOOKUP(R838,R$4:R837,1,FALSE)),FALSE,IF(O838>0,TRUE,FALSE))","v":false},{"$f":"IF(AND(C838<>\"\",$E838<>\"*ON*\",$E838<>\"*OFF*\",ISNA((VLOOKUP(C838&\"@\"&E838,Q$4:Q837,1,FALSE)))),1,0)","v":0},{"$f":"SUM(O$4:O838)+(100*SUM(T$4:T838))","v":0},{"$f":"IF(NOT(ISBLANK(B838)),(A838+P838)+(Settings!$B$5/24),\"\")","v":""},0,0,0,null,0,0,0,0,0,0,0,0]
[null,null,null,{"$f":"D838","v":0},{"$f":"E838","v":"*EOL*"},{"$f":"F838","v":0},null,0,"","","","","",{"$error":"#VALUE!"},0,"","",":0:0",{"$f":"IF(ISNA(VLOOKUP(R839,R$4:R838,1,FALSE)),FALSE,IF(O839>0,TRUE,FALSE))","v":false},{"$f":"IF(AND(C839<>\"\",$E839<>\"*ON*\",$E839<>\"*OFF*\",ISNA((VLOOKUP(C839&\"@\"&E839,Q$4:Q838,1,FALSE)))),1,0)","v":0},{"$f":"SUM(O$4:O839)+(100*SUM(T$4:T839))","v":0},{"$f":"IF(NOT(ISBLANK(B839)),(A839+P839)+(Settings!$B$5/24),\"\")","v":""},0,0,0,null,0,0,0,0,0,0,0,0]
[null,null,null,0,"*EOL*",0,null,0,"","","","","",{"$error":"#VALUE!"},0,"","",":0:0",{"$f":"IF(ISNA(VLOOKUP(R840,R$4:R839,1,FALSE)),FALSE,IF(O840>0,TRUE,FALSE))","v":false},{"$f":"IF(AND(C840<>\"\",$E840<>\"*ON*\",$E840<>\"*OFF*\",ISNA((VLOOKUP(C840&\"@\"&E840,Q$4:Q839,1,FALSE)))),1,0)","v":0},{"$f":"SUM(O$4:O840)+(100*SUM(T$4:T840))","v":0},{"$f":"IF(NOT(ISBLANK(B840)),(A840+P840)+(Settings!$B$5/24),\"\")","v":""},0,0,0,null,0,0,0,0,0,0,0,0]
[null,null,null,0,"*EOL*",0,null,0,"","","","","",{"$error":"#VALUE!"},0,"","",":0:0",{"$f":"IF(ISNA(VLOOKUP(R841,R$4:R840,1,FALSE)),FALSE,IF(O841>0,TRUE,FALSE))","v":false},{"$f":"IF(AND(C841<>\"\",$E841<>\"*ON*\",$E841<>\"*OFF*\",ISNA((VLOOKUP(C841&\"@\"&E841,Q$4:Q840,1,FALSE)))),1,0)","v":0},{"$f":"SUM(O$4:O841)+(100*SUM(T$4:T841))","v":0},{"$f":"IF(NOT(ISBLANK(B841)),(A841+P841)+(Settings!$B$5/24),\"\")","v":""},0,0,0,null,0,0,0,0,0,0,0,0]
[null,null,null,0,"*EOL*",0,null,0,"","","","","",{"$error":"#VALUE!"},0,"","",":0:0",{"$f":"IF(ISNA(VLOOKUP(R842,R$4:R841,1,FALSE)),FALSE,IF(O842>0,TRUE,FALSE))","v":false},{"$f":"IF(AND(C842<>\"\",$E842<>\"*ON*\",$E842<>\"*OFF*\",ISNA((VLOOKUP(C842&\"@\"&E842,Q$4:Q841,1,FALSE)))),1,0)","v":0},{"$f":"SUM(O$4:O842)+(100*SUM(T$4:T842))","v":0},{"$f":"IF(NOT(ISBLANK(B842)),(A842+P842)+(Settings!$B$5/24),\"\")","v":""},0,0,0,null,0,0,0,0,0,0,0,0]
[null,null,null,0,"*EOL*",0,null,0,"","","","","",{"$error":"#VALUE!"},0,"","",":0:0",{"$f":"IF(ISNA(VLOOKUP(R843,R$4:R842,1,FALSE)),FALSE,IF(O843>0,TRUE,FALSE))","v":false},{"$f":"IF(AND(C843<>\"\",$E843<>\"*ON*\",$E843<>\"*OFF*\",ISNA((VLOOKUP(C843&\"@\"&E843,Q$4:Q842,1,FALSE)))),1,0)","v":0},{"$f":"SUM(O$4:O843)+(100*SUM(T$4:T843))","v":0},{"$f":"IF(NOT(ISBLANK(B843)),(A843+P843)+(Settings!$B$5/24),\"\")","v":""},0,0,0,null,0,0,0,0,0,0,0,0]
[null,null,null,0,"*EOL*",0,null,0,"","","","","",{"$error":"#VALUE!"},0,"","",":0:0",{"$f":"IF(ISNA(VLOOKUP(R844,R$4:R843,1,FALSE)),FALSE,IF(O844>0,TRUE,FALSE))","v":false},{"$f":"IF(AND(C844<>\"\",$E844<>\"*ON*\",$E844<>\"*OFF*\",ISNA((VLOOKUP(C844&\"@\"&E844,Q$4:Q843,1,FALSE)))),1,0)","v":0},{"$f":"SUM(O$4:O844)+(100*SUM(T$4:T844))","v":0},{"$f":"IF(NOT(ISBLANK(B844)),(A844+P844)+(Settings!$B$5/24),\"\")","v":""},0,0,0,null,{"$f":"IF($E844=AA$3,$H844,0)","v":0},0,0,0,0,0,0,0]
[null,null,null,0,"*EOL*",0,null,0,"","","","","",{"$error":"#VALUE!"},0,"","",":0:0",{"$f":"IF(ISNA(VLOOKUP(R845,R$4:R844,1,FALSE)),FALSE,IF(O845>0,TRUE,FALSE))","v":false},{"$f":"IF(AND(C845<>\"\",$E845<>\"*ON*\",$E845<>\"*OFF*\",ISNA((VLOOKUP(C845&\"@\"&E845,Q$4:Q844,1,FALSE)))),1,0)","v":0},{"$f":"SUM(O$4:O845)+(100*SUM(T$4:T845))","v":0},{"$f":"IF(NOT(ISBLANK(B845)),(A845+P845)+(Settings!$B$5/24),\"\")","v":""},0,0,0,null,0,0,0,0,0,0,0,0]
[null,null,null,0,"*EOL*",0,null,0,"","","","","",{"$error":"#VALUE!"},0,"","",":0:0",{"$f":"IF(ISNA(VLOOKUP(R846,R$4:R845,1,FALSE)),FALSE,IF(O846>0,TRUE,FALSE))","v":false},{"$f":"IF(AND(C846<>\"\",$E846<>\"*ON*\",$E846<>\"*OFF*\",ISNA((VLOOKUP(C846&\"@\"&E846,Q$4:Q845,1,FALSE)))),1,0)","v":0},{"$f":"SUM(O$4:O846)+(100*SUM(T$4:T846))","v":0},{"$f":"IF(NOT(ISBLANK(B846)),(A846+P846)+(Settings!$B$5/24),\"\")","v":""},0,0,0,null,0,0,0,0,0,0,0,0]
[null,null,null,0,"*EOL*",0,null,0,"","","","","",{"$error":"#VALUE!"},0,"","",":0:0",{"$f":"IF(ISNA(VLOOKUP(R847,R$4:R846,1,FALSE)),FALSE,IF(O847>0,TRUE,FALSE))","v":false},{"$f":"IF(AND(C847<>\"\",$E847<>\"*ON*\",$E847<>\"*OFF*\",ISNA((VLOOKUP(C847&\"@\"&E847,Q$4:Q846,1,FALSE)))),1,0)","v":0},{"$f":"SUM(O$4:O847)+(100*SUM(T$4:T847))","v":0},{"$f":"IF(NOT(ISBLANK(B847)),(A847+P847)+(Settings!$B$5/24),\"\")","v":""},0,0,{"$f":"IF($E847=\"*EOL*\",0,IF(X846,0,V847-V846)*24)","v":0},null,0,0,0,0,0,0,0,0]
[null,null,null,0,"*EOL*",0,null,0,"","","","","",{"$error":"#VALUE!"},0,"","",":0:0",{"$f":"IF(ISNA(VLOOKUP(R848,R$4:R847,1,FALSE)),FALSE,IF(O848>0,TRUE,FALSE))","v":false},{"$f":"IF(AND(C848<>\"\",$E848<>\"*ON*\",$E848<>\"*OFF*\",ISNA((VLOOKUP(C848&\"@\"&E848,Q$4:Q847,1,FALSE)))),1,0)","v":0},{"$f":"SUM(O$4:O848)+(100*SUM(T$4:T848))","v":0},{"$f":"IF(NOT(ISBLANK(B848)),(A848+P848)+(Settings!$B$5/24),\"\")","v":""},0,0,0,null,0,0,0,0,0,0,0,0]
[null,null,null,0,"*EOL*",0,null,0,"","","","","",{"$error":"#VALUE!"},0,"","",":0:0",{"$f":"IF(ISNA(VLOOKUP(R849,R$4:R848,1,FALSE)),FALSE,IF(O849>0,TRUE,FALSE))","v":false},{"$f":"IF(AND(C849<>\"\",$E849<>\"*ON*\",$E849<>\"*OFF*\",ISNA((VLOOKUP(C849&\"@\"&E849,Q$4:Q848,1,FALSE)))),1,0)","v":0},{"$f":"SUM(O$4:O849)+(100*SUM(T$4:T849))","v":0},{"$f":"IF(NOT(ISBLANK(B849)),(A849+P849)+(Settings!$B$5/24),\"\")","v":""},0,0,0,null,0,0,0,0,0,0,0,0]
[null,null,null,0,"*EOL*",0,null,0,"","","","","",{"$error":"#VALUE!"},0,"","",":0:0",{"$f":"IF(ISNA(VLOOKUP(R850,R$4:R849,1,FALSE)),FALSE,IF(O850>0,TRUE,FALSE))","v":false},{"$f":"IF(AND(C850<>\"\",$E850<>\"*ON*\",$E850<>\"*OFF*\",ISNA((VLOOKUP(C850&\"@\"&E850,Q$4:Q849,1,FALSE)))),1,0)","v":0},{"$f":"SUM(O$4:O850)+(100*SUM(T$4:T850))","v":0},{"$f":"IF(NOT(ISBLANK(B850)),(A850+P850)+(Settings!$B$5/24),\"\")","v":""},0,0,0,null,0,0,0,0,0,0,0,0]
[null,null,null,0,"*EOL*",0,null,0,"","","","","",{"$error":"#VALUE!"},0,"","",":0:0",{"$f":"IF(ISNA(VLOOKUP(R851,R$4:R850,1,FALSE)),FALSE,IF(O851>0,TRUE,FALSE))","v":false},{"$f":"IF(AND(C851<>\"\",$E851<>\"*ON*\",$E851<>\"*OFF*\",ISNA((VLOOKUP(C851&\"@\"&E851,Q$4:Q850,1,FALSE)))),1,0)","v":0},{"$f":"SUM(O$4:O851)+(100*SUM(T$4:T851))","v":0},{"$f":"IF(NOT(ISBLANK(B851)),(A851+P851)+(Settings!$B$5/24),\"\")","v":""},0,0,0,null,0,0,0,0,0,0,0,0]
[null,null,null,0,"*EOL*",0,null,0,"","","","","",{"$error":"#VALUE!"},0,"","",":0:0",{"$f":"IF(ISNA(VLOOKUP(R852,R$4:R851,1,FALSE)),FALSE,IF(O852>0,TRUE,FALSE))","v":false},{"$f":"IF(AND(C852<>\"\",$E852<>\"*ON*\",$E852<>\"*OFF*\",ISNA((VLOOKUP(C852&\"@\"&E852,Q$4:Q851,1,FALSE)))),1,0)","v":0},{"$f":"SUM(O$4:O852)+(100*SUM(T$4:T852))","v":0},{"$f":"IF(NOT(ISBLANK(B852)),(A852+P852)+(Settings!$B$5/24),\"\")","v":""},0,0,0,null,0,0,0,0,0,0,0,0]
[null,null,null,0,"*EOL*",0,null,0,"","","","","",{"$error":"#VALUE!"},0,"","",":0:0",{"$f":"IF(ISNA(VLOOKUP(R853,R$4:R852,1,FALSE)),FALSE,IF(O853>0,TRUE,FALSE))","v":false},{"$f":"IF(AND(C853<>\"\",$E853<>\"*ON*\",$E853<>\"*OFF*\",ISNA((VLOOKUP(C853&\"@\"&E853,Q$4:Q852,1,FALSE)))),1,0)","v":0},{"$f":"SUM(O$4:O853)+(100*SUM(T$4:T853))","v":0},{"$f":"IF(NOT(ISBLANK(B853)),(A853+P853)+(Settings!$B$5/24),\"\")","v":""},0,0,0,null,0,0,0,0,0,0,0,0]
[null,null,null,0,"*EOL*",0,null,0,"","","","","",{"$error":"#VALUE!"},0,"","",":0:0",{"$f":"IF(ISNA(VLOOKUP(R854,R$4:R853,1,FALSE)),FALSE,IF(O854>0,TRUE,FALSE))","v":false},{"$f":"IF(AND(C854<>\"\",$E854<>\"*ON*\",$E854<>\"*OFF*\",ISNA((VLOOKUP(C854&\"@\"&E854,Q$4:Q853,1,FALSE)))),1,0)","v":0},{"$f":"SUM(O$4:O854)+(100*SUM(T$4:T854))","v":0},{"$f":"IF(NOT(ISBLANK(B854)),(A854+P854)+(Settings!$B$5/24),\"\")","v":""},0,0,0,null,{"$f":"IF($E854=AA$3,$H854,0)","v":0},0,0,0,0,0,0,0]
[null,null,null,0,"*EOL*",0,null,0,"","","","","",{"$error":"#VALUE!"},0,"","",":0:0",{"$f":"IF(ISNA(VLOOKUP(R855,R$4:R854,1,FALSE)),FALSE,IF(O855>0,TRUE,FALSE))","v":false},{"$f":"IF(AND(C855<>\"\",$E855<>\"*ON*\",$E855<>\"*OFF*\",ISNA((VLOOKUP(C855&\"@\"&E855,Q$4:Q854,1,FALSE)))),1,0)","v":0},{"$f":"SUM(O$4:O855)+(100*SUM(T$4:T855))","v":0},{"$f":"IF(NOT(ISBLANK(B855)),(A855+P855)+(Settings!$B$5/24),\"\")","v":""},0,0,0,null,0,0,0,0,0,0,0,0]
[null,null,null,0,"*EOL*",0,null,0,"","","","","",{"$error":"#VALUE!"},0,"","",":0:0",{"$f":"IF(ISNA(VLOOKUP(R856,R$4:R855,1,FALSE)),FALSE,IF(O856>0,TRUE,FALSE))","v":false},{"$f":"IF(AND(C856<>\"\",$E856<>\"*ON*\",$E856<>\"*OFF*\",ISNA((VLOOKUP(C856&\"@\"&E856,Q$4:Q855,1,FALSE)))),1,0)","v":0},{"$f":"SUM(O$4:O856)+(100*SUM(T$4:T856))","v":0},{"$f":"IF(NOT(ISBLANK(B856)),(A856+P856)+(Settings!$B$5/24),\"\")","v":""},0,0,0,null,0,0,0,0,0,0,0,0]
[null,null,null,0,"*EOL*",0,null,0,"","","","","",{"$error":"#VALUE!"},0,"","",":0:0",{"$f":"IF(ISNA(VLOOKUP(R857,R$4:R856,1,FALSE)),FALSE,IF(O857>0,TRUE,FALSE))","v":false},{"$f":"IF(AND(C857<>\"\",$E857<>\"*ON*\",$E857<>\"*OFF*\",ISNA((VLOOKUP(C857&\"@\"&E857,Q$4:Q856,1,FALSE)))),1,0)","v":0},{"$f":"SUM(O$4:O857)+(100*SUM(T$4:T857))","v":0},{"$f":"IF(NOT(ISBLANK(B857)),(A857+P857)+(Settings!$B$5/24),\"\")","v":""},0,0,0,null,0,0,0,0,0,0,0,0]
[null,null,null,0,"*EOL*",0,null,0,"","","","","",{"$error":"#VALUE!"},0,"","",":0:0",{"$f":"IF(ISNA(VLOOKUP(R858,R$4:R857,1,FALSE)),FALSE,IF(O858>0,TRUE,FALSE))","v":false},{"$f":"IF(AND(C858<>\"\",$E858<>\"*ON*\",$E858<>\"*OFF*\",ISNA((VLOOKUP(C858&\"@\"&E858,Q$4:Q857,1,FALSE)))),1,0)","v":0},{"$f":"SUM(O$4:O858)+(100*SUM(T$4:T858))","v":0},{"$f":"IF(NOT(ISBLANK(B858)),(A858+P858)+(Settings!$B$5/24),\"\")","v":""},0,0,0,null,0,0,0,0,0,0,0,0]
[null,null,null,0,"*EOL*",0,null,0,"","","","","",{"$error":"#VALUE!"},0,"","",":0:0",{"$f":"IF(ISNA(VLOOKUP(R859,R$4:R858,1,FALSE)),FALSE,IF(O859>0,TRUE,FALSE))","v":false},{"$f":"IF(AND(C859<>\"\",$E859<>\"*ON*\",$E859<>\"*OFF*\",ISNA((VLOOKUP(C859&\"@\"&E859,Q$4:Q858,1,FALSE)))),1,0)","v":0},{"$f":"SUM(O$4:O859)+(100*SUM(T$4:T859))","v":0},{"$f":"IF(NOT(ISBLANK(B859)),(A859+P859)+(Settings!$B$5/24),\"\")","v":""},0,0,0,null,0,0,0,0,0,0,0,0]
[null,null,null,0,"*EOL*",0,null,0,"","","","","",{"$error":"#VALUE!"},0,"","",":0:0",{"$f":"IF(ISNA(VLOOKUP(R860,R$4:R859,1,FALSE)),FALSE,IF(O860>0,TRUE,FALSE))","v":false},{"$f":"IF(AND(C860<>\"\",$E860<>\"*ON*\",$E860<>\"*OFF*\",ISNA((VLOOKUP(C860&\"@\"&E860,Q$4:Q859,1,FALSE)))),1,0)","v":0},{"$f":"SUM(O$4:O860)+(100*SUM(T$4:T860))","v":0},{"$f":"IF(NOT(ISBLANK(B860)),(A860+P860)+(Settings!$B$5/24),\"\")","v":""},0,0,0,null,0,0,0,0,0,0,0,0]
[null,null,null,0,"*EOL*",0,null,0,"","","","","",{"$error":"#VALUE!"},0,"","",":0:0",{"$f":"IF(ISNA(VLOOKUP(R861,R$4:R860,1,FALSE)),FALSE,IF(O861>0,TRUE,FALSE))","v":false},{"$f":"IF(AND(C861<>\"\",$E861<>\"*ON*\",$E861<>\"*OFF*\",ISNA((VLOOKUP(C861&\"@\"&E861,Q$4:Q860,1,FALSE)))),1,0)","v":0},{"$f":"SUM(O$4:O861)+(100*SUM(T$4:T861))","v":0},{"$f":"IF(NOT(ISBLANK(B861)),(A861+P861)+(Settings!$B$5/24),\"\")","v":""},0,0,0,null,0,0,0,0,0,0,0,0]
[null,null,null,0,"*EOL*",0,null,0,"","","","","",{"$error":"#VALUE!"},0,"","",":0:0",{"$f":"IF(ISNA(VLOOKUP(R862,R$4:R861,1,FALSE)),FALSE,IF(O862>0,TRUE,FALSE))","v":false},{"$f":"IF(AND(C862<>\"\",$E862<>\"*ON*\",$E862<>\"*OFF*\",ISNA((VLOOKUP(C862&\"@\"&E862,Q$4:Q861,1,FALSE)))),1,0)","v":0},{"$f":"SUM(O$4:O862)+(100*SUM(T$4:T862))","v":0},{"$f":"IF(NOT(ISBLANK(B862)),(A862+P862)+(Settings!$B$5/24),\"\")","v":""},0,0,0,null,0,0,0,0,0,0,0,0]
[null,null,null,0,"*EOL*",0,null,0,"","","","","",{"$error":"#VALUE!"},0,"","",":0:0",{"$f":"IF(ISNA(VLOOKUP(R863,R$4:R862,1,FALSE)),FALSE,IF(O863>0,TRUE,FALSE))","v":false},{"$f":"IF(AND(C863<>\"\",$E863<>\"*ON*\",$E863<>\"*OFF*\",ISNA((VLOOKUP(C863&\"@\"&E863,Q$4:Q862,1,FALSE)))),1,0)","v":0},{"$f":"SUM(O$4:O863)+(100*SUM(T$4:T863))","v":0},{"$f":"IF(NOT(ISBLANK(B863)),(A863+P863)+(Settings!$B$5/24),\"\")","v":""},0,0,0,null,0,0,0,0,0,0,0,0]
[null,null,null,0,"*EOL*",0,null,0,"","","","","",{"$error":"#VALUE!"},0,"","",":0:0",{"$f":"IF(ISNA(VLOOKUP(R864,R$4:R863,1,FALSE)),FALSE,IF(O864>0,TRUE,FALSE))","v":false},{"$f":"IF(AND(C864<>\"\",$E864<>\"*ON*\",$E864<>\"*OFF*\",ISNA((VLOOKUP(C864&\"@\"&E864,Q$4:Q863,1,FALSE)))),1,0)","v":0},{"$f":"SUM(O$4:O864)+(100*SUM(T$4:T864))","v":0},{"$f":"IF(NOT(ISBLANK(B864)),(A864+P864)+(Settings!$B$5/24),\"\")","v":""},0,0,0,null,{"$f":"IF($E864=AA$3,$H864,0)","v":0},0,0,0,0,0,0,0]
[null,null,null,0,"*EOL*",0,null,0,"","","","","",{"$error":"#VALUE!"},0,"","",":0:0",{"$f":"IF(ISNA(VLOOKUP(R865,R$4:R864,1,FALSE)),FALSE,IF(O865>0,TRUE,FALSE))","v":false},{"$f":"IF(AND(C865<>\"\",$E865<>\"*ON*\",$E865<>\"*OFF*\",ISNA((VLOOKUP(C865&\"@\"&E865,Q$4:Q864,1,FALSE)))),1,0)","v":0},{"$f":"SUM(O$4:O865)+(100*SUM(T$4:T865))","v":0},{"$f":"IF(NOT(ISBLANK(B865)),(A865+P865)+(Settings!$B$5/24),\"\")","v":""},0,0,0,null,0,0,0,0,0,0,0,0]
[null,null,null,0,"*EOL*",0,null,0,"","","","","",{"$error":"#VALUE!"},0,"","",":0:0",{"$f":"IF(ISNA(VLOOKUP(R866,R$4:R865,1,FALSE)),FALSE,IF(O866>0,TRUE,FALSE))","v":false},{"$f":"IF(AND(C866<>\"\",$E866<>\"*ON*\",$E866<>\"*OFF*\",ISNA((VLOOKUP(C866&\"@\"&E866,Q$4:Q865,1,FALSE)))),1,0)","v":0},{"$f":"SUM(O$4:O866)+(100*SUM(T$4:T866))","v":0},{"$f":"IF(NOT(ISBLANK(B866)),(A866+P866)+(Settings!$B$5/24),\"\")","v":""},0,0,0,null,0,0,0,0,0,0,0,0]
[null,null,null,0,"*EOL*",0,null,0,"","","","","",{"$error":"#VALUE!"},0,"","",":0:0",{"$f":"IF(ISNA(VLOOKUP(R867,R$4:R866,1,FALSE)),FALSE,IF(O867>0,TRUE,FALSE))","v":false},{"$f":"IF(AND(C867<>\"\",$E867<>\"*ON*\",$E867<>\"*OFF*\",ISNA((VLOOKUP(C867&\"@\"&E867,Q$4:Q866,1,FALSE)))),1,0)","v":0},{"$f":"SUM(O$4:O867)+(100*SUM(T$4:T867))","v":0},{"$f":"IF(NOT(ISBLANK(B867)),(A867+P867)+(Settings!$B$5/24),\"\")","v":""},0,0,0,null,0,0,0,0,0,0,0,0]
[null,null,null,0,"*EOL*",0,null,0,"","","","","",{"$error":"#VALUE!"},0,"","",":0:0",{"$f":"IF(ISNA(VLOOKUP(R868,R$4:R867,1,FALSE)),FALSE,IF(O868>0,TRUE,FALSE))","v":false},{"$f":"IF(AND(C868<>\"\",$E868<>\"*ON*\",$E868<>\"*OFF*\",ISNA((VLOOKUP(C868&\"@\"&E868,Q$4:Q867,1,FALSE)))),1,0)","v":0},{"$f":"SUM(O$4:O868)+(100*SUM(T$4:T868))","v":0},{"$f":"IF(NOT(ISBLANK(B868)),(A868+P868)+(Settings!$B$5/24),\"\")","v":""},0,0,0,null,0,0,0,0,0,0,0,0]
[null,null,null,0,"*EOL*",0,null,0,"","","","","",{"$error":"#VALUE!"},0,"","",":0:0",{"$f":"IF(ISNA(VLOOKUP(R869,R$4:R868,1,FALSE)),FALSE,IF(O869>0,TRUE,FALSE))","v":false},{"$f":"IF(AND(C869<>\"\",$E869<>\"*ON*\",$E869<>\"*OFF*\",ISNA((VLOOKUP(C869&\"@\"&E869,Q$4:Q868,1,FALSE)))),1,0)","v":0},{"$f":"SUM(O$4:O869)+(100*SUM(T$4:T869))","v":0},{"$f":"IF(NOT(ISBLANK(B869)),(A869+P869)+(Settings!$B$5/24),\"\")","v":""},0,0,0,null,0,0,0,0,0,0,0,0]
[null,null,null,0,"*EOL*",0,null,0,"","","","","",{"$error":"#VALUE!"},0,"","",":0:0",{"$f":"IF(ISNA(VLOOKUP(R870,R$4:R869,1,FALSE)),FALSE,IF(O870>0,TRUE,FALSE))","v":false},{"$f":"IF(AND(C870<>\"\",$E870<>\"*ON*\",$E870<>\"*OFF*\",ISNA((VLOOKUP(C870&\"@\"&E870,Q$4:Q869,1,FALSE)))),1,0)","v":0},{"$f":"SUM(O$4:O870)+(100*SUM(T$4:T870))","v":0},{"$f":"IF(NOT(ISBLANK(B870)),(A870+P870)+(Settings!$B$5/24),\"\")","v":""},0,0,0,null,0,0,0,0,0,0,0,0]
[null,null,null,0,"*EOL*",0,null,0,"","","","","",{"$error":"#VALUE!"},0,"","",":0:0",{"$f":"IF(ISNA(VLOOKUP(R871,R$4:R870,1,FALSE)),FALSE,IF(O871>0,TRUE,FALSE))","v":false},{"$f":"IF(AND(C871<>\"\",$E871<>\"*ON*\",$E871<>\"*OFF*\",ISNA((VLOOKUP(C871&\"@\"&E871,Q$4:Q870,1,FALSE)))),1,0)","v":0},{"$f":"SUM(O$4:O871)+(100*SUM(T$4:T871))","v":0},{"$f":"IF(NOT(ISBLANK(B871)),(A871+P871)+(Settings!$B$5/24),\"\")","v":""},0,0,0,null,0,0,0,0,0,0,0,0]
[null,null,null,0,"*EOL*",0,null,0,"","","","","",{"$error":"#VALUE!"},0,"","",":0:0",{"$f":"IF(ISNA(VLOOKUP(R872,R$4:R871,1,FALSE)),FALSE,IF(O872>0,TRUE,FALSE))","v":false},{"$f":"IF(AND(C872<>\"\",$E872<>\"*ON*\",$E872<>\"*OFF*\",ISNA((VLOOKUP(C872&\"@\"&E872,Q$4:Q871,1,FALSE)))),1,0)","v":0},{"$f":"SUM(O$4:O872)+(100*SUM(T$4:T872))","v":0},{"$f":"IF(NOT(ISBLANK(B872)),(A872+P872)+(Settings!$B$5/24),\"\")","v":""},0,0,0,null,0,0,0,0,0,0,0,0]
[null,null,null,0,"*EOL*",0,null,0,"","","","","",{"$error":"#VALUE!"},0,"","",":0:0",{"$f":"IF(ISNA(VLOOKUP(R873,R$4:R872,1,FALSE)),FALSE,IF(O873>0,TRUE,FALSE))","v":false},{"$f":"IF(AND(C873<>\"\",$E873<>\"*ON*\",$E873<>\"*OFF*\",ISNA((VLOOKUP(C873&\"@\"&E873,Q$4:Q872,1,FALSE)))),1,0)","v":0},{"$f":"SUM(O$4:O873)+(100*SUM(T$4:T873))","v":0},{"$f":"IF(NOT(ISBLANK(B873)),(A873+P873)+(Settings!$B$5/24),\"\")","v":""},0,0,0,null,0,0,0,0,0,0,0,0]
[null,null,null,0,"*EOL*",0,null,0,"","","","","",{"$error":"#VALUE!"},0,"","",":0:0",{"$f":"IF(ISNA(VLOOKUP(R874,R$4:R873,1,FALSE)),FALSE,IF(O874>0,TRUE,FALSE))","v":false},{"$f":"IF(AND(C874<>\"\",$E874<>\"*ON*\",$E874<>\"*OFF*\",ISNA((VLOOKUP(C874&\"@\"&E874,Q$4:Q873,1,FALSE)))),1,0)","v":0},{"$f":"SUM(O$4:O874)+(100*SUM(T$4:T874))","v":0},{"$f":"IF(NOT(ISBLANK(B874)),(A874+P874)+(Settings!$B$5/24),\"\")","v":""},0,0,0,null,{"$f":"IF($E874=AA$3,$H874,0)","v":0},0,0,0,0,0,0,0]
[null,null,null,0,"*EOL*",0,null,0,"","","","","",{"$error":"#VALUE!"},0,"","",":0:0",{"$f":"IF(ISNA(VLOOKUP(R875,R$4:R874,1,FALSE)),FALSE,IF(O875>0,TRUE,FALSE))","v":false},{"$f":"IF(AND(C875<>\"\",$E875<>\"*ON*\",$E875<>\"*OFF*\",ISNA((VLOOKUP(C875&\"@\"&E875,Q$4:Q874,1,FALSE)))),1,0)","v":0},{"$f":"SUM(O$4:O875)+(100*SUM(T$4:T875))","v":0},{"$f":"IF(NOT(ISBLANK(B875)),(A875+P875)+(Settings!$B$5/24),\"\")","v":""},0,0,0,null,0,0,0,0,0,0,0,0]
[null,null,null,0,"*EOL*",0,null,0,"","","","","",{"$error":"#VALUE!"},0,"","",":0:0",{"$f":"IF(ISNA(VLOOKUP(R876,R$4:R875,1,FALSE)),FALSE,IF(O876>0,TRUE,FALSE))","v":false},{"$f":"IF(AND(C876<>\"\",$E876<>\"*ON*\",$E876<>\"*OFF*\",ISNA((VLOOKUP(C876&\"@\"&E876,Q$4:Q875,1,FALSE)))),1,0)","v":0},{"$f":"SUM(O$4:O876)+(100*SUM(T$4:T876))","v":0},{"$f":"IF(NOT(ISBLANK(B876)),(A876+P876)+(Settings!$B$5/24),\"\")","v":""},0,0,0,null,0,0,0,0,0,0,0,0]
[null,null,null,0,"*EOL*",0,null,0,"","","","","",{"$error":"#VALUE!"},0,"","",":0:0",{"$f":"IF(ISNA(VLOOKUP(R877,R$4:R876,1,FALSE)),FALSE,IF(O877>0,TRUE,FALSE))","v":false},{"$f":"IF(AND(C877<>\"\",$E877<>\"*ON*\",$E877<>\"*OFF*\",ISNA((VLOOKUP(C877&\"@\"&E877,Q$4:Q876,1,FALSE)))),1,0)","v":0},{"$f":"SUM(O$4:O877)+(100*SUM(T$4:T877))","v":0},{"$f":"IF(NOT(ISBLANK(B877)),(A877+P877)+(Settings!$B$5/24),\"\")","v":""},0,0,0,null,0,0,0,0,0,0,0,0]
[null,null,null,0,"*EOL*",0,null,0,"","","","","",{"$error":"#VALUE!"},0,"","",":0:0",{"$f":"IF(ISNA(VLOOKUP(R878,R$4:R877,1,FALSE)),FALSE,IF(O878>0,TRUE,FALSE))","v":false},{"$f":"IF(AND(C878<>\"\",$E878<>\"*ON*\",$E878<>\"*OFF*\",ISNA((VLOOKUP(C878&\"@\"&E878,Q$4:Q877,1,FALSE)))),1,0)","v":0},{"$f":"SUM(O$4:O878)+(100*SUM(T$4:T878))","v":0},{"$f":"IF(NOT(ISBLANK(B878)),(A878+P878)+(Settings!$B$5/24),\"\")","v":""},0,0,0,null,0,0,0,0,0,0,0,0]
[null,null,null,0,"*EOL*",0,null,0,"","","","","",{"$error":"#VALUE!"},0,"","",":0:0",{"$f":"IF(ISNA(VLOOKUP(R879,R$4:R878,1,FALSE)),FALSE,IF(O879>0,TRUE,FALSE))","v":false},{"$f":"IF(AND(C879<>\"\",$E879<>\"*ON*\",$E879<>\"*OFF*\",ISNA((VLOOKUP(C879&\"@\"&E879,Q$4:Q878,1,FALSE)))),1,0)","v":0},{"$f":"SUM(O$4:O879)+(100*SUM(T$4:T879))","v":0},{"$f":"IF(NOT(ISBLANK(B879)),(A879+P879)+(Settings!$B$5/24),\"\")","v":""},0,0,0,null,0,0,0,0,0,0,0,0]
[null,null,null,0,"*EOL*",0,null,0,"","","","","",{"$error":"#VALUE!"},0,"","",":0:0",{"$f":"IF(ISNA(VLOOKUP(R880,R$4:R879,1,FALSE)),FALSE,IF(O880>0,TRUE,FALSE))","v":false},{"$f":"IF(AND(C880<>\"\",$E880<>\"*ON*\",$E880<>\"*OFF*\",ISNA((VLOOKUP(C880&\"@\"&E880,Q$4:Q879,1,FALSE)))),1,0)","v":0},{"$f":"SUM(O$4:O880)+(100*SUM(T$4:T880))","v":0},{"$f":"IF(NOT(ISBLANK(B880)),(A880+P880)+(Settings!$B$5/24),\"\")","v":""},0,0,0,null,0,0,0,0,0,0,0,0]
[null,null,null,0,"*EOL*",0,null,0,"","","","","",{"$error":"#VALUE!"},0,"","",":0:0",{"$f":"IF(ISNA(VLOOKUP(R881,R$4:R880,1,FALSE)),FALSE,IF(O881>0,TRUE,FALSE))","v":false},{"$f":"IF(AND(C881<>\"\",$E881<>\"*ON*\",$E881<>\"*OFF*\",ISNA((VLOOKUP(C881&\"@\"&E881,Q$4:Q880,1,FALSE)))),1,0)","v":0},{"$f":"SUM(O$4:O881)+(100*SUM(T$4:T881))","v":0},{"$f":"IF(NOT(ISBLANK(B881)),(A881+P881)+(Settings!$B$5/24),\"\")","v":""},0,0,0,null,0,0,0,0,0,0,0,0]
[null,null,null,0,"*EOL*",0,null,0,"","","","","",{"$error":"#VALUE!"},0,"","",":0:0",{"$f":"IF(ISNA(VLOOKUP(R882,R$4:R881,1,FALSE)),FALSE,IF(O882>0,TRUE,FALSE))","v":false},{"$f":"IF(AND(C882<>\"\",$E882<>\"*ON*\",$E882<>\"*OFF*\",ISNA((VLOOKUP(C882&\"@\"&E882,Q$4:Q881,1,FALSE)))),1,0)","v":0},{"$f":"SUM(O$4:O882)+(100*SUM(T$4:T882))","v":0},{"$f":"IF(NOT(ISBLANK(B882)),(A882+P882)+(Settings!$B$5/24),\"\")","v":""},0,0,0,null,0,0,0,0,0,0,0,0]
[null,null,null,0,"*EOL*",0,null,0,"","","","","",{"$error":"#VALUE!"},0,"","",":0:0",{"$f":"IF(ISNA(VLOOKUP(R883,R$4:R882,1,FALSE)),FALSE,IF(O883>0,TRUE,FALSE))","v":false},{"$f":"IF(AND(C883<>\"\",$E883<>\"*ON*\",$E883<>\"*OFF*\",ISNA((VLOOKUP(C883&\"@\"&E883,Q$4:Q882,1,FALSE)))),1,0)","v":0},{"$f":"SUM(O$4:O883)+(100*SUM(T$4:T883))","v":0},{"$f":"IF(NOT(ISBLANK(B883)),(A883+P883)+(Settings!$B$5/24),\"\")","v":""},0,0,0,null,0,0,0,0,0,0,0,0]
[null,null,null,0,"*EOL*",0,null,0,"","","","","",{"$error":"#VALUE!"},0,"","",":0:0",{"$f":"IF(ISNA(VLOOKUP(R884,R$4:R883,1,FALSE)),FALSE,IF(O884>0,TRUE,FALSE))","v":false},{"$f":"IF(AND(C884<>\"\",$E884<>\"*ON*\",$E884<>\"*OFF*\",ISNA((VLOOKUP(C884&\"@\"&E884,Q$4:Q883,1,FALSE)))),1,0)","v":0},{"$f":"SUM(O$4:O884)+(100*SUM(T$4:T884))","v":0},{"$f":"IF(NOT(ISBLANK(B884)),(A884+P884)+(Settings!$B$5/24),\"\")","v":""},0,0,0,null,{"$f":"IF($E884=AA$3,$H884,0)","v":0},0,0,0,0,0,0,0]
[null,null,null,0,"*EOL*",0,null,0,"","","","","",{"$error":"#VALUE!"},0,"","",":0:0",{"$f":"IF(ISNA(VLOOKUP(R885,R$4:R884,1,FALSE)),FALSE,IF(O885>0,TRUE,FALSE))","v":false},{"$f":"IF(AND(C885<>\"\",$E885<>\"*ON*\",$E885<>\"*OFF*\",ISNA((VLOOKUP(C885&\"@\"&E885,Q$4:Q884,1,FALSE)))),1,0)","v":0},{"$f":"SUM(O$4:O885)+(100*SUM(T$4:T885))","v":0},{"$f":"IF(NOT(ISBLANK(B885)),(A885+P885)+(Settings!$B$5/24),\"\")","v":""},0,0,0,null,0,0,0,0,0,0,0,0]
[null,null,null,0,"*EOL*",0,null,0,"","","","","",{"$error":"#VALUE!"},0,"","",":0:0",{"$f":"IF(ISNA(VLOOKUP(R886,R$4:R885,1,FALSE)),FALSE,IF(O886>0,TRUE,FALSE))","v":false},{"$f":"IF(AND(C886<>\"\",$E886<>\"*ON*\",$E886<>\"*OFF*\",ISNA((VLOOKUP(C886&\"@\"&E886,Q$4:Q885,1,FALSE)))),1,0)","v":0},{"$f":"SUM(O$4:O886)+(100*SUM(T$4:T886))","v":0},{"$f":"IF(NOT(ISBLANK(B886)),(A886+P886)+(Settings!$B$5/24),\"\")","v":""},0,0,0,null,0,0,0,0,0,0,0,0]
[null,null,null,0,"*EOL*",0,null,0,"","","","","",{"$error":"#VALUE!"},0,"","",":0:0",{"$f":"IF(ISNA(VLOOKUP(R887,R$4:R886,1,FALSE)),FALSE,IF(O887>0,TRUE,FALSE))","v":false},{"$f":"IF(AND(C887<>\"\",$E887<>\"*ON*\",$E887<>\"*OFF*\",ISNA((VLOOKUP(C887&\"@\"&E887,Q$4:Q886,1,FALSE)))),1,0)","v":0},{"$f":"SUM(O$4:O887)+(100*SUM(T$4:T887))","v":0},{"$f":"IF(NOT(ISBLANK(B887)),(A887+P887)+(Settings!$B$5/24),\"\")","v":""},0,0,0,null,0,0,0,0,0,0,0,0]
[null,null,null,0,"*EOL*",0,null,0,"","","","","",{"$error":"#VALUE!"},0,"","",":0:0",{"$f":"IF(ISNA(VLOOKUP(R888,R$4:R887,1,FALSE)),FALSE,IF(O888>0,TRUE,FALSE))","v":false},{"$f":"IF(AND(C888<>\"\",$E888<>\"*ON*\",$E888<>\"*OFF*\",ISNA((VLOOKUP(C888&\"@\"&E888,Q$4:Q887,1,FALSE)))),1,0)","v":0},{"$f":"SUM(O$4:O888)+(100*SUM(T$4:T888))","v":0},{"$f":"IF(NOT(ISBLANK(B888)),(A888+P888)+(Settings!$B$5/24),\"\")","v":""},0,0,0,null,0,0,0,0,0,0,0,0]
[null,null,null,0,"*EOL*",0,null,0,"","","","","",{"$error":"#VALUE!"},0,"","",":0:0",{"$f":"IF(ISNA(VLOOKUP(R889,R$4:R888,1,FALSE)),FALSE,IF(O889>0,TRUE,FALSE))","v":false},{"$f":"IF(AND(C889<>\"\",$E889<>\"*ON*\",$E889<>\"*OFF*\",ISNA((VLOOKUP(C889&\"@\"&E889,Q$4:Q888,1,FALSE)))),1,0)","v":0},{"$f":"SUM(O$4:O889)+(100*SUM(T$4:T889))","v":0},{"$f":"IF(NOT(ISBLANK(B889)),(A889+P889)+(Settings!$B$5/24),\"\")","v":""},0,0,0,null,0,0,0,0,0,0,0,0]
[null,null,null,0,"*EOL*",0,null,0,"","","","","",{"$error":"#VALUE!"},0,"","",":0:0",{"$f":"IF(ISNA(VLOOKUP(R890,R$4:R889,1,FALSE)),FALSE,IF(O890>0,TRUE,FALSE))","v":false},{"$f":"IF(AND(C890<>\"\",$E890<>\"*ON*\",$E890<>\"*OFF*\",ISNA((VLOOKUP(C890&\"@\"&E890,Q$4:Q889,1,FALSE)))),1,0)","v":0},{"$f":"SUM(O$4:O890)+(100*SUM(T$4:T890))","v":0},{"$f":"IF(NOT(ISBLANK(B890)),(A890+P890)+(Settings!$B$5/24),\"\")","v":""},0,0,0,null,0,0,0,0,0,0,0,0]
[null,null,null,0,"*EOL*",0,null,0,"","","","","",{"$error":"#VALUE!"},0,"","",":0:0",{"$f":"IF(ISNA(VLOOKUP(R891,R$4:R890,1,FALSE)),FALSE,IF(O891>0,TRUE,FALSE))","v":false},{"$f":"IF(AND(C891<>\"\",$E891<>\"*ON*\",$E891<>\"*OFF*\",ISNA((VLOOKUP(C891&\"@\"&E891,Q$4:Q890,1,FALSE)))),1,0)","v":0},{"$f":"SUM(O$4:O891)+(100*SUM(T$4:T891))","v":0},{"$f":"IF(NOT(ISBLANK(B891)),(A891+P891)+(Settings!$B$5/24),\"\")","v":""},0,0,0,null,0,0,0,0,0,0,0,0]
[null,null,null,0,"*EOL*",0,null,0,"","","","","",{"$error":"#VALUE!"},0,"","",":0:0",{"$f":"IF(ISNA(VLOOKUP(R892,R$4:R891,1,FALSE)),FALSE,IF(O892>0,TRUE,FALSE))","v":false},{"$f":"IF(AND(C892<>\"\",$E892<>\"*ON*\",$E892<>\"*OFF*\",ISNA((VLOOKUP(C892&\"@\"&E892,Q$4:Q891,1,FALSE)))),1,0)","v":0},{"$f":"SUM(O$4:O892)+(100*SUM(T$4:T892))","v":0},{"$f":"IF(NOT(ISBLANK(B892)),(A892+P892)+(Settings!$B$5/24),\"\")","v":""},0,0,0,null,0,0,0,0,0,0,0,0]
[null,null,null,0,"*EOL*",0,null,0,"","","","","",{"$error":"#VALUE!"},0,"","",":0:0",{"$f":"IF(ISNA(VLOOKUP(R893,R$4:R892,1,FALSE)),FALSE,IF(O893>0,TRUE,FALSE))","v":false},{"$f":"IF(AND(C893<>\"\",$E893<>\"*ON*\",$E893<>\"*OFF*\",ISNA((VLOOKUP(C893&\"@\"&E893,Q$4:Q892,1,FALSE)))),1,0)","v":0},{"$f":"SUM(O$4:O893)+(100*SUM(T$4:T893))","v":0},{"$f":"IF(NOT(ISBLANK(B893)),(A893+P893)+(Settings!$B$5/24),\"\")","v":""},0,0,0,null,0,0,0,0,0,0,0,0]
[null,null,null,0,"*EOL*",0,null,0,"","","","","",{"$error":"#VALUE!"},0,"","",":0:0",{"$f":"IF(ISNA(VLOOKUP(R894,R$4:R893,1,FALSE)),FALSE,IF(O894>0,TRUE,FALSE))","v":false},{"$f":"IF(AND(C894<>\"\",$E894<>\"*ON*\",$E894<>\"*OFF*\",ISNA((VLOOKUP(C894&\"@\"&E894,Q$4:Q893,1,FALSE)))),1,0)","v":0},{"$f":"SUM(O$4:O894)+(100*SUM(T$4:T894))","v":0},{"$f":"IF(NOT(ISBLANK(B894)),(A894+P894)+(Settings!$B$5/24),\"\")","v":""},0,0,0,null,{"$f":"IF($E894=AA$3,$H894,0)","v":0},0,0,0,0,0,0,0]
[null,null,null,0,"*EOL*",0,null,0,"","","","","",{"$error":"#VALUE!"},0,"","",":0:0",{"$f":"IF(ISNA(VLOOKUP(R895,R$4:R894,1,FALSE)),FALSE,IF(O895>0,TRUE,FALSE))","v":false},{"$f":"IF(AND(C895<>\"\",$E895<>\"*ON*\",$E895<>\"*OFF*\",ISNA((VLOOKUP(C895&\"@\"&E895,Q$4:Q894,1,FALSE)))),1,0)","v":0},{"$f":"SUM(O$4:O895)+(100*SUM(T$4:T895))","v":0},{"$f":"IF(NOT(ISBLANK(B895)),(A895+P895)+(Settings!$B$5/24),\"\")","v":""},0,0,0,null,0,0,0,0,0,0,0,0]
[null,null,null,0,"*EOL*",0,null,0,"","","","","",{"$error":"#VALUE!"},0,"","",":0:0",{"$f":"IF(ISNA(VLOOKUP(R896,R$4:R895,1,FALSE)),FALSE,IF(O896>0,TRUE,FALSE))","v":false},{"$f":"IF(AND(C896<>\"\",$E896<>\"*ON*\",$E896<>\"*OFF*\",ISNA((VLOOKUP(C896&\"@\"&E896,Q$4:Q895,1,FALSE)))),1,0)","v":0},{"$f":"SUM(O$4:O896)+(100*SUM(T$4:T896))","v":0},{"$f":"IF(NOT(ISBLANK(B896)),(A896+P896)+(Settings!$B$5/24),\"\")","v":""},0,0,0,null,0,0,0,0,0,0,0,0]
[null,null,null,0,"*EOL*",0,null,0,"","","","","",{"$error":"#VALUE!"},0,"","",":0:0",{"$f":"IF(ISNA(VLOOKUP(R897,R$4:R896,1,FALSE)),FALSE,IF(O897>0,TRUE,FALSE))","v":false},{"$f":"IF(AND(C897<>\"\",$E897<>\"*ON*\",$E897<>\"*OFF*\",ISNA((VLOOKUP(C897&\"@\"&E897,Q$4:Q896,1,FALSE)))),1,0)","v":0},{"$f":"SUM(O$4:O897)+(100*SUM(T$4:T897))","v":0},{"$f":"IF(NOT(ISBLANK(B897)),(A897+P897)+(Settings!$B$5/24),\"\")","v":""},0,0,0,null,0,0,0,0,0,0,0,0]
[null,null,null,0,"*EOL*",0,null,0,"","","","","",{"$error":"#VALUE!"},0,"","",":0:0",{"$f":"IF(ISNA(VLOOKUP(R898,R$4:R897,1,FALSE)),FALSE,IF(O898>0,TRUE,FALSE))","v":false},{"$f":"IF(AND(C898<>\"\",$E898<>\"*ON*\",$E898<>\"*OFF*\",ISNA((VLOOKUP(C898&\"@\"&E898,Q$4:Q897,1,FALSE)))),1,0)","v":0},{"$f":"SUM(O$4:O898)+(100*SUM(T$4:T898))","v":0},{"$f":"IF(NOT(ISBLANK(B898)),(A898+P898)+(Settings!$B$5/24),\"\")","v":""},0,0,0,null,0,0,0,0,0,0,0,0]
[null,null,null,0,"*EOL*",0,null,0,"","","","","",{"$error":"#VALUE!"},0,"","",":0:0",{"$f":"IF(ISNA(VLOOKUP(R899,R$4:R898,1,FALSE)),FALSE,IF(O899>0,TRUE,FALSE))","v":false},{"$f":"IF(AND(C899<>\"\",$E899<>\"*ON*\",$E899<>\"*OFF*\",ISNA((VLOOKUP(C899&\"@\"&E899,Q$4:Q898,1,FALSE)))),1,0)","v":0},{"$f":"SUM(O$4:O899)+(100*SUM(T$4:T899))","v":0},{"$f":"IF(NOT(ISBLANK(B899)),(A899+P899)+(Settings!$B$5/24),\"\")","v":""},0,0,0,null,0,0,0,0,0,0,0,0]
[null,null,null,0,"*EOL*",0,null,0,"",{"$f":"MH2Lat(F900)","v":""},{"$f":"MH2Lon(F900)","v":""},{"$f":"MH2Lat(D900)","v":""},{"$f":"MH2Lon(D900)","v":""},{"$f":"Distance(J900,K900,L900,M900)","v":{"$error":"#VALUE!"}},0,{"$f":"IF(ISBLANK(B900),\"\",IF(LEN(B900)=1,TIMEVALUE(\"00:0\"&B900),IF(LEN(B900)=2,TIMEVALUE(\"00:\"&B900),IF(LEN(B900)=3,TIMEVALUE(\"0\"&LEFT(B900,1)&\":\"&RIGHT(B900,2)),TIMEVALUE(LEFT(B900,2)&\":\"&RIGHT(B900,2))))))","v":""},"",":0:0",{"$f":"IF(ISNA(VLOOKUP(R900,R$4:R899,1,FALSE)),FALSE,IF(O900>0,TRUE,FALSE))","v":false},{"$f":"IF(AND(C900<>\"\",$E900<>\"*ON*\",$E900<>\"*OFF*\",ISNA((VLOOKUP(C900&\"@\"&E900,Q$4:Q899,1,FALSE)))),1,0)","v":0},{"$f":"SUM(O$4:O900)+(100*SUM(T$4:T900))","v":0},{"$f":"IF(NOT(ISBLANK(B900)),(A900+P900)+(Settings!$B$5/24),\"\")","v":""},{"$f":"IF(E900=\"*ON*\",1,0)","v":0},{"$f":"IF(E900=\"*OFF*\",1,0)","v":0},0,null,0,0,0,0,0,0,0,0]
[null,null,null,0,"*EOL*",0,null,0,"","","","","",{"$error":"#VALUE!"},{"$f":"IF(NOT(ISERR(N901)),ROUND(N901,0),0)","v":0},"",{"$f":"IF(AND(NOT(ISBLANK(C901)),NOT(ISBLANK(E901))),C901&\"@\"&E901,\"\")","v":""},{"$f":"Q901&\":\"&F901&\":\"&D901","v":":0:0"},{"$f":"IF(ISNA(VLOOKUP(R901,R$4:R900,1,FALSE)),FALSE,IF(O901>0,TRUE,FALSE))","v":false},{"$f":"IF(AND(C901<>\"\",$E901<>\"*ON*\",$E901<>\"*OFF*\",ISNA((VLOOKUP(C901&\"@\"&E901,Q$4:Q900,1,FALSE)))),1,0)","v":0},{"$f":"SUM(O$4:O901)+(100*SUM(T$4:T901))","v":0},{"$f":"IF(NOT(ISBLANK(B901)),(A901+P901)+(Settings!$B$5/24),\"\")","v":""},0,0,0,null,0,0,0,0,0,0,0,0]
[null,null,null,0,"*EOL*",0,null,{"$f":"IF(OR($S902,ISERR($N902),ISBLANK($B902),ISBLANK($C902)),0,MAX(O902,1))","v":0},{"$f":"IF(OR(ISBLANK($B902),ISBLANK($C902),ISBLANK($D902),ISBLANK($F902),NOT($S902)),\"\",\"Dupe!\")","v":""},"","","","",{"$error":"#VALUE!"},0,"","",":0:0",{"$f":"IF(ISNA(VLOOKUP(R902,R$4:R901,1,FALSE)),FALSE,IF(O902>0,TRUE,FALSE))","v":false},{"$f":"IF(AND(C902<>\"\",$E902<>\"*ON*\",$E902<>\"*OFF*\",ISNA((VLOOKUP(C902&\"@\"&E902,Q$4:Q901,1,FALSE)))),1,0)","v":0},{"$f":"SUM(O$4:O902)+(100*SUM(T$4:T902))","v":0},{"$f":"IF(NOT(ISBLANK(B902)),(A902+P902)+(Settings!$B$5/24),\"\")","v":""},0,0,0,null,0,0,0,0,0,0,0,0]
[null,null,null,{"$f":"D902","v":0},{"$f":"E902","v":"*EOL*"},{"$f":"F902","v":0},null,0,"","","","","",{"$error":"#VALUE!"},0,"","",":0:0",{"$f":"IF(ISNA(VLOOKUP(R903,R$4:R902,1,FALSE)),FALSE,IF(O903>0,TRUE,FALSE))","v":false},{"$f":"IF(AND(C903<>\"\",$E903<>\"*ON*\",$E903<>\"*OFF*\",ISNA((VLOOKUP(C903&\"@\"&E903,Q$4:Q902,1,FALSE)))),1,0)","v":0},{"$f":"SUM(O$4:O903)+(100*SUM(T$4:T903))","v":0},{"$f":"IF(NOT(ISBLANK(B903)),(A903+P903)+(Settings!$B$5/24),\"\")","v":""},0,0,0,null,0,0,0,0,0,0,0,0]
[null,null,null,0,"*EOL*",0,null,0,"","","","","",{"$error":"#VALUE!"},0,"","",":0:0",{"$f":"IF(ISNA(VLOOKUP(R904,R$4:R903,1,FALSE)),FALSE,IF(O904>0,TRUE,FALSE))","v":false},{"$f":"IF(AND(C904<>\"\",$E904<>\"*ON*\",$E904<>\"*OFF*\",ISNA((VLOOKUP(C904&\"@\"&E904,Q$4:Q903,1,FALSE)))),1,0)","v":0},{"$f":"SUM(O$4:O904)+(100*SUM(T$4:T904))","v":0},{"$f":"IF(NOT(ISBLANK(B904)),(A904+P904)+(Settings!$B$5/24),\"\")","v":""},0,0,0,null,{"$f":"IF($E904=AA$3,$H904,0)","v":0},0,0,0,0,0,0,0]
[null,null,null,0,"*EOL*",0,null,0,"","","","","",{"$error":"#VALUE!"},0,"","",":0:0",{"$f":"IF(ISNA(VLOOKUP(R905,R$4:R904,1,FALSE)),FALSE,IF(O905>0,TRUE,FALSE))","v":false},{"$f":"IF(AND(C905<>\"\",$E905<>\"*ON*\",$E905<>\"*OFF*\",ISNA((VLOOKUP(C905&\"@\"&E905,Q$4:Q904,1,FALSE)))),1,0)","v":0},{"$f":"SUM(O$4:O905)+(100*SUM(T$4:T905))","v":0},{"$f":"IF(NOT(ISBLANK(B905)),(A905+P905)+(Settings!$B$5/24),\"\")","v":""},0,0,0,null,0,0,0,0,0,0,0,0]
[null,null,null,0,"*EOL*",0,null,0,"","","","","",{"$error":"#VALUE!"},0,"","",":0:0",{"$f":"IF(ISNA(VLOOKUP(R906,R$4:R905,1,FALSE)),FALSE,IF(O906>0,TRUE,FALSE))","v":false},{"$f":"IF(AND(C906<>\"\",$E906<>\"*ON*\",$E906<>\"*OFF*\",ISNA((VLOOKUP(C906&\"@\"&E906,Q$4:Q905,1,FALSE)))),1,0)","v":0},{"$f":"SUM(O$4:O906)+(100*SUM(T$4:T906))","v":0},{"$f":"IF(NOT(ISBLANK(B906)),(A906+P906)+(Settings!$B$5/24),\"\")","v":""},0,0,0,null,0,0,0,0,0,0,0,0]
[null,null,null,0,"*EOL*",0,null,0,"","","","","",{"$error":"#VALUE!"},0,"","",":0:0",{"$f":"IF(ISNA(VLOOKUP(R907,R$4:R906,1,FALSE)),FALSE,IF(O907>0,TRUE,FALSE))","v":false},{"$f":"IF(AND(C907<>\"\",$E907<>\"*ON*\",$E907<>\"*OFF*\",ISNA((VLOOKUP(C907&\"@\"&E907,Q$4:Q906,1,FALSE)))),1,0)","v":0},{"$f":"SUM(O$4:O907)+(100*SUM(T$4:T907))","v":0},{"$f":"IF(NOT(ISBLANK(B907)),(A907+P907)+(Settings!$B$5/24),\"\")","v":""},0,0,0,null,0,0,0,0,0,0,0,0]
[null,null,null,0,"*EOL*",0,null,0,"","","","","",{"$error":"#VALUE!"},0,"","",":0:0",{"$f":"IF(ISNA(VLOOKUP(R908,R$4:R907,1,FALSE)),FALSE,IF(O908>0,TRUE,FALSE))","v":false},{"$f":"IF(AND(C908<>\"\",$E908<>\"*ON*\",$E908<>\"*OFF*\",ISNA((VLOOKUP(C908&\"@\"&E908,Q$4:Q907,1,FALSE)))),1,0)","v":0},{"$f":"SUM(O$4:O908)+(100*SUM(T$4:T908))","v":0},{"$f":"IF(NOT(ISBLANK(B908)),(A908+P908)+(Settings!$B$5/24),\"\")","v":""},0,0,0,null,0,0,0,0,0,0,0,0]
[null,null,null,0,"*EOL*",0,null,0,"","","","","",{"$error":"#VALUE!"},0,"","",":0:0",{"$f":"IF(ISNA(VLOOKUP(R909,R$4:R908,1,FALSE)),FALSE,IF(O909>0,TRUE,FALSE))","v":false},{"$f":"IF(AND(C909<>\"\",$E909<>\"*ON*\",$E909<>\"*OFF*\",ISNA((VLOOKUP(C909&\"@\"&E909,Q$4:Q908,1,FALSE)))),1,0)","v":0},{"$f":"SUM(O$4:O909)+(100*SUM(T$4:T909))","v":0},{"$f":"IF(NOT(ISBLANK(B909)),(A909+P909)+(Settings!$B$5/24),\"\")","v":""},0,0,0,null,0,0,0,0,0,0,0,0]
[null,null,null,0,"*EOL*",0,null,0,"","","","","",{"$error":"#VALUE!"},0,"","",":0:0",{"$f":"IF(ISNA(VLOOKUP(R910,R$4:R909,1,FALSE)),FALSE,IF(O910>0,TRUE,FALSE))","v":false},{"$f":"IF(AND(C910<>\"\",$E910<>\"*ON*\",$E910<>\"*OFF*\",ISNA((VLOOKUP(C910&\"@\"&E910,Q$4:Q909,1,FALSE)))),1,0)","v":0},{"$f":"SUM(O$4:O910)+(100*SUM(T$4:T910))","v":0},{"$f":"IF(NOT(ISBLANK(B910)),(A910+P910)+(Settings!$B$5/24),\"\")","v":""},0,0,0,null,0,0,0,0,0,0,0,0]
[null,null,null,0,"*EOL*",0,null,0,"","","","","",{"$error":"#VALUE!"},0,"","",":0:0",{"$f":"IF(ISNA(VLOOKUP(R911,R$4:R910,1,FALSE)),FALSE,IF(O911>0,TRUE,FALSE))","v":false},{"$f":"IF(AND(C911<>\"\",$E911<>\"*ON*\",$E911<>\"*OFF*\",ISNA((VLOOKUP(C911&\"@\"&E911,Q$4:Q910,1,FALSE)))),1,0)","v":0},{"$f":"SUM(O$4:O911)+(100*SUM(T$4:T911))","v":0},{"$f":"IF(NOT(ISBLANK(B911)),(A911+P911)+(Settings!$B$5/24),\"\")","v":""},0,0,{"$f":"IF($E911=\"*EOL*\",0,IF(X910,0,V911-V910)*24)","v":0},null,0,0,0,0,0,0,0,0]
[null,null,null,0,"*EOL*",0,null,0,"","","","","",{"$error":"#VALUE!"},0,"","",":0:0",{"$f":"IF(ISNA(VLOOKUP(R912,R$4:R911,1,FALSE)),FALSE,IF(O912>0,TRUE,FALSE))","v":false},{"$f":"IF(AND(C912<>\"\",$E912<>\"*ON*\",$E912<>\"*OFF*\",ISNA((VLOOKUP(C912&\"@\"&E912,Q$4:Q911,1,FALSE)))),1,0)","v":0},{"$f":"SUM(O$4:O912)+(100*SUM(T$4:T912))","v":0},{"$f":"IF(NOT(ISBLANK(B912)),(A912+P912)+(Settings!$B$5/24),\"\")","v":""},0,0,0,null,0,0,0,0,0,0,0,0]
[null,null,null,0,"*EOL*",0,null,0,"","","","","",{"$error":"#VALUE!"},0,"","",":0:0",{"$f":"IF(ISNA(VLOOKUP(R913,R$4:R912,1,FALSE)),FALSE,IF(O913>0,TRUE,FALSE))","v":false},{"$f":"IF(AND(C913<>\"\",$E913<>\"*ON*\",$E913<>\"*OFF*\",ISNA((VLOOKUP(C913&\"@\"&E913,Q$4:Q912,1,FALSE)))),1,0)","v":0},{"$f":"SUM(O$4:O913)+(100*SUM(T$4:T913))","v":0},{"$f":"IF(NOT(ISBLANK(B913)),(A913+P913)+(Settings!$B$5/24),\"\")","v":""},0,0,0,null,0,0,0,0,0,0,0,0]
[null,null,null,0,"*EOL*",0,null,0,"","","","","",{"$error":"#VALUE!"},0,"","",":0:0",{"$f":"IF(ISNA(VLOOKUP(R914,R$4:R913,1,FALSE)),FALSE,IF(O914>0,TRUE,FALSE))","v":false},{"$f":"IF(AND(C914<>\"\",$E914<>\"*ON*\",$E914<>\"*OFF*\",ISNA((VLOOKUP(C914&\"@\"&E914,Q$4:Q913,1,FALSE)))),1,0)","v":0},{"$f":"SUM(O$4:O914)+(100*SUM(T$4:T914))","v":0},{"$f":"IF(NOT(ISBLANK(B914)),(A914+P914)+(Settings!$B$5/24),\"\")","v":""},0,0,0,null,{"$f":"IF($E914=AA$3,$H914,0)","v":0},0,0,0,0,0,0,0]
[null,null,null,0,"*EOL*",0,null,0,"","","","","",{"$error":"#VALUE!"},0,"","",":0:0",{"$f":"IF(ISNA(VLOOKUP(R915,R$4:R914,1,FALSE)),FALSE,IF(O915>0,TRUE,FALSE))","v":false},{"$f":"IF(AND(C915<>\"\",$E915<>\"*ON*\",$E915<>\"*OFF*\",ISNA((VLOOKUP(C915&\"@\"&E915,Q$4:Q914,1,FALSE)))),1,0)","v":0},{"$f":"SUM(O$4:O915)+(100*SUM(T$4:T915))","v":0},{"$f":"IF(NOT(ISBLANK(B915)),(A915+P915)+(Settings!$B$5/24),\"\")","v":""},0,0,0,null,0,0,0,0,0,0,0,0]
[null,null,null,0,"*EOL*",0,null,0,"","","","","",{"$error":"#VALUE!"},0,"","",":0:0",{"$f":"IF(ISNA(VLOOKUP(R916,R$4:R915,1,FALSE)),FALSE,IF(O916>0,TRUE,FALSE))","v":false},{"$f":"IF(AND(C916<>\"\",$E916<>\"*ON*\",$E916<>\"*OFF*\",ISNA((VLOOKUP(C916&\"@\"&E916,Q$4:Q915,1,FALSE)))),1,0)","v":0},{"$f":"SUM(O$4:O916)+(100*SUM(T$4:T916))","v":0},{"$f":"IF(NOT(ISBLANK(B916)),(A916+P916)+(Settings!$B$5/24),\"\")","v":""},0,0,0,null,0,0,0,0,0,0,0,0]
[null,null,null,0,"*EOL*",0,null,0,"","","","","",{"$error":"#VALUE!"},0,"","",":0:0",{"$f":"IF(ISNA(VLOOKUP(R917,R$4:R916,1,FALSE)),FALSE,IF(O917>0,TRUE,FALSE))","v":false},{"$f":"IF(AND(C917<>\"\",$E917<>\"*ON*\",$E917<>\"*OFF*\",ISNA((VLOOKUP(C917&\"@\"&E917,Q$4:Q916,1,FALSE)))),1,0)","v":0},{"$f":"SUM(O$4:O917)+(100*SUM(T$4:T917))","v":0},{"$f":"IF(NOT(ISBLANK(B917)),(A917+P917)+(Settings!$B$5/24),\"\")","v":""},0,0,0,null,0,0,0,0,0,0,0,0]
[null,null,null,0,"*EOL*",0,null,0,"","","","","",{"$error":"#VALUE!"},0,"","",":0:0",{"$f":"IF(ISNA(VLOOKUP(R918,R$4:R917,1,FALSE)),FALSE,IF(O918>0,TRUE,FALSE))","v":false},{"$f":"IF(AND(C918<>\"\",$E918<>\"*ON*\",$E918<>\"*OFF*\",ISNA((VLOOKUP(C918&\"@\"&E918,Q$4:Q917,1,FALSE)))),1,0)","v":0},{"$f":"SUM(O$4:O918)+(100*SUM(T$4:T918))","v":0},{"$f":"IF(NOT(ISBLANK(B918)),(A918+P918)+(Settings!$B$5/24),\"\")","v":""},0,0,0,null,0,0,0,0,0,0,0,0]
[null,null,null,0,"*EOL*",0,null,0,"","","","","",{"$error":"#VALUE!"},0,"","",":0:0",{"$f":"IF(ISNA(VLOOKUP(R919,R$4:R918,1,FALSE)),FALSE,IF(O919>0,TRUE,FALSE))","v":false},{"$f":"IF(AND(C919<>\"\",$E919<>\"*ON*\",$E919<>\"*OFF*\",ISNA((VLOOKUP(C919&\"@\"&E919,Q$4:Q918,1,FALSE)))),1,0)","v":0},{"$f":"SUM(O$4:O919)+(100*SUM(T$4:T919))","v":0},{"$f":"IF(NOT(ISBLANK(B919)),(A919+P919)+(Settings!$B$5/24),\"\")","v":""},0,0,0,null,0,0,0,0,0,0,0,0]
[null,null,null,0,"*EOL*",0,null,0,"","","","","",{"$error":"#VALUE!"},0,"","",":0:0",{"$f":"IF(ISNA(VLOOKUP(R920,R$4:R919,1,FALSE)),FALSE,IF(O920>0,TRUE,FALSE))","v":false},{"$f":"IF(AND(C920<>\"\",$E920<>\"*ON*\",$E920<>\"*OFF*\",ISNA((VLOOKUP(C920&\"@\"&E920,Q$4:Q919,1,FALSE)))),1,0)","v":0},{"$f":"SUM(O$4:O920)+(100*SUM(T$4:T920))","v":0},{"$f":"IF(NOT(ISBLANK(B920)),(A920+P920)+(Settings!$B$5/24),\"\")","v":""},0,0,0,null,0,0,0,0,0,0,0,0]
[null,null,null,0,"*EOL*",0,null,0,"","","","","",{"$error":"#VALUE!"},0,"","",":0:0",{"$f":"IF(ISNA(VLOOKUP(R921,R$4:R920,1,FALSE)),FALSE,IF(O921>0,TRUE,FALSE))","v":false},{"$f":"IF(AND(C921<>\"\",$E921<>\"*ON*\",$E921<>\"*OFF*\",ISNA((VLOOKUP(C921&\"@\"&E921,Q$4:Q920,1,FALSE)))),1,0)","v":0},{"$f":"SUM(O$4:O921)+(100*SUM(T$4:T921))","v":0},{"$f":"IF(NOT(ISBLANK(B921)),(A921+P921)+(Settings!$B$5/24),\"\")","v":""},0,0,0,null,0,0,0,0,0,0,0,0]
[null,null,null,0,"*EOL*",0,null,0,"","","","","",{"$error":"#VALUE!"},0,"","",":0:0",{"$f":"IF(ISNA(VLOOKUP(R922,R$4:R921,1,FALSE)),FALSE,IF(O922>0,TRUE,FALSE))","v":false},{"$f":"IF(AND(C922<>\"\",$E922<>\"*ON*\",$E922<>\"*OFF*\",ISNA((VLOOKUP(C922&\"@\"&E922,Q$4:Q921,1,FALSE)))),1,0)","v":0},{"$f":"SUM(O$4:O922)+(100*SUM(T$4:T922))","v":0},{"$f":"IF(NOT(ISBLANK(B922)),(A922+P922)+(Settings!$B$5/24),\"\")","v":""},0,0,0,null,0,0,0,0,0,0,0,0]
[null,null,null,0,"*EOL*",0,null,0,"","","","","",{"$error":"#VALUE!"},0,"","",":0:0",{"$f":"IF(ISNA(VLOOKUP(R923,R$4:R922,1,FALSE)),FALSE,IF(O923>0,TRUE,FALSE))","v":false},{"$f":"IF(AND(C923<>\"\",$E923<>\"*ON*\",$E923<>\"*OFF*\",ISNA((VLOOKUP(C923&\"@\"&E923,Q$4:Q922,1,FALSE)))),1,0)","v":0},{"$f":"SUM(O$4:O923)+(100*SUM(T$4:T923))","v":0},{"$f":"IF(NOT(ISBLANK(B923)),(A923+P923)+(Settings!$B$5/24),\"\")","v":""},0,0,0,null,0,0,0,0,0,0,0,0]
[null,null,null,0,"*EOL*",0,null,0,"","","","","",{"$error":"#VALUE!"},0,"","",":0:0",{"$f":"IF(ISNA(VLOOKUP(R924,R$4:R923,1,FALSE)),FALSE,IF(O924>0,TRUE,FALSE))","v":false},{"$f":"IF(AND(C924<>\"\",$E924<>\"*ON*\",$E924<>\"*OFF*\",ISNA((VLOOKUP(C924&\"@\"&E924,Q$4:Q923,1,FALSE)))),1,0)","v":0},{"$f":"SUM(O$4:O924)+(100*SUM(T$4:T924))","v":0},{"$f":"IF(NOT(ISBLANK(B924)),(A924+P924)+(Settings!$B$5/24),\"\")","v":""},0,0,0,null,{"$f":"IF($E924=AA$3,$H924,0)","v":0},0,0,0,0,0,0,0]
[null,null,null,0,"*EOL*",0,null,0,"","","","","",{"$error":"#VALUE!"},0,"","",":0:0",{"$f":"IF(ISNA(VLOOKUP(R925,R$4:R924,1,FALSE)),FALSE,IF(O925>0,TRUE,FALSE))","v":false},{"$f":"IF(AND(C925<>\"\",$E925<>\"*ON*\",$E925<>\"*OFF*\",ISNA((VLOOKUP(C925&\"@\"&E925,Q$4:Q924,1,FALSE)))),1,0)","v":0},{"$f":"SUM(O$4:O925)+(100*SUM(T$4:T925))","v":0},{"$f":"IF(NOT(ISBLANK(B925)),(A925+P925)+(Settings!$B$5/24),\"\")","v":""},0,0,0,null,0,0,0,0,0,0,0,0]
[null,null,null,0,"*EOL*",0,null,0,"","","","","",{"$error":"#VALUE!"},0,"","",":0:0",{"$f":"IF(ISNA(VLOOKUP(R926,R$4:R925,1,FALSE)),FALSE,IF(O926>0,TRUE,FALSE))","v":false},{"$f":"IF(AND(C926<>\"\",$E926<>\"*ON*\",$E926<>\"*OFF*\",ISNA((VLOOKUP(C926&\"@\"&E926,Q$4:Q925,1,FALSE)))),1,0)","v":0},{"$f":"SUM(O$4:O926)+(100*SUM(T$4:T926))","v":0},{"$f":"IF(NOT(ISBLANK(B926)),(A926+P926)+(Settings!$B$5/24),\"\")","v":""},0,0,0,null,0,0,0,0,0,0,0,0]
[null,null,null,0,"*EOL*",0,null,0,"","","","","",{"$error":"#VALUE!"},0,"","",":0:0",{"$f":"IF(ISNA(VLOOKUP(R927,R$4:R926,1,FALSE)),FALSE,IF(O927>0,TRUE,FALSE))","v":false},{"$f":"IF(AND(C927<>\"\",$E927<>\"*ON*\",$E927<>\"*OFF*\",ISNA((VLOOKUP(C927&\"@\"&E927,Q$4:Q926,1,FALSE)))),1,0)","v":0},{"$f":"SUM(O$4:O927)+(100*SUM(T$4:T927))","v":0},{"$f":"IF(NOT(ISBLANK(B927)),(A927+P927)+(Settings!$B$5/24),\"\")","v":""},0,0,0,null,0,0,0,0,0,0,0,0]
[null,null,null,0,"*EOL*",0,null,0,"","","","","",{"$error":"#VALUE!"},0,"","",":0:0",{"$f":"IF(ISNA(VLOOKUP(R928,R$4:R927,1,FALSE)),FALSE,IF(O928>0,TRUE,FALSE))","v":false},{"$f":"IF(AND(C928<>\"\",$E928<>\"*ON*\",$E928<>\"*OFF*\",ISNA((VLOOKUP(C928&\"@\"&E928,Q$4:Q927,1,FALSE)))),1,0)","v":0},{"$f":"SUM(O$4:O928)+(100*SUM(T$4:T928))","v":0},{"$f":"IF(NOT(ISBLANK(B928)),(A928+P928)+(Settings!$B$5/24),\"\")","v":""},0,0,0,null,0,0,0,0,0,0,0,0]
[null,null,null,0,"*EOL*",0,null,0,"","","","","",{"$error":"#VALUE!"},0,"","",":0:0",{"$f":"IF(ISNA(VLOOKUP(R929,R$4:R928,1,FALSE)),FALSE,IF(O929>0,TRUE,FALSE))","v":false},{"$f":"IF(AND(C929<>\"\",$E929<>\"*ON*\",$E929<>\"*OFF*\",ISNA((VLOOKUP(C929&\"@\"&E929,Q$4:Q928,1,FALSE)))),1,0)","v":0},{"$f":"SUM(O$4:O929)+(100*SUM(T$4:T929))","v":0},{"$f":"IF(NOT(ISBLANK(B929)),(A929+P929)+(Settings!$B$5/24),\"\")","v":""},0,0,0,null,0,0,0,0,0,0,0,0]
[null,null,null,0,"*EOL*",0,null,0,"","","","","",{"$error":"#VALUE!"},0,"","",":0:0",{"$f":"IF(ISNA(VLOOKUP(R930,R$4:R929,1,FALSE)),FALSE,IF(O930>0,TRUE,FALSE))","v":false},{"$f":"IF(AND(C930<>\"\",$E930<>\"*ON*\",$E930<>\"*OFF*\",ISNA((VLOOKUP(C930&\"@\"&E930,Q$4:Q929,1,FALSE)))),1,0)","v":0},{"$f":"SUM(O$4:O930)+(100*SUM(T$4:T930))","v":0},{"$f":"IF(NOT(ISBLANK(B930)),(A930+P930)+(Settings!$B$5/24),\"\")","v":""},0,0,0,null,0,0,0,0,0,0,0,0]
[null,null,null,0,"*EOL*",0,null,0,"","","","","",{"$error":"#VALUE!"},0,"","",":0:0",{"$f":"IF(ISNA(VLOOKUP(R931,R$4:R930,1,FALSE)),FALSE,IF(O931>0,TRUE,FALSE))","v":false},{"$f":"IF(AND(C931<>\"\",$E931<>\"*ON*\",$E931<>\"*OFF*\",ISNA((VLOOKUP(C931&\"@\"&E931,Q$4:Q930,1,FALSE)))),1,0)","v":0},{"$f":"SUM(O$4:O931)+(100*SUM(T$4:T931))","v":0},{"$f":"IF(NOT(ISBLANK(B931)),(A931+P931)+(Settings!$B$5/24),\"\")","v":""},0,0,0,null,0,0,0,0,0,0,0,0]
[null,null,null,0,"*EOL*",0,null,0,"","","","","",{"$error":"#VALUE!"},0,"","",":0:0",{"$f":"IF(ISNA(VLOOKUP(R932,R$4:R931,1,FALSE)),FALSE,IF(O932>0,TRUE,FALSE))","v":false},{"$f":"IF(AND(C932<>\"\",$E932<>\"*ON*\",$E932<>\"*OFF*\",ISNA((VLOOKUP(C932&\"@\"&E932,Q$4:Q931,1,FALSE)))),1,0)","v":0},{"$f":"SUM(O$4:O932)+(100*SUM(T$4:T932))","v":0},{"$f":"IF(NOT(ISBLANK(B932)),(A932+P932)+(Settings!$B$5/24),\"\")","v":""},0,0,0,null,0,0,0,0,0,0,0,0]
[null,null,null,0,"*EOL*",0,null,0,"","","","","",{"$error":"#VALUE!"},0,"","",":0:0",{"$f":"IF(ISNA(VLOOKUP(R933,R$4:R932,1,FALSE)),FALSE,IF(O933>0,TRUE,FALSE))","v":false},{"$f":"IF(AND(C933<>\"\",$E933<>\"*ON*\",$E933<>\"*OFF*\",ISNA((VLOOKUP(C933&\"@\"&E933,Q$4:Q932,1,FALSE)))),1,0)","v":0},{"$f":"SUM(O$4:O933)+(100*SUM(T$4:T933))","v":0},{"$f":"IF(NOT(ISBLANK(B933)),(A933+P933)+(Settings!$B$5/24),\"\")","v":""},0,0,0,null,0,0,0,0,0,0,0,0]
[null,null,null,0,"*EOL*",0,null,0,"","","","","",{"$error":"#VALUE!"},0,"","",":0:0",{"$f":"IF(ISNA(VLOOKUP(R934,R$4:R933,1,FALSE)),FALSE,IF(O934>0,TRUE,FALSE))","v":false},{"$f":"IF(AND(C934<>\"\",$E934<>\"*ON*\",$E934<>\"*OFF*\",ISNA((VLOOKUP(C934&\"@\"&E934,Q$4:Q933,1,FALSE)))),1,0)","v":0},{"$f":"SUM(O$4:O934)+(100*SUM(T$4:T934))","v":0},{"$f":"IF(NOT(ISBLANK(B934)),(A934+P934)+(Settings!$B$5/24),\"\")","v":""},0,0,0,null,{"$f":"IF($E934=AA$3,$H934,0)","v":0},0,0,0,0,0,0,0]
[null,null,null,0,"*EOL*",0,null,0,"","","","","",{"$error":"#VALUE!"},0,"","",":0:0",{"$f":"IF(ISNA(VLOOKUP(R935,R$4:R934,1,FALSE)),FALSE,IF(O935>0,TRUE,FALSE))","v":false},{"$f":"IF(AND(C935<>\"\",$E935<>\"*ON*\",$E935<>\"*OFF*\",ISNA((VLOOKUP(C935&\"@\"&E935,Q$4:Q934,1,FALSE)))),1,0)","v":0},{"$f":"SUM(O$4:O935)+(100*SUM(T$4:T935))","v":0},{"$f":"IF(NOT(ISBLANK(B935)),(A935+P935)+(Settings!$B$5/24),\"\")","v":""},0,0,0,null,0,0,0,0,0,0,0,0]
[null,null,null,0,"*EOL*",0,null,0,"","","","","",{"$error":"#VALUE!"},0,"","",":0:0",{"$f":"IF(ISNA(VLOOKUP(R936,R$4:R935,1,FALSE)),FALSE,IF(O936>0,TRUE,FALSE))","v":false},{"$f":"IF(AND(C936<>\"\",$E936<>\"*ON*\",$E936<>\"*OFF*\",ISNA((VLOOKUP(C936&\"@\"&E936,Q$4:Q935,1,FALSE)))),1,0)","v":0},{"$f":"SUM(O$4:O936)+(100*SUM(T$4:T936))","v":0},{"$f":"IF(NOT(ISBLANK(B936)),(A936+P936)+(Settings!$B$5/24),\"\")","v":""},0,0,0,null,0,0,0,0,0,0,0,0]
[null,null,null,0,"*EOL*",0,null,0,"","","","","",{"$error":"#VALUE!"},0,"","",":0:0",{"$f":"IF(ISNA(VLOOKUP(R937,R$4:R936,1,FALSE)),FALSE,IF(O937>0,TRUE,FALSE))","v":false},{"$f":"IF(AND(C937<>\"\",$E937<>\"*ON*\",$E937<>\"*OFF*\",ISNA((VLOOKUP(C937&\"@\"&E937,Q$4:Q936,1,FALSE)))),1,0)","v":0},{"$f":"SUM(O$4:O937)+(100*SUM(T$4:T937))","v":0},{"$f":"IF(NOT(ISBLANK(B937)),(A937+P937)+(Settings!$B$5/24),\"\")","v":""},0,0,0,null,0,0,0,0,0,0,0,0]
[null,null,null,0,"*EOL*",0,null,0,"","","","","",{"$error":"#VALUE!"},0,"","",":0:0",{"$f":"IF(ISNA(VLOOKUP(R938,R$4:R937,1,FALSE)),FALSE,IF(O938>0,TRUE,FALSE))","v":false},{"$f":"IF(AND(C938<>\"\",$E938<>\"*ON*\",$E938<>\"*OFF*\",ISNA((VLOOKUP(C938&\"@\"&E938,Q$4:Q937,1,FALSE)))),1,0)","v":0},{"$f":"SUM(O$4:O938)+(100*SUM(T$4:T938))","v":0},{"$f":"IF(NOT(ISBLANK(B938)),(A938+P938)+(Settings!$B$5/24),\"\")","v":""},0,0,0,null,0,0,0,0,0,0,0,0]
[null,null,null,0,"*EOL*",0,null,0,"","","","","",{"$error":"#VALUE!"},0,"","",":0:0",{"$f":"IF(ISNA(VLOOKUP(R939,R$4:R938,1,FALSE)),FALSE,IF(O939>0,TRUE,FALSE))","v":false},{"$f":"IF(AND(C939<>\"\",$E939<>\"*ON*\",$E939<>\"*OFF*\",ISNA((VLOOKUP(C939&\"@\"&E939,Q$4:Q938,1,FALSE)))),1,0)","v":0},{"$f":"SUM(O$4:O939)+(100*SUM(T$4:T939))","v":0},{"$f":"IF(NOT(ISBLANK(B939)),(A939+P939)+(Settings!$B$5/24),\"\")","v":""},0,0,0,null,0,0,0,0,0,0,0,0]
[null,null,null,0,"*EOL*",0,null,0,"","","","","",{"$error":"#VALUE!"},0,"","",":0:0",{"$f":"IF(ISNA(VLOOKUP(R940,R$4:R939,1,FALSE)),FALSE,IF(O940>0,TRUE,FALSE))","v":false},{"$f":"IF(AND(C940<>\"\",$E940<>\"*ON*\",$E940<>\"*OFF*\",ISNA((VLOOKUP(C940&\"@\"&E940,Q$4:Q939,1,FALSE)))),1,0)","v":0},{"$f":"SUM(O$4:O940)+(100*SUM(T$4:T940))","v":0},{"$f":"IF(NOT(ISBLANK(B940)),(A940+P940)+(Settings!$B$5/24),\"\")","v":""},0,0,0,null,0,0,0,0,0,0,0,0]
[null,null,null,0,"*EOL*",0,null,0,"","","","","",{"$error":"#VALUE!"},0,"","",":0:0",{"$f":"IF(ISNA(VLOOKUP(R941,R$4:R940,1,FALSE)),FALSE,IF(O941>0,TRUE,FALSE))","v":false},{"$f":"IF(AND(C941<>\"\",$E941<>\"*ON*\",$E941<>\"*OFF*\",ISNA((VLOOKUP(C941&\"@\"&E941,Q$4:Q940,1,FALSE)))),1,0)","v":0},{"$f":"SUM(O$4:O941)+(100*SUM(T$4:T941))","v":0},{"$f":"IF(NOT(ISBLANK(B941)),(A941+P941)+(Settings!$B$5/24),\"\")","v":""},0,0,0,null,0,0,0,0,0,0,0,0]
[null,null,null,0,"*EOL*",0,null,0,"","","","","",{"$error":"#VALUE!"},0,"","",":0:0",{"$f":"IF(ISNA(VLOOKUP(R942,R$4:R941,1,FALSE)),FALSE,IF(O942>0,TRUE,FALSE))","v":false},{"$f":"IF(AND(C942<>\"\",$E942<>\"*ON*\",$E942<>\"*OFF*\",ISNA((VLOOKUP(C942&\"@\"&E942,Q$4:Q941,1,FALSE)))),1,0)","v":0},{"$f":"SUM(O$4:O942)+(100*SUM(T$4:T942))","v":0},{"$f":"IF(NOT(ISBLANK(B942)),(A942+P942)+(Settings!$B$5/24),\"\")","v":""},0,0,0,null,0,0,0,0,0,0,0,0]
[null,null,null,0,"*EOL*",0,null,0,"","","","","",{"$error":"#VALUE!"},0,"","",":0:0",{"$f":"IF(ISNA(VLOOKUP(R943,R$4:R942,1,FALSE)),FALSE,IF(O943>0,TRUE,FALSE))","v":false},{"$f":"IF(AND(C943<>\"\",$E943<>\"*ON*\",$E943<>\"*OFF*\",ISNA((VLOOKUP(C943&\"@\"&E943,Q$4:Q942,1,FALSE)))),1,0)","v":0},{"$f":"SUM(O$4:O943)+(100*SUM(T$4:T943))","v":0},{"$f":"IF(NOT(ISBLANK(B943)),(A943+P943)+(Settings!$B$5/24),\"\")","v":""},0,0,0,null,0,0,0,0,0,0,0,0]
[null,null,null,0,"*EOL*",0,null,0,"","","","","",{"$error":"#VALUE!"},0,"","",":0:0",{"$f":"IF(ISNA(VLOOKUP(R944,R$4:R943,1,FALSE)),FALSE,IF(O944>0,TRUE,FALSE))","v":false},{"$f":"IF(AND(C944<>\"\",$E944<>\"*ON*\",$E944<>\"*OFF*\",ISNA((VLOOKUP(C944&\"@\"&E944,Q$4:Q943,1,FALSE)))),1,0)","v":0},{"$f":"SUM(O$4:O944)+(100*SUM(T$4:T944))","v":0},{"$f":"IF(NOT(ISBLANK(B944)),(A944+P944)+(Settings!$B$5/24),\"\")","v":""},0,0,0,null,{"$f":"IF($E944=AA$3,$H944,0)","v":0},0,0,0,0,0,0,0]
[null,null,null,0,"*EOL*",0,null,0,"","","","","",{"$error":"#VALUE!"},0,"","",":0:0",{"$f":"IF(ISNA(VLOOKUP(R945,R$4:R944,1,FALSE)),FALSE,IF(O945>0,TRUE,FALSE))","v":false},{"$f":"IF(AND(C945<>\"\",$E945<>\"*ON*\",$E945<>\"*OFF*\",ISNA((VLOOKUP(C945&\"@\"&E945,Q$4:Q944,1,FALSE)))),1,0)","v":0},{"$f":"SUM(O$4:O945)+(100*SUM(T$4:T945))","v":0},{"$f":"IF(NOT(ISBLANK(B945)),(A945+P945)+(Settings!$B$5/24),\"\")","v":""},0,0,0,null,0,0,0,0,0,0,0,0]
[null,null,null,0,"*EOL*",0,null,0,"","","","","",{"$error":"#VALUE!"},0,"","",":0:0",{"$f":"IF(ISNA(VLOOKUP(R946,R$4:R945,1,FALSE)),FALSE,IF(O946>0,TRUE,FALSE))","v":false},{"$f":"IF(AND(C946<>\"\",$E946<>\"*ON*\",$E946<>\"*OFF*\",ISNA((VLOOKUP(C946&\"@\"&E946,Q$4:Q945,1,FALSE)))),1,0)","v":0},{"$f":"SUM(O$4:O946)+(100*SUM(T$4:T946))","v":0},{"$f":"IF(NOT(ISBLANK(B946)),(A946+P946)+(Settings!$B$5/24),\"\")","v":""},0,0,0,null,0,0,0,0,0,0,0,0]
[null,null,null,0,"*EOL*",0,null,0,"","","","","",{"$error":"#VALUE!"},0,"","",":0:0",{"$f":"IF(ISNA(VLOOKUP(R947,R$4:R946,1,FALSE)),FALSE,IF(O947>0,TRUE,FALSE))","v":false},{"$f":"IF(AND(C947<>\"\",$E947<>\"*ON*\",$E947<>\"*OFF*\",ISNA((VLOOKUP(C947&\"@\"&E947,Q$4:Q946,1,FALSE)))),1,0)","v":0},{"$f":"SUM(O$4:O947)+(100*SUM(T$4:T947))","v":0},{"$f":"IF(NOT(ISBLANK(B947)),(A947+P947)+(Settings!$B$5/24),\"\")","v":""},0,0,0,null,0,0,0,0,0,0,0,0]
[null,null,null,0,"*EOL*",0,null,0,"","","","","",{"$error":"#VALUE!"},0,"","",":0:0",{"$f":"IF(ISNA(VLOOKUP(R948,R$4:R947,1,FALSE)),FALSE,IF(O948>0,TRUE,FALSE))","v":false},{"$f":"IF(AND(C948<>\"\",$E948<>\"*ON*\",$E948<>\"*OFF*\",ISNA((VLOOKUP(C948&\"@\"&E948,Q$4:Q947,1,FALSE)))),1,0)","v":0},{"$f":"SUM(O$4:O948)+(100*SUM(T$4:T948))","v":0},{"$f":"IF(NOT(ISBLANK(B948)),(A948+P948)+(Settings!$B$5/24),\"\")","v":""},0,0,0,null,0,0,0,0,0,0,0,0]
[null,null,null,0,"*EOL*",0,null,0,"","","","","",{"$error":"#VALUE!"},0,"","",":0:0",{"$f":"IF(ISNA(VLOOKUP(R949,R$4:R948,1,FALSE)),FALSE,IF(O949>0,TRUE,FALSE))","v":false},{"$f":"IF(AND(C949<>\"\",$E949<>\"*ON*\",$E949<>\"*OFF*\",ISNA((VLOOKUP(C949&\"@\"&E949,Q$4:Q948,1,FALSE)))),1,0)","v":0},{"$f":"SUM(O$4:O949)+(100*SUM(T$4:T949))","v":0},{"$f":"IF(NOT(ISBLANK(B949)),(A949+P949)+(Settings!$B$5/24),\"\")","v":""},0,0,0,null,0,0,0,0,0,0,0,0]
[null,null,null,0,"*EOL*",0,null,0,"","","","","",{"$error":"#VALUE!"},0,"","",":0:0",{"$f":"IF(ISNA(VLOOKUP(R950,R$4:R949,1,FALSE)),FALSE,IF(O950>0,TRUE,FALSE))","v":false},{"$f":"IF(AND(C950<>\"\",$E950<>\"*ON*\",$E950<>\"*OFF*\",ISNA((VLOOKUP(C950&\"@\"&E950,Q$4:Q949,1,FALSE)))),1,0)","v":0},{"$f":"SUM(O$4:O950)+(100*SUM(T$4:T950))","v":0},{"$f":"IF(NOT(ISBLANK(B950)),(A950+P950)+(Settings!$B$5/24),\"\")","v":""},0,0,0,null,0,0,0,0,0,0,0,0]
[null,null,null,0,"*EOL*",0,null,0,"","","","","",{"$error":"#VALUE!"},0,"","",":0:0",{"$f":"IF(ISNA(VLOOKUP(R951,R$4:R950,1,FALSE)),FALSE,IF(O951>0,TRUE,FALSE))","v":false},{"$f":"IF(AND(C951<>\"\",$E951<>\"*ON*\",$E951<>\"*OFF*\",ISNA((VLOOKUP(C951&\"@\"&E951,Q$4:Q950,1,FALSE)))),1,0)","v":0},{"$f":"SUM(O$4:O951)+(100*SUM(T$4:T951))","v":0},{"$f":"IF(NOT(ISBLANK(B951)),(A951+P951)+(Settings!$B$5/24),\"\")","v":""},0,0,0,null,0,0,0,0,0,0,0,0]
[null,null,null,0,"*EOL*",0,null,0,"","","","","",{"$error":"#VALUE!"},0,"","",":0:0",{"$f":"IF(ISNA(VLOOKUP(R952,R$4:R951,1,FALSE)),FALSE,IF(O952>0,TRUE,FALSE))","v":false},{"$f":"IF(AND(C952<>\"\",$E952<>\"*ON*\",$E952<>\"*OFF*\",ISNA((VLOOKUP(C952&\"@\"&E952,Q$4:Q951,1,FALSE)))),1,0)","v":0},{"$f":"SUM(O$4:O952)+(100*SUM(T$4:T952))","v":0},{"$f":"IF(NOT(ISBLANK(B952)),(A952+P952)+(Settings!$B$5/24),\"\")","v":""},0,0,0,null,0,0,0,0,0,0,0,0]
[null,null,null,0,"*EOL*",0,null,0,"","","","","",{"$error":"#VALUE!"},0,"","",":0:0",{"$f":"IF(ISNA(VLOOKUP(R953,R$4:R952,1,FALSE)),FALSE,IF(O953>0,TRUE,FALSE))","v":false},{"$f":"IF(AND(C953<>\"\",$E953<>\"*ON*\",$E953<>\"*OFF*\",ISNA((VLOOKUP(C953&\"@\"&E953,Q$4:Q952,1,FALSE)))),1,0)","v":0},{"$f":"SUM(O$4:O953)+(100*SUM(T$4:T953))","v":0},{"$f":"IF(NOT(ISBLANK(B953)),(A953+P953)+(Settings!$B$5/24),\"\")","v":""},0,0,0,null,0,0,0,0,0,0,0,0]
[null,null,null,0,"*EOL*",0,null,0,"","","","","",{"$error":"#VALUE!"},0,"","",":0:0",{"$f":"IF(ISNA(VLOOKUP(R954,R$4:R953,1,FALSE)),FALSE,IF(O954>0,TRUE,FALSE))","v":false},{"$f":"IF(AND(C954<>\"\",$E954<>\"*ON*\",$E954<>\"*OFF*\",ISNA((VLOOKUP(C954&\"@\"&E954,Q$4:Q953,1,FALSE)))),1,0)","v":0},{"$f":"SUM(O$4:O954)+(100*SUM(T$4:T954))","v":0},{"$f":"IF(NOT(ISBLANK(B954)),(A954+P954)+(Settings!$B$5/24),\"\")","v":""},0,0,0,null,{"$f":"IF($E954=AA$3,$H954,0)","v":0},0,0,0,0,0,0,0]
[null,null,null,0,"*EOL*",0,null,0,"","","","","",{"$error":"#VALUE!"},0,"","",":0:0",{"$f":"IF(ISNA(VLOOKUP(R955,R$4:R954,1,FALSE)),FALSE,IF(O955>0,TRUE,FALSE))","v":false},{"$f":"IF(AND(C955<>\"\",$E955<>\"*ON*\",$E955<>\"*OFF*\",ISNA((VLOOKUP(C955&\"@\"&E955,Q$4:Q954,1,FALSE)))),1,0)","v":0},{"$f":"SUM(O$4:O955)+(100*SUM(T$4:T955))","v":0},{"$f":"IF(NOT(ISBLANK(B955)),(A955+P955)+(Settings!$B$5/24),\"\")","v":""},0,0,0,null,0,0,0,0,0,0,0,0]
[null,null,null,0,"*EOL*",0,null,0,"","","","","",{"$error":"#VALUE!"},0,"","",":0:0",{"$f":"IF(ISNA(VLOOKUP(R956,R$4:R955,1,FALSE)),FALSE,IF(O956>0,TRUE,FALSE))","v":false},{"$f":"IF(AND(C956<>\"\",$E956<>\"*ON*\",$E956<>\"*OFF*\",ISNA((VLOOKUP(C956&\"@\"&E956,Q$4:Q955,1,FALSE)))),1,0)","v":0},{"$f":"SUM(O$4:O956)+(100*SUM(T$4:T956))","v":0},{"$f":"IF(NOT(ISBLANK(B956)),(A956+P956)+(Settings!$B$5/24),\"\")","v":""},0,0,0,null,0,0,0,0,0,0,0,0]
[null,null,null,0,"*EOL*",0,null,0,"","","","","",{"$error":"#VALUE!"},0,"","",":0:0",{"$f":"IF(ISNA(VLOOKUP(R957,R$4:R956,1,FALSE)),FALSE,IF(O957>0,TRUE,FALSE))","v":false},{"$f":"IF(AND(C957<>\"\",$E957<>\"*ON*\",$E957<>\"*OFF*\",ISNA((VLOOKUP(C957&\"@\"&E957,Q$4:Q956,1,FALSE)))),1,0)","v":0},{"$f":"SUM(O$4:O957)+(100*SUM(T$4:T957))","v":0},{"$f":"IF(NOT(ISBLANK(B957)),(A957+P957)+(Settings!$B$5/24),\"\")","v":""},0,0,0,null,0,0,0,0,0,0,0,0]
[null,null,null,0,"*EOL*",0,null,0,"","","","","",{"$error":"#VALUE!"},0,"","",":0:0",{"$f":"IF(ISNA(VLOOKUP(R958,R$4:R957,1,FALSE)),FALSE,IF(O958>0,TRUE,FALSE))","v":false},{"$f":"IF(AND(C958<>\"\",$E958<>\"*ON*\",$E958<>\"*OFF*\",ISNA((VLOOKUP(C958&\"@\"&E958,Q$4:Q957,1,FALSE)))),1,0)","v":0},{"$f":"SUM(O$4:O958)+(100*SUM(T$4:T958))","v":0},{"$f":"IF(NOT(ISBLANK(B958)),(A958+P958)+(Settings!$B$5/24),\"\")","v":""},0,0,0,null,0,0,0,0,0,0,0,0]
[null,null,null,0,"*EOL*",0,null,0,"","","","","",{"$error":"#VALUE!"},0,"","",":0:0",{"$f":"IF(ISNA(VLOOKUP(R959,R$4:R958,1,FALSE)),FALSE,IF(O959>0,TRUE,FALSE))","v":false},{"$f":"IF(AND(C959<>\"\",$E959<>\"*ON*\",$E959<>\"*OFF*\",ISNA((VLOOKUP(C959&\"@\"&E959,Q$4:Q958,1,FALSE)))),1,0)","v":0},{"$f":"SUM(O$4:O959)+(100*SUM(T$4:T959))","v":0},{"$f":"IF(NOT(ISBLANK(B959)),(A959+P959)+(Settings!$B$5/24),\"\")","v":""},0,0,0,null,0,0,0,0,0,0,0,0]
[null,null,null,0,"*EOL*",0,null,0,"","","","","",{"$error":"#VALUE!"},0,"","",":0:0",{"$f":"IF(ISNA(VLOOKUP(R960,R$4:R959,1,FALSE)),FALSE,IF(O960>0,TRUE,FALSE))","v":false},{"$f":"IF(AND(C960<>\"\",$E960<>\"*ON*\",$E960<>\"*OFF*\",ISNA((VLOOKUP(C960&\"@\"&E960,Q$4:Q959,1,FALSE)))),1,0)","v":0},{"$f":"SUM(O$4:O960)+(100*SUM(T$4:T960))","v":0},{"$f":"IF(NOT(ISBLANK(B960)),(A960+P960)+(Settings!$B$5/24),\"\")","v":""},0,0,0,null,0,0,0,0,0,0,0,0]
[null,null,null,0,"*EOL*",0,null,0,"","","","","",{"$error":"#VALUE!"},0,"","",":0:0",{"$f":"IF(ISNA(VLOOKUP(R961,R$4:R960,1,FALSE)),FALSE,IF(O961>0,TRUE,FALSE))","v":false},{"$f":"IF(AND(C961<>\"\",$E961<>\"*ON*\",$E961<>\"*OFF*\",ISNA((VLOOKUP(C961&\"@\"&E961,Q$4:Q960,1,FALSE)))),1,0)","v":0},{"$f":"SUM(O$4:O961)+(100*SUM(T$4:T961))","v":0},{"$f":"IF(NOT(ISBLANK(B961)),(A961+P961)+(Settings!$B$5/24),\"\")","v":""},0,0,0,null,0,0,0,0,0,0,0,0]
[null,null,null,0,"*EOL*",0,null,0,"","","","","",{"$error":"#VALUE!"},0,"","",":0:0",{"$f":"IF(ISNA(VLOOKUP(R962,R$4:R961,1,FALSE)),FALSE,IF(O962>0,TRUE,FALSE))","v":false},{"$f":"IF(AND(C962<>\"\",$E962<>\"*ON*\",$E962<>\"*OFF*\",ISNA((VLOOKUP(C962&\"@\"&E962,Q$4:Q961,1,FALSE)))),1,0)","v":0},{"$f":"SUM(O$4:O962)+(100*SUM(T$4:T962))","v":0},{"$f":"IF(NOT(ISBLANK(B962)),(A962+P962)+(Settings!$B$5/24),\"\")","v":""},0,0,0,null,0,0,0,0,0,0,0,0]
[null,null,null,0,"*EOL*",0,null,0,"","","","","",{"$error":"#VALUE!"},0,"","",":0:0",{"$f":"IF(ISNA(VLOOKUP(R963,R$4:R962,1,FALSE)),FALSE,IF(O963>0,TRUE,FALSE))","v":false},{"$f":"IF(AND(C963<>\"\",$E963<>\"*ON*\",$E963<>\"*OFF*\",ISNA((VLOOKUP(C963&\"@\"&E963,Q$4:Q962,1,FALSE)))),1,0)","v":0},{"$f":"SUM(O$4:O963)+(100*SUM(T$4:T963))","v":0},{"$f":"IF(NOT(ISBLANK(B963)),(A963+P963)+(Settings!$B$5/24),\"\")","v":""},0,0,0,null,0,0,0,0,0,0,0,0]
[null,null,null,0,"*EOL*",0,null,0,"",{"$f":"MH2Lat(F964)","v":""},{"$f":"MH2Lon(F964)","v":""},{"$f":"MH2Lat(D964)","v":""},{"$f":"MH2Lon(D964)","v":""},{"$f":"Distance(J964,K964,L964,M964)","v":{"$error":"#VALUE!"}},0,{"$f":"IF(ISBLANK(B964),\"\",IF(LEN(B964)=1,TIMEVALUE(\"00:0\"&B964),IF(LEN(B964)=2,TIMEVALUE(\"00:\"&B964),IF(LEN(B964)=3,TIMEVALUE(\"0\"&LEFT(B964,1)&\":\"&RIGHT(B964,2)),TIMEVALUE(LEFT(B964,2)&\":\"&RIGHT(B964,2))))))","v":""},"",":0:0",{"$f":"IF(ISNA(VLOOKUP(R964,R$4:R963,1,FALSE)),FALSE,IF(O964>0,TRUE,FALSE))","v":false},{"$f":"IF(AND(C964<>\"\",$E964<>\"*ON*\",$E964<>\"*OFF*\",ISNA((VLOOKUP(C964&\"@\"&E964,Q$4:Q963,1,FALSE)))),1,0)","v":0},{"$f":"SUM(O$4:O964)+(100*SUM(T$4:T964))","v":0},{"$f":"IF(NOT(ISBLANK(B964)),(A964+P964)+(Settings!$B$5/24),\"\")","v":""},{"$f":"IF(E964=\"*ON*\",1,0)","v":0},{"$f":"IF(E964=\"*OFF*\",1,0)","v":0},0,null,{"$f":"IF($E964=AA$3,$H964,0)","v":0},0,0,0,0,0,0,0]
[null,null,null,0,"*EOL*",0,null,0,"","","","","",{"$error":"#VALUE!"},{"$f":"IF(NOT(ISERR(N965)),ROUND(N965,0),0)","v":0},"",{"$f":"IF(AND(NOT(ISBLANK(C965)),NOT(ISBLANK(E965))),C965&\"@\"&E965,\"\")","v":""},{"$f":"Q965&\":\"&F965&\":\"&D965","v":":0:0"},{"$f":"IF(ISNA(VLOOKUP(R965,R$4:R964,1,FALSE)),FALSE,IF(O965>0,TRUE,FALSE))","v":false},{"$f":"IF(AND(C965<>\"\",$E965<>\"*ON*\",$E965<>\"*OFF*\",ISNA((VLOOKUP(C965&\"@\"&E965,Q$4:Q964,1,FALSE)))),1,0)","v":0},{"$f":"SUM(O$4:O965)+(100*SUM(T$4:T965))","v":0},{"$f":"IF(NOT(ISBLANK(B965)),(A965+P965)+(Settings!$B$5/24),\"\")","v":""},0,0,0,null,0,0,0,0,0,0,0,0]
[null,null,null,0,"*EOL*",0,null,{"$f":"IF(OR($S966,ISERR($N966),ISBLANK($B966),ISBLANK($C966)),0,MAX(O966,1))","v":0},{"$f":"IF(OR(ISBLANK($B966),ISBLANK($C966),ISBLANK($D966),ISBLANK($F966),NOT($S966)),\"\",\"Dupe!\")","v":""},"","","","",{"$error":"#VALUE!"},0,"","",":0:0",{"$f":"IF(ISNA(VLOOKUP(R966,R$4:R965,1,FALSE)),FALSE,IF(O966>0,TRUE,FALSE))","v":false},{"$f":"IF(AND(C966<>\"\",$E966<>\"*ON*\",$E966<>\"*OFF*\",ISNA((VLOOKUP(C966&\"@\"&E966,Q$4:Q965,1,FALSE)))),1,0)","v":0},{"$f":"SUM(O$4:O966)+(100*SUM(T$4:T966))","v":0},{"$f":"IF(NOT(ISBLANK(B966)),(A966+P966)+(Settings!$B$5/24),\"\")","v":""},0,0,0,null,0,0,0,0,0,0,0,0]
[null,null,null,{"$f":"D966","v":0},{"$f":"E966","v":"*EOL*"},{"$f":"F966","v":0},null,0,"","","","","",{"$error":"#VALUE!"},0,"","",":0:0",{"$f":"IF(ISNA(VLOOKUP(R967,R$4:R966,1,FALSE)),FALSE,IF(O967>0,TRUE,FALSE))","v":false},{"$f":"IF(AND(C967<>\"\",$E967<>\"*ON*\",$E967<>\"*OFF*\",ISNA((VLOOKUP(C967&\"@\"&E967,Q$4:Q966,1,FALSE)))),1,0)","v":0},{"$f":"SUM(O$4:O967)+(100*SUM(T$4:T967))","v":0},{"$f":"IF(NOT(ISBLANK(B967)),(A967+P967)+(Settings!$B$5/24),\"\")","v":""},0,0,0,null,0,0,0,0,0,0,0,0]
[null,null,null,0,"*EOL*",0,null,0,"","","","","",{"$error":"#VALUE!"},0,"","",":0:0",{"$f":"IF(ISNA(VLOOKUP(R968,R$4:R967,1,FALSE)),FALSE,IF(O968>0,TRUE,FALSE))","v":false},{"$f":"IF(AND(C968<>\"\",$E968<>\"*ON*\",$E968<>\"*OFF*\",ISNA((VLOOKUP(C968&\"@\"&E968,Q$4:Q967,1,FALSE)))),1,0)","v":0},{"$f":"SUM(O$4:O968)+(100*SUM(T$4:T968))","v":0},{"$f":"IF(NOT(ISBLANK(B968)),(A968+P968)+(Settings!$B$5/24),\"\")","v":""},0,0,0,null,0,0,0,0,0,0,0,0]
[null,null,null,0,"*EOL*",0,null,0,"","","","","",{"$error":"#VALUE!"},0,"","",":0:0",{"$f":"IF(ISNA(VLOOKUP(R969,R$4:R968,1,FALSE)),FALSE,IF(O969>0,TRUE,FALSE))","v":false},{"$f":"IF(AND(C969<>\"\",$E969<>\"*ON*\",$E969<>\"*OFF*\",ISNA((VLOOKUP(C969&\"@\"&E969,Q$4:Q968,1,FALSE)))),1,0)","v":0},{"$f":"SUM(O$4:O969)+(100*SUM(T$4:T969))","v":0},{"$f":"IF(NOT(ISBLANK(B969)),(A969+P969)+(Settings!$B$5/24),\"\")","v":""},0,0,0,null,0,0,0,0,0,0,0,0]
[null,null,null,0,"*EOL*",0,null,0,"","","","","",{"$error":"#VALUE!"},0,"","",":0:0",{"$f":"IF(ISNA(VLOOKUP(R970,R$4:R969,1,FALSE)),FALSE,IF(O970>0,TRUE,FALSE))","v":false},{"$f":"IF(AND(C970<>\"\",$E970<>\"*ON*\",$E970<>\"*OFF*\",ISNA((VLOOKUP(C970&\"@\"&E970,Q$4:Q969,1,FALSE)))),1,0)","v":0},{"$f":"SUM(O$4:O970)+(100*SUM(T$4:T970))","v":0},{"$f":"IF(NOT(ISBLANK(B970)),(A970+P970)+(Settings!$B$5/24),\"\")","v":""},0,0,0,null,0,0,0,0,0,0,0,0]
[null,null,null,0,"*EOL*",0,null,0,"","","","","",{"$error":"#VALUE!"},0,"","",":0:0",{"$f":"IF(ISNA(VLOOKUP(R971,R$4:R970,1,FALSE)),FALSE,IF(O971>0,TRUE,FALSE))","v":false},{"$f":"IF(AND(C971<>\"\",$E971<>\"*ON*\",$E971<>\"*OFF*\",ISNA((VLOOKUP(C971&\"@\"&E971,Q$4:Q970,1,FALSE)))),1,0)","v":0},{"$f":"SUM(O$4:O971)+(100*SUM(T$4:T971))","v":0},{"$f":"IF(NOT(ISBLANK(B971)),(A971+P971)+(Settings!$B$5/24),\"\")","v":""},0,0,0,null,0,0,0,0,0,0,0,0]
[null,null,null,0,"*EOL*",0,null,0,"","","","","",{"$error":"#VALUE!"},0,"","",":0:0",{"$f":"IF(ISNA(VLOOKUP(R972,R$4:R971,1,FALSE)),FALSE,IF(O972>0,TRUE,FALSE))","v":false},{"$f":"IF(AND(C972<>\"\",$E972<>\"*ON*\",$E972<>\"*OFF*\",ISNA((VLOOKUP(C972&\"@\"&E972,Q$4:Q971,1,FALSE)))),1,0)","v":0},{"$f":"SUM(O$4:O972)+(100*SUM(T$4:T972))","v":0},{"$f":"IF(NOT(ISBLANK(B972)),(A972+P972)+(Settings!$B$5/24),\"\")","v":""},0,0,0,null,0,0,0,0,0,0,0,0]
[null,null,null,0,"*EOL*",0,null,0,"","","","","",{"$error":"#VALUE!"},0,"","",":0:0",{"$f":"IF(ISNA(VLOOKUP(R973,R$4:R972,1,FALSE)),FALSE,IF(O973>0,TRUE,FALSE))","v":false},{"$f":"IF(AND(C973<>\"\",$E973<>\"*ON*\",$E973<>\"*OFF*\",ISNA((VLOOKUP(C973&\"@\"&E973,Q$4:Q972,1,FALSE)))),1,0)","v":0},{"$f":"SUM(O$4:O973)+(100*SUM(T$4:T973))","v":0},{"$f":"IF(NOT(ISBLANK(B973)),(A973+P973)+(Settings!$B$5/24),\"\")","v":""},0,0,0,null,0,0,0,0,0,0,0,0]
[null,null,null,0,"*EOL*",0,null,0,"","","","","",{"$error":"#VALUE!"},0,"","",":0:0",{"$f":"IF(ISNA(VLOOKUP(R974,R$4:R973,1,FALSE)),FALSE,IF(O974>0,TRUE,FALSE))","v":false},{"$f":"IF(AND(C974<>\"\",$E974<>\"*ON*\",$E974<>\"*OFF*\",ISNA((VLOOKUP(C974&\"@\"&E974,Q$4:Q973,1,FALSE)))),1,0)","v":0},{"$f":"SUM(O$4:O974)+(100*SUM(T$4:T974))","v":0},{"$f":"IF(NOT(ISBLANK(B974)),(A974+P974)+(Settings!$B$5/24),\"\")","v":""},0,0,0,null,{"$f":"IF($E974=AA$3,$H974,0)","v":0},0,0,0,0,0,0,0]
[null,null,null,0,"*EOL*",0,null,0,"","","","","",{"$error":"#VALUE!"},0,"","",":0:0",{"$f":"IF(ISNA(VLOOKUP(R975,R$4:R974,1,FALSE)),FALSE,IF(O975>0,TRUE,FALSE))","v":false},{"$f":"IF(AND(C975<>\"\",$E975<>\"*ON*\",$E975<>\"*OFF*\",ISNA((VLOOKUP(C975&\"@\"&E975,Q$4:Q974,1,FALSE)))),1,0)","v":0},{"$f":"SUM(O$4:O975)+(100*SUM(T$4:T975))","v":0},{"$f":"IF(NOT(ISBLANK(B975)),(A975+P975)+(Settings!$B$5/24),\"\")","v":""},0,0,{"$f":"IF($E975=\"*EOL*\",0,IF(X974,0,V975-V974)*24)","v":0},null,0,0,0,0,0,0,0,0]
[null,null,null,0,"*EOL*",0,null,0,"","","","","",{"$error":"#VALUE!"},0,"","",":0:0",{"$f":"IF(ISNA(VLOOKUP(R976,R$4:R975,1,FALSE)),FALSE,IF(O976>0,TRUE,FALSE))","v":false},{"$f":"IF(AND(C976<>\"\",$E976<>\"*ON*\",$E976<>\"*OFF*\",ISNA((VLOOKUP(C976&\"@\"&E976,Q$4:Q975,1,FALSE)))),1,0)","v":0},{"$f":"SUM(O$4:O976)+(100*SUM(T$4:T976))","v":0},{"$f":"IF(NOT(ISBLANK(B976)),(A976+P976)+(Settings!$B$5/24),\"\")","v":""},0,0,0,null,0,0,0,0,0,0,0,0]
[null,null,null,0,"*EOL*",0,null,0,"","","","","",{"$error":"#VALUE!"},0,"","",":0:0",{"$f":"IF(ISNA(VLOOKUP(R977,R$4:R976,1,FALSE)),FALSE,IF(O977>0,TRUE,FALSE))","v":false},{"$f":"IF(AND(C977<>\"\",$E977<>\"*ON*\",$E977<>\"*OFF*\",ISNA((VLOOKUP(C977&\"@\"&E977,Q$4:Q976,1,FALSE)))),1,0)","v":0},{"$f":"SUM(O$4:O977)+(100*SUM(T$4:T977))","v":0},{"$f":"IF(NOT(ISBLANK(B977)),(A977+P977)+(Settings!$B$5/24),\"\")","v":""},0,0,0,null,0,0,0,0,0,0,0,0]
[null,null,null,0,"*EOL*",0,null,0,"","","","","",{"$error":"#VALUE!"},0,"","",":0:0",{"$f":"IF(ISNA(VLOOKUP(R978,R$4:R977,1,FALSE)),FALSE,IF(O978>0,TRUE,FALSE))","v":false},{"$f":"IF(AND(C978<>\"\",$E978<>\"*ON*\",$E978<>\"*OFF*\",ISNA((VLOOKUP(C978&\"@\"&E978,Q$4:Q977,1,FALSE)))),1,0)","v":0},{"$f":"SUM(O$4:O978)+(100*SUM(T$4:T978))","v":0},{"$f":"IF(NOT(ISBLANK(B978)),(A978+P978)+(Settings!$B$5/24),\"\")","v":""},0,0,0,null,0,0,0,0,0,0,0,0]
[null,null,null,0,"*EOL*",0,null,0,"","","","","",{"$error":"#VALUE!"},0,"","",":0:0",{"$f":"IF(ISNA(VLOOKUP(R979,R$4:R978,1,FALSE)),FALSE,IF(O979>0,TRUE,FALSE))","v":false},{"$f":"IF(AND(C979<>\"\",$E979<>\"*ON*\",$E979<>\"*OFF*\",ISNA((VLOOKUP(C979&\"@\"&E979,Q$4:Q978,1,FALSE)))),1,0)","v":0},{"$f":"SUM(O$4:O979)+(100*SUM(T$4:T979))","v":0},{"$f":"IF(NOT(ISBLANK(B979)),(A979+P979)+(Settings!$B$5/24),\"\")","v":""},0,0,0,null,0,0,0,0,0,0,0,0]
[null,null,null,0,"*EOL*",0,null,0,"","","","","",{"$error":"#VALUE!"},0,"","",":0:0",{"$f":"IF(ISNA(VLOOKUP(R980,R$4:R979,1,FALSE)),FALSE,IF(O980>0,TRUE,FALSE))","v":false},{"$f":"IF(AND(C980<>\"\",$E980<>\"*ON*\",$E980<>\"*OFF*\",ISNA((VLOOKUP(C980&\"@\"&E980,Q$4:Q979,1,FALSE)))),1,0)","v":0},{"$f":"SUM(O$4:O980)+(100*SUM(T$4:T980))","v":0},{"$f":"IF(NOT(ISBLANK(B980)),(A980+P980)+(Settings!$B$5/24),\"\")","v":""},0,0,0,null,0,0,0,0,0,0,0,0]
[null,null,null,0,"*EOL*",0,null,0,"","","","","",{"$error":"#VALUE!"},0,"","",":0:0",{"$f":"IF(ISNA(VLOOKUP(R981,R$4:R980,1,FALSE)),FALSE,IF(O981>0,TRUE,FALSE))","v":false},{"$f":"IF(AND(C981<>\"\",$E981<>\"*ON*\",$E981<>\"*OFF*\",ISNA((VLOOKUP(C981&\"@\"&E981,Q$4:Q980,1,FALSE)))),1,0)","v":0},{"$f":"SUM(O$4:O981)+(100*SUM(T$4:T981))","v":0},{"$f":"IF(NOT(ISBLANK(B981)),(A981+P981)+(Settings!$B$5/24),\"\")","v":""},0,0,0,null,0,0,0,0,0,0,0,0]
[null,null,null,0,"*EOL*",0,null,0,"","","","","",{"$error":"#VALUE!"},0,"","",":0:0",{"$f":"IF(ISNA(VLOOKUP(R982,R$4:R981,1,FALSE)),FALSE,IF(O982>0,TRUE,FALSE))","v":false},{"$f":"IF(AND(C982<>\"\",$E982<>\"*ON*\",$E982<>\"*OFF*\",ISNA((VLOOKUP(C982&\"@\"&E982,Q$4:Q981,1,FALSE)))),1,0)","v":0},{"$f":"SUM(O$4:O982)+(100*SUM(T$4:T982))","v":0},{"$f":"IF(NOT(ISBLANK(B982)),(A982+P982)+(Settings!$B$5/24),\"\")","v":""},0,0,0,null,0,0,0,0,0,0,0,0]
[null,null,null,0,"*EOL*",0,null,0,"","","","","",{"$error":"#VALUE!"},0,"","",":0:0",{"$f":"IF(ISNA(VLOOKUP(R983,R$4:R982,1,FALSE)),FALSE,IF(O983>0,TRUE,FALSE))","v":false},{"$f":"IF(AND(C983<>\"\",$E983<>\"*ON*\",$E983<>\"*OFF*\",ISNA((VLOOKUP(C983&\"@\"&E983,Q$4:Q982,1,FALSE)))),1,0)","v":0},{"$f":"SUM(O$4:O983)+(100*SUM(T$4:T983))","v":0},{"$f":"IF(NOT(ISBLANK(B983)),(A983+P983)+(Settings!$B$5/24),\"\")","v":""},0,0,0,null,0,0,0,0,0,0,0,0]
[null,null,null,0,"*EOL*",0,null,0,"","","","","",{"$error":"#VALUE!"},0,"","",":0:0",{"$f":"IF(ISNA(VLOOKUP(R984,R$4:R983,1,FALSE)),FALSE,IF(O984>0,TRUE,FALSE))","v":false},{"$f":"IF(AND(C984<>\"\",$E984<>\"*ON*\",$E984<>\"*OFF*\",ISNA((VLOOKUP(C984&\"@\"&E984,Q$4:Q983,1,FALSE)))),1,0)","v":0},{"$f":"SUM(O$4:O984)+(100*SUM(T$4:T984))","v":0},{"$f":"IF(NOT(ISBLANK(B984)),(A984+P984)+(Settings!$B$5/24),\"\")","v":""},0,0,0,null,{"$f":"IF($E984=AA$3,$H984,0)","v":0},0,0,0,0,0,0,0]
[null,null,null,0,"*EOL*",0,null,0,"","","","","",{"$error":"#VALUE!"},0,"","",":0:0",{"$f":"IF(ISNA(VLOOKUP(R985,R$4:R984,1,FALSE)),FALSE,IF(O985>0,TRUE,FALSE))","v":false},{"$f":"IF(AND(C985<>\"\",$E985<>\"*ON*\",$E985<>\"*OFF*\",ISNA((VLOOKUP(C985&\"@\"&E985,Q$4:Q984,1,FALSE)))),1,0)","v":0},{"$f":"SUM(O$4:O985)+(100*SUM(T$4:T985))","v":0},{"$f":"IF(NOT(ISBLANK(B985)),(A985+P985)+(Settings!$B$5/24),\"\")","v":""},0,0,0,null,0,0,0,0,0,0,0,0]
[null,null,null,0,"*EOL*",0,null,0,"","","","","",{"$error":"#VALUE!"},0,"","",":0:0",{"$f":"IF(ISNA(VLOOKUP(R986,R$4:R985,1,FALSE)),FALSE,IF(O986>0,TRUE,FALSE))","v":false},{"$f":"IF(AND(C986<>\"\",$E986<>\"*ON*\",$E986<>\"*OFF*\",ISNA((VLOOKUP(C986&\"@\"&E986,Q$4:Q985,1,FALSE)))),1,0)","v":0},{"$f":"SUM(O$4:O986)+(100*SUM(T$4:T986))","v":0},{"$f":"IF(NOT(ISBLANK(B986)),(A986+P986)+(Settings!$B$5/24),\"\")","v":""},0,0,0,null,0,0,0,0,0,0,0,0]
[null,null,null,0,"*EOL*",0,null,0,"","","","","",{"$error":"#VALUE!"},0,"","",":0:0",{"$f":"IF(ISNA(VLOOKUP(R987,R$4:R986,1,FALSE)),FALSE,IF(O987>0,TRUE,FALSE))","v":false},{"$f":"IF(AND(C987<>\"\",$E987<>\"*ON*\",$E987<>\"*OFF*\",ISNA((VLOOKUP(C987&\"@\"&E987,Q$4:Q986,1,FALSE)))),1,0)","v":0},{"$f":"SUM(O$4:O987)+(100*SUM(T$4:T987))","v":0},{"$f":"IF(NOT(ISBLANK(B987)),(A987+P987)+(Settings!$B$5/24),\"\")","v":""},0,0,0,null,0,0,0,0,0,0,0,0]
[null,null,null,0,"*EOL*",0,null,0,"","","","","",{"$error":"#VALUE!"},0,"","",":0:0",{"$f":"IF(ISNA(VLOOKUP(R988,R$4:R987,1,FALSE)),FALSE,IF(O988>0,TRUE,FALSE))","v":false},{"$f":"IF(AND(C988<>\"\",$E988<>\"*ON*\",$E988<>\"*OFF*\",ISNA((VLOOKUP(C988&\"@\"&E988,Q$4:Q987,1,FALSE)))),1,0)","v":0},{"$f":"SUM(O$4:O988)+(100*SUM(T$4:T988))","v":0},{"$f":"IF(NOT(ISBLANK(B988)),(A988+P988)+(Settings!$B$5/24),\"\")","v":""},0,0,0,null,0,0,0,0,0,0,0,0]
[null,null,null,0,"*EOL*",0,null,0,"","","","","",{"$error":"#VALUE!"},0,"","",":0:0",{"$f":"IF(ISNA(VLOOKUP(R989,R$4:R988,1,FALSE)),FALSE,IF(O989>0,TRUE,FALSE))","v":false},{"$f":"IF(AND(C989<>\"\",$E989<>\"*ON*\",$E989<>\"*OFF*\",ISNA((VLOOKUP(C989&\"@\"&E989,Q$4:Q988,1,FALSE)))),1,0)","v":0},{"$f":"SUM(O$4:O989)+(100*SUM(T$4:T989))","v":0},{"$f":"IF(NOT(ISBLANK(B989)),(A989+P989)+(Settings!$B$5/24),\"\")","v":""},0,0,0,null,0,0,0,0,0,0,0,0]
[null,null,null,0,"*EOL*",0,null,0,"","","","","",{"$error":"#VALUE!"},0,"","",":0:0",{"$f":"IF(ISNA(VLOOKUP(R990,R$4:R989,1,FALSE)),FALSE,IF(O990>0,TRUE,FALSE))","v":false},{"$f":"IF(AND(C990<>\"\",$E990<>\"*ON*\",$E990<>\"*OFF*\",ISNA((VLOOKUP(C990&\"@\"&E990,Q$4:Q989,1,FALSE)))),1,0)","v":0},{"$f":"SUM(O$4:O990)+(100*SUM(T$4:T990))","v":0},{"$f":"IF(NOT(ISBLANK(B990)),(A990+P990)+(Settings!$B$5/24),\"\")","v":""},0,0,0,null,0,0,0,0,0,0,0,0]
[null,null,null,0,"*EOL*",0,null,0,"","","","","",{"$error":"#VALUE!"},0,"","",":0:0",{"$f":"IF(ISNA(VLOOKUP(R991,R$4:R990,1,FALSE)),FALSE,IF(O991>0,TRUE,FALSE))","v":false},{"$f":"IF(AND(C991<>\"\",$E991<>\"*ON*\",$E991<>\"*OFF*\",ISNA((VLOOKUP(C991&\"@\"&E991,Q$4:Q990,1,FALSE)))),1,0)","v":0},{"$f":"SUM(O$4:O991)+(100*SUM(T$4:T991))","v":0},{"$f":"IF(NOT(ISBLANK(B991)),(A991+P991)+(Settings!$B$5/24),\"\")","v":""},0,0,0,null,0,0,0,0,0,0,0,0]
[null,null,null,0,"*EOL*",0,null,0,"","","","","",{"$error":"#VALUE!"},0,"","",":0:0",{"$f":"IF(ISNA(VLOOKUP(R992,R$4:R991,1,FALSE)),FALSE,IF(O992>0,TRUE,FALSE))","v":false},{"$f":"IF(AND(C992<>\"\",$E992<>\"*ON*\",$E992<>\"*OFF*\",ISNA((VLOOKUP(C992&\"@\"&E992,Q$4:Q991,1,FALSE)))),1,0)","v":0},{"$f":"SUM(O$4:O992)+(100*SUM(T$4:T992))","v":0},{"$f":"IF(NOT(ISBLANK(B992)),(A992+P992)+(Settings!$B$5/24),\"\")","v":""},0,0,0,null,0,0,0,0,0,0,0,0]
[null,null,null,0,"*EOL*",0,null,0,"","","","","",{"$error":"#VALUE!"},0,"","",":0:0",{"$f":"IF(ISNA(VLOOKUP(R993,R$4:R992,1,FALSE)),FALSE,IF(O993>0,TRUE,FALSE))","v":false},{"$f":"IF(AND(C993<>\"\",$E993<>\"*ON*\",$E993<>\"*OFF*\",ISNA((VLOOKUP(C993&\"@\"&E993,Q$4:Q992,1,FALSE)))),1,0)","v":0},{"$f":"SUM(O$4:O993)+(100*SUM(T$4:T993))","v":0},{"$f":"IF(NOT(ISBLANK(B993)),(A993+P993)+(Settings!$B$5/24),\"\")","v":""},0,0,0,null,0,0,0,0,0,0,0,0]
[null,null,null,0,"*EOL*",0,null,0,"","","","","",{"$error":"#VALUE!"},0,"","",":0:0",{"$f":"IF(ISNA(VLOOKUP(R994,R$4:R993,1,FALSE)),FALSE,IF(O994>0,TRUE,FALSE))","v":false},{"$f":"IF(AND(C994<>\"\",$E994<>\"*ON*\",$E994<>\"*OFF*\",ISNA((VLOOKUP(C994&\"@\"&E994,Q$4:Q993,1,FALSE)))),1,0)","v":0},{"$f":"SUM(O$4:O994)+(100*SUM(T$4:T994))","v":0},{"$f":"IF(NOT(ISBLANK(B994)),(A994+P994)+(Settings!$B$5/24),\"\")","v":""},0,0,0,null,{"$f":"IF($E994=AA$3,$H994,0)","v":0},0,0,0,0,0,0,0]
[null,null,null,0,"*EOL*",0,null,0,"","","","","",{"$error":"#VALUE!"},0,"","",":0:0",{"$f":"IF(ISNA(VLOOKUP(R995,R$4:R994,1,FALSE)),FALSE,IF(O995>0,TRUE,FALSE))","v":false},{"$f":"IF(AND(C995<>\"\",$E995<>\"*ON*\",$E995<>\"*OFF*\",ISNA((VLOOKUP(C995&\"@\"&E995,Q$4:Q994,1,FALSE)))),1,0)","v":0},{"$f":"SUM(O$4:O995)+(100*SUM(T$4:T995))","v":0},{"$f":"IF(NOT(ISBLANK(B995)),(A995+P995)+(Settings!$B$5/24),\"\")","v":""},0,0,0,null,0,0,0,0,0,0,0,0]
[null,null,null,0,"*EOL*",0,null,0,"","","","","",{"$error":"#VALUE!"},0,"","",":0:0",{"$f":"IF(ISNA(VLOOKUP(R996,R$4:R995,1,FALSE)),FALSE,IF(O996>0,TRUE,FALSE))","v":false},{"$f":"IF(AND(C996<>\"\",$E996<>\"*ON*\",$E996<>\"*OFF*\",ISNA((VLOOKUP(C996&\"@\"&E996,Q$4:Q995,1,FALSE)))),1,0)","v":0},{"$f":"SUM(O$4:O996)+(100*SUM(T$4:T996))","v":0},{"$f":"IF(NOT(ISBLANK(B996)),(A996+P996)+(Settings!$B$5/24),\"\")","v":""},0,0,0,null,0,0,0,0,0,0,0,0]
[null,null,null,0,"*EOL*",0,null,0,"","","","","",{"$error":"#VALUE!"},0,"","",":0:0",{"$f":"IF(ISNA(VLOOKUP(R997,R$4:R996,1,FALSE)),FALSE,IF(O997>0,TRUE,FALSE))","v":false},{"$f":"IF(AND(C997<>\"\",$E997<>\"*ON*\",$E997<>\"*OFF*\",ISNA((VLOOKUP(C997&\"@\"&E997,Q$4:Q996,1,FALSE)))),1,0)","v":0},{"$f":"SUM(O$4:O997)+(100*SUM(T$4:T997))","v":0},{"$f":"IF(NOT(ISBLANK(B997)),(A997+P997)+(Settings!$B$5/24),\"\")","v":""},0,0,0,null,0,0,0,0,0,0,0,0]
[null,null,null,0,"*EOL*",0,null,0,"","","","","",{"$error":"#VALUE!"},0,"","",":0:0",{"$f":"IF(ISNA(VLOOKUP(R998,R$4:R997,1,FALSE)),FALSE,IF(O998>0,TRUE,FALSE))","v":false},{"$f":"IF(AND(C998<>\"\",$E998<>\"*ON*\",$E998<>\"*OFF*\",ISNA((VLOOKUP(C998&\"@\"&E998,Q$4:Q997,1,FALSE)))),1,0)","v":0},{"$f":"SUM(O$4:O998)+(100*SUM(T$4:T998))","v":0},{"$f":"IF(NOT(ISBLANK(B998)),(A998+P998)+(Settings!$B$5/24),\"\")","v":""},0,0,0,null,0,0,0,0,0,0,0,0]
[null,null,null,0,"*EOL*",0,null,0,"","","","","",{"$error":"#VALUE!"},0,"","",":0:0",{"$f":"IF(ISNA(VLOOKUP(R999,R$4:R998,1,FALSE)),FALSE,IF(O999>0,TRUE,FALSE))","v":false},{"$f":"IF(AND(C999<>\"\",$E999<>\"*ON*\",$E999<>\"*OFF*\",ISNA((VLOOKUP(C999&\"@\"&E999,Q$4:Q998,1,FALSE)))),1,0)","v":0},{"$f":"SUM(O$4:O999)+(100*SUM(T$4:T999))","v":0},{"$f":"IF(NOT(ISBLANK(B999)),(A999+P999)+(Settings!$B$5/24),\"\")","v":""},0,0,0,null,0,0,0,0,0,0,0,0]
[null,null,null,0,"*EOL*",0,null,0,"","","","","",{"$error":"#VALUE!"},0,"","",":0:0",{"$f":"IF(ISNA(VLOOKUP(R1000,R$4:R999,1,FALSE)),FALSE,IF(O1000>0,TRUE,FALSE))","v":false},{"$f":"IF(AND(C1000<>\"\",$E1000<>\"*ON*\",$E1000<>\"*OFF*\",ISNA((VLOOKUP(C1000&\"@\"&E1000,Q$4:Q999,1,FALSE)))),1,0)","v":0},{"$f":"SUM(O$4:O1000)+(100*SUM(T$4:T1000))","v":0},{"$f":"IF(NOT(ISBLANK(B1000)),(A1000+P1000)+(Settings!$B$5/24),\"\")","v":""},0,0,0,null,0,0,0,0,0,0,0,0]
[null,null,null,0,"*EOL*",0,null,0,"","","","","",{"$error":"#VALUE!"},0,"","",":0:0",{"$f":"IF(ISNA(VLOOKUP(R1001,R$4:R1000,1,FALSE)),FALSE,IF(O1001>0,TRUE,FALSE))","v":false},{"$f":"IF(AND(C1001<>\"\",$E1001<>\"*ON*\",$E1001<>\"*OFF*\",ISNA((VLOOKUP(C1001&\"@\"&E1001,Q$4:Q1000,1,FALSE)))),1,0)","v":0},{"$f":"SUM(O$4:O1001)+(100*SUM(T$4:T1001))","v":0},{"$f":"IF(NOT(ISBLANK(B1001)),(A1001+P1001)+(Settings!$B$5/24),\"\")","v":""},0,0,0,null,0,0,0,0,0,0,0,0]
[null,null,null,0,"*EOL*",0,null,0,"","","","","",{"$error":"#VALUE!"},0,"","",":0:0",{"$f":"IF(ISNA(VLOOKUP(R1002,R$4:R1001,1,FALSE)),FALSE,IF(O1002>0,TRUE,FALSE))","v":false},{"$f":"IF(AND(C1002<>\"\",$E1002<>\"*ON*\",$E1002<>\"*OFF*\",ISNA((VLOOKUP(C1002&\"@\"&E1002,Q$4:Q1001,1,FALSE)))),1,0)","v":0},{"$f":"SUM(O$4:O1002)+(100*SUM(T$4:T1002))","v":0},{"$f":"IF(NOT(ISBLANK(B1002)),(A1002+P1002)+(Settings!$B$5/24),\"\")","v":""},0,0,0,null,0,0,0,0,0,0,0,0]
[null,null,null,0,"*EOL*",0,null,0,"","","","","",{"$error":"#VALUE!"},0,"","",":0:0",{"$f":"IF(ISNA(VLOOKUP(R1003,R$4:R1002,1,FALSE)),FALSE,IF(O1003>0,TRUE,FALSE))","v":false},{"$f":"IF(AND(C1003<>\"\",$E1003<>\"*ON*\",$E1003<>\"*OFF*\",ISNA((VLOOKUP(C1003&\"@\"&E1003,Q$4:Q1002,1,FALSE)))),1,0)","v":0},{"$f":"SUM(O$4:O1003)+(100*SUM(T$4:T1003))","v":0},{"$f":"IF(NOT(ISBLANK(B1003)),(A1003+P1003)+(Settings!$B$5/24),\"\")","v":""},0,0,{"$f":"IF($E1003=\"*EOL*\",0,IF(#REF!,0,V1003-#REF!)*24)","v":0},null,0,0,0,0,0,0,0,0]
[{"$f":"\"\"","v":""},{"$f":"\"\"","v":""},{"$f":"\"\"","v":""},{"$f":"\"\"","v":""},{"$f":"\"\"","v":""},{"$f":"\"\"","v":""},{"$f":"\"\"","v":""},{"$f":"\"\"","v":""},{"$f":"\"\"","v":""},{"$f":"\"\"","v":""},{"$f":"\"\"","v":""},{"$f":"\"\"","v":""},{"$f":"\"\"","v":""},{"$f":"\"\"","v":""},{"$f":"\"\"","v":""},{"$f":"\"\"","v":""},{"$f":"\"\"","v":""},{"$f":"\"\"","v":""},{"$f":"\"\"","v":""},{"$f":"\"\"","v":""},{"$f":"\"\"","v":""},{"$f":"\"\"","v":""},{"$f":"\"\"","v":""},{"$f":"\"\"","v":""},{"$f":"\"\"","v":""},null,{"$f":"MAX(AA4:AA1003)","v":0},0,0,0,0,0,0,0]
[null,{"$f":"COUNT(P4:P1003)","v":0},"Time Values",null,null,null,null,{"$f":"SUM(H4:H1003)","v":0},"Distance Points",null,null,null,null,null,{"$f":"SUM(O4:O1003)","v":0},"Distance Pts before Dupe Check",null,null,null,{"$f":"SUM(T4:T1003)","v":0},"Unique Callsigns"]
[null,{"$f":"COUNTIF($E$4:$E$1003,C1006)","v":1},{"$f":"\"*ON*\"","v":"*ON*"},null,null,null,null,{"$f":"INT(100*$T$1005)","v":0},"QSO Points (from Unique Callsigns)",null,null,null,null,null,{"$f":"INT(100*$T$1005)","v":0},"QSO Points (from Unique Calls)",null,null,null,null,null,null,null,null,{"$f":"SUM(Y4:Y1003)","v":{"$error":"#VALUE!"}},"hours on time"]
[null,{"$f":"COUNTIF($E$4:$E$1003,C1007)","v":1},{"$f":"\"*OFF*\"","v":"*OFF*"},null,null,null,null,{"$f":"H1005+H1006","v":0},"Total Points",null,null,null,null,null,{"$f":"O1005+O1006","v":0},"Total Pts before Dupe Check"]
[null,{"$f":"COUNTIF(S5:S1003,TRUE)","v":0},{"$f":"\"Dupe\"&IF(B1008<>1,\"s\",\"\")","v":"Dupes"}]
[null,{"$f":"B1005-B1006-B1007-B1008","v":-2},"QSO's"]

{"sheet":"SubmissionPage","index":3,"n_rows":42,"n_cols":11,"rows_kept":42,"cut":false,"hidden":false,"merged":[[0,0,2,10],[5,0,5,10],[3,0,3,10],[6,9,6,10],[14,4,14,6],[14,8,14,10],[9,0,9,2],[8,1,8,2],[11,5,11,6],[8,4,8,5],[8,6,8,10],[9,4,9,10],[11,7,11,9],[14,0,14,2],[17,0,17,3],[11,1,11,2],[15,8,15,10],[25,1,25,3],[18,1,18,3],[19,1,19,3],[20,1,20,3],[21,1,21,3],[22,1,22,3],[23,1,23,3],[15,0,15,2],[15,4,15,6],[24,1,24,3],[27,0,28,10],[30,0,30,10],[32,0,33,10],[34,1,34,2],[34,9,34,10],[34,5,34,7],[36,9,36,10],[41,0,43,10],[36,1,36,6],[37,1,37,6],[38,1,38,6],[39,1,39,6]]}
[]
[]
[]
["Do not write above this line"]
[]
["10-GHz AND UP CUMULATIVE"]
["CONTEST",null,null,null,null,null,null,null,"Year: ",{"$f":"Settings!B7","v":2016}]
[]
["Call Used:",{"$f":"Settings!B9","v":"KA9VVQ"},null,null,"ARRL Section: ",null,{"$f":"Settings!B11","v":"WI"}]
["Operators Using this Callsign:",null,null,null,{"$f":"IF(ISBLANK(Settings!B13),B9,Settings!B13)","v":"KA9VVQ"}]
[{"$f":"IF(Settings!B19,\"[X] 10-GHz Only  [  ] 10-GHz And Up\",\"[  ] 10-GHz Only  [X] 10-GHz And Up\")","v":"[X] 10-GHz Only  [  ] 10-GHz And Up"}]
["Call Area:",{"$f":"Settings!B21","v":9},null,null,"Total QSO's: ",{"$f":"MAX(0,LogData!B1009)","v":0},null,"Unique Callsigns Worked",null,null,{"$f":"LogData!T1005","v":0}]
[]
["Scoring"]
[{"$f":"LogData!T1005*100","v":0},null,null,{"$f":"\"+\"","v":"+"},{"$f":"LogData!H1005","v":0},null,null,{"$f":"\"=\"","v":"="},{"$f":"A15+E15","v":0}]
["QSO Points from All Bands",null,null,null,"Distance Points from All Bands",null,null,null,"Final Score"]
[]
["Best DX in Km"]
["10 GHz",{"$f":"LogData!AA1004","v":0}]
["24 GHz",{"$f":"LogData!AB1004","v":0}]
["47 GHz",{"$f":"LogData!AC1004","v":0}]
["75 GHz",{"$f":"LogData!AD1004","v":0}]
["119 GHz",{"$f":"LogData!AE1004","v":0}]
["142 GHz",{"$f":"LogData!AF1004","v":0}]
["241 GHz",{"$f":"LogData!AG1004","v":0}]
["300+ GHz",{"$f":"LogData!AH1004","v":0}]
[]
["Please enclose log, photos, comments, ideas, etc. with your entry and mail promptly to ARRL Contests, 225 Main Street, Newington, CT 06111"]
[]
[]
["Internet: 10ghz@arrl.org   *   WWW:   www.arrl.org"]
[]
[{"$f":"CHAR(34)&\"I have observed all competition rules as well as all regulations for Amateur Radio in my country.  My report is correct and true to the best of my knowledge.  I agree to be bound by the decisions of the ARRL Awards Committee.\"&CHAR(34)","v":"\"I have observed all competition rules as well as all regulations for Amateur Radio in my country.  My report is correct and true to the best of my knowledge.  I agree to be bound by the decisions of the ARRL Awards Committee.\""}]
[]
["Date: ",{"$f":"TODAY()","v":"2016-08-24"},null,null,"Signature:",{"$f":"IF(Settings!C29,\"/es/\",\"\")","v":"/es/"},null,null,"Call: ",{"$f":"Settings!B9","v":"KA9VVQ"}]
[]
["Name: ",{"$f":"Settings!B23","v":"Janice Hoettels"},null,null,null,null,null,null,"Call: ",{"$f":"J35","v":"KA9VVQ"}]
["Address: ",{"$f":"Settings!B24","v":"PO Box 233"}]
[null,{"$f":"Settings!B25","v":"Hillsboro, WI 54634"}]
["Email: ",{"$f":"Settings!B26","v":"jhoettels@fastmail.us"}]
[]
[{"$f":"IF(Settings!C29,\"The tag \"&CHAR(34)&\"/es/\"&CHAR(34)&\" indicates that this entry has been electronically signed by the amateur radio operator named herein, and the act of submitting the form electronically constitutes the claim of compliance with applicable rules and regulations as stated above.\",\"\")","v":"The tag \"/es/\" indicates that this entry has been electronically signed by the amateur radio operator named herein, and the act of submitting the form electronically constitutes the claim of compliance with applicable rules and regulations as stated above."}]

{"sheet":"LogSheet","index":4,"n_rows":1010,"n_cols":8,"rows_kept":1010,"cut":false,"hidden":false,"merged":[[2,3,2,7],[0,0,0,7],[3,3,3,7],[7,2,8,2],[7,1,8,1],[7,0,8,0],[7,3,8,3],[7,4,7,5],[7,6,8,6],[7,7,8,7]]}
["10-GHz and Up Cumulative Contest Log"]
[]
["Call Used: ",{"$f":"Settings!B9","v":"KA9VVQ"},"Ops:",{"$f":"IF(ISBLANK(Settings!B13),B3,Settings!B13)","v":"KA9VVQ"}]
[null,null,null,"(using this callsign only)"]
[]
["Year:",{"$f":"Settings!B7","v":2016},null,"Total Hours Worked:",{"$f":"ROUND(LogData!Y1006,1)","v":{"$error":"#VALUE!"}},{"$f":"\"        \"&SubmissionPage!A11","v":"        [X] 10-GHz Only  [  ] 10-GHz And Up"}]
[]
["UTC          Date","UTC   Time","On/Off or Band","Callsign of the Station Worked","Locator Report",null,"Distance Points (Km)","QSO Points"]
[null,null,null,null,"Sent","Received"]
[]
[{"$f":"IF($C11=\"*EOL*\",\"\",INT(LogData!V4))","v":{"$error":"#VALUE!"}},{"$f":"IF($C11=\"*EOL*\",\"\",LogData!V4-A11)","v":{"$error":"#VALUE!"}},{"$f":"LogData!E4","v":"*ON*"},{"$f":"IF(LEFT($C11,1)=\"*\",\"\",LogData!C4)","v":""},{"$f":"IF(LEFT($C11,1)=\"*\",\"\",LogData!F4)","v":""},{"$f":"IF(LEFT($C11,1)=\"*\",\"\",LogData!D4)","v":""},{"$f":"IF(LEFT($C11,1)=\"*\",\"\",LogData!H4)","v":""},{"$f":"IF(LEFT($C11,1)=\"*\",\"\",LogData!T4*100)","v":""}]
[{"$f":"IF($C12=\"*EOL*\",\"\",INT(LogData!V5))","v":{"$error":"#VALUE!"}},{"$f":"IF($C12=\"*EOL*\",\"\",LogData!V5-A12)","v":{"$error":"#VALUE!"}},{"$f":"LogData!E5","v":0},{"$f":"IF(LEFT($C12,1)=\"*\",\"\",LogData!C5)","v":0},{"$f":"IF(LEFT($C12,1)=\"*\",\"\",LogData!F5)","v":0},{"$f":"IF(LEFT($C12,1)=\"*\",\"\",LogData!D5)","v":0},{"$f":"IF(LEFT($C12,1)=\"*\",\"\",LogData!H5)","v":0},{"$f":"IF(LEFT($C12,1)=\"*\",\"\",LogData!T5*100)","v":0}]
[{"$f":"IF($C13=\"*EOL*\",\"\",INT(LogData!V6))","v":{"$error":"#VALUE!"}},{"$f":"IF($C13=\"*EOL*\",\"\",LogData!V6-A13)","v":{"$error":"#VALUE!"}},{"$f":"LogData!E6","v":0},{"$f":"IF(LEFT($C13,1)=\"*\",\"\",LogData!C6)","v":0},{"$f":"IF(LEFT($C13,1)=\"*\",\"\",LogData!F6)","v":0},{"$f":"IF(LEFT($C13,1)=\"*\",\"\",LogData!D6)","v":0},{"$f":"IF(LEFT($C13,1)=\"*\",\"\",LogData!H6)","v":0},{"$f":"IF(LEFT($C13,1)=\"*\",\"\",LogData!T6*100)","v":0}]
[{"$f":"IF($C14=\"*EOL*\",\"\",INT(LogData!V7))","v":{"$error":"#VALUE!"}},{"$f":"IF($C14=\"*EOL*\",\"\",LogData!V7-A14)","v":{"$error":"#VALUE!"}},{"$f":"LogData!E7","v":0},{"$f":"IF(LEFT($C14,1)=\"*\",\"\",LogData!C7)","v":0},{"$f":"IF(LEFT($C14,1)=\"*\",\"\",LogData!F7)","v":0},{"$f":"IF(LEFT($C14,1)=\"*\",\"\",LogData!D7)","v":0},{"$f":"IF(LEFT($C14,1)=\"*\",\"\",LogData!H7)","v":0},{"$f":"IF(LEFT($C14,1)=\"*\",\"\",LogData!T7*100)","v":0}]
[{"$f":"IF($C15=\"*EOL*\",\"\",INT(LogData!V8))","v":{"$error":"#VALUE!"}},{"$f":"IF($C15=\"*EOL*\",\"\",LogData!V8-A15)","v":{"$error":"#VALUE!"}},{"$f":"LogData!E8","v":0},{"$f":"IF(LEFT($C15,1)=\"*\",\"\",LogData!C8)","v":0},{"$f":"IF(LEFT($C15,1)=\"*\",\"\",LogData!F8)","v":0},{"$f":"IF(LEFT($C15,1)=\"*\",\"\",LogData!D8)","v":0},{"$f":"IF(LEFT($C15,1)=\"*\",\"\",LogData!H8)","v":0},{"$f":"IF(LEFT($C15,1)=\"*\",\"\",LogData!T8*100)","v":0}]
[{"$f":"IF($C16=\"*EOL*\",\"\",INT(LogData!V9))","v":{"$error":"#VALUE!"}},{"$f":"IF($C16=\"*EOL*\",\"\",LogData!V9-A16)","v":{"$error":"#VALUE!"}},{"$f":"LogData!E9","v":0},{"$f":"IF(LEFT($C16,1)=\"*\",\"\",LogData!C9)","v":0},{"$f":"IF(LEFT($C16,1)=\"*\",\"\",LogData!F9)","v":0},{"$f":"IF(LEFT($C16,1)=\"*\",\"\",LogData!D9)","v":0},{"$f":"IF(LEFT($C16,1)=\"*\",\"\",LogData!H9)","v":0},{"$f":"IF(LEFT($C16,1)=\"*\",\"\",LogData!T9*100)","v":0}]
[{"$f":"IF($C17=\"*EOL*\",\"\",INT(LogData!V10))","v":{"$error":"#VALUE!"}},{"$f":"IF($C17=\"*EOL*\",\"\",LogData!V10-A17)","v":{"$error":"#VALUE!"}},{"$f":"LogData!E10","v":0},{"$f":"IF(LEFT($C17,1)=\"*\",\"\",LogData!C10)","v":0},{"$f":"IF(LEFT($C17,1)=\"*\",\"\",LogData!F10)","v":0},{"$f":"IF(LEFT($C17,1)=\"*\",\"\",LogData!D10)","v":0},{"$f":"IF(LEFT($C17,1)=\"*\",\"\",LogData!H10)","v":0},{"$f":"IF(LEFT($C17,1)=\"*\",\"\",LogData!T10*100)","v":0}]
[{"$f":"IF($C18=\"*EOL*\",\"\",INT(LogData!V11))","v":{"$error":"#VALUE!"}},{"$f":"IF($C18=\"*EOL*\",\"\",LogData!V11-A18)","v":{"$error":"#VALUE!"}},{"$f":"LogData!E11","v":0},{"$f":"IF(LEFT($C18,1)=\"*\",\"\",LogData!C11)","v":0},{"$f":"IF(LEFT($C18,1)=\"*\",\"\",LogData!F11)","v":0},{"$f":"IF(LEFT($C18,1)=\"*\",\"\",LogData!D11)","v":0},{"$f":"IF(LEFT($C18,1)=\"*\",\"\",LogData!H11)","v":0},{"$f":"IF(LEFT($C18,1)=\"*\",\"\",LogData!T11*100)","v":0}]
[{"$f":"IF($C19=\"*EOL*\",\"\",INT(LogData!V12))","v":{"$error":"#VALUE!"}},{"$f":"IF($C19=\"*EOL*\",\"\",LogData!V12-A19)","v":{"$error":"#VALUE!"}},{"$f":"LogData!E12","v":0},{"$f":"IF(LEFT($C19,1)=\"*\",\"\",LogData!C12)","v":0},{"$f":"IF(LEFT($C19,1)=\"*\",\"\",LogData!F12)","v":0},{"$f":"IF(LEFT($C19,1)=\"*\",\"\",LogData!D12)","v":0},{"$f":"IF(LEFT($C19,1)=\"*\",\"\",LogData!H12)","v":0},{"$f":"IF(LEFT($C19,1)=\"*\",\"\",LogData!T12*100)","v":0}]
[{"$f":"IF($C20=\"*EOL*\",\"\",INT(LogData!V13))","v":{"$error":"#VALUE!"}},{"$f":"IF($C20=\"*EOL*\",\"\",LogData!V13-A20)","v":{"$error":"#VALUE!"}},{"$f":"LogData!E13","v":0},{"$f":"IF(LEFT($C20,1)=\"*\",\"\",LogData!C13)","v":0},{"$f":"IF(LEFT($C20,1)=\"*\",\"\",LogData!F13)","v":0},{"$f":"IF(LEFT($C20,1)=\"*\",\"\",LogData!D13)","v":0},{"$f":"IF(LEFT($C20,1)=\"*\",\"\",LogData!H13)","v":0},{"$f":"IF(LEFT($C20,1)=\"*\",\"\",LogData!T13*100)","v":0}]
[{"$f":"IF($C21=\"*EOL*\",\"\",INT(LogData!V14))","v":{"$error":"#VALUE!"}},{"$f":"IF($C21=\"*EOL*\",\"\",LogData!V14-A21)","v":{"$error":"#VALUE!"}},{"$f":"LogData!E14","v":0},{"$f":"IF(LEFT($C21,1)=\"*\",\"\",LogData!C14)","v":0},{"$f":"IF(LEFT($C21,1)=\"*\",\"\",LogData!F14)","v":0},{"$f":"IF(LEFT($C21,1)=\"*\",\"\",LogData!D14)","v":0},{"$f":"IF(LEFT($C21,1)=\"*\",\"\",LogData!H14)","v":0},{"$f":"IF(LEFT($C21,1)=\"*\",\"\",LogData!T14*100)","v":0}]
[{"$f":"IF($C22=\"*EOL*\",\"\",INT(LogData!V15))","v":{"$error":"#VALUE!"}},{"$f":"IF($C22=\"*EOL*\",\"\",LogData!V15-A22)","v":{"$error":"#VALUE!"}},{"$f":"LogData!E15","v":0},{"$f":"IF(LEFT($C22,1)=\"*\",\"\",LogData!C15)","v":0},{"$f":"IF(LEFT($C22,1)=\"*\",\"\",LogData!F15)","v":0},{"$f":"IF(LEFT($C22,1)=\"*\",\"\",LogData!D15)","v":0},{"$f":"IF(LEFT($C22,1)=\"*\",\"\",LogData!H15)","v":0},{"$f":"IF(LEFT($C22,1)=\"*\",\"\",LogData!T15*100)","v":0}]
[{"$f":"IF($C23=\"*EOL*\",\"\",INT(LogData!V16))","v":{"$error":"#VALUE!"}},{"$f":"IF($C23=\"*EOL*\",\"\",LogData!V16-A23)","v":{"$error":"#VALUE!"}},{"$f":"LogData!E16","v":0},{"$f":"IF(LEFT($C23,1)=\"*\",\"\",LogData!C16)","v":0},{"$f":"IF(LEFT($C23,1)=\"*\",\"\",LogData!F16)","v":0},{"$f":"IF(LEFT($C23,1)=\"*\",\"\",LogData!D16)","v":0},{"$f":"IF(LEFT($C23,1)=\"*\",\"\",LogData!H16)","v":0},{"$f":"IF(LEFT($C23,1)=\"*\",\"\",LogData!T16*100)","v":0}]
[{"$f":"IF($C24=\"*EOL*\",\"\",INT(LogData!V17))","v":{"$error":"#VALUE!"}},{"$f":"IF($C24=\"*EOL*\",\"\",LogData!V17-A24)","v":{"$error":"#VALUE!"}},{"$f":"LogData!E17","v":0},{"$f":"IF(LEFT($C24,1)=\"*\",\"\",LogData!C17)","v":0},{"$f":"IF(LEFT($C24,1)=\"*\",\"\",LogData!F17)","v":0},{"$f":"IF(LEFT($C24,1)=\"*\",\"\",LogData!D17)","v":0},{"$f":"IF(LEFT($C24,1)=\"*\",\"\",LogData!H17)","v":0},{"$f":"IF(LEFT($C24,1)=\"*\",\"\",LogData!T17*100)","v":0}]
[{"$f":"IF($C25=\"*EOL*\",\"\",INT(LogData!V18))","v":{"$error":"#VALUE!"}},{"$f":"IF($C25=\"*EOL*\",\"\",LogData!V18-A25)","v":{"$error":"#VALUE!"}},{"$f":"LogData!E18","v":0},{"$f":"IF(LEFT($C25,1)=\"*\",\"\",LogData!C18)","v":0},{"$f":"IF(LEFT($C25,1)=\"*\",\"\",LogData!F18)","v":0},{"$f":"IF(LEFT($C25,1)=\"*\",\"\",LogData!D18)","v":0},{"$f":"IF(LEFT($C25,1)=\"*\",\"\",LogData!H18)","v":0},{"$f":"IF(LEFT($C25,1)=\"*\",\"\",LogData!T18*100)","v":0}]
[{"$f":"IF($C26=\"*EOL*\",\"\",INT(LogData!V19))","v":{"$error":"#VALUE!"}},{"$f":"IF($C26=\"*EOL*\",\"\",LogData!V19-A26)","v":{"$error":"#VALUE!"}},{"$f":"LogData!E19","v":0},{"$f":"IF(LEFT($C26,1)=\"*\",\"\",LogData!C19)","v":0},{"$f":"IF(LEFT($C26,1)=\"*\",\"\",LogData!F19)","v":0},{"$f":"IF(LEFT($C26,1)=\"*\",\"\",LogData!D19)","v":0},{"$f":"IF(LEFT($C26,1)=\"*\",\"\",LogData!H19)","v":0},{"$f":"IF(LEFT($C26,1)=\"*\",\"\",LogData!T19*100)","v":0}]
[{"$f":"IF($C27=\"*EOL*\",\"\",INT(LogData!V20))","v":{"$error":"#VALUE!"}},{"$f":"IF($C27=\"*EOL*\",\"\",LogData!V20-A27)","v":{"$error":"#VALUE!"}},{"$f":"LogData!E20","v":0},{"$f":"IF(LEFT($C27,1)=\"*\",\"\",LogData!C20)","v":0},{"$f":"IF(LEFT($C27,1)=\"*\",\"\",LogData!F20)","v":0},{"$f":"IF(LEFT($C27,1)=\"*\",\"\",LogData!D20)","v":0},{"$f":"IF(LEFT($C27,1)=\"*\",\"\",LogData!H20)","v":0},{"$f":"IF(LEFT($C27,1)=\"*\",\"\",LogData!T20*100)","v":0}]
[{"$f":"IF($C28=\"*EOL*\",\"\",INT(LogData!V21))","v":{"$error":"#VALUE!"}},{"$f":"IF($C28=\"*EOL*\",\"\",LogData!V21-A28)","v":{"$error":"#VALUE!"}},{"$f":"LogData!E21","v":0},{"$f":"IF(LEFT($C28,1)=\"*\",\"\",LogData!C21)","v":0},{"$f":"IF(LEFT($C28,1)=\"*\",\"\",LogData!F21)","v":0},{"$f":"IF(LEFT($C28,1)=\"*\",\"\",LogData!D21)","v":0},{"$f":"IF(LEFT($C28,1)=\"*\",\"\",LogData!H21)","v":0},{"$f":"IF(LEFT($C28,1)=\"*\",\"\",LogData!T21*100)","v":0}]
[{"$f":"IF($C29=\"*EOL*\",\"\",INT(LogData!V22))","v":{"$error":"#VALUE!"}},{"$f":"IF($C29=\"*EOL*\",\"\",LogData!V22-A29)","v":{"$error":"#VALUE!"}},{"$f":"LogData!E22","v":0},{"$f":"IF(LEFT($C29,1)=\"*\",\"\",LogData!C22)","v":0},{"$f":"IF(LEFT($C29,1)=\"*\",\"\",LogData!F22)","v":0},{"$f":"IF(LEFT($C29,1)=\"*\",\"\",LogData!D22)","v":0},{"$f":"IF(LEFT($C29,1)=\"*\",\"\",LogData!H22)","v":0},{"$f":"IF(LEFT($C29,1)=\"*\",\"\",LogData!T22*100)","v":0}]
[{"$f":"IF($C30=\"*EOL*\",\"\",INT(LogData!V23))","v":{"$error":"#VALUE!"}},{"$f":"IF($C30=\"*EOL*\",\"\",LogData!V23-A30)","v":{"$error":"#VALUE!"}},{"$f":"LogData!E23","v":0},{"$f":"IF(LEFT($C30,1)=\"*\",\"\",LogData!C23)","v":0},{"$f":"IF(LEFT($C30,1)=\"*\",\"\",LogData!F23)","v":0},{"$f":"IF(LEFT($C30,1)=\"*\",\"\",LogData!D23)","v":0},{"$f":"IF(LEFT($C30,1)=\"*\",\"\",LogData!H23)","v":0},{"$f":"IF(LEFT($C30,1)=\"*\",\"\",LogData!T23*100)","v":0}]
[{"$f":"IF($C31=\"*EOL*\",\"\",INT(LogData!V24))","v":{"$error":"#VALUE!"}},{"$f":"IF($C31=\"*EOL*\",\"\",LogData!V24-A31)","v":{"$error":"#VALUE!"}},{"$f":"LogData!E24","v":0},{"$f":"IF(LEFT($C31,1)=\"*\",\"\",LogData!C24)","v":0},{"$f":"IF(LEFT($C31,1)=\"*\",\"\",LogData!F24)","v":0},{"$f":"IF(LEFT($C31,1)=\"*\",\"\",LogData!D24)","v":0},{"$f":"IF(LEFT($C31,1)=\"*\",\"\",LogData!H24)","v":0},{"$f":"IF(LEFT($C31,1)=\"*\",\"\",LogData!T24*100)","v":0}]
[{"$f":"IF($C32=\"*EOL*\",\"\",INT(LogData!V25))","v":{"$error":"#VALUE!"}},{"$f":"IF($C32=\"*EOL*\",\"\",LogData!V25-A32)","v":{"$error":"#VALUE!"}},{"$f":"LogData!E25","v":0},{"$f":"IF(LEFT($C32,1)=\"*\",\"\",LogData!C25)","v":0},{"$f":"IF(LEFT($C32,1)=\"*\",\"\",LogData!F25)","v":0},{"$f":"IF(LEFT($C32,1)=\"*\",\"\",LogData!D25)","v":0},{"$f":"IF(LEFT($C32,1)=\"*\",\"\",LogData!H25)","v":0},{"$f":"IF(LEFT($C32,1)=\"*\",\"\",LogData!T25*100)","v":0}]
[{"$f":"IF($C33=\"*EOL*\",\"\",INT(LogData!V26))","v":{"$error":"#VALUE!"}},{"$f":"IF($C33=\"*EOL*\",\"\",LogData!V26-A33)","v":{"$error":"#VALUE!"}},{"$f":"LogData!E26","v":0},{"$f":"IF(LEFT($C33,1)=\"*\",\"\",LogData!C26)","v":0},{"$f":"IF(LEFT($C33,1)=\"*\",\"\",LogData!F26)","v":0},{"$f":"IF(LEFT($C33,1)=\"*\",\"\",LogData!D26)","v":0},{"$f":"IF(LEFT($C33,1)=\"*\",\"\",LogData!H26)","v":0},{"$f":"IF(LEFT($C33,1)=\"*\",\"\",LogData!T26*100)","v":0}]
[{"$f":"IF($C34=\"*EOL*\",\"\",INT(LogData!V27))","v":{"$error":"#VALUE!"}},{"$f":"IF($C34=\"*EOL*\",\"\",LogData!V27-A34)","v":{"$error":"#VALUE!"}},{"$f":"LogData!E27","v":0},{"$f":"IF(LEFT($C34,1)=\"*\",\"\",LogData!C27)","v":0},{"$f":"IF(LEFT($C34,1)=\"*\",\"\",LogData!F27)","v":0},{"$f":"IF(LEFT($C34,1)=\"*\",\"\",LogData!D27)","v":0},{"$f":"IF(LEFT($C34,1)=\"*\",\"\",LogData!H27)","v":0},{"$f":"IF(LEFT($C34,1)=\"*\",\"\",LogData!T27*100)","v":0}]
[{"$f":"IF($C35=\"*EOL*\",\"\",INT(LogData!V28))","v":{"$error":"#VALUE!"}},{"$f":"IF($C35=\"*EOL*\",\"\",LogData!V28-A35)","v":{"$error":"#VALUE!"}},{"$f":"LogData!E28","v":0},{"$f":"IF(LEFT($C35,1)=\"*\",\"\",LogData!C28)","v":0},{"$f":"IF(LEFT($C35,1)=\"*\",\"\",LogData!F28)","v":0},{"$f":"IF(LEFT($C35,1)=\"*\",\"\",LogData!D28)","v":0},{"$f":"IF(LEFT($C35,1)=\"*\",\"\",LogData!H28)","v":0},{"$f":"IF(LEFT($C35,1)=\"*\",\"\",LogData!T28*100)","v":0}]
[{"$f":"IF($C36=\"*EOL*\",\"\",INT(LogData!V29))","v":{"$error":"#VALUE!"}},{"$f":"IF($C36=\"*EOL*\",\"\",LogData!V29-A36)","v":{"$error":"#VALUE!"}},{"$f":"LogData!E29","v":0},{"$f":"IF(LEFT($C36,1)=\"*\",\"\",LogData!C29)","v":0},{"$f":"IF(LEFT($C36,1)=\"*\",\"\",LogData!F29)","v":0},{"$f":"IF(LEFT($C36,1)=\"*\",\"\",LogData!D29)","v":0},{"$f":"IF(LEFT($C36,1)=\"*\",\"\",LogData!H29)","v":0},{"$f":"IF(LEFT($C36,1)=\"*\",\"\",LogData!T29*100)","v":0}]
[{"$f":"IF($C37=\"*EOL*\",\"\",INT(LogData!V30))","v":{"$error":"#VALUE!"}},{"$f":"IF($C37=\"*EOL*\",\"\",LogData!V30-A37)","v":{"$error":"#VALUE!"}},{"$f":"LogData!E30","v":0},{"$f":"IF(LEFT($C37,1)=\"*\",\"\",LogData!C30)","v":0},{"$f":"IF(LEFT($C37,1)=\"*\",\"\",LogData!F30)","v":0},{"$f":"IF(LEFT($C37,1)=\"*\",\"\",LogData!D30)","v":0},{"$f":"IF(LEFT($C37,1)=\"*\",\"\",LogData!H30)","v":0},{"$f":"IF(LEFT($C37,1)=\"*\",\"\",LogData!T30*100)","v":0}]
[{"$f":"IF($C38=\"*EOL*\",\"\",INT(LogData!V31))","v":{"$error":"#VALUE!"}},{"$f":"IF($C38=\"*EOL*\",\"\",LogData!V31-A38)","v":{"$error":"#VALUE!"}},{"$f":"LogData!E31","v":0},{"$f":"IF(LEFT($C38,1)=\"*\",\"\",LogData!C31)","v":0},{"$f":"IF(LEFT($C38,1)=\"*\",\"\",LogData!F31)","v":0},{"$f":"IF(LEFT($C38,1)=\"*\",\"\",LogData!D31)","v":0},{"$f":"IF(LEFT($C38,1)=\"*\",\"\",LogData!H31)","v":0},{"$f":"IF(LEFT($C38,1)=\"*\",\"\",LogData!T31*100)","v":0}]
[{"$f":"IF($C39=\"*EOL*\",\"\",INT(LogData!V32))","v":{"$error":"#VALUE!"}},{"$f":"IF($C39=\"*EOL*\",\"\",LogData!V32-A39)","v":{"$error":"#VALUE!"}},{"$f":"LogData!E32","v":0},{"$f":"IF(LEFT($C39,1)=\"*\",\"\",LogData!C32)","v":0},{"$f":"IF(LEFT($C39,1)=\"*\",\"\",LogData!F32)","v":0},{"$f":"IF(LEFT($C39,1)=\"*\",\"\",LogData!D32)","v":0},{"$f":"IF(LEFT($C39,1)=\"*\",\"\",LogData!H32)","v":0},{"$f":"IF(LEFT($C39,1)=\"*\",\"\",LogData!T32*100)","v":0}]
[{"$f":"IF($C40=\"*EOL*\",\"\",INT(LogData!V33))","v":{"$error":"#VALUE!"}},{"$f":"IF($C40=\"*EOL*\",\"\",LogData!V33-A40)","v":{"$error":"#VALUE!"}},{"$f":"LogData!E33","v":0},{"$f":"IF(LEFT($C40,1)=\"*\",\"\",LogData!C33)","v":0},{"$f":"IF(LEFT($C40,1)=\"*\",\"\",LogData!F33)","v":0},{"$f":"IF(LEFT($C40,1)=\"*\",\"\",LogData!D33)","v":0},{"$f":"IF(LEFT($C40,1)=\"*\",\"\",LogData!H33)","v":0},{"$f":"IF(LEFT($C40,1)=\"*\",\"\",LogData!T33*100)","v":0}]
[{"$f":"IF($C41=\"*EOL*\",\"\",INT(LogData!V34))","v":{"$error":"#VALUE!"}},{"$f":"IF($C41=\"*EOL*\",\"\",LogData!V34-A41)","v":{"$error":"#VALUE!"}},{"$f":"LogData!E34","v":0},{"$f":"IF(LEFT($C41,1)=\"*\",\"\",LogData!C34)","v":0},{"$f":"IF(LEFT($C41,1)=\"*\",\"\",LogData!F34)","v":0},{"$f":"IF(LEFT($C41,1)=\"*\",\"\",LogData!D34)","v":0},{"$f":"IF(LEFT($C41,1)=\"*\",\"\",LogData!H34)","v":0},{"$f":"IF(LEFT($C41,1)=\"*\",\"\",LogData!T34*100)","v":0}]
[{"$f":"IF($C42=\"*EOL*\",\"\",INT(LogData!V35))","v":{"$error":"#VALUE!"}},{"$f":"IF($C42=\"*EOL*\",\"\",LogData!V35-A42)","v":{"$error":"#VALUE!"}},{"$f":"LogData!E35","v":0},{"$f":"IF(LEFT($C42,1)=\"*\",\"\",LogData!C35)","v":0},{"$f":"IF(LEFT($C42,1)=\"*\",\"\",LogData!F35)","v":0},{"$f":"IF(LEFT($C42,1)=\"*\",\"\",LogData!D35)","v":0},{"$f":"IF(LEFT($C42,1)=\"*\",\"\",LogData!H35)","v":0},{"$f":"IF(LEFT($C42,1)=\"*\",\"\",LogData!T35*100)","v":0}]
[{"$f":"IF($C43=\"*EOL*\",\"\",INT(LogData!V36))","v":{"$error":"#VALUE!"}},{"$f":"IF($C43=\"*EOL*\",\"\",LogData!V36-A43)","v":{"$error":"#VALUE!"}},{"$f":"LogData!E36","v":0},{"$f":"IF(LEFT($C43,1)=\"*\",\"\",LogData!C36)","v":0},{"$f":"IF(LEFT($C43,1)=\"*\",\"\",LogData!F36)","v":0},{"$f":"IF(LEFT($C43,1)=\"*\",\"\",LogData!D36)","v":0},{"$f":"IF(LEFT($C43,1)=\"*\",\"\",LogData!H36)","v":0},{"$f":"IF(LEFT($C43,1)=\"*\",\"\",LogData!T36*100)","v":0}]
[{"$f":"IF($C44=\"*EOL*\",\"\",INT(LogData!V37))","v":{"$error":"#VALUE!"}},{"$f":"IF($C44=\"*EOL*\",\"\",LogData!V37-A44)","v":{"$error":"#VALUE!"}},{"$f":"LogData!E37","v":0},{"$f":"IF(LEFT($C44,1)=\"*\",\"\",LogData!C37)","v":0},{"$f":"IF(LEFT($C44,1)=\"*\",\"\",LogData!F37)","v":0},{"$f":"IF(LEFT($C44,1)=\"*\",\"\",LogData!D37)","v":0},{"$f":"IF(LEFT($C44,1)=\"*\",\"\",LogData!H37)","v":0},{"$f":"IF(LEFT($C44,1)=\"*\",\"\",LogData!T37*100)","v":0}]
[{"$f":"IF($C45=\"*EOL*\",\"\",INT(LogData!V38))","v":{"$error":"#VALUE!"}},{"$f":"IF($C45=\"*EOL*\",\"\",LogData!V38-A45)","v":{"$error":"#VALUE!"}},{"$f":"LogData!E38","v":0},{"$f":"IF(LEFT($C45,1)=\"*\",\"\",LogData!C38)","v":0},{"$f":"IF(LEFT($C45,1)=\"*\",\"\",LogData!F38)","v":0},{"$f":"IF(LEFT($C45,1)=\"*\",\"\",LogData!D38)","v":0},{"$f":"IF(LEFT($C45,1)=\"*\",\"\",LogData!H38)","v":0},{"$f":"IF(LEFT($C45,1)=\"*\",\"\",LogData!T38*100)","v":0}]
[{"$f":"IF($C46=\"*EOL*\",\"\",INT(LogData!V39))","v":{"$error":"#VALUE!"}},{"$f":"IF($C46=\"*EOL*\",\"\",LogData!V39-A46)","v":{"$error":"#VALUE!"}},{"$f":"LogData!E39","v":0},{"$f":"IF(LEFT($C46,1)=\"*\",\"\",LogData!C39)","v":0},{"$f":"IF(LEFT($C46,1)=\"*\",\"\",LogData!F39)","v":0},{"$f":"IF(LEFT($C46,1)=\"*\",\"\",LogData!D39)","v":0},{"$f":"IF(LEFT($C46,1)=\"*\",\"\",LogData!H39)","v":0},{"$f":"IF(LEFT($C46,1)=\"*\",\"\",LogData!T39*100)","v":0}]
[{"$f":"IF($C47=\"*EOL*\",\"\",INT(LogData!V40))","v":{"$error":"#VALUE!"}},{"$f":"IF($C47=\"*EOL*\",\"\",LogData!V40-A47)","v":{"$error":"#VALUE!"}},{"$f":"LogData!E40","v":0},{"$f":"IF(LEFT($C47,1)=\"*\",\"\",LogData!C40)","v":0},{"$f":"IF(LEFT($C47,1)=\"*\",\"\",LogData!F40)","v":0},{"$f":"IF(LEFT($C47,1)=\"*\",\"\",LogData!D40)","v":0},{"$f":"IF(LEFT($C47,1)=\"*\",\"\",LogData!H40)","v":0},{"$f":"IF(LEFT($C47,1)=\"*\",\"\",LogData!T40*100)","v":0}]
[{"$f":"IF($C48=\"*EOL*\",\"\",INT(LogData!V41))","v":{"$error":"#VALUE!"}},{"$f":"IF($C48=\"*EOL*\",\"\",LogData!V41-A48)","v":{"$error":"#VALUE!"}},{"$f":"LogData!E41","v":0},{"$f":"IF(LEFT($C48,1)=\"*\",\"\",LogData!C41)","v":0},{"$f":"IF(LEFT($C48,1)=\"*\",\"\",LogData!F41)","v":0},{"$f":"IF(LEFT($C48,1)=\"*\",\"\",LogData!D41)","v":0},{"$f":"IF(LEFT($C48,1)=\"*\",\"\",LogData!H41)","v":0},{"$f":"IF(LEFT($C48,1)=\"*\",\"\",LogData!T41*100)","v":0}]
[{"$f":"IF($C49=\"*EOL*\",\"\",INT(LogData!V42))","v":{"$error":"#VALUE!"}},{"$f":"IF($C49=\"*EOL*\",\"\",LogData!V42-A49)","v":{"$error":"#VALUE!"}},{"$f":"LogData!E42","v":0},{"$f":"IF(LEFT($C49,1)=\"*\",\"\",LogData!C42)","v":0},{"$f":"IF(LEFT($C49,1)=\"*\",\"\",LogData!F42)","v":0},{"$f":"IF(LEFT($C49,1)=\"*\",\"\",LogData!D42)","v":0},{"$f":"IF(LEFT($C49,1)=\"*\",\"\",LogData!H42)","v":0},{"$f":"IF(LEFT($C49,1)=\"*\",\"\",LogData!T42*100)","v":0}]
[{"$f":"IF($C50=\"*EOL*\",\"\",INT(LogData!V43))","v":{"$error":"#VALUE!"}},{"$f":"IF($C50=\"*EOL*\",\"\",LogData!V43-A50)","v":{"$error":"#VALUE!"}},{"$f":"LogData!E43","v":0},{"$f":"IF(LEFT($C50,1)=\"*\",\"\",LogData!C43)","v":0},{"$f":"IF(LEFT($C50,1)=\"*\",\"\",LogData!F43)","v":0},{"$f":"IF(LEFT($C50,1)=\"*\",\"\",LogData!D43)","v":0},{"$f":"IF(LEFT($C50,1)=\"*\",\"\",LogData!H43)","v":0},{"$f":"IF(LEFT($C50,1)=\"*\",\"\",LogData!T43*100)","v":0}]
[{"$f":"IF($C51=\"*EOL*\",\"\",INT(LogData!V44))","v":{"$error":"#VALUE!"}},{"$f":"IF($C51=\"*EOL*\",\"\",LogData!V44-A51)","v":{"$error":"#VALUE!"}},{"$f":"LogData!E44","v":0},{"$f":"IF(LEFT($C51,1)=\"*\",\"\",LogData!C44)","v":0},{"$f":"IF(LEFT($C51,1)=\"*\",\"\",LogData!F44)","v":0},{"$f":"IF(LEFT($C51,1)=\"*\",\"\",LogData!D44)","v":0},{"$f":"IF(LEFT($C51,1)=\"*\",\"\",LogData!H44)","v":0},{"$f":"IF(LEFT($C51,1)=\"*\",\"\",LogData!T44*100)","v":0}]
[{"$f":"IF($C52=\"*EOL*\",\"\",INT(LogData!V45))","v":{"$error":"#VALUE!"}},{"$f":"IF($C52=\"*EOL*\",\"\",LogData!V45-A52)","v":{"$error":"#VALUE!"}},{"$f":"LogData!E45","v":0},{"$f":"IF(LEFT($C52,1)=\"*\",\"\",LogData!C45)","v":0},{"$f":"IF(LEFT($C52,1)=\"*\",\"\",LogData!F45)","v":0},{"$f":"IF(LEFT($C52,1)=\"*\",\"\",LogData!D45)","v":0},{"$f":"IF(LEFT($C52,1)=\"*\",\"\",LogData!H45)","v":0},{"$f":"IF(LEFT($C52,1)=\"*\",\"\",LogData!T45*100)","v":0}]
[{"$f":"IF($C53=\"*EOL*\",\"\",INT(LogData!V46))","v":{"$error":"#VALUE!"}},{"$f":"IF($C53=\"*EOL*\",\"\",LogData!V46-A53)","v":{"$error":"#VALUE!"}},{"$f":"LogData!E46","v":0},{"$f":"IF(LEFT($C53,1)=\"*\",\"\",LogData!C46)","v":0},{"$f":"IF(LEFT($C53,1)=\"*\",\"\",LogData!F46)","v":0},{"$f":"IF(LEFT($C53,1)=\"*\",\"\",LogData!D46)","v":0},{"$f":"IF(LEFT($C53,1)=\"*\",\"\",LogData!H46)","v":0},{"$f":"IF(LEFT($C53,1)=\"*\",\"\",LogData!T46*100)","v":0}]
[{"$f":"IF($C54=\"*EOL*\",\"\",INT(LogData!V47))","v":{"$error":"#VALUE!"}},{"$f":"IF($C54=\"*EOL*\",\"\",LogData!V47-A54)","v":{"$error":"#VALUE!"}},{"$f":"LogData!E47","v":0},{"$f":"IF(LEFT($C54,1)=\"*\",\"\",LogData!C47)","v":0},{"$f":"IF(LEFT($C54,1)=\"*\",\"\",LogData!F47)","v":0},{"$f":"IF(LEFT($C54,1)=\"*\",\"\",LogData!D47)","v":0},{"$f":"IF(LEFT($C54,1)=\"*\",\"\",LogData!H47)","v":0},{"$f":"IF(LEFT($C54,1)=\"*\",\"\",LogData!T47*100)","v":0}]
[{"$f":"IF($C55=\"*EOL*\",\"\",INT(LogData!V48))","v":{"$error":"#VALUE!"}},{"$f":"IF($C55=\"*EOL*\",\"\",LogData!V48-A55)","v":{"$error":"#VALUE!"}},{"$f":"LogData!E48","v":0},{"$f":"IF(LEFT($C55,1)=\"*\",\"\",LogData!C48)","v":0},{"$f":"IF(LEFT($C55,1)=\"*\",\"\",LogData!F48)","v":0},{"$f":"IF(LEFT($C55,1)=\"*\",\"\",LogData!D48)","v":0},{"$f":"IF(LEFT($C55,1)=\"*\",\"\",LogData!H48)","v":0},{"$f":"IF(LEFT($C55,1)=\"*\",\"\",LogData!T48*100)","v":0}]
[{"$f":"IF($C56=\"*EOL*\",\"\",INT(LogData!V49))","v":{"$error":"#VALUE!"}},{"$f":"IF($C56=\"*EOL*\",\"\",LogData!V49-A56)","v":{"$error":"#VALUE!"}},{"$f":"LogData!E49","v":0},{"$f":"IF(LEFT($C56,1)=\"*\",\"\",LogData!C49)","v":0},{"$f":"IF(LEFT($C56,1)=\"*\",\"\",LogData!F49)","v":0},{"$f":"IF(LEFT($C56,1)=\"*\",\"\",LogData!D49)","v":0},{"$f":"IF(LEFT($C56,1)=\"*\",\"\",LogData!H49)","v":0},{"$f":"IF(LEFT($C56,1)=\"*\",\"\",LogData!T49*100)","v":0}]
[{"$f":"IF($C57=\"*EOL*\",\"\",INT(LogData!V50))","v":{"$error":"#VALUE!"}},{"$f":"IF($C57=\"*EOL*\",\"\",LogData!V50-A57)","v":{"$error":"#VALUE!"}},{"$f":"LogData!E50","v":0},{"$f":"IF(LEFT($C57,1)=\"*\",\"\",LogData!C50)","v":0},{"$f":"IF(LEFT($C57,1)=\"*\",\"\",LogData!F50)","v":0},{"$f":"IF(LEFT($C57,1)=\"*\",\"\",LogData!D50)","v":0},{"$f":"IF(LEFT($C57,1)=\"*\",\"\",LogData!H50)","v":0},{"$f":"IF(LEFT($C57,1)=\"*\",\"\",LogData!T50*100)","v":0}]
[{"$f":"IF($C58=\"*EOL*\",\"\",INT(LogData!V51))","v":{"$error":"#VALUE!"}},{"$f":"IF($C58=\"*EOL*\",\"\",LogData!V51-A58)","v":{"$error":"#VALUE!"}},{"$f":"LogData!E51","v":0},{"$f":"IF(LEFT($C58,1)=\"*\",\"\",LogData!C51)","v":0},{"$f":"IF(LEFT($C58,1)=\"*\",\"\",LogData!F51)","v":0},{"$f":"IF(LEFT($C58,1)=\"*\",\"\",LogData!D51)","v":0},{"$f":"IF(LEFT($C58,1)=\"*\",\"\",LogData!H51)","v":0},{"$f":"IF(LEFT($C58,1)=\"*\",\"\",LogData!T51*100)","v":0}]
[{"$f":"IF($C59=\"*EOL*\",\"\",INT(LogData!V52))","v":{"$error":"#VALUE!"}},{"$f":"IF($C59=\"*EOL*\",\"\",LogData!V52-A59)","v":{"$error":"#VALUE!"}},{"$f":"LogData!E52","v":0},{"$f":"IF(LEFT($C59,1)=\"*\",\"\",LogData!C52)","v":0},{"$f":"IF(LEFT($C59,1)=\"*\",\"\",LogData!F52)","v":0},{"$f":"IF(LEFT($C59,1)=\"*\",\"\",LogData!D52)","v":0},{"$f":"IF(LEFT($C59,1)=\"*\",\"\",LogData!H52)","v":0},{"$f":"IF(LEFT($C59,1)=\"*\",\"\",LogData!T52*100)","v":0}]
[{"$f":"IF($C60=\"*EOL*\",\"\",INT(LogData!V53))","v":{"$error":"#VALUE!"}},{"$f":"IF($C60=\"*EOL*\",\"\",LogData!V53-A60)","v":{"$error":"#VALUE!"}},{"$f":"LogData!E53","v":0},{"$f":"IF(LEFT($C60,1)=\"*\",\"\",LogData!C53)","v":0},{"$f":"IF(LEFT($C60,1)=\"*\",\"\",LogData!F53)","v":0},{"$f":"IF(LEFT($C60,1)=\"*\",\"\",LogData!D53)","v":0},{"$f":"IF(LEFT($C60,1)=\"*\",\"\",LogData!H53)","v":0},{"$f":"IF(LEFT($C60,1)=\"*\",\"\",LogData!T53*100)","v":0}]
[{"$f":"IF($C61=\"*EOL*\",\"\",INT(LogData!V54))","v":{"$error":"#VALUE!"}},{"$f":"IF($C61=\"*EOL*\",\"\",LogData!V54-A61)","v":{"$error":"#VALUE!"}},{"$f":"LogData!E54","v":0},{"$f":"IF(LEFT($C61,1)=\"*\",\"\",LogData!C54)","v":0},{"$f":"IF(LEFT($C61,1)=\"*\",\"\",LogData!F54)","v":0},{"$f":"IF(LEFT($C61,1)=\"*\",\"\",LogData!D54)","v":0},{"$f":"IF(LEFT($C61,1)=\"*\",\"\",LogData!H54)","v":0},{"$f":"IF(LEFT($C61,1)=\"*\",\"\",LogData!T54*100)","v":0}]
[{"$f":"IF($C62=\"*EOL*\",\"\",INT(LogData!V55))","v":{"$error":"#VALUE!"}},{"$f":"IF($C62=\"*EOL*\",\"\",LogData!V55-A62)","v":{"$error":"#VALUE!"}},{"$f":"LogData!E55","v":0},{"$f":"IF(LEFT($C62,1)=\"*\",\"\",LogData!C55)","v":0},{"$f":"IF(LEFT($C62,1)=\"*\",\"\",LogData!F55)","v":0},{"$f":"IF(LEFT($C62,1)=\"*\",\"\",LogData!D55)","v":0},{"$f":"IF(LEFT($C62,1)=\"*\",\"\",LogData!H55)","v":0},{"$f":"IF(LEFT($C62,1)=\"*\",\"\",LogData!T55*100)","v":0}]
[{"$f":"IF($C63=\"*EOL*\",\"\",INT(LogData!V56))","v":{"$error":"#VALUE!"}},{"$f":"IF($C63=\"*EOL*\",\"\",LogData!V56-A63)","v":{"$error":"#VALUE!"}},{"$f":"LogData!E56","v":0},{"$f":"IF(LEFT($C63,1)=\"*\",\"\",LogData!C56)","v":0},{"$f":"IF(LEFT($C63,1)=\"*\",\"\",LogData!F56)","v":0},{"$f":"IF(LEFT($C63,1)=\"*\",\"\",LogData!D56)","v":0},{"$f":"IF(LEFT($C63,1)=\"*\",\"\",LogData!H56)","v":0},{"$f":"IF(LEFT($C63,1)=\"*\",\"\",LogData!T56*100)","v":0}]
[{"$f":"IF($C64=\"*EOL*\",\"\",INT(LogData!V57))","v":{"$error":"#VALUE!"}},{"$f":"IF($C64=\"*EOL*\",\"\",LogData!V57-A64)","v":{"$error":"#VALUE!"}},{"$f":"LogData!E57","v":0},{"$f":"IF(LEFT($C64,1)=\"*\",\"\",LogData!C57)","v":0},{"$f":"IF(LEFT($C64,1)=\"*\",\"\",LogData!F57)","v":0},{"$f":"IF(LEFT($C64,1)=\"*\",\"\",LogData!D57)","v":0},{"$f":"IF(LEFT($C64,1)=\"*\",\"\",LogData!H57)","v":0},{"$f":"IF(LEFT($C64,1)=\"*\",\"\",LogData!T57*100)","v":0}]
[{"$f":"IF($C65=\"*EOL*\",\"\",INT(LogData!V58))","v":{"$error":"#VALUE!"}},{"$f":"IF($C65=\"*EOL*\",\"\",LogData!V58-A65)","v":{"$error":"#VALUE!"}},{"$f":"LogData!E58","v":0},{"$f":"IF(LEFT($C65,1)=\"*\",\"\",LogData!C58)","v":0},{"$f":"IF(LEFT($C65,1)=\"*\",\"\",LogData!F58)","v":0},{"$f":"IF(LEFT($C65,1)=\"*\",\"\",LogData!D58)","v":0},{"$f":"IF(LEFT($C65,1)=\"*\",\"\",LogData!H58)","v":0},{"$f":"IF(LEFT($C65,1)=\"*\",\"\",LogData!T58*100)","v":0}]
[{"$f":"IF($C66=\"*EOL*\",\"\",INT(LogData!V59))","v":{"$error":"#VALUE!"}},{"$f":"IF($C66=\"*EOL*\",\"\",LogData!V59-A66)","v":{"$error":"#VALUE!"}},{"$f":"LogData!E59","v":0},{"$f":"IF(LEFT($C66,1)=\"*\",\"\",LogData!C59)","v":0},{"$f":"IF(LEFT($C66,1)=\"*\",\"\",LogData!F59)","v":0},{"$f":"IF(LEFT($C66,1)=\"*\",\"\",LogData!D59)","v":0},{"$f":"IF(LEFT($C66,1)=\"*\",\"\",LogData!H59)","v":0},{"$f":"IF(LEFT($C66,1)=\"*\",\"\",LogData!T59*100)","v":0}]
[{"$f":"IF($C67=\"*EOL*\",\"\",INT(LogData!V60))","v":{"$error":"#VALUE!"}},{"$f":"IF($C67=\"*EOL*\",\"\",LogData!V60-A67)","v":{"$error":"#VALUE!"}},{"$f":"LogData!E60","v":0},{"$f":"IF(LEFT($C67,1)=\"*\",\"\",LogData!C60)","v":0},{"$f":"IF(LEFT($C67,1)=\"*\",\"\",LogData!F60)","v":0},{"$f":"IF(LEFT($C67,1)=\"*\",\"\",LogData!D60)","v":0},{"$f":"IF(LEFT($C67,1)=\"*\",\"\",LogData!H60)","v":0},{"$f":"IF(LEFT($C67,1)=\"*\",\"\",LogData!T60*100)","v":0}]
[{"$f":"IF($C68=\"*EOL*\",\"\",INT(LogData!V61))","v":{"$error":"#VALUE!"}},{"$f":"IF($C68=\"*EOL*\",\"\",LogData!V61-A68)","v":{"$error":"#VALUE!"}},{"$f":"LogData!E61","v":0},{"$f":"IF(LEFT($C68,1)=\"*\",\"\",LogData!C61)","v":0},{"$f":"IF(LEFT($C68,1)=\"*\",\"\",LogData!F61)","v":0},{"$f":"IF(LEFT($C68,1)=\"*\",\"\",LogData!D61)","v":0},{"$f":"IF(LEFT($C68,1)=\"*\",\"\",LogData!H61)","v":0},{"$f":"IF(LEFT($C68,1)=\"*\",\"\",LogData!T61*100)","v":0}]
[{"$f":"IF($C69=\"*EOL*\",\"\",INT(LogData!V62))","v":{"$error":"#VALUE!"}},{"$f":"IF($C69=\"*EOL*\",\"\",LogData!V62-A69)","v":{"$error":"#VALUE!"}},{"$f":"LogData!E62","v":0},{"$f":"IF(LEFT($C69,1)=\"*\",\"\",LogData!C62)","v":0},{"$f":"IF(LEFT($C69,1)=\"*\",\"\",LogData!F62)","v":0},{"$f":"IF(LEFT($C69,1)=\"*\",\"\",LogData!D62)","v":0},{"$f":"IF(LEFT($C69,1)=\"*\",\"\",LogData!H62)","v":0},{"$f":"IF(LEFT($C69,1)=\"*\",\"\",LogData!T62*100)","v":0}]
[{"$f":"IF($C70=\"*EOL*\",\"\",INT(LogData!V63))","v":{"$error":"#VALUE!"}},{"$f":"IF($C70=\"*EOL*\",\"\",LogData!V63-A70)","v":{"$error":"#VALUE!"}},{"$f":"LogData!E63","v":0},{"$f":"IF(LEFT($C70,1)=\"*\",\"\",LogData!C63)","v":0},{"$f":"IF(LEFT($C70,1)=\"*\",\"\",LogData!F63)","v":0},{"$f":"IF(LEFT($C70,1)=\"*\",\"\",LogData!D63)","v":0},{"$f":"IF(LEFT($C70,1)=\"*\",\"\",LogData!H63)","v":0},{"$f":"IF(LEFT($C70,1)=\"*\",\"\",LogData!T63*100)","v":0}]
[{"$f":"IF($C71=\"*EOL*\",\"\",INT(LogData!V64))","v":{"$error":"#VALUE!"}},{"$f":"IF($C71=\"*EOL*\",\"\",LogData!V64-A71)","v":{"$error":"#VALUE!"}},{"$f":"LogData!E64","v":0},{"$f":"IF(LEFT($C71,1)=\"*\",\"\",LogData!C64)","v":0},{"$f":"IF(LEFT($C71,1)=\"*\",\"\",LogData!F64)","v":0},{"$f":"IF(LEFT($C71,1)=\"*\",\"\",LogData!D64)","v":0},{"$f":"IF(LEFT($C71,1)=\"*\",\"\",LogData!H64)","v":0},{"$f":"IF(LEFT($C71,1)=\"*\",\"\",LogData!T64*100)","v":0}]
[{"$f":"IF($C72=\"*EOL*\",\"\",INT(LogData!V65))","v":{"$error":"#VALUE!"}},{"$f":"IF($C72=\"*EOL*\",\"\",LogData!V65-A72)","v":{"$error":"#VALUE!"}},{"$f":"LogData!E65","v":0},{"$f":"IF(LEFT($C72,1)=\"*\",\"\",LogData!C65)","v":0},{"$f":"IF(LEFT($C72,1)=\"*\",\"\",LogData!F65)","v":0},{"$f":"IF(LEFT($C72,1)=\"*\",\"\",LogData!D65)","v":0},{"$f":"IF(LEFT($C72,1)=\"*\",\"\",LogData!H65)","v":0},{"$f":"IF(LEFT($C72,1)=\"*\",\"\",LogData!T65*100)","v":0}]
[{"$f":"IF($C73=\"*EOL*\",\"\",INT(LogData!V66))","v":{"$error":"#VALUE!"}},{"$f":"IF($C73=\"*EOL*\",\"\",LogData!V66-A73)","v":{"$error":"#VALUE!"}},{"$f":"LogData!E66","v":0},{"$f":"IF(LEFT($C73,1)=\"*\",\"\",LogData!C66)","v":0},{"$f":"IF(LEFT($C73,1)=\"*\",\"\",LogData!F66)","v":0},{"$f":"IF(LEFT($C73,1)=\"*\",\"\",LogData!D66)","v":0},{"$f":"IF(LEFT($C73,1)=\"*\",\"\",LogData!H66)","v":0},{"$f":"IF(LEFT($C73,1)=\"*\",\"\",LogData!T66*100)","v":0}]
[{"$f":"IF($C74=\"*EOL*\",\"\",INT(LogData!V67))","v":{"$error":"#VALUE!"}},{"$f":"IF($C74=\"*EOL*\",\"\",LogData!V67-A74)","v":{"$error":"#VALUE!"}},{"$f":"LogData!E67","v":0},{"$f":"IF(LEFT($C74,1)=\"*\",\"\",LogData!C67)","v":0},{"$f":"IF(LEFT($C74,1)=\"*\",\"\",LogData!F67)","v":0},{"$f":"IF(LEFT($C74,1)=\"*\",\"\",LogData!D67)","v":0},{"$f":"IF(LEFT($C74,1)=\"*\",\"\",LogData!H67)","v":0},{"$f":"IF(LEFT($C74,1)=\"*\",\"\",LogData!T67*100)","v":0}]
[{"$f":"IF($C75=\"*EOL*\",\"\",INT(LogData!V68))","v":{"$error":"#VALUE!"}},{"$f":"IF($C75=\"*EOL*\",\"\",LogData!V68-A75)","v":{"$error":"#VALUE!"}},{"$f":"LogData!E68","v":0},{"$f":"IF(LEFT($C75,1)=\"*\",\"\",LogData!C68)","v":0},{"$f":"IF(LEFT($C75,1)=\"*\",\"\",LogData!F68)","v":0},{"$f":"IF(LEFT($C75,1)=\"*\",\"\",LogData!D68)","v":0},{"$f":"IF(LEFT($C75,1)=\"*\",\"\",LogData!H68)","v":0},{"$f":"IF(LEFT($C75,1)=\"*\",\"\",LogData!T68*100)","v":0}]
[{"$f":"IF($C76=\"*EOL*\",\"\",INT(LogData!V69))","v":{"$error":"#VALUE!"}},{"$f":"IF($C76=\"*EOL*\",\"\",LogData!V69-A76)","v":{"$error":"#VALUE!"}},{"$f":"LogData!E69","v":0},{"$f":"IF(LEFT($C76,1)=\"*\",\"\",LogData!C69)","v":0},{"$f":"IF(LEFT($C76,1)=\"*\",\"\",LogData!F69)","v":0},{"$f":"IF(LEFT($C76,1)=\"*\",\"\",LogData!D69)","v":0},{"$f":"IF(LEFT($C76,1)=\"*\",\"\",LogData!H69)","v":0},{"$f":"IF(LEFT($C76,1)=\"*\",\"\",LogData!T69*100)","v":0}]
[{"$f":"IF($C77=\"*EOL*\",\"\",INT(LogData!V70))","v":{"$error":"#VALUE!"}},{"$f":"IF($C77=\"*EOL*\",\"\",LogData!V70-A77)","v":{"$error":"#VALUE!"}},{"$f":"LogData!E70","v":0},{"$f":"IF(LEFT($C77,1)=\"*\",\"\",LogData!C70)","v":0},{"$f":"IF(LEFT($C77,1)=\"*\",\"\",LogData!F70)","v":0},{"$f":"IF(LEFT($C77,1)=\"*\",\"\",LogData!D70)","v":0},{"$f":"IF(LEFT($C77,1)=\"*\",\"\",LogData!H70)","v":0},{"$f":"IF(LEFT($C77,1)=\"*\",\"\",LogData!T70*100)","v":0}]
[{"$f":"IF($C78=\"*EOL*\",\"\",INT(LogData!V71))","v":{"$error":"#VALUE!"}},{"$f":"IF($C78=\"*EOL*\",\"\",LogData!V71-A78)","v":{"$error":"#VALUE!"}},{"$f":"LogData!E71","v":0},{"$f":"IF(LEFT($C78,1)=\"*\",\"\",LogData!C71)","v":0},{"$f":"IF(LEFT($C78,1)=\"*\",\"\",LogData!F71)","v":0},{"$f":"IF(LEFT($C78,1)=\"*\",\"\",LogData!D71)","v":0},{"$f":"IF(LEFT($C78,1)=\"*\",\"\",LogData!H71)","v":0},{"$f":"IF(LEFT($C78,1)=\"*\",\"\",LogData!T71*100)","v":0}]
[{"$f":"IF($C79=\"*EOL*\",\"\",INT(LogData!V72))","v":{"$error":"#VALUE!"}},{"$f":"IF($C79=\"*EOL*\",\"\",LogData!V72-A79)","v":{"$error":"#VALUE!"}},{"$f":"LogData!E72","v":0},{"$f":"IF(LEFT($C79,1)=\"*\",\"\",LogData!C72)","v":0},{"$f":"IF(LEFT($C79,1)=\"*\",\"\",LogData!F72)","v":0},{"$f":"IF(LEFT($C79,1)=\"*\",\"\",LogData!D72)","v":0},{"$f":"IF(LEFT($C79,1)=\"*\",\"\",LogData!H72)","v":0},{"$f":"IF(LEFT($C79,1)=\"*\",\"\",LogData!T72*100)","v":0}]
[{"$f":"IF($C80=\"*EOL*\",\"\",INT(LogData!V73))","v":{"$error":"#VALUE!"}},{"$f":"IF($C80=\"*EOL*\",\"\",LogData!V73-A80)","v":{"$error":"#VALUE!"}},{"$f":"LogData!E73","v":0},{"$f":"IF(LEFT($C80,1)=\"*\",\"\",LogData!C73)","v":0},{"$f":"IF(LEFT($C80,1)=\"*\",\"\",LogData!F73)","v":0},{"$f":"IF(LEFT($C80,1)=\"*\",\"\",LogData!D73)","v":0},{"$f":"IF(LEFT($C80,1)=\"*\",\"\",LogData!H73)","v":0},{"$f":"IF(LEFT($C80,1)=\"*\",\"\",LogData!T73*100)","v":0}]
[{"$f":"IF($C81=\"*EOL*\",\"\",INT(LogData!V74))","v":{"$error":"#VALUE!"}},{"$f":"IF($C81=\"*EOL*\",\"\",LogData!V74-A81)","v":{"$error":"#VALUE!"}},{"$f":"LogData!E74","v":0},{"$f":"IF(LEFT($C81,1)=\"*\",\"\",LogData!C74)","v":0},{"$f":"IF(LEFT($C81,1)=\"*\",\"\",LogData!F74)","v":0},{"$f":"IF(LEFT($C81,1)=\"*\",\"\",LogData!D74)","v":0},{"$f":"IF(LEFT($C81,1)=\"*\",\"\",LogData!H74)","v":0},{"$f":"IF(LEFT($C81,1)=\"*\",\"\",LogData!T74*100)","v":0}]
[{"$f":"IF($C82=\"*EOL*\",\"\",INT(LogData!V75))","v":{"$error":"#VALUE!"}},{"$f":"IF($C82=\"*EOL*\",\"\",LogData!V75-A82)","v":{"$error":"#VALUE!"}},{"$f":"LogData!E75","v":0},{"$f":"IF(LEFT($C82,1)=\"*\",\"\",LogData!C75)","v":0},{"$f":"IF(LEFT($C82,1)=\"*\",\"\",LogData!F75)","v":0},{"$f":"IF(LEFT($C82,1)=\"*\",\"\",LogData!D75)","v":0},{"$f":"IF(LEFT($C82,1)=\"*\",\"\",LogData!H75)","v":0},{"$f":"IF(LEFT($C82,1)=\"*\",\"\",LogData!T75*100)","v":0}]
[{"$f":"IF($C83=\"*EOL*\",\"\",INT(LogData!V76))","v":{"$error":"#VALUE!"}},{"$f":"IF($C83=\"*EOL*\",\"\",LogData!V76-A83)","v":{"$error":"#VALUE!"}},{"$f":"LogData!E76","v":0},{"$f":"IF(LEFT($C83,1)=\"*\",\"\",LogData!C76)","v":0},{"$f":"IF(LEFT($C83,1)=\"*\",\"\",LogData!F76)","v":0},{"$f":"IF(LEFT($C83,1)=\"*\",\"\",LogData!D76)","v":0},{"$f":"IF(LEFT($C83,1)=\"*\",\"\",LogData!H76)","v":0},{"$f":"IF(LEFT($C83,1)=\"*\",\"\",LogData!T76*100)","v":0}]
[{"$f":"IF($C84=\"*EOL*\",\"\",INT(LogData!V77))","v":{"$error":"#VALUE!"}},{"$f":"IF($C84=\"*EOL*\",\"\",LogData!V77-A84)","v":{"$error":"#VALUE!"}},{"$f":"LogData!E77","v":0},{"$f":"IF(LEFT($C84,1)=\"*\",\"\",LogData!C77)","v":0},{"$f":"IF(LEFT($C84,1)=\"*\",\"\",LogData!F77)","v":0},{"$f":"IF(LEFT($C84,1)=\"*\",\"\",LogData!D77)","v":0},{"$f":"IF(LEFT($C84,1)=\"*\",\"\",LogData!H77)","v":0},{"$f":"IF(LEFT($C84,1)=\"*\",\"\",LogData!T77*100)","v":0}]
[{"$f":"IF($C85=\"*EOL*\",\"\",INT(LogData!V78))","v":{"$error":"#VALUE!"}},{"$f":"IF($C85=\"*EOL*\",\"\",LogData!V78-A85)","v":{"$error":"#VALUE!"}},{"$f":"LogData!E78","v":0},{"$f":"IF(LEFT($C85,1)=\"*\",\"\",LogData!C78)","v":0},{"$f":"IF(LEFT($C85,1)=\"*\",\"\",LogData!F78)","v":0},{"$f":"IF(LEFT($C85,1)=\"*\",\"\",LogData!D78)","v":0},{"$f":"IF(LEFT($C85,1)=\"*\",\"\",LogData!H78)","v":0},{"$f":"IF(LEFT($C85,1)=\"*\",\"\",LogData!T78*100)","v":0}]
[{"$f":"IF($C86=\"*EOL*\",\"\",INT(LogData!V79))","v":{"$error":"#VALUE!"}},{"$f":"IF($C86=\"*EOL*\",\"\",LogData!V79-A86)","v":{"$error":"#VALUE!"}},{"$f":"LogData!E79","v":0},{"$f":"IF(LEFT($C86,1)=\"*\",\"\",LogData!C79)","v":0},{"$f":"IF(LEFT($C86,1)=\"*\",\"\",LogData!F79)","v":0},{"$f":"IF(LEFT($C86,1)=\"*\",\"\",LogData!D79)","v":0},{"$f":"IF(LEFT($C86,1)=\"*\",\"\",LogData!H79)","v":0},{"$f":"IF(LEFT($C86,1)=\"*\",\"\",LogData!T79*100)","v":0}]
[{"$f":"IF($C87=\"*EOL*\",\"\",INT(LogData!V80))","v":{"$error":"#VALUE!"}},{"$f":"IF($C87=\"*EOL*\",\"\",LogData!V80-A87)","v":{"$error":"#VALUE!"}},{"$f":"LogData!E80","v":0},{"$f":"IF(LEFT($C87,1)=\"*\",\"\",LogData!C80)","v":0},{"$f":"IF(LEFT($C87,1)=\"*\",\"\",LogData!F80)","v":0},{"$f":"IF(LEFT($C87,1)=\"*\",\"\",LogData!D80)","v":0},{"$f":"IF(LEFT($C87,1)=\"*\",\"\",LogData!H80)","v":0},{"$f":"IF(LEFT($C87,1)=\"*\",\"\",LogData!T80*100)","v":0}]
[{"$f":"IF($C88=\"*EOL*\",\"\",INT(LogData!V81))","v":{"$error":"#VALUE!"}},{"$f":"IF($C88=\"*EOL*\",\"\",LogData!V81-A88)","v":{"$error":"#VALUE!"}},{"$f":"LogData!E81","v":0},{"$f":"IF(LEFT($C88,1)=\"*\",\"\",LogData!C81)","v":0},{"$f":"IF(LEFT($C88,1)=\"*\",\"\",LogData!F81)","v":0},{"$f":"IF(LEFT($C88,1)=\"*\",\"\",LogData!D81)","v":0},{"$f":"IF(LEFT($C88,1)=\"*\",\"\",LogData!H81)","v":0},{"$f":"IF(LEFT($C88,1)=\"*\",\"\",LogData!T81*100)","v":0}]
[{"$f":"IF($C89=\"*EOL*\",\"\",INT(LogData!V82))","v":{"$error":"#VALUE!"}},{"$f":"IF($C89=\"*EOL*\",\"\",LogData!V82-A89)","v":{"$error":"#VALUE!"}},{"$f":"LogData!E82","v":0},{"$f":"IF(LEFT($C89,1)=\"*\",\"\",LogData!C82)","v":0},{"$f":"IF(LEFT($C89,1)=\"*\",\"\",LogData!F82)","v":0},{"$f":"IF(LEFT($C89,1)=\"*\",\"\",LogData!D82)","v":0},{"$f":"IF(LEFT($C89,1)=\"*\",\"\",LogData!H82)","v":0},{"$f":"IF(LEFT($C89,1)=\"*\",\"\",LogData!T82*100)","v":0}]
[{"$f":"IF($C90=\"*EOL*\",\"\",INT(LogData!V83))","v":{"$error":"#VALUE!"}},{"$f":"IF($C90=\"*EOL*\",\"\",LogData!V83-A90)","v":{"$error":"#VALUE!"}},{"$f":"LogData!E83","v":0},{"$f":"IF(LEFT($C90,1)=\"*\",\"\",LogData!C83)","v":0},{"$f":"IF(LEFT($C90,1)=\"*\",\"\",LogData!F83)","v":0},{"$f":"IF(LEFT($C90,1)=\"*\",\"\",LogData!D83)","v":0},{"$f":"IF(LEFT($C90,1)=\"*\",\"\",LogData!H83)","v":0},{"$f":"IF(LEFT($C90,1)=\"*\",\"\",LogData!T83*100)","v":0}]
[{"$f":"IF($C91=\"*EOL*\",\"\",INT(LogData!V84))","v":{"$error":"#VALUE!"}},{"$f":"IF($C91=\"*EOL*\",\"\",LogData!V84-A91)","v":{"$error":"#VALUE!"}},{"$f":"LogData!E84","v":0},{"$f":"IF(LEFT($C91,1)=\"*\",\"\",LogData!C84)","v":0},{"$f":"IF(LEFT($C91,1)=\"*\",\"\",LogData!F84)","v":0},{"$f":"IF(LEFT($C91,1)=\"*\",\"\",LogData!D84)","v":0},{"$f":"IF(LEFT($C91,1)=\"*\",\"\",LogData!H84)","v":0},{"$f":"IF(LEFT($C91,1)=\"*\",\"\",LogData!T84*100)","v":0}]
[{"$f":"IF($C92=\"*EOL*\",\"\",INT(LogData!V85))","v":{"$error":"#VALUE!"}},{"$f":"IF($C92=\"*EOL*\",\"\",LogData!V85-A92)","v":{"$error":"#VALUE!"}},{"$f":"LogData!E85","v":0},{"$f":"IF(LEFT($C92,1)=\"*\",\"\",LogData!C85)","v":0},{"$f":"IF(LEFT($C92,1)=\"*\",\"\",LogData!F85)","v":0},{"$f":"IF(LEFT($C92,1)=\"*\",\"\",LogData!D85)","v":0},{"$f":"IF(LEFT($C92,1)=\"*\",\"\",LogData!H85)","v":0},{"$f":"IF(LEFT($C92,1)=\"*\",\"\",LogData!T85*100)","v":0}]
[{"$f":"IF($C93=\"*EOL*\",\"\",INT(LogData!V86))","v":{"$error":"#VALUE!"}},{"$f":"IF($C93=\"*EOL*\",\"\",LogData!V86-A93)","v":{"$error":"#VALUE!"}},{"$f":"LogData!E86","v":0},{"$f":"IF(LEFT($C93,1)=\"*\",\"\",LogData!C86)","v":0},{"$f":"IF(LEFT($C93,1)=\"*\",\"\",LogData!F86)","v":0},{"$f":"IF(LEFT($C93,1)=\"*\",\"\",LogData!D86)","v":0},{"$f":"IF(LEFT($C93,1)=\"*\",\"\",LogData!H86)","v":0},{"$f":"IF(LEFT($C93,1)=\"*\",\"\",LogData!T86*100)","v":0}]
[{"$f":"IF($C94=\"*EOL*\",\"\",INT(LogData!V87))","v":{"$error":"#VALUE!"}},{"$f":"IF($C94=\"*EOL*\",\"\",LogData!V87-A94)","v":{"$error":"#VALUE!"}},{"$f":"LogData!E87","v":0},{"$f":"IF(LEFT($C94,1)=\"*\",\"\",LogData!C87)","v":0},{"$f":"IF(LEFT($C94,1)=\"*\",\"\",LogData!F87)","v":0},{"$f":"IF(LEFT($C94,1)=\"*\",\"\",LogData!D87)","v":0},{"$f":"IF(LEFT($C94,1)=\"*\",\"\",LogData!H87)","v":0},{"$f":"IF(LEFT($C94,1)=\"*\",\"\",LogData!T87*100)","v":0}]
[{"$f":"IF($C95=\"*EOL*\",\"\",INT(LogData!V88))","v":{"$error":"#VALUE!"}},{"$f":"IF($C95=\"*EOL*\",\"\",LogData!V88-A95)","v":{"$error":"#VALUE!"}},{"$f":"LogData!E88","v":0},{"$f":"IF(LEFT($C95,1)=\"*\",\"\",LogData!C88)","v":0},{"$f":"IF(LEFT($C95,1)=\"*\",\"\",LogData!F88)","v":0},{"$f":"IF(LEFT($C95,1)=\"*\",\"\",LogData!D88)","v":0},{"$f":"IF(LEFT($C95,1)=\"*\",\"\",LogData!H88)","v":0},{"$f":"IF(LEFT($C95,1)=\"*\",\"\",LogData!T88*100)","v":0}]
[{"$f":"IF($C96=\"*EOL*\",\"\",INT(LogData!V89))","v":{"$error":"#VALUE!"}},{"$f":"IF($C96=\"*EOL*\",\"\",LogData!V89-A96)","v":{"$error":"#VALUE!"}},{"$f":"LogData!E89","v":0},{"$f":"IF(LEFT($C96,1)=\"*\",\"\",LogData!C89)","v":0},{"$f":"IF(LEFT($C96,1)=\"*\",\"\",LogData!F89)","v":0},{"$f":"IF(LEFT($C96,1)=\"*\",\"\",LogData!D89)","v":0},{"$f":"IF(LEFT($C96,1)=\"*\",\"\",LogData!H89)","v":0},{"$f":"IF(LEFT($C96,1)=\"*\",\"\",LogData!T89*100)","v":0}]
[{"$f":"IF($C97=\"*EOL*\",\"\",INT(LogData!V90))","v":{"$error":"#VALUE!"}},{"$f":"IF($C97=\"*EOL*\",\"\",LogData!V90-A97)","v":{"$error":"#VALUE!"}},{"$f":"LogData!E90","v":0},{"$f":"IF(LEFT($C97,1)=\"*\",\"\",LogData!C90)","v":0},{"$f":"IF(LEFT($C97,1)=\"*\",\"\",LogData!F90)","v":0},{"$f":"IF(LEFT($C97,1)=\"*\",\"\",LogData!D90)","v":0},{"$f":"IF(LEFT($C97,1)=\"*\",\"\",LogData!H90)","v":0},{"$f":"IF(LEFT($C97,1)=\"*\",\"\",LogData!T90*100)","v":0}]
[{"$f":"IF($C98=\"*EOL*\",\"\",INT(LogData!V91))","v":{"$error":"#VALUE!"}},{"$f":"IF($C98=\"*EOL*\",\"\",LogData!V91-A98)","v":{"$error":"#VALUE!"}},{"$f":"LogData!E91","v":0},{"$f":"IF(LEFT($C98,1)=\"*\",\"\",LogData!C91)","v":0},{"$f":"IF(LEFT($C98,1)=\"*\",\"\",LogData!F91)","v":0},{"$f":"IF(LEFT($C98,1)=\"*\",\"\",LogData!D91)","v":0},{"$f":"IF(LEFT($C98,1)=\"*\",\"\",LogData!H91)","v":0},{"$f":"IF(LEFT($C98,1)=\"*\",\"\",LogData!T91*100)","v":0}]
[{"$f":"IF($C99=\"*EOL*\",\"\",INT(LogData!V92))","v":{"$error":"#VALUE!"}},{"$f":"IF($C99=\"*EOL*\",\"\",LogData!V92-A99)","v":{"$error":"#VALUE!"}},{"$f":"LogData!E92","v":0},{"$f":"IF(LEFT($C99,1)=\"*\",\"\",LogData!C92)","v":0},{"$f":"IF(LEFT($C99,1)=\"*\",\"\",LogData!F92)","v":0},{"$f":"IF(LEFT($C99,1)=\"*\",\"\",LogData!D92)","v":0},{"$f":"IF(LEFT($C99,1)=\"*\",\"\",LogData!H92)","v":0},{"$f":"IF(LEFT($C99,1)=\"*\",\"\",LogData!T92*100)","v":0}]
[{"$f":"IF($C100=\"*EOL*\",\"\",INT(LogData!V93))","v":{"$error":"#VALUE!"}},{"$f":"IF($C100=\"*EOL*\",\"\",LogData!V93-A100)","v":{"$error":"#VALUE!"}},{"$f":"LogData!E93","v":0},{"$f":"IF(LEFT($C100,1)=\"*\",\"\",LogData!C93)","v":0},{"$f":"IF(LEFT($C100,1)=\"*\",\"\",LogData!F93)","v":0},{"$f":"IF(LEFT($C100,1)=\"*\",\"\",LogData!D93)","v":0},{"$f":"IF(LEFT($C100,1)=\"*\",\"\",LogData!H93)","v":0},{"$f":"IF(LEFT($C100,1)=\"*\",\"\",LogData!T93*100)","v":0}]
[{"$f":"IF($C101=\"*EOL*\",\"\",INT(LogData!V94))","v":{"$error":"#VALUE!"}},{"$f":"IF($C101=\"*EOL*\",\"\",LogData!V94-A101)","v":{"$error":"#VALUE!"}},{"$f":"LogData!E94","v":0},{"$f":"IF(LEFT($C101,1)=\"*\",\"\",LogData!C94)","v":0},{"$f":"IF(LEFT($C101,1)=\"*\",\"\",LogData!F94)","v":0},{"$f":"IF(LEFT($C101,1)=\"*\",\"\",LogData!D94)","v":0},{"$f":"IF(LEFT($C101,1)=\"*\",\"\",LogData!H94)","v":0},{"$f":"IF(LEFT($C101,1)=\"*\",\"\",LogData!T94*100)","v":0}]
[{"$f":"IF($C102=\"*EOL*\",\"\",INT(LogData!V95))","v":{"$error":"#VALUE!"}},{"$f":"IF($C102=\"*EOL*\",\"\",LogData!V95-A102)","v":{"$error":"#VALUE!"}},{"$f":"LogData!E95","v":0},{"$f":"IF(LEFT($C102,1)=\"*\",\"\",LogData!C95)","v":0},{"$f":"IF(LEFT($C102,1)=\"*\",\"\",LogData!F95)","v":0},{"$f":"IF(LEFT($C102,1)=\"*\",\"\",LogData!D95)","v":0},{"$f":"IF(LEFT($C102,1)=\"*\",\"\",LogData!H95)","v":0},{"$f":"IF(LEFT($C102,1)=\"*\",\"\",LogData!T95*100)","v":0}]
[{"$f":"IF($C103=\"*EOL*\",\"\",INT(LogData!V96))","v":{"$error":"#VALUE!"}},{"$f":"IF($C103=\"*EOL*\",\"\",LogData!V96-A103)","v":{"$error":"#VALUE!"}},{"$f":"LogData!E96","v":0},{"$f":"IF(LEFT($C103,1)=\"*\",\"\",LogData!C96)","v":0},{"$f":"IF(LEFT($C103,1)=\"*\",\"\",LogData!F96)","v":0},{"$f":"IF(LEFT($C103,1)=\"*\",\"\",LogData!D96)","v":0},{"$f":"IF(LEFT($C103,1)=\"*\",\"\",LogData!H96)","v":0},{"$f":"IF(LEFT($C103,1)=\"*\",\"\",LogData!T96*100)","v":0}]
[{"$f":"IF($C104=\"*EOL*\",\"\",INT(LogData!V97))","v":{"$error":"#VALUE!"}},{"$f":"IF($C104=\"*EOL*\",\"\",LogData!V97-A104)","v":{"$error":"#VALUE!"}},{"$f":"LogData!E97","v":0},{"$f":"IF(LEFT($C104,1)=\"*\",\"\",LogData!C97)","v":0},{"$f":"IF(LEFT($C104,1)=\"*\",\"\",LogData!F97)","v":0},{"$f":"IF(LEFT($C104,1)=\"*\",\"\",LogData!D97)","v":0},{"$f":"IF(LEFT($C104,1)=\"*\",\"\",LogData!H97)","v":0},{"$f":"IF(LEFT($C104,1)=\"*\",\"\",LogData!T97*100)","v":0}]
[{"$f":"IF($C105=\"*EOL*\",\"\",INT(LogData!V98))","v":{"$error":"#VALUE!"}},{"$f":"IF($C105=\"*EOL*\",\"\",LogData!V98-A105)","v":{"$error":"#VALUE!"}},{"$f":"LogData!E98","v":0},{"$f":"IF(LEFT($C105,1)=\"*\",\"\",LogData!C98)","v":0},{"$f":"IF(LEFT($C105,1)=\"*\",\"\",LogData!F98)","v":0},{"$f":"IF(LEFT($C105,1)=\"*\",\"\",LogData!D98)","v":0},{"$f":"IF(LEFT($C105,1)=\"*\",\"\",LogData!H98)","v":0},{"$f":"IF(LEFT($C105,1)=\"*\",\"\",LogData!T98*100)","v":0}]
[{"$f":"IF($C106=\"*EOL*\",\"\",INT(LogData!V99))","v":{"$error":"#VALUE!"}},{"$f":"IF($C106=\"*EOL*\",\"\",LogData!V99-A106)","v":{"$error":"#VALUE!"}},{"$f":"LogData!E99","v":0},{"$f":"IF(LEFT($C106,1)=\"*\",\"\",LogData!C99)","v":0},{"$f":"IF(LEFT($C106,1)=\"*\",\"\",LogData!F99)","v":0},{"$f":"IF(LEFT($C106,1)=\"*\",\"\",LogData!D99)","v":0},{"$f":"IF(LEFT($C106,1)=\"*\",\"\",LogData!H99)","v":0},{"$f":"IF(LEFT($C106,1)=\"*\",\"\",LogData!T99*100)","v":0}]
[{"$f":"IF($C107=\"*EOL*\",\"\",INT(LogData!V100))","v":{"$error":"#VALUE!"}},{"$f":"IF($C107=\"*EOL*\",\"\",LogData!V100-A107)","v":{"$error":"#VALUE!"}},{"$f":"LogData!E100","v":0},{"$f":"IF(LEFT($C107,1)=\"*\",\"\",LogData!C100)","v":0},{"$f":"IF(LEFT($C107,1)=\"*\",\"\",LogData!F100)","v":0},{"$f":"IF(LEFT($C107,1)=\"*\",\"\",LogData!D100)","v":0},{"$f":"IF(LEFT($C107,1)=\"*\",\"\",LogData!H100)","v":0},{"$f":"IF(LEFT($C107,1)=\"*\",\"\",LogData!T100*100)","v":0}]
[{"$f":"IF($C108=\"*EOL*\",\"\",INT(LogData!V101))","v":{"$error":"#VALUE!"}},{"$f":"IF($C108=\"*EOL*\",\"\",LogData!V101-A108)","v":{"$error":"#VALUE!"}},{"$f":"LogData!E101","v":0},{"$f":"IF(LEFT($C108,1)=\"*\",\"\",LogData!C101)","v":0},{"$f":"IF(LEFT($C108,1)=\"*\",\"\",LogData!F101)","v":0},{"$f":"IF(LEFT($C108,1)=\"*\",\"\",LogData!D101)","v":0},{"$f":"IF(LEFT($C108,1)=\"*\",\"\",LogData!H101)","v":0},{"$f":"IF(LEFT($C108,1)=\"*\",\"\",LogData!T101*100)","v":0}]
[{"$f":"IF($C109=\"*EOL*\",\"\",INT(LogData!V102))","v":{"$error":"#VALUE!"}},{"$f":"IF($C109=\"*EOL*\",\"\",LogData!V102-A109)","v":{"$error":"#VALUE!"}},{"$f":"LogData!E102","v":0},{"$f":"IF(LEFT($C109,1)=\"*\",\"\",LogData!C102)","v":0},{"$f":"IF(LEFT($C109,1)=\"*\",\"\",LogData!F102)","v":0},{"$f":"IF(LEFT($C109,1)=\"*\",\"\",LogData!D102)","v":0},{"$f":"IF(LEFT($C109,1)=\"*\",\"\",LogData!H102)","v":0},{"$f":"IF(LEFT($C109,1)=\"*\",\"\",LogData!T102*100)","v":0}]
[{"$f":"IF($C110=\"*EOL*\",\"\",INT(LogData!V103))","v":{"$error":"#VALUE!"}},{"$f":"IF($C110=\"*EOL*\",\"\",LogData!V103-A110)","v":{"$error":"#VALUE!"}},{"$f":"LogData!E103","v":0},{"$f":"IF(LEFT($C110,1)=\"*\",\"\",LogData!C103)","v":0},{"$f":"IF(LEFT($C110,1)=\"*\",\"\",LogData!F103)","v":0},{"$f":"IF(LEFT($C110,1)=\"*\",\"\",LogData!D103)","v":0},{"$f":"IF(LEFT($C110,1)=\"*\",\"\",LogData!H103)","v":0},{"$f":"IF(LEFT($C110,1)=\"*\",\"\",LogData!T103*100)","v":0}]
[{"$f":"IF($C111=\"*EOL*\",\"\",INT(LogData!V104))","v":{"$error":"#VALUE!"}},{"$f":"IF($C111=\"*EOL*\",\"\",LogData!V104-A111)","v":{"$error":"#VALUE!"}},{"$f":"LogData!E104","v":0},{"$f":"IF(LEFT($C111,1)=\"*\",\"\",LogData!C104)","v":0},{"$f":"IF(LEFT($C111,1)=\"*\",\"\",LogData!F104)","v":0},{"$f":"IF(LEFT($C111,1)=\"*\",\"\",LogData!D104)","v":0},{"$f":"IF(LEFT($C111,1)=\"*\",\"\",LogData!H104)","v":0},{"$f":"IF(LEFT($C111,1)=\"*\",\"\",LogData!T104*100)","v":0}]
[{"$f":"IF($C112=\"*EOL*\",\"\",INT(LogData!V105))","v":{"$error":"#VALUE!"}},{"$f":"IF($C112=\"*EOL*\",\"\",LogData!V105-A112)","v":{"$error":"#VALUE!"}},{"$f":"LogData!E105","v":0},{"$f":"IF(LEFT($C112,1)=\"*\",\"\",LogData!C105)","v":0},{"$f":"IF(LEFT($C112,1)=\"*\",\"\",LogData!F105)","v":0},{"$f":"IF(LEFT($C112,1)=\"*\",\"\",LogData!D105)","v":0},{"$f":"IF(LEFT($C112,1)=\"*\",\"\",LogData!H105)","v":0},{"$f":"IF(LEFT($C112,1)=\"*\",\"\",LogData!T105*100)","v":0}]
[{"$f":"IF($C113=\"*EOL*\",\"\",INT(LogData!V106))","v":{"$error":"#VALUE!"}},{"$f":"IF($C113=\"*EOL*\",\"\",LogData!V106-A113)","v":{"$error":"#VALUE!"}},{"$f":"LogData!E106","v":0},{"$f":"IF(LEFT($C113,1)=\"*\",\"\",LogData!C106)","v":0},{"$f":"IF(LEFT($C113,1)=\"*\",\"\",LogData!F106)","v":0},{"$f":"IF(LEFT($C113,1)=\"*\",\"\",LogData!D106)","v":0},{"$f":"IF(LEFT($C113,1)=\"*\",\"\",LogData!H106)","v":0},{"$f":"IF(LEFT($C113,1)=\"*\",\"\",LogData!T106*100)","v":0}]
[{"$f":"IF($C114=\"*EOL*\",\"\",INT(LogData!V107))","v":{"$error":"#VALUE!"}},{"$f":"IF($C114=\"*EOL*\",\"\",LogData!V107-A114)","v":{"$error":"#VALUE!"}},{"$f":"LogData!E107","v":0},{"$f":"IF(LEFT($C114,1)=\"*\",\"\",LogData!C107)","v":0},{"$f":"IF(LEFT($C114,1)=\"*\",\"\",LogData!F107)","v":0},{"$f":"IF(LEFT($C114,1)=\"*\",\"\",LogData!D107)","v":0},{"$f":"IF(LEFT($C114,1)=\"*\",\"\",LogData!H107)","v":0},{"$f":"IF(LEFT($C114,1)=\"*\",\"\",LogData!T107*100)","v":0}]
[{"$f":"IF($C115=\"*EOL*\",\"\",INT(LogData!V108))","v":{"$error":"#VALUE!"}},{"$f":"IF($C115=\"*EOL*\",\"\",LogData!V108-A115)","v":{"$error":"#VALUE!"}},{"$f":"LogData!E108","v":0},{"$f":"IF(LEFT($C115,1)=\"*\",\"\",LogData!C108)","v":0},{"$f":"IF(LEFT($C115,1)=\"*\",\"\",LogData!F108)","v":0},{"$f":"IF(LEFT($C115,1)=\"*\",\"\",LogData!D108)","v":0},{"$f":"IF(LEFT($C115,1)=\"*\",\"\",LogData!H108)","v":0},{"$f":"IF(LEFT($C115,1)=\"*\",\"\",LogData!T108*100)","v":0}]
[{"$f":"IF($C116=\"*EOL*\",\"\",INT(LogData!V109))","v":{"$error":"#VALUE!"}},{"$f":"IF($C116=\"*EOL*\",\"\",LogData!V109-A116)","v":{"$error":"#VALUE!"}},{"$f":"LogData!E109","v":0},{"$f":"IF(LEFT($C116,1)=\"*\",\"\",LogData!C109)","v":0},{"$f":"IF(LEFT($C116,1)=\"*\",\"\",LogData!F109)","v":0},{"$f":"IF(LEFT($C116,1)=\"*\",\"\",LogData!D109)","v":0},{"$f":"IF(LEFT($C116,1)=\"*\",\"\",LogData!H109)","v":0},{"$f":"IF(LEFT($C116,1)=\"*\",\"\",LogData!T109*100)","v":0}]
[{"$f":"IF($C117=\"*EOL*\",\"\",INT(LogData!V110))","v":{"$error":"#VALUE!"}},{"$f":"IF($C117=\"*EOL*\",\"\",LogData!V110-A117)","v":{"$error":"#VALUE!"}},{"$f":"LogData!E110","v":0},{"$f":"IF(LEFT($C117,1)=\"*\",\"\",LogData!C110)","v":0},{"$f":"IF(LEFT($C117,1)=\"*\",\"\",LogData!F110)","v":0},{"$f":"IF(LEFT($C117,1)=\"*\",\"\",LogData!D110)","v":0},{"$f":"IF(LEFT($C117,1)=\"*\",\"\",LogData!H110)","v":0},{"$f":"IF(LEFT($C117,1)=\"*\",\"\",LogData!T110*100)","v":0}]
[{"$f":"IF($C118=\"*EOL*\",\"\",INT(LogData!V111))","v":{"$error":"#VALUE!"}},{"$f":"IF($C118=\"*EOL*\",\"\",LogData!V111-A118)","v":{"$error":"#VALUE!"}},{"$f":"LogData!E111","v":0},{"$f":"IF(LEFT($C118,1)=\"*\",\"\",LogData!C111)","v":0},{"$f":"IF(LEFT($C118,1)=\"*\",\"\",LogData!F111)","v":0},{"$f":"IF(LEFT($C118,1)=\"*\",\"\",LogData!D111)","v":0},{"$f":"IF(LEFT($C118,1)=\"*\",\"\",LogData!H111)","v":0},{"$f":"IF(LEFT($C118,1)=\"*\",\"\",LogData!T111*100)","v":0}]
[{"$f":"IF($C119=\"*EOL*\",\"\",INT(LogData!V112))","v":{"$error":"#VALUE!"}},{"$f":"IF($C119=\"*EOL*\",\"\",LogData!V112-A119)","v":{"$error":"#VALUE!"}},{"$f":"LogData!E112","v":0},{"$f":"IF(LEFT($C119,1)=\"*\",\"\",LogData!C112)","v":0},{"$f":"IF(LEFT($C119,1)=\"*\",\"\",LogData!F112)","v":0},{"$f":"IF(LEFT($C119,1)=\"*\",\"\",LogData!D112)","v":0},{"$f":"IF(LEFT($C119,1)=\"*\",\"\",LogData!H112)","v":0},{"$f":"IF(LEFT($C119,1)=\"*\",\"\",LogData!T112*100)","v":0}]
[{"$f":"IF($C120=\"*EOL*\",\"\",INT(LogData!V113))","v":{"$error":"#VALUE!"}},{"$f":"IF($C120=\"*EOL*\",\"\",LogData!V113-A120)","v":{"$error":"#VALUE!"}},{"$f":"LogData!E113","v":0},{"$f":"IF(LEFT($C120,1)=\"*\",\"\",LogData!C113)","v":0},{"$f":"IF(LEFT($C120,1)=\"*\",\"\",LogData!F113)","v":0},{"$f":"IF(LEFT($C120,1)=\"*\",\"\",LogData!D113)","v":0},{"$f":"IF(LEFT($C120,1)=\"*\",\"\",LogData!H113)","v":0},{"$f":"IF(LEFT($C120,1)=\"*\",\"\",LogData!T113*100)","v":0}]
[{"$f":"IF($C121=\"*EOL*\",\"\",INT(LogData!V114))","v":{"$error":"#VALUE!"}},{"$f":"IF($C121=\"*EOL*\",\"\",LogData!V114-A121)","v":{"$error":"#VALUE!"}},{"$f":"LogData!E114","v":0},{"$f":"IF(LEFT($C121,1)=\"*\",\"\",LogData!C114)","v":0},{"$f":"IF(LEFT($C121,1)=\"*\",\"\",LogData!F114)","v":0},{"$f":"IF(LEFT($C121,1)=\"*\",\"\",LogData!D114)","v":0},{"$f":"IF(LEFT($C121,1)=\"*\",\"\",LogData!H114)","v":0},{"$f":"IF(LEFT($C121,1)=\"*\",\"\",LogData!T114*100)","v":0}]
[{"$f":"IF($C122=\"*EOL*\",\"\",INT(LogData!V115))","v":{"$error":"#VALUE!"}},{"$f":"IF($C122=\"*EOL*\",\"\",LogData!V115-A122)","v":{"$error":"#VALUE!"}},{"$f":"LogData!E115","v":0},{"$f":"IF(LEFT($C122,1)=\"*\",\"\",LogData!C115)","v":0},{"$f":"IF(LEFT($C122,1)=\"*\",\"\",LogData!F115)","v":0},{"$f":"IF(LEFT($C122,1)=\"*\",\"\",LogData!D115)","v":0},{"$f":"IF(LEFT($C122,1)=\"*\",\"\",LogData!H115)","v":0},{"$f":"IF(LEFT($C122,1)=\"*\",\"\",LogData!T115*100)","v":0}]
[{"$f":"IF($C123=\"*EOL*\",\"\",INT(LogData!V116))","v":{"$error":"#VALUE!"}},{"$f":"IF($C123=\"*EOL*\",\"\",LogData!V116-A123)","v":{"$error":"#VALUE!"}},{"$f":"LogData!E116","v":0},{"$f":"IF(LEFT($C123,1)=\"*\",\"\",LogData!C116)","v":0},{"$f":"IF(LEFT($C123,1)=\"*\",\"\",LogData!F116)","v":0},{"$f":"IF(LEFT($C123,1)=\"*\",\"\",LogData!D116)","v":0},{"$f":"IF(LEFT($C123,1)=\"*\",\"\",LogData!H116)","v":0},{"$f":"IF(LEFT($C123,1)=\"*\",\"\",LogData!T116*100)","v":0}]
[{"$f":"IF($C124=\"*EOL*\",\"\",INT(LogData!V117))","v":{"$error":"#VALUE!"}},{"$f":"IF($C124=\"*EOL*\",\"\",LogData!V117-A124)","v":{"$error":"#VALUE!"}},{"$f":"LogData!E117","v":0},{"$f":"IF(LEFT($C124,1)=\"*\",\"\",LogData!C117)","v":0},{"$f":"IF(LEFT($C124,1)=\"*\",\"\",LogData!F117)","v":0},{"$f":"IF(LEFT($C124,1)=\"*\",\"\",LogData!D117)","v":0},{"$f":"IF(LEFT($C124,1)=\"*\",\"\",LogData!H117)","v":0},{"$f":"IF(LEFT($C124,1)=\"*\",\"\",LogData!T117*100)","v":0}]
[{"$f":"IF($C125=\"*EOL*\",\"\",INT(LogData!V118))","v":{"$error":"#VALUE!"}},{"$f":"IF($C125=\"*EOL*\",\"\",LogData!V118-A125)","v":{"$error":"#VALUE!"}},{"$f":"LogData!E118","v":0},{"$f":"IF(LEFT($C125,1)=\"*\",\"\",LogData!C118)","v":0},{"$f":"IF(LEFT($C125,1)=\"*\",\"\",LogData!F118)","v":0},{"$f":"IF(LEFT($C125,1)=\"*\",\"\",LogData!D118)","v":0},{"$f":"IF(LEFT($C125,1)=\"*\",\"\",LogData!H118)","v":0},{"$f":"IF(LEFT($C125,1)=\"*\",\"\",LogData!T118*100)","v":0}]
[{"$f":"IF($C126=\"*EOL*\",\"\",INT(LogData!V119))","v":{"$error":"#VALUE!"}},{"$f":"IF($C126=\"*EOL*\",\"\",LogData!V119-A126)","v":{"$error":"#VALUE!"}},{"$f":"LogData!E119","v":0},{"$f":"IF(LEFT($C126,1)=\"*\",\"\",LogData!C119)","v":0},{"$f":"IF(LEFT($C126,1)=\"*\",\"\",LogData!F119)","v":0},{"$f":"IF(LEFT($C126,1)=\"*\",\"\",LogData!D119)","v":0},{"$f":"IF(LEFT($C126,1)=\"*\",\"\",LogData!H119)","v":0},{"$f":"IF(LEFT($C126,1)=\"*\",\"\",LogData!T119*100)","v":0}]
[{"$f":"IF($C127=\"*EOL*\",\"\",INT(LogData!V120))","v":{"$error":"#VALUE!"}},{"$f":"IF($C127=\"*EOL*\",\"\",LogData!V120-A127)","v":{"$error":"#VALUE!"}},{"$f":"LogData!E120","v":0},{"$f":"IF(LEFT($C127,1)=\"*\",\"\",LogData!C120)","v":0},{"$f":"IF(LEFT($C127,1)=\"*\",\"\",LogData!F120)","v":0},{"$f":"IF(LEFT($C127,1)=\"*\",\"\",LogData!D120)","v":0},{"$f":"IF(LEFT($C127,1)=\"*\",\"\",LogData!H120)","v":0},{"$f":"IF(LEFT($C127,1)=\"*\",\"\",LogData!T120*100)","v":0}]
[{"$f":"IF($C128=\"*EOL*\",\"\",INT(LogData!V121))","v":{"$error":"#VALUE!"}},{"$f":"IF($C128=\"*EOL*\",\"\",LogData!V121-A128)","v":{"$error":"#VALUE!"}},{"$f":"LogData!E121","v":0},{"$f":"IF(LEFT($C128,1)=\"*\",\"\",LogData!C121)","v":0},{"$f":"IF(LEFT($C128,1)=\"*\",\"\",LogData!F121)","v":0},{"$f":"IF(LEFT($C128,1)=\"*\",\"\",LogData!D121)","v":0},{"$f":"IF(LEFT($C128,1)=\"*\",\"\",LogData!H121)","v":0},{"$f":"IF(LEFT($C128,1)=\"*\",\"\",LogData!T121*100)","v":0}]
[{"$f":"IF($C129=\"*EOL*\",\"\",INT(LogData!V122))","v":{"$error":"#VALUE!"}},{"$f":"IF($C129=\"*EOL*\",\"\",LogData!V122-A129)","v":{"$error":"#VALUE!"}},{"$f":"LogData!E122","v":0},{"$f":"IF(LEFT($C129,1)=\"*\",\"\",LogData!C122)","v":0},{"$f":"IF(LEFT($C129,1)=\"*\",\"\",LogData!F122)","v":0},{"$f":"IF(LEFT($C129,1)=\"*\",\"\",LogData!D122)","v":0},{"$f":"IF(LEFT($C129,1)=\"*\",\"\",LogData!H122)","v":0},{"$f":"IF(LEFT($C129,1)=\"*\",\"\",LogData!T122*100)","v":0}]
[{"$f":"IF($C130=\"*EOL*\",\"\",INT(LogData!V123))","v":{"$error":"#VALUE!"}},{"$f":"IF($C130=\"*EOL*\",\"\",LogData!V123-A130)","v":{"$error":"#VALUE!"}},{"$f":"LogData!E123","v":0},{"$f":"IF(LEFT($C130,1)=\"*\",\"\",LogData!C123)","v":0},{"$f":"IF(LEFT($C130,1)=\"*\",\"\",LogData!F123)","v":0},{"$f":"IF(LEFT($C130,1)=\"*\",\"\",LogData!D123)","v":0},{"$f":"IF(LEFT($C130,1)=\"*\",\"\",LogData!H123)","v":0},{"$f":"IF(LEFT($C130,1)=\"*\",\"\",LogData!T123*100)","v":0}]
[{"$f":"IF($C131=\"*EOL*\",\"\",INT(LogData!V124))","v":{"$error":"#VALUE!"}},{"$f":"IF($C131=\"*EOL*\",\"\",LogData!V124-A131)","v":{"$error":"#VALUE!"}},{"$f":"LogData!E124","v":0},{"$f":"IF(LEFT($C131,1)=\"*\",\"\",LogData!C124)","v":0},{"$f":"IF(LEFT($C131,1)=\"*\",\"\",LogData!F124)","v":0},{"$f":"IF(LEFT($C131,1)=\"*\",\"\",LogData!D124)","v":0},{"$f":"IF(LEFT($C131,1)=\"*\",\"\",LogData!H124)","v":0},{"$f":"IF(LEFT($C131,1)=\"*\",\"\",LogData!T124*100)","v":0}]
[{"$f":"IF($C132=\"*EOL*\",\"\",INT(LogData!V125))","v":{"$error":"#VALUE!"}},{"$f":"IF($C132=\"*EOL*\",\"\",LogData!V125-A132)","v":{"$error":"#VALUE!"}},{"$f":"LogData!E125","v":0},{"$f":"IF(LEFT($C132,1)=\"*\",\"\",LogData!C125)","v":0},{"$f":"IF(LEFT($C132,1)=\"*\",\"\",LogData!F125)","v":0},{"$f":"IF(LEFT($C132,1)=\"*\",\"\",LogData!D125)","v":0},{"$f":"IF(LEFT($C132,1)=\"*\",\"\",LogData!H125)","v":0},{"$f":"IF(LEFT($C132,1)=\"*\",\"\",LogData!T125*100)","v":0}]
[{"$f":"IF($C133=\"*EOL*\",\"\",INT(LogData!V126))","v":{"$error":"#VALUE!"}},{"$f":"IF($C133=\"*EOL*\",\"\",LogData!V126-A133)","v":{"$error":"#VALUE!"}},{"$f":"LogData!E126","v":0},{"$f":"IF(LEFT($C133,1)=\"*\",\"\",LogData!C126)","v":0},{"$f":"IF(LEFT($C133,1)=\"*\",\"\",LogData!F126)","v":0},{"$f":"IF(LEFT($C133,1)=\"*\",\"\",LogData!D126)","v":0},{"$f":"IF(LEFT($C133,1)=\"*\",\"\",LogData!H126)","v":0},{"$f":"IF(LEFT($C133,1)=\"*\",\"\",LogData!T126*100)","v":0}]
[{"$f":"IF($C134=\"*EOL*\",\"\",INT(LogData!V127))","v":{"$error":"#VALUE!"}},{"$f":"IF($C134=\"*EOL*\",\"\",LogData!V127-A134)","v":{"$error":"#VALUE!"}},{"$f":"LogData!E127","v":0},{"$f":"IF(LEFT($C134,1)=\"*\",\"\",LogData!C127)","v":0},{"$f":"IF(LEFT($C134,1)=\"*\",\"\",LogData!F127)","v":0},{"$f":"IF(LEFT($C134,1)=\"*\",\"\",LogData!D127)","v":0},{"$f":"IF(LEFT($C134,1)=\"*\",\"\",LogData!H127)","v":0},{"$f":"IF(LEFT($C134,1)=\"*\",\"\",LogData!T127*100)","v":0}]
[{"$f":"IF($C135=\"*EOL*\",\"\",INT(LogData!V128))","v":{"$error":"#VALUE!"}},{"$f":"IF($C135=\"*EOL*\",\"\",LogData!V128-A135)","v":{"$error":"#VALUE!"}},{"$f":"LogData!E128","v":0},{"$f":"IF(LEFT($C135,1)=\"*\",\"\",LogData!C128)","v":0},{"$f":"IF(LEFT($C135,1)=\"*\",\"\",LogData!F128)","v":0},{"$f":"IF(LEFT($C135,1)=\"*\",\"\",LogData!D128)","v":0},{"$f":"IF(LEFT($C135,1)=\"*\",\"\",LogData!H128)","v":0},{"$f":"IF(LEFT($C135,1)=\"*\",\"\",LogData!T128*100)","v":0}]
[{"$f":"IF($C136=\"*EOL*\",\"\",INT(LogData!V129))","v":{"$error":"#VALUE!"}},{"$f":"IF($C136=\"*EOL*\",\"\",LogData!V129-A136)","v":{"$error":"#VALUE!"}},{"$f":"LogData!E129","v":0},{"$f":"IF(LEFT($C136,1)=\"*\",\"\",LogData!C129)","v":0},{"$f":"IF(LEFT($C136,1)=\"*\",\"\",LogData!F129)","v":0},{"$f":"IF(LEFT($C136,1)=\"*\",\"\",LogData!D129)","v":0},{"$f":"IF(LEFT($C136,1)=\"*\",\"\",LogData!H129)","v":0},{"$f":"IF(LEFT($C136,1)=\"*\",\"\",LogData!T129*100)","v":0}]
[{"$f":"IF($C137=\"*EOL*\",\"\",INT(LogData!V130))","v":{"$error":"#VALUE!"}},{"$f":"IF($C137=\"*EOL*\",\"\",LogData!V130-A137)","v":{"$error":"#VALUE!"}},{"$f":"LogData!E130","v":0},{"$f":"IF(LEFT($C137,1)=\"*\",\"\",LogData!C130)","v":0},{"$f":"IF(LEFT($C137,1)=\"*\",\"\",LogData!F130)","v":0},{"$f":"IF(LEFT($C137,1)=\"*\",\"\",LogData!D130)","v":0},{"$f":"IF(LEFT($C137,1)=\"*\",\"\",LogData!H130)","v":0},{"$f":"IF(LEFT($C137,1)=\"*\",\"\",LogData!T130*100)","v":0}]
[{"$f":"IF($C138=\"*EOL*\",\"\",INT(LogData!V131))","v":{"$error":"#VALUE!"}},{"$f":"IF($C138=\"*EOL*\",\"\",LogData!V131-A138)","v":{"$error":"#VALUE!"}},{"$f":"LogData!E131","v":0},{"$f":"IF(LEFT($C138,1)=\"*\",\"\",LogData!C131)","v":0},{"$f":"IF(LEFT($C138,1)=\"*\",\"\",LogData!F131)","v":0},{"$f":"IF(LEFT($C138,1)=\"*\",\"\",LogData!D131)","v":0},{"$f":"IF(LEFT($C138,1)=\"*\",\"\",LogData!H131)","v":0},{"$f":"IF(LEFT($C138,1)=\"*\",\"\",LogData!T131*100)","v":0}]
[{"$f":"IF($C139=\"*EOL*\",\"\",INT(LogData!V132))","v":{"$error":"#VALUE!"}},{"$f":"IF($C139=\"*EOL*\",\"\",LogData!V132-A139)","v":{"$error":"#VALUE!"}},{"$f":"LogData!E132","v":0},{"$f":"IF(LEFT($C139,1)=\"*\",\"\",LogData!C132)","v":0},{"$f":"IF(LEFT($C139,1)=\"*\",\"\",LogData!F132)","v":0},{"$f":"IF(LEFT($C139,1)=\"*\",\"\",LogData!D132)","v":0},{"$f":"IF(LEFT($C139,1)=\"*\",\"\",LogData!H132)","v":0},{"$f":"IF(LEFT($C139,1)=\"*\",\"\",LogData!T132*100)","v":0}]
[{"$f":"IF($C140=\"*EOL*\",\"\",INT(LogData!V133))","v":{"$error":"#VALUE!"}},{"$f":"IF($C140=\"*EOL*\",\"\",LogData!V133-A140)","v":{"$error":"#VALUE!"}},{"$f":"LogData!E133","v":0},{"$f":"IF(LEFT($C140,1)=\"*\",\"\",LogData!C133)","v":0},{"$f":"IF(LEFT($C140,1)=\"*\",\"\",LogData!F133)","v":0},{"$f":"IF(LEFT($C140,1)=\"*\",\"\",LogData!D133)","v":0},{"$f":"IF(LEFT($C140,1)=\"*\",\"\",LogData!H133)","v":0},{"$f":"IF(LEFT($C140,1)=\"*\",\"\",LogData!T133*100)","v":0}]
[{"$f":"IF($C141=\"*EOL*\",\"\",INT(LogData!V134))","v":{"$error":"#VALUE!"}},{"$f":"IF($C141=\"*EOL*\",\"\",LogData!V134-A141)","v":{"$error":"#VALUE!"}},{"$f":"LogData!E134","v":0},{"$f":"IF(LEFT($C141,1)=\"*\",\"\",LogData!C134)","v":0},{"$f":"IF(LEFT($C141,1)=\"*\",\"\",LogData!F134)","v":0},{"$f":"IF(LEFT($C141,1)=\"*\",\"\",LogData!D134)","v":0},{"$f":"IF(LEFT($C141,1)=\"*\",\"\",LogData!H134)","v":0},{"$f":"IF(LEFT($C141,1)=\"*\",\"\",LogData!T134*100)","v":0}]
[{"$f":"IF($C142=\"*EOL*\",\"\",INT(LogData!V135))","v":{"$error":"#VALUE!"}},{"$f":"IF($C142=\"*EOL*\",\"\",LogData!V135-A142)","v":{"$error":"#VALUE!"}},{"$f":"LogData!E135","v":0},{"$f":"IF(LEFT($C142,1)=\"*\",\"\",LogData!C135)","v":0},{"$f":"IF(LEFT($C142,1)=\"*\",\"\",LogData!F135)","v":0},{"$f":"IF(LEFT($C142,1)=\"*\",\"\",LogData!D135)","v":0},{"$f":"IF(LEFT($C142,1)=\"*\",\"\",LogData!H135)","v":0},{"$f":"IF(LEFT($C142,1)=\"*\",\"\",LogData!T135*100)","v":0}]
[{"$f":"IF($C143=\"*EOL*\",\"\",INT(LogData!V136))","v":{"$error":"#VALUE!"}},{"$f":"IF($C143=\"*EOL*\",\"\",LogData!V136-A143)","v":{"$error":"#VALUE!"}},{"$f":"LogData!E136","v":0},{"$f":"IF(LEFT($C143,1)=\"*\",\"\",LogData!C136)","v":0},{"$f":"IF(LEFT($C143,1)=\"*\",\"\",LogData!F136)","v":0},{"$f":"IF(LEFT($C143,1)=\"*\",\"\",LogData!D136)","v":0},{"$f":"IF(LEFT($C143,1)=\"*\",\"\",LogData!H136)","v":0},{"$f":"IF(LEFT($C143,1)=\"*\",\"\",LogData!T136*100)","v":0}]
[{"$f":"IF($C144=\"*EOL*\",\"\",INT(LogData!V137))","v":{"$error":"#VALUE!"}},{"$f":"IF($C144=\"*EOL*\",\"\",LogData!V137-A144)","v":{"$error":"#VALUE!"}},{"$f":"LogData!E137","v":0},{"$f":"IF(LEFT($C144,1)=\"*\",\"\",LogData!C137)","v":0},{"$f":"IF(LEFT($C144,1)=\"*\",\"\",LogData!F137)","v":0},{"$f":"IF(LEFT($C144,1)=\"*\",\"\",LogData!D137)","v":0},{"$f":"IF(LEFT($C144,1)=\"*\",\"\",LogData!H137)","v":0},{"$f":"IF(LEFT($C144,1)=\"*\",\"\",LogData!T137*100)","v":0}]
[{"$f":"IF($C145=\"*EOL*\",\"\",INT(LogData!V138))","v":{"$error":"#VALUE!"}},{"$f":"IF($C145=\"*EOL*\",\"\",LogData!V138-A145)","v":{"$error":"#VALUE!"}},{"$f":"LogData!E138","v":0},{"$f":"IF(LEFT($C145,1)=\"*\",\"\",LogData!C138)","v":0},{"$f":"IF(LEFT($C145,1)=\"*\",\"\",LogData!F138)","v":0},{"$f":"IF(LEFT($C145,1)=\"*\",\"\",LogData!D138)","v":0},{"$f":"IF(LEFT($C145,1)=\"*\",\"\",LogData!H138)","v":0},{"$f":"IF(LEFT($C145,1)=\"*\",\"\",LogData!T138*100)","v":0}]
[{"$f":"IF($C146=\"*EOL*\",\"\",INT(LogData!V139))","v":{"$error":"#VALUE!"}},{"$f":"IF($C146=\"*EOL*\",\"\",LogData!V139-A146)","v":{"$error":"#VALUE!"}},{"$f":"LogData!E139","v":0},{"$f":"IF(LEFT($C146,1)=\"*\",\"\",LogData!C139)","v":0},{"$f":"IF(LEFT($C146,1)=\"*\",\"\",LogData!F139)","v":0},{"$f":"IF(LEFT($C146,1)=\"*\",\"\",LogData!D139)","v":0},{"$f":"IF(LEFT($C146,1)=\"*\",\"\",LogData!H139)","v":0},{"$f":"IF(LEFT($C146,1)=\"*\",\"\",LogData!T139*100)","v":0}]
[{"$f":"IF($C147=\"*EOL*\",\"\",INT(LogData!V140))","v":{"$error":"#VALUE!"}},{"$f":"IF($C147=\"*EOL*\",\"\",LogData!V140-A147)","v":{"$error":"#VALUE!"}},{"$f":"LogData!E140","v":0},{"$f":"IF(LEFT($C147,1)=\"*\",\"\",LogData!C140)","v":0},{"$f":"IF(LEFT($C147,1)=\"*\",\"\",LogData!F140)","v":0},{"$f":"IF(LEFT($C147,1)=\"*\",\"\",LogData!D140)","v":0},{"$f":"IF(LEFT($C147,1)=\"*\",\"\",LogData!H140)","v":0},{"$f":"IF(LEFT($C147,1)=\"*\",\"\",LogData!T140*100)","v":0}]
[{"$f":"IF($C148=\"*EOL*\",\"\",INT(LogData!V141))","v":{"$error":"#VALUE!"}},{"$f":"IF($C148=\"*EOL*\",\"\",LogData!V141-A148)","v":{"$error":"#VALUE!"}},{"$f":"LogData!E141","v":"*OFF*"},{"$f":"IF(LEFT($C148,1)=\"*\",\"\",LogData!C141)","v":""},{"$f":"IF(LEFT($C148,1)=\"*\",\"\",LogData!F141)","v":""},{"$f":"IF(LEFT($C148,1)=\"*\",\"\",LogData!D141)","v":""},{"$f":"IF(LEFT($C148,1)=\"*\",\"\",LogData!H141)","v":""},{"$f":"IF(LEFT($C148,1)=\"*\",\"\",LogData!T141*100)","v":""}]
[{"$f":"IF($C149=\"*EOL*\",\"\",INT(LogData!V142))","v":""},{"$f":"IF($C149=\"*EOL*\",\"\",LogData!V142-A149)","v":""},{"$f":"LogData!E142","v":"*EOL*"},{"$f":"IF(LEFT($C149,1)=\"*\",\"\",LogData!C142)","v":""},{"$f":"IF(LEFT($C149,1)=\"*\",\"\",LogData!F142)","v":""},{"$f":"IF(LEFT($C149,1)=\"*\",\"\",LogData!D142)","v":""},{"$f":"IF(LEFT($C149,1)=\"*\",\"\",LogData!H142)","v":""},{"$f":"IF(LEFT($C149,1)=\"*\",\"\",LogData!T142*100)","v":""}]
[{"$f":"IF($C150=\"*EOL*\",\"\",INT(LogData!V143))","v":""},{"$f":"IF($C150=\"*EOL*\",\"\",LogData!V143-A150)","v":""},{"$f":"LogData!E143","v":"*EOL*"},{"$f":"IF(LEFT($C150,1)=\"*\",\"\",LogData!C143)","v":""},{"$f":"IF(LEFT($C150,1)=\"*\",\"\",LogData!F143)","v":""},{"$f":"IF(LEFT($C150,1)=\"*\",\"\",LogData!D143)","v":""},{"$f":"IF(LEFT($C150,1)=\"*\",\"\",LogData!H143)","v":""},{"$f":"IF(LEFT($C150,1)=\"*\",\"\",LogData!T143*100)","v":""}]
[{"$f":"IF($C151=\"*EOL*\",\"\",INT(LogData!V144))","v":""},{"$f":"IF($C151=\"*EOL*\",\"\",LogData!V144-A151)","v":""},{"$f":"LogData!E144","v":"*EOL*"},{"$f":"IF(LEFT($C151,1)=\"*\",\"\",LogData!C144)","v":""},{"$f":"IF(LEFT($C151,1)=\"*\",\"\",LogData!F144)","v":""},{"$f":"IF(LEFT($C151,1)=\"*\",\"\",LogData!D144)","v":""},{"$f":"IF(LEFT($C151,1)=\"*\",\"\",LogData!H144)","v":""},{"$f":"IF(LEFT($C151,1)=\"*\",\"\",LogData!T144*100)","v":""}]
[{"$f":"IF($C152=\"*EOL*\",\"\",INT(LogData!V145))","v":""},{"$f":"IF($C152=\"*EOL*\",\"\",LogData!V145-A152)","v":""},{"$f":"LogData!E145","v":"*EOL*"},{"$f":"IF(LEFT($C152,1)=\"*\",\"\",LogData!C145)","v":""},{"$f":"IF(LEFT($C152,1)=\"*\",\"\",LogData!F145)","v":""},{"$f":"IF(LEFT($C152,1)=\"*\",\"\",LogData!D145)","v":""},{"$f":"IF(LEFT($C152,1)=\"*\",\"\",LogData!H145)","v":""},{"$f":"IF(LEFT($C152,1)=\"*\",\"\",LogData!T145*100)","v":""}]
[{"$f":"IF($C153=\"*EOL*\",\"\",INT(LogData!V146))","v":""},{"$f":"IF($C153=\"*EOL*\",\"\",LogData!V146-A153)","v":""},{"$f":"LogData!E146","v":"*EOL*"},{"$f":"IF(LEFT($C153,1)=\"*\",\"\",LogData!C146)","v":""},{"$f":"IF(LEFT($C153,1)=\"*\",\"\",LogData!F146)","v":""},{"$f":"IF(LEFT($C153,1)=\"*\",\"\",LogData!D146)","v":""},{"$f":"IF(LEFT($C153,1)=\"*\",\"\",LogData!H146)","v":""},{"$f":"IF(LEFT($C153,1)=\"*\",\"\",LogData!T146*100)","v":""}]
[{"$f":"IF($C154=\"*EOL*\",\"\",INT(LogData!V147))","v":""},{"$f":"IF($C154=\"*EOL*\",\"\",LogData!V147-A154)","v":""},{"$f":"LogData!E147","v":"*EOL*"},{"$f":"IF(LEFT($C154,1)=\"*\",\"\",LogData!C147)","v":""},{"$f":"IF(LEFT($C154,1)=\"*\",\"\",LogData!F147)","v":""},{"$f":"IF(LEFT($C154,1)=\"*\",\"\",LogData!D147)","v":""},{"$f":"IF(LEFT($C154,1)=\"*\",\"\",LogData!H147)","v":""},{"$f":"IF(LEFT($C154,1)=\"*\",\"\",LogData!T147*100)","v":""}]
[{"$f":"IF($C155=\"*EOL*\",\"\",INT(LogData!V148))","v":""},{"$f":"IF($C155=\"*EOL*\",\"\",LogData!V148-A155)","v":""},{"$f":"LogData!E148","v":"*EOL*"},{"$f":"IF(LEFT($C155,1)=\"*\",\"\",LogData!C148)","v":""},{"$f":"IF(LEFT($C155,1)=\"*\",\"\",LogData!F148)","v":""},{"$f":"IF(LEFT($C155,1)=\"*\",\"\",LogData!D148)","v":""},{"$f":"IF(LEFT($C155,1)=\"*\",\"\",LogData!H148)","v":""},{"$f":"IF(LEFT($C155,1)=\"*\",\"\",LogData!T148*100)","v":""}]
[{"$f":"IF($C156=\"*EOL*\",\"\",INT(LogData!V149))","v":""},{"$f":"IF($C156=\"*EOL*\",\"\",LogData!V149-A156)","v":""},{"$f":"LogData!E149","v":"*EOL*"},{"$f":"IF(LEFT($C156,1)=\"*\",\"\",LogData!C149)","v":""},{"$f":"IF(LEFT($C156,1)=\"*\",\"\",LogData!F149)","v":""},{"$f":"IF(LEFT($C156,1)=\"*\",\"\",LogData!D149)","v":""},{"$f":"IF(LEFT($C156,1)=\"*\",\"\",LogData!H149)","v":""},{"$f":"IF(LEFT($C156,1)=\"*\",\"\",LogData!T149*100)","v":""}]
[{"$f":"IF($C157=\"*EOL*\",\"\",INT(LogData!V150))","v":""},{"$f":"IF($C157=\"*EOL*\",\"\",LogData!V150-A157)","v":""},{"$f":"LogData!E150","v":"*EOL*"},{"$f":"IF(LEFT($C157,1)=\"*\",\"\",LogData!C150)","v":""},{"$f":"IF(LEFT($C157,1)=\"*\",\"\",LogData!F150)","v":""},{"$f":"IF(LEFT($C157,1)=\"*\",\"\",LogData!D150)","v":""},{"$f":"IF(LEFT($C157,1)=\"*\",\"\",LogData!H150)","v":""},{"$f":"IF(LEFT($C157,1)=\"*\",\"\",LogData!T150*100)","v":""}]
[{"$f":"IF($C158=\"*EOL*\",\"\",INT(LogData!V151))","v":""},{"$f":"IF($C158=\"*EOL*\",\"\",LogData!V151-A158)","v":""},{"$f":"LogData!E151","v":"*EOL*"},{"$f":"IF(LEFT($C158,1)=\"*\",\"\",LogData!C151)","v":""},{"$f":"IF(LEFT($C158,1)=\"*\",\"\",LogData!F151)","v":""},{"$f":"IF(LEFT($C158,1)=\"*\",\"\",LogData!D151)","v":""},{"$f":"IF(LEFT($C158,1)=\"*\",\"\",LogData!H151)","v":""},{"$f":"IF(LEFT($C158,1)=\"*\",\"\",LogData!T151*100)","v":""}]
[{"$f":"IF($C159=\"*EOL*\",\"\",INT(LogData!V152))","v":""},{"$f":"IF($C159=\"*EOL*\",\"\",LogData!V152-A159)","v":""},{"$f":"LogData!E152","v":"*EOL*"},{"$f":"IF(LEFT($C159,1)=\"*\",\"\",LogData!C152)","v":""},{"$f":"IF(LEFT($C159,1)=\"*\",\"\",LogData!F152)","v":""},{"$f":"IF(LEFT($C159,1)=\"*\",\"\",LogData!D152)","v":""},{"$f":"IF(LEFT($C159,1)=\"*\",\"\",LogData!H152)","v":""},{"$f":"IF(LEFT($C159,1)=\"*\",\"\",LogData!T152*100)","v":""}]
[{"$f":"IF($C160=\"*EOL*\",\"\",INT(LogData!V153))","v":""},{"$f":"IF($C160=\"*EOL*\",\"\",LogData!V153-A160)","v":""},{"$f":"LogData!E153","v":"*EOL*"},{"$f":"IF(LEFT($C160,1)=\"*\",\"\",LogData!C153)","v":""},{"$f":"IF(LEFT($C160,1)=\"*\",\"\",LogData!F153)","v":""},{"$f":"IF(LEFT($C160,1)=\"*\",\"\",LogData!D153)","v":""},{"$f":"IF(LEFT($C160,1)=\"*\",\"\",LogData!H153)","v":""},{"$f":"IF(LEFT($C160,1)=\"*\",\"\",LogData!T153*100)","v":""}]
[{"$f":"IF($C161=\"*EOL*\",\"\",INT(LogData!V154))","v":""},{"$f":"IF($C161=\"*EOL*\",\"\",LogData!V154-A161)","v":""},{"$f":"LogData!E154","v":"*EOL*"},{"$f":"IF(LEFT($C161,1)=\"*\",\"\",LogData!C154)","v":""},{"$f":"IF(LEFT($C161,1)=\"*\",\"\",LogData!F154)","v":""},{"$f":"IF(LEFT($C161,1)=\"*\",\"\",LogData!D154)","v":""},{"$f":"IF(LEFT($C161,1)=\"*\",\"\",LogData!H154)","v":""},{"$f":"IF(LEFT($C161,1)=\"*\",\"\",LogData!T154*100)","v":""}]
[{"$f":"IF($C162=\"*EOL*\",\"\",INT(LogData!V155))","v":""},{"$f":"IF($C162=\"*EOL*\",\"\",LogData!V155-A162)","v":""},{"$f":"LogData!E155","v":"*EOL*"},{"$f":"IF(LEFT($C162,1)=\"*\",\"\",LogData!C155)","v":""},{"$f":"IF(LEFT($C162,1)=\"*\",\"\",LogData!F155)","v":""},{"$f":"IF(LEFT($C162,1)=\"*\",\"\",LogData!D155)","v":""},{"$f":"IF(LEFT($C162,1)=\"*\",\"\",LogData!H155)","v":""},{"$f":"IF(LEFT($C162,1)=\"*\",\"\",LogData!T155*100)","v":""}]
[{"$f":"IF($C163=\"*EOL*\",\"\",INT(LogData!V156))","v":""},{"$f":"IF($C163=\"*EOL*\",\"\",LogData!V156-A163)","v":""},{"$f":"LogData!E156","v":"*EOL*"},{"$f":"IF(LEFT($C163,1)=\"*\",\"\",LogData!C156)","v":""},{"$f":"IF(LEFT($C163,1)=\"*\",\"\",LogData!F156)","v":""},{"$f":"IF(LEFT($C163,1)=\"*\",\"\",LogData!D156)","v":""},{"$f":"IF(LEFT($C163,1)=\"*\",\"\",LogData!H156)","v":""},{"$f":"IF(LEFT($C163,1)=\"*\",\"\",LogData!T156*100)","v":""}]
[{"$f":"IF($C164=\"*EOL*\",\"\",INT(LogData!V157))","v":""},{"$f":"IF($C164=\"*EOL*\",\"\",LogData!V157-A164)","v":""},{"$f":"LogData!E157","v":"*EOL*"},{"$f":"IF(LEFT($C164,1)=\"*\",\"\",LogData!C157)","v":""},{"$f":"IF(LEFT($C164,1)=\"*\",\"\",LogData!F157)","v":""},{"$f":"IF(LEFT($C164,1)=\"*\",\"\",LogData!D157)","v":""},{"$f":"IF(LEFT($C164,1)=\"*\",\"\",LogData!H157)","v":""},{"$f":"IF(LEFT($C164,1)=\"*\",\"\",LogData!T157*100)","v":""}]
[{"$f":"IF($C165=\"*EOL*\",\"\",INT(LogData!V158))","v":""},{"$f":"IF($C165=\"*EOL*\",\"\",LogData!V158-A165)","v":""},{"$f":"LogData!E158","v":"*EOL*"},{"$f":"IF(LEFT($C165,1)=\"*\",\"\",LogData!C158)","v":""},{"$f":"IF(LEFT($C165,1)=\"*\",\"\",LogData!F158)","v":""},{"$f":"IF(LEFT($C165,1)=\"*\",\"\",LogData!D158)","v":""},{"$f":"IF(LEFT($C165,1)=\"*\",\"\",LogData!H158)","v":""},{"$f":"IF(LEFT($C165,1)=\"*\",\"\",LogData!T158*100)","v":""}]
[{"$f":"IF($C166=\"*EOL*\",\"\",INT(LogData!V159))","v":""},{"$f":"IF($C166=\"*EOL*\",\"\",LogData!V159-A166)","v":""},{"$f":"LogData!E159","v":"*EOL*"},{"$f":"IF(LEFT($C166,1)=\"*\",\"\",LogData!C159)","v":""},{"$f":"IF(LEFT($C166,1)=\"*\",\"\",LogData!F159)","v":""},{"$f":"IF(LEFT($C166,1)=\"*\",\"\",LogData!D159)","v":""},{"$f":"IF(LEFT($C166,1)=\"*\",\"\",LogData!H159)","v":""},{"$f":"IF(LEFT($C166,1)=\"*\",\"\",LogData!T159*100)","v":""}]
[{"$f":"IF($C167=\"*EOL*\",\"\",INT(LogData!V160))","v":""},{"$f":"IF($C167=\"*EOL*\",\"\",LogData!V160-A167)","v":""},{"$f":"LogData!E160","v":"*EOL*"},{"$f":"IF(LEFT($C167,1)=\"*\",\"\",LogData!C160)","v":""},{"$f":"IF(LEFT($C167,1)=\"*\",\"\",LogData!F160)","v":""},{"$f":"IF(LEFT($C167,1)=\"*\",\"\",LogData!D160)","v":""},{"$f":"IF(LEFT($C167,1)=\"*\",\"\",LogData!H160)","v":""},{"$f":"IF(LEFT($C167,1)=\"*\",\"\",LogData!T160*100)","v":""}]
[{"$f":"IF($C168=\"*EOL*\",\"\",INT(LogData!V161))","v":""},{"$f":"IF($C168=\"*EOL*\",\"\",LogData!V161-A168)","v":""},{"$f":"LogData!E161","v":"*EOL*"},{"$f":"IF(LEFT($C168,1)=\"*\",\"\",LogData!C161)","v":""},{"$f":"IF(LEFT($C168,1)=\"*\",\"\",LogData!F161)","v":""},{"$f":"IF(LEFT($C168,1)=\"*\",\"\",LogData!D161)","v":""},{"$f":"IF(LEFT($C168,1)=\"*\",\"\",LogData!H161)","v":""},{"$f":"IF(LEFT($C168,1)=\"*\",\"\",LogData!T161*100)","v":""}]
[{"$f":"IF($C169=\"*EOL*\",\"\",INT(LogData!V162))","v":""},{"$f":"IF($C169=\"*EOL*\",\"\",LogData!V162-A169)","v":""},{"$f":"LogData!E162","v":"*EOL*"},{"$f":"IF(LEFT($C169,1)=\"*\",\"\",LogData!C162)","v":""},{"$f":"IF(LEFT($C169,1)=\"*\",\"\",LogData!F162)","v":""},{"$f":"IF(LEFT($C169,1)=\"*\",\"\",LogData!D162)","v":""},{"$f":"IF(LEFT($C169,1)=\"*\",\"\",LogData!H162)","v":""},{"$f":"IF(LEFT($C169,1)=\"*\",\"\",LogData!T162*100)","v":""}]
[{"$f":"IF($C170=\"*EOL*\",\"\",INT(LogData!V163))","v":""},{"$f":"IF($C170=\"*EOL*\",\"\",LogData!V163-A170)","v":""},{"$f":"LogData!E163","v":"*EOL*"},{"$f":"IF(LEFT($C170,1)=\"*\",\"\",LogData!C163)","v":""},{"$f":"IF(LEFT($C170,1)=\"*\",\"\",LogData!F163)","v":""},{"$f":"IF(LEFT($C170,1)=\"*\",\"\",LogData!D163)","v":""},{"$f":"IF(LEFT($C170,1)=\"*\",\"\",LogData!H163)","v":""},{"$f":"IF(LEFT($C170,1)=\"*\",\"\",LogData!T163*100)","v":""}]
[{"$f":"IF($C171=\"*EOL*\",\"\",INT(LogData!V164))","v":""},{"$f":"IF($C171=\"*EOL*\",\"\",LogData!V164-A171)","v":""},{"$f":"LogData!E164","v":"*EOL*"},{"$f":"IF(LEFT($C171,1)=\"*\",\"\",LogData!C164)","v":""},{"$f":"IF(LEFT($C171,1)=\"*\",\"\",LogData!F164)","v":""},{"$f":"IF(LEFT($C171,1)=\"*\",\"\",LogData!D164)","v":""},{"$f":"IF(LEFT($C171,1)=\"*\",\"\",LogData!H164)","v":""},{"$f":"IF(LEFT($C171,1)=\"*\",\"\",LogData!T164*100)","v":""}]
[{"$f":"IF($C172=\"*EOL*\",\"\",INT(LogData!V165))","v":""},{"$f":"IF($C172=\"*EOL*\",\"\",LogData!V165-A172)","v":""},{"$f":"LogData!E165","v":"*EOL*"},{"$f":"IF(LEFT($C172,1)=\"*\",\"\",LogData!C165)","v":""},{"$f":"IF(LEFT($C172,1)=\"*\",\"\",LogData!F165)","v":""},{"$f":"IF(LEFT($C172,1)=\"*\",\"\",LogData!D165)","v":""},{"$f":"IF(LEFT($C172,1)=\"*\",\"\",LogData!H165)","v":""},{"$f":"IF(LEFT($C172,1)=\"*\",\"\",LogData!T165*100)","v":""}]
[{"$f":"IF($C173=\"*EOL*\",\"\",INT(LogData!V166))","v":""},{"$f":"IF($C173=\"*EOL*\",\"\",LogData!V166-A173)","v":""},{"$f":"LogData!E166","v":"*EOL*"},{"$f":"IF(LEFT($C173,1)=\"*\",\"\",LogData!C166)","v":""},{"$f":"IF(LEFT($C173,1)=\"*\",\"\",LogData!F166)","v":""},{"$f":"IF(LEFT($C173,1)=\"*\",\"\",LogData!D166)","v":""},{"$f":"IF(LEFT($C173,1)=\"*\",\"\",LogData!H166)","v":""},{"$f":"IF(LEFT($C173,1)=\"*\",\"\",LogData!T166*100)","v":""}]
[{"$f":"IF($C174=\"*EOL*\",\"\",INT(LogData!V167))","v":""},{"$f":"IF($C174=\"*EOL*\",\"\",LogData!V167-A174)","v":""},{"$f":"LogData!E167","v":"*EOL*"},{"$f":"IF(LEFT($C174,1)=\"*\",\"\",LogData!C167)","v":""},{"$f":"IF(LEFT($C174,1)=\"*\",\"\",LogData!F167)","v":""},{"$f":"IF(LEFT($C174,1)=\"*\",\"\",LogData!D167)","v":""},{"$f":"IF(LEFT($C174,1)=\"*\",\"\",LogData!H167)","v":""},{"$f":"IF(LEFT($C174,1)=\"*\",\"\",LogData!T167*100)","v":""}]
[{"$f":"IF($C175=\"*EOL*\",\"\",INT(LogData!V168))","v":""},{"$f":"IF($C175=\"*EOL*\",\"\",LogData!V168-A175)","v":""},{"$f":"LogData!E168","v":"*EOL*"},{"$f":"IF(LEFT($C175,1)=\"*\",\"\",LogData!C168)","v":""},{"$f":"IF(LEFT($C175,1)=\"*\",\"\",LogData!F168)","v":""},{"$f":"IF(LEFT($C175,1)=\"*\",\"\",LogData!D168)","v":""},{"$f":"IF(LEFT($C175,1)=\"*\",\"\",LogData!H168)","v":""},{"$f":"IF(LEFT($C175,1)=\"*\",\"\",LogData!T168*100)","v":""}]
[{"$f":"IF($C176=\"*EOL*\",\"\",INT(LogData!V169))","v":""},{"$f":"IF($C176=\"*EOL*\",\"\",LogData!V169-A176)","v":""},{"$f":"LogData!E169","v":"*EOL*"},{"$f":"IF(LEFT($C176,1)=\"*\",\"\",LogData!C169)","v":""},{"$f":"IF(LEFT($C176,1)=\"*\",\"\",LogData!F169)","v":""},{"$f":"IF(LEFT($C176,1)=\"*\",\"\",LogData!D169)","v":""},{"$f":"IF(LEFT($C176,1)=\"*\",\"\",LogData!H169)","v":""},{"$f":"IF(LEFT($C176,1)=\"*\",\"\",LogData!T169*100)","v":""}]
[{"$f":"IF($C177=\"*EOL*\",\"\",INT(LogData!V170))","v":""},{"$f":"IF($C177=\"*EOL*\",\"\",LogData!V170-A177)","v":""},{"$f":"LogData!E170","v":"*EOL*"},{"$f":"IF(LEFT($C177,1)=\"*\",\"\",LogData!C170)","v":""},{"$f":"IF(LEFT($C177,1)=\"*\",\"\",LogData!F170)","v":""},{"$f":"IF(LEFT($C177,1)=\"*\",\"\",LogData!D170)","v":""},{"$f":"IF(LEFT($C177,1)=\"*\",\"\",LogData!H170)","v":""},{"$f":"IF(LEFT($C177,1)=\"*\",\"\",LogData!T170*100)","v":""}]
[{"$f":"IF($C178=\"*EOL*\",\"\",INT(LogData!V171))","v":""},{"$f":"IF($C178=\"*EOL*\",\"\",LogData!V171-A178)","v":""},{"$f":"LogData!E171","v":"*EOL*"},{"$f":"IF(LEFT($C178,1)=\"*\",\"\",LogData!C171)","v":""},{"$f":"IF(LEFT($C178,1)=\"*\",\"\",LogData!F171)","v":""},{"$f":"IF(LEFT($C178,1)=\"*\",\"\",LogData!D171)","v":""},{"$f":"IF(LEFT($C178,1)=\"*\",\"\",LogData!H171)","v":""},{"$f":"IF(LEFT($C178,1)=\"*\",\"\",LogData!T171*100)","v":""}]
[{"$f":"IF($C179=\"*EOL*\",\"\",INT(LogData!V172))","v":""},{"$f":"IF($C179=\"*EOL*\",\"\",LogData!V172-A179)","v":""},{"$f":"LogData!E172","v":"*EOL*"},{"$f":"IF(LEFT($C179,1)=\"*\",\"\",LogData!C172)","v":""},{"$f":"IF(LEFT($C179,1)=\"*\",\"\",LogData!F172)","v":""},{"$f":"IF(LEFT($C179,1)=\"*\",\"\",LogData!D172)","v":""},{"$f":"IF(LEFT($C179,1)=\"*\",\"\",LogData!H172)","v":""},{"$f":"IF(LEFT($C179,1)=\"*\",\"\",LogData!T172*100)","v":""}]
[{"$f":"IF($C180=\"*EOL*\",\"\",INT(LogData!V173))","v":""},{"$f":"IF($C180=\"*EOL*\",\"\",LogData!V173-A180)","v":""},{"$f":"LogData!E173","v":"*EOL*"},{"$f":"IF(LEFT($C180,1)=\"*\",\"\",LogData!C173)","v":""},{"$f":"IF(LEFT($C180,1)=\"*\",\"\",LogData!F173)","v":""},{"$f":"IF(LEFT($C180,1)=\"*\",\"\",LogData!D173)","v":""},{"$f":"IF(LEFT($C180,1)=\"*\",\"\",LogData!H173)","v":""},{"$f":"IF(LEFT($C180,1)=\"*\",\"\",LogData!T173*100)","v":""}]
[{"$f":"IF($C181=\"*EOL*\",\"\",INT(LogData!V174))","v":""},{"$f":"IF($C181=\"*EOL*\",\"\",LogData!V174-A181)","v":""},{"$f":"LogData!E174","v":"*EOL*"},{"$f":"IF(LEFT($C181,1)=\"*\",\"\",LogData!C174)","v":""},{"$f":"IF(LEFT($C181,1)=\"*\",\"\",LogData!F174)","v":""},{"$f":"IF(LEFT($C181,1)=\"*\",\"\",LogData!D174)","v":""},{"$f":"IF(LEFT($C181,1)=\"*\",\"\",LogData!H174)","v":""},{"$f":"IF(LEFT($C181,1)=\"*\",\"\",LogData!T174*100)","v":""}]
[{"$f":"IF($C182=\"*EOL*\",\"\",INT(LogData!V175))","v":""},{"$f":"IF($C182=\"*EOL*\",\"\",LogData!V175-A182)","v":""},{"$f":"LogData!E175","v":"*EOL*"},{"$f":"IF(LEFT($C182,1)=\"*\",\"\",LogData!C175)","v":""},{"$f":"IF(LEFT($C182,1)=\"*\",\"\",LogData!F175)","v":""},{"$f":"IF(LEFT($C182,1)=\"*\",\"\",LogData!D175)","v":""},{"$f":"IF(LEFT($C182,1)=\"*\",\"\",LogData!H175)","v":""},{"$f":"IF(LEFT($C182,1)=\"*\",\"\",LogData!T175*100)","v":""}]
[{"$f":"IF($C183=\"*EOL*\",\"\",INT(LogData!V176))","v":""},{"$f":"IF($C183=\"*EOL*\",\"\",LogData!V176-A183)","v":""},{"$f":"LogData!E176","v":"*EOL*"},{"$f":"IF(LEFT($C183,1)=\"*\",\"\",LogData!C176)","v":""},{"$f":"IF(LEFT($C183,1)=\"*\",\"\",LogData!F176)","v":""},{"$f":"IF(LEFT($C183,1)=\"*\",\"\",LogData!D176)","v":""},{"$f":"IF(LEFT($C183,1)=\"*\",\"\",LogData!H176)","v":""},{"$f":"IF(LEFT($C183,1)=\"*\",\"\",LogData!T176*100)","v":""}]
[{"$f":"IF($C184=\"*EOL*\",\"\",INT(LogData!V177))","v":""},{"$f":"IF($C184=\"*EOL*\",\"\",LogData!V177-A184)","v":""},{"$f":"LogData!E177","v":"*EOL*"},{"$f":"IF(LEFT($C184,1)=\"*\",\"\",LogData!C177)","v":""},{"$f":"IF(LEFT($C184,1)=\"*\",\"\",LogData!F177)","v":""},{"$f":"IF(LEFT($C184,1)=\"*\",\"\",LogData!D177)","v":""},{"$f":"IF(LEFT($C184,1)=\"*\",\"\",LogData!H177)","v":""},{"$f":"IF(LEFT($C184,1)=\"*\",\"\",LogData!T177*100)","v":""}]
[{"$f":"IF($C185=\"*EOL*\",\"\",INT(LogData!V178))","v":""},{"$f":"IF($C185=\"*EOL*\",\"\",LogData!V178-A185)","v":""},{"$f":"LogData!E178","v":"*EOL*"},{"$f":"IF(LEFT($C185,1)=\"*\",\"\",LogData!C178)","v":""},{"$f":"IF(LEFT($C185,1)=\"*\",\"\",LogData!F178)","v":""},{"$f":"IF(LEFT($C185,1)=\"*\",\"\",LogData!D178)","v":""},{"$f":"IF(LEFT($C185,1)=\"*\",\"\",LogData!H178)","v":""},{"$f":"IF(LEFT($C185,1)=\"*\",\"\",LogData!T178*100)","v":""}]
[{"$f":"IF($C186=\"*EOL*\",\"\",INT(LogData!V179))","v":""},{"$f":"IF($C186=\"*EOL*\",\"\",LogData!V179-A186)","v":""},{"$f":"LogData!E179","v":"*EOL*"},{"$f":"IF(LEFT($C186,1)=\"*\",\"\",LogData!C179)","v":""},{"$f":"IF(LEFT($C186,1)=\"*\",\"\",LogData!F179)","v":""},{"$f":"IF(LEFT($C186,1)=\"*\",\"\",LogData!D179)","v":""},{"$f":"IF(LEFT($C186,1)=\"*\",\"\",LogData!H179)","v":""},{"$f":"IF(LEFT($C186,1)=\"*\",\"\",LogData!T179*100)","v":""}]
[{"$f":"IF($C187=\"*EOL*\",\"\",INT(LogData!V180))","v":""},{"$f":"IF($C187=\"*EOL*\",\"\",LogData!V180-A187)","v":""},{"$f":"LogData!E180","v":"*EOL*"},{"$f":"IF(LEFT($C187,1)=\"*\",\"\",LogData!C180)","v":""},{"$f":"IF(LEFT($C187,1)=\"*\",\"\",LogData!F180)","v":""},{"$f":"IF(LEFT($C187,1)=\"*\",\"\",LogData!D180)","v":""},{"$f":"IF(LEFT($C187,1)=\"*\",\"\",LogData!H180)","v":""},{"$f":"IF(LEFT($C187,1)=\"*\",\"\",LogData!T180*100)","v":""}]
[{"$f":"IF($C188=\"*EOL*\",\"\",INT(LogData!V181))","v":""},{"$f":"IF($C188=\"*EOL*\",\"\",LogData!V181-A188)","v":""},{"$f":"LogData!E181","v":"*EOL*"},{"$f":"IF(LEFT($C188,1)=\"*\",\"\",LogData!C181)","v":""},{"$f":"IF(LEFT($C188,1)=\"*\",\"\",LogData!F181)","v":""},{"$f":"IF(LEFT($C188,1)=\"*\",\"\",LogData!D181)","v":""},{"$f":"IF(LEFT($C188,1)=\"*\",\"\",LogData!H181)","v":""},{"$f":"IF(LEFT($C188,1)=\"*\",\"\",LogData!T181*100)","v":""}]
[{"$f":"IF($C189=\"*EOL*\",\"\",INT(LogData!V182))","v":""},{"$f":"IF($C189=\"*EOL*\",\"\",LogData!V182-A189)","v":""},{"$f":"LogData!E182","v":"*EOL*"},{"$f":"IF(LEFT($C189,1)=\"*\",\"\",LogData!C182)","v":""},{"$f":"IF(LEFT($C189,1)=\"*\",\"\",LogData!F182)","v":""},{"$f":"IF(LEFT($C189,1)=\"*\",\"\",LogData!D182)","v":""},{"$f":"IF(LEFT($C189,1)=\"*\",\"\",LogData!H182)","v":""},{"$f":"IF(LEFT($C189,1)=\"*\",\"\",LogData!T182*100)","v":""}]
[{"$f":"IF($C190=\"*EOL*\",\"\",INT(LogData!V183))","v":""},{"$f":"IF($C190=\"*EOL*\",\"\",LogData!V183-A190)","v":""},{"$f":"LogData!E183","v":"*EOL*"},{"$f":"IF(LEFT($C190,1)=\"*\",\"\",LogData!C183)","v":""},{"$f":"IF(LEFT($C190,1)=\"*\",\"\",LogData!F183)","v":""},{"$f":"IF(LEFT($C190,1)=\"*\",\"\",LogData!D183)","v":""},{"$f":"IF(LEFT($C190,1)=\"*\",\"\",LogData!H183)","v":""},{"$f":"IF(LEFT($C190,1)=\"*\",\"\",LogData!T183*100)","v":""}]
[{"$f":"IF($C191=\"*EOL*\",\"\",INT(LogData!V184))","v":""},{"$f":"IF($C191=\"*EOL*\",\"\",LogData!V184-A191)","v":""},{"$f":"LogData!E184","v":"*EOL*"},{"$f":"IF(LEFT($C191,1)=\"*\",\"\",LogData!C184)","v":""},{"$f":"IF(LEFT($C191,1)=\"*\",\"\",LogData!F184)","v":""},{"$f":"IF(LEFT($C191,1)=\"*\",\"\",LogData!D184)","v":""},{"$f":"IF(LEFT($C191,1)=\"*\",\"\",LogData!H184)","v":""},{"$f":"IF(LEFT($C191,1)=\"*\",\"\",LogData!T184*100)","v":""}]
[{"$f":"IF($C192=\"*EOL*\",\"\",INT(LogData!V185))","v":""},{"$f":"IF($C192=\"*EOL*\",\"\",LogData!V185-A192)","v":""},{"$f":"LogData!E185","v":"*EOL*"},{"$f":"IF(LEFT($C192,1)=\"*\",\"\",LogData!C185)","v":""},{"$f":"IF(LEFT($C192,1)=\"*\",\"\",LogData!F185)","v":""},{"$f":"IF(LEFT($C192,1)=\"*\",\"\",LogData!D185)","v":""},{"$f":"IF(LEFT($C192,1)=\"*\",\"\",LogData!H185)","v":""},{"$f":"IF(LEFT($C192,1)=\"*\",\"\",LogData!T185*100)","v":""}]
[{"$f":"IF($C193=\"*EOL*\",\"\",INT(LogData!V186))","v":""},{"$f":"IF($C193=\"*EOL*\",\"\",LogData!V186-A193)","v":""},{"$f":"LogData!E186","v":"*EOL*"},{"$f":"IF(LEFT($C193,1)=\"*\",\"\",LogData!C186)","v":""},{"$f":"IF(LEFT($C193,1)=\"*\",\"\",LogData!F186)","v":""},{"$f":"IF(LEFT($C193,1)=\"*\",\"\",LogData!D186)","v":""},{"$f":"IF(LEFT($C193,1)=\"*\",\"\",LogData!H186)","v":""},{"$f":"IF(LEFT($C193,1)=\"*\",\"\",LogData!T186*100)","v":""}]
[{"$f":"IF($C194=\"*EOL*\",\"\",INT(LogData!V187))","v":""},{"$f":"IF($C194=\"*EOL*\",\"\",LogData!V187-A194)","v":""},{"$f":"LogData!E187","v":"*EOL*"},{"$f":"IF(LEFT($C194,1)=\"*\",\"\",LogData!C187)","v":""},{"$f":"IF(LEFT($C194,1)=\"*\",\"\",LogData!F187)","v":""},{"$f":"IF(LEFT($C194,1)=\"*\",\"\",LogData!D187)","v":""},{"$f":"IF(LEFT($C194,1)=\"*\",\"\",LogData!H187)","v":""},{"$f":"IF(LEFT($C194,1)=\"*\",\"\",LogData!T187*100)","v":""}]
[{"$f":"IF($C195=\"*EOL*\",\"\",INT(LogData!V188))","v":""},{"$f":"IF($C195=\"*EOL*\",\"\",LogData!V188-A195)","v":""},{"$f":"LogData!E188","v":"*EOL*"},{"$f":"IF(LEFT($C195,1)=\"*\",\"\",LogData!C188)","v":""},{"$f":"IF(LEFT($C195,1)=\"*\",\"\",LogData!F188)","v":""},{"$f":"IF(LEFT($C195,1)=\"*\",\"\",LogData!D188)","v":""},{"$f":"IF(LEFT($C195,1)=\"*\",\"\",LogData!H188)","v":""},{"$f":"IF(LEFT($C195,1)=\"*\",\"\",LogData!T188*100)","v":""}]
[{"$f":"IF($C196=\"*EOL*\",\"\",INT(LogData!V189))","v":""},{"$f":"IF($C196=\"*EOL*\",\"\",LogData!V189-A196)","v":""},{"$f":"LogData!E189","v":"*EOL*"},{"$f":"IF(LEFT($C196,1)=\"*\",\"\",LogData!C189)","v":""},{"$f":"IF(LEFT($C196,1)=\"*\",\"\",LogData!F189)","v":""},{"$f":"IF(LEFT($C196,1)=\"*\",\"\",LogData!D189)","v":""},{"$f":"IF(LEFT($C196,1)=\"*\",\"\",LogData!H189)","v":""},{"$f":"IF(LEFT($C196,1)=\"*\",\"\",LogData!T189*100)","v":""}]
[{"$f":"IF($C197=\"*EOL*\",\"\",INT(LogData!V190))","v":""},{"$f":"IF($C197=\"*EOL*\",\"\",LogData!V190-A197)","v":""},{"$f":"LogData!E190","v":"*EOL*"},{"$f":"IF(LEFT($C197,1)=\"*\",\"\",LogData!C190)","v":""},{"$f":"IF(LEFT($C197,1)=\"*\",\"\",LogData!F190)","v":""},{"$f":"IF(LEFT($C197,1)=\"*\",\"\",LogData!D190)","v":""},{"$f":"IF(LEFT($C197,1)=\"*\",\"\",LogData!H190)","v":""},{"$f":"IF(LEFT($C197,1)=\"*\",\"\",LogData!T190*100)","v":""}]
[{"$f":"IF($C198=\"*EOL*\",\"\",INT(LogData!V191))","v":""},{"$f":"IF($C198=\"*EOL*\",\"\",LogData!V191-A198)","v":""},{"$f":"LogData!E191","v":"*EOL*"},{"$f":"IF(LEFT($C198,1)=\"*\",\"\",LogData!C191)","v":""},{"$f":"IF(LEFT($C198,1)=\"*\",\"\",LogData!F191)","v":""},{"$f":"IF(LEFT($C198,1)=\"*\",\"\",LogData!D191)","v":""},{"$f":"IF(LEFT($C198,1)=\"*\",\"\",LogData!H191)","v":""},{"$f":"IF(LEFT($C198,1)=\"*\",\"\",LogData!T191*100)","v":""}]
[{"$f":"IF($C199=\"*EOL*\",\"\",INT(LogData!V192))","v":""},{"$f":"IF($C199=\"*EOL*\",\"\",LogData!V192-A199)","v":""},{"$f":"LogData!E192","v":"*EOL*"},{"$f":"IF(LEFT($C199,1)=\"*\",\"\",LogData!C192)","v":""},{"$f":"IF(LEFT($C199,1)=\"*\",\"\",LogData!F192)","v":""},{"$f":"IF(LEFT($C199,1)=\"*\",\"\",LogData!D192)","v":""},{"$f":"IF(LEFT($C199,1)=\"*\",\"\",LogData!H192)","v":""},{"$f":"IF(LEFT($C199,1)=\"*\",\"\",LogData!T192*100)","v":""}]
[{"$f":"IF($C200=\"*EOL*\",\"\",INT(LogData!V193))","v":""},{"$f":"IF($C200=\"*EOL*\",\"\",LogData!V193-A200)","v":""},{"$f":"LogData!E193","v":"*EOL*"},{"$f":"IF(LEFT($C200,1)=\"*\",\"\",LogData!C193)","v":""},{"$f":"IF(LEFT($C200,1)=\"*\",\"\",LogData!F193)","v":""},{"$f":"IF(LEFT($C200,1)=\"*\",\"\",LogData!D193)","v":""},{"$f":"IF(LEFT($C200,1)=\"*\",\"\",LogData!H193)","v":""},{"$f":"IF(LEFT($C200,1)=\"*\",\"\",LogData!T193*100)","v":""}]
[{"$f":"IF($C201=\"*EOL*\",\"\",INT(LogData!V194))","v":""},{"$f":"IF($C201=\"*EOL*\",\"\",LogData!V194-A201)","v":""},{"$f":"LogData!E194","v":"*EOL*"},{"$f":"IF(LEFT($C201,1)=\"*\",\"\",LogData!C194)","v":""},{"$f":"IF(LEFT($C201,1)=\"*\",\"\",LogData!F194)","v":""},{"$f":"IF(LEFT($C201,1)=\"*\",\"\",LogData!D194)","v":""},{"$f":"IF(LEFT($C201,1)=\"*\",\"\",LogData!H194)","v":""},{"$f":"IF(LEFT($C201,1)=\"*\",\"\",LogData!T194*100)","v":""}]
[{"$f":"IF($C202=\"*EOL*\",\"\",INT(LogData!V195))","v":""},{"$f":"IF($C202=\"*EOL*\",\"\",LogData!V195-A202)","v":""},{"$f":"LogData!E195","v":"*EOL*"},{"$f":"IF(LEFT($C202,1)=\"*\",\"\",LogData!C195)","v":""},{"$f":"IF(LEFT($C202,1)=\"*\",\"\",LogData!F195)","v":""},{"$f":"IF(LEFT($C202,1)=\"*\",\"\",LogData!D195)","v":""},{"$f":"IF(LEFT($C202,1)=\"*\",\"\",LogData!H195)","v":""},{"$f":"IF(LEFT($C202,1)=\"*\",\"\",LogData!T195*100)","v":""}]
[{"$f":"IF($C203=\"*EOL*\",\"\",INT(LogData!V196))","v":""},{"$f":"IF($C203=\"*EOL*\",\"\",LogData!V196-A203)","v":""},{"$f":"LogData!E196","v":"*EOL*"},{"$f":"IF(LEFT($C203,1)=\"*\",\"\",LogData!C196)","v":""},{"$f":"IF(LEFT($C203,1)=\"*\",\"\",LogData!F196)","v":""},{"$f":"IF(LEFT($C203,1)=\"*\",\"\",LogData!D196)","v":""},{"$f":"IF(LEFT($C203,1)=\"*\",\"\",LogData!H196)","v":""},{"$f":"IF(LEFT($C203,1)=\"*\",\"\",LogData!T196*100)","v":""}]
[{"$f":"IF($C204=\"*EOL*\",\"\",INT(LogData!V197))","v":""},{"$f":"IF($C204=\"*EOL*\",\"\",LogData!V197-A204)","v":""},{"$f":"LogData!E197","v":"*EOL*"},{"$f":"IF(LEFT($C204,1)=\"*\",\"\",LogData!C197)","v":""},{"$f":"IF(LEFT($C204,1)=\"*\",\"\",LogData!F197)","v":""},{"$f":"IF(LEFT($C204,1)=\"*\",\"\",LogData!D197)","v":""},{"$f":"IF(LEFT($C204,1)=\"*\",\"\",LogData!H197)","v":""},{"$f":"IF(LEFT($C204,1)=\"*\",\"\",LogData!T197*100)","v":""}]
[{"$f":"IF($C205=\"*EOL*\",\"\",INT(LogData!V198))","v":""},{"$f":"IF($C205=\"*EOL*\",\"\",LogData!V198-A205)","v":""},{"$f":"LogData!E198","v":"*EOL*"},{"$f":"IF(LEFT($C205,1)=\"*\",\"\",LogData!C198)","v":""},{"$f":"IF(LEFT($C205,1)=\"*\",\"\",LogData!F198)","v":""},{"$f":"IF(LEFT($C205,1)=\"*\",\"\",LogData!D198)","v":""},{"$f":"IF(LEFT($C205,1)=\"*\",\"\",LogData!H198)","v":""},{"$f":"IF(LEFT($C205,1)=\"*\",\"\",LogData!T198*100)","v":""}]
[{"$f":"IF($C206=\"*EOL*\",\"\",INT(LogData!V199))","v":""},{"$f":"IF($C206=\"*EOL*\",\"\",LogData!V199-A206)","v":""},{"$f":"LogData!E199","v":"*EOL*"},{"$f":"IF(LEFT($C206,1)=\"*\",\"\",LogData!C199)","v":""},{"$f":"IF(LEFT($C206,1)=\"*\",\"\",LogData!F199)","v":""},{"$f":"IF(LEFT($C206,1)=\"*\",\"\",LogData!D199)","v":""},{"$f":"IF(LEFT($C206,1)=\"*\",\"\",LogData!H199)","v":""},{"$f":"IF(LEFT($C206,1)=\"*\",\"\",LogData!T199*100)","v":""}]
[{"$f":"IF($C207=\"*EOL*\",\"\",INT(LogData!V200))","v":""},{"$f":"IF($C207=\"*EOL*\",\"\",LogData!V200-A207)","v":""},{"$f":"LogData!E200","v":"*EOL*"},{"$f":"IF(LEFT($C207,1)=\"*\",\"\",LogData!C200)","v":""},{"$f":"IF(LEFT($C207,1)=\"*\",\"\",LogData!F200)","v":""},{"$f":"IF(LEFT($C207,1)=\"*\",\"\",LogData!D200)","v":""},{"$f":"IF(LEFT($C207,1)=\"*\",\"\",LogData!H200)","v":""},{"$f":"IF(LEFT($C207,1)=\"*\",\"\",LogData!T200*100)","v":""}]
[{"$f":"IF($C208=\"*EOL*\",\"\",INT(LogData!V201))","v":""},{"$f":"IF($C208=\"*EOL*\",\"\",LogData!V201-A208)","v":""},{"$f":"LogData!E201","v":"*EOL*"},{"$f":"IF(LEFT($C208,1)=\"*\",\"\",LogData!C201)","v":""},{"$f":"IF(LEFT($C208,1)=\"*\",\"\",LogData!F201)","v":""},{"$f":"IF(LEFT($C208,1)=\"*\",\"\",LogData!D201)","v":""},{"$f":"IF(LEFT($C208,1)=\"*\",\"\",LogData!H201)","v":""},{"$f":"IF(LEFT($C208,1)=\"*\",\"\",LogData!T201*100)","v":""}]
[{"$f":"IF($C209=\"*EOL*\",\"\",INT(LogData!V202))","v":""},{"$f":"IF($C209=\"*EOL*\",\"\",LogData!V202-A209)","v":""},{"$f":"LogData!E202","v":"*EOL*"},{"$f":"IF(LEFT($C209,1)=\"*\",\"\",LogData!C202)","v":""},{"$f":"IF(LEFT($C209,1)=\"*\",\"\",LogData!F202)","v":""},{"$f":"IF(LEFT($C209,1)=\"*\",\"\",LogData!D202)","v":""},{"$f":"IF(LEFT($C209,1)=\"*\",\"\",LogData!H202)","v":""},{"$f":"IF(LEFT($C209,1)=\"*\",\"\",LogData!T202*100)","v":""}]
[{"$f":"IF($C210=\"*EOL*\",\"\",INT(LogData!V203))","v":""},{"$f":"IF($C210=\"*EOL*\",\"\",LogData!V203-A210)","v":""},{"$f":"LogData!E203","v":"*EOL*"},{"$f":"IF(LEFT($C210,1)=\"*\",\"\",LogData!C203)","v":""},{"$f":"IF(LEFT($C210,1)=\"*\",\"\",LogData!F203)","v":""},{"$f":"IF(LEFT($C210,1)=\"*\",\"\",LogData!D203)","v":""},{"$f":"IF(LEFT($C210,1)=\"*\",\"\",LogData!H203)","v":""},{"$f":"IF(LEFT($C210,1)=\"*\",\"\",LogData!T203*100)","v":""}]
[{"$f":"IF($C211=\"*EOL*\",\"\",INT(LogData!V204))","v":""},{"$f":"IF($C211=\"*EOL*\",\"\",LogData!V204-A211)","v":""},{"$f":"LogData!E204","v":"*EOL*"},{"$f":"IF(LEFT($C211,1)=\"*\",\"\",LogData!C204)","v":""},{"$f":"IF(LEFT($C211,1)=\"*\",\"\",LogData!F204)","v":""},{"$f":"IF(LEFT($C211,1)=\"*\",\"\",LogData!D204)","v":""},{"$f":"IF(LEFT($C211,1)=\"*\",\"\",LogData!H204)","v":""},{"$f":"IF(LEFT($C211,1)=\"*\",\"\",LogData!T204*100)","v":""}]
[{"$f":"IF($C212=\"*EOL*\",\"\",INT(LogData!V205))","v":""},{"$f":"IF($C212=\"*EOL*\",\"\",LogData!V205-A212)","v":""},{"$f":"LogData!E205","v":"*EOL*"},{"$f":"IF(LEFT($C212,1)=\"*\",\"\",LogData!C205)","v":""},{"$f":"IF(LEFT($C212,1)=\"*\",\"\",LogData!F205)","v":""},{"$f":"IF(LEFT($C212,1)=\"*\",\"\",LogData!D205)","v":""},{"$f":"IF(LEFT($C212,1)=\"*\",\"\",LogData!H205)","v":""},{"$f":"IF(LEFT($C212,1)=\"*\",\"\",LogData!T205*100)","v":""}]
[{"$f":"IF($C213=\"*EOL*\",\"\",INT(LogData!V206))","v":""},{"$f":"IF($C213=\"*EOL*\",\"\",LogData!V206-A213)","v":""},{"$f":"LogData!E206","v":"*EOL*"},{"$f":"IF(LEFT($C213,1)=\"*\",\"\",LogData!C206)","v":""},{"$f":"IF(LEFT($C213,1)=\"*\",\"\",LogData!F206)","v":""},{"$f":"IF(LEFT($C213,1)=\"*\",\"\",LogData!D206)","v":""},{"$f":"IF(LEFT($C213,1)=\"*\",\"\",LogData!H206)","v":""},{"$f":"IF(LEFT($C213,1)=\"*\",\"\",LogData!T206*100)","v":""}]
[{"$f":"IF($C214=\"*EOL*\",\"\",INT(LogData!V207))","v":""},{"$f":"IF($C214=\"*EOL*\",\"\",LogData!V207-A214)","v":""},{"$f":"LogData!E207","v":"*EOL*"},{"$f":"IF(LEFT($C214,1)=\"*\",\"\",LogData!C207)","v":""},{"$f":"IF(LEFT($C214,1)=\"*\",\"\",LogData!F207)","v":""},{"$f":"IF(LEFT($C214,1)=\"*\",\"\",LogData!D207)","v":""},{"$f":"IF(LEFT($C214,1)=\"*\",\"\",LogData!H207)","v":""},{"$f":"IF(LEFT($C214,1)=\"*\",\"\",LogData!T207*100)","v":""}]
[{"$f":"IF($C215=\"*EOL*\",\"\",INT(LogData!V208))","v":""},{"$f":"IF($C215=\"*EOL*\",\"\",LogData!V208-A215)","v":""},{"$f":"LogData!E208","v":"*EOL*"},{"$f":"IF(LEFT($C215,1)=\"*\",\"\",LogData!C208)","v":""},{"$f":"IF(LEFT($C215,1)=\"*\",\"\",LogData!F208)","v":""},{"$f":"IF(LEFT($C215,1)=\"*\",\"\",LogData!D208)","v":""},{"$f":"IF(LEFT($C215,1)=\"*\",\"\",LogData!H208)","v":""},{"$f":"IF(LEFT($C215,1)=\"*\",\"\",LogData!T208*100)","v":""}]
[{"$f":"IF($C216=\"*EOL*\",\"\",INT(LogData!V209))","v":""},{"$f":"IF($C216=\"*EOL*\",\"\",LogData!V209-A216)","v":""},{"$f":"LogData!E209","v":"*EOL*"},{"$f":"IF(LEFT($C216,1)=\"*\",\"\",LogData!C209)","v":""},{"$f":"IF(LEFT($C216,1)=\"*\",\"\",LogData!F209)","v":""},{"$f":"IF(LEFT($C216,1)=\"*\",\"\",LogData!D209)","v":""},{"$f":"IF(LEFT($C216,1)=\"*\",\"\",LogData!H209)","v":""},{"$f":"IF(LEFT($C216,1)=\"*\",\"\",LogData!T209*100)","v":""}]
[{"$f":"IF($C217=\"*EOL*\",\"\",INT(LogData!V210))","v":""},{"$f":"IF($C217=\"*EOL*\",\"\",LogData!V210-A217)","v":""},{"$f":"LogData!E210","v":"*EOL*"},{"$f":"IF(LEFT($C217,1)=\"*\",\"\",LogData!C210)","v":""},{"$f":"IF(LEFT($C217,1)=\"*\",\"\",LogData!F210)","v":""},{"$f":"IF(LEFT($C217,1)=\"*\",\"\",LogData!D210)","v":""},{"$f":"IF(LEFT($C217,1)=\"*\",\"\",LogData!H210)","v":""},{"$f":"IF(LEFT($C217,1)=\"*\",\"\",LogData!T210*100)","v":""}]
[{"$f":"IF($C218=\"*EOL*\",\"\",INT(LogData!V211))","v":""},{"$f":"IF($C218=\"*EOL*\",\"\",LogData!V211-A218)","v":""},{"$f":"LogData!E211","v":"*EOL*"},{"$f":"IF(LEFT($C218,1)=\"*\",\"\",LogData!C211)","v":""},{"$f":"IF(LEFT($C218,1)=\"*\",\"\",LogData!F211)","v":""},{"$f":"IF(LEFT($C218,1)=\"*\",\"\",LogData!D211)","v":""},{"$f":"IF(LEFT($C218,1)=\"*\",\"\",LogData!H211)","v":""},{"$f":"IF(LEFT($C218,1)=\"*\",\"\",LogData!T211*100)","v":""}]
[{"$f":"IF($C219=\"*EOL*\",\"\",INT(LogData!V212))","v":""},{"$f":"IF($C219=\"*EOL*\",\"\",LogData!V212-A219)","v":""},{"$f":"LogData!E212","v":"*EOL*"},{"$f":"IF(LEFT($C219,1)=\"*\",\"\",LogData!C212)","v":""},{"$f":"IF(LEFT($C219,1)=\"*\",\"\",LogData!F212)","v":""},{"$f":"IF(LEFT($C219,1)=\"*\",\"\",LogData!D212)","v":""},{"$f":"IF(LEFT($C219,1)=\"*\",\"\",LogData!H212)","v":""},{"$f":"IF(LEFT($C219,1)=\"*\",\"\",LogData!T212*100)","v":""}]
[{"$f":"IF($C220=\"*EOL*\",\"\",INT(LogData!V213))","v":""},{"$f":"IF($C220=\"*EOL*\",\"\",LogData!V213-A220)","v":""},{"$f":"LogData!E213","v":"*EOL*"},{"$f":"IF(LEFT($C220,1)=\"*\",\"\",LogData!C213)","v":""},{"$f":"IF(LEFT($C220,1)=\"*\",\"\",LogData!F213)","v":""},{"$f":"IF(LEFT($C220,1)=\"*\",\"\",LogData!D213)","v":""},{"$f":"IF(LEFT($C220,1)=\"*\",\"\",LogData!H213)","v":""},{"$f":"IF(LEFT($C220,1)=\"*\",\"\",LogData!T213*100)","v":""}]
[{"$f":"IF($C221=\"*EOL*\",\"\",INT(LogData!V214))","v":""},{"$f":"IF($C221=\"*EOL*\",\"\",LogData!V214-A221)","v":""},{"$f":"LogData!E214","v":"*EOL*"},{"$f":"IF(LEFT($C221,1)=\"*\",\"\",LogData!C214)","v":""},{"$f":"IF(LEFT($C221,1)=\"*\",\"\",LogData!F214)","v":""},{"$f":"IF(LEFT($C221,1)=\"*\",\"\",LogData!D214)","v":""},{"$f":"IF(LEFT($C221,1)=\"*\",\"\",LogData!H214)","v":""},{"$f":"IF(LEFT($C221,1)=\"*\",\"\",LogData!T214*100)","v":""}]
[{"$f":"IF($C222=\"*EOL*\",\"\",INT(LogData!V215))","v":""},{"$f":"IF($C222=\"*EOL*\",\"\",LogData!V215-A222)","v":""},{"$f":"LogData!E215","v":"*EOL*"},{"$f":"IF(LEFT($C222,1)=\"*\",\"\",LogData!C215)","v":""},{"$f":"IF(LEFT($C222,1)=\"*\",\"\",LogData!F215)","v":""},{"$f":"IF(LEFT($C222,1)=\"*\",\"\",LogData!D215)","v":""},{"$f":"IF(LEFT($C222,1)=\"*\",\"\",LogData!H215)","v":""},{"$f":"IF(LEFT($C222,1)=\"*\",\"\",LogData!T215*100)","v":""}]
[{"$f":"IF($C223=\"*EOL*\",\"\",INT(LogData!V216))","v":""},{"$f":"IF($C223=\"*EOL*\",\"\",LogData!V216-A223)","v":""},{"$f":"LogData!E216","v":"*EOL*"},{"$f":"IF(LEFT($C223,1)=\"*\",\"\",LogData!C216)","v":""},{"$f":"IF(LEFT($C223,1)=\"*\",\"\",LogData!F216)","v":""},{"$f":"IF(LEFT($C223,1)=\"*\",\"\",LogData!D216)","v":""},{"$f":"IF(LEFT($C223,1)=\"*\",\"\",LogData!H216)","v":""},{"$f":"IF(LEFT($C223,1)=\"*\",\"\",LogData!T216*100)","v":""}]
[{"$f":"IF($C224=\"*EOL*\",\"\",INT(LogData!V217))","v":""},{"$f":"IF($C224=\"*EOL*\",\"\",LogData!V217-A224)","v":""},{"$f":"LogData!E217","v":"*EOL*"},{"$f":"IF(LEFT($C224,1)=\"*\",\"\",LogData!C217)","v":""},{"$f":"IF(LEFT($C224,1)=\"*\",\"\",LogData!F217)","v":""},{"$f":"IF(LEFT($C224,1)=\"*\",\"\",LogData!D217)","v":""},{"$f":"IF(LEFT($C224,1)=\"*\",\"\",LogData!H217)","v":""},{"$f":"IF(LEFT($C224,1)=\"*\",\"\",LogData!T217*100)","v":""}]
[{"$f":"IF($C225=\"*EOL*\",\"\",INT(LogData!V218))","v":""},{"$f":"IF($C225=\"*EOL*\",\"\",LogData!V218-A225)","v":""},{"$f":"LogData!E218","v":"*EOL*"},{"$f":"IF(LEFT($C225,1)=\"*\",\"\",LogData!C218)","v":""},{"$f":"IF(LEFT($C225,1)=\"*\",\"\",LogData!F218)","v":""},{"$f":"IF(LEFT($C225,1)=\"*\",\"\",LogData!D218)","v":""},{"$f":"IF(LEFT($C225,1)=\"*\",\"\",LogData!H218)","v":""},{"$f":"IF(LEFT($C225,1)=\"*\",\"\",LogData!T218*100)","v":""}]
[{"$f":"IF($C226=\"*EOL*\",\"\",INT(LogData!V219))","v":""},{"$f":"IF($C226=\"*EOL*\",\"\",LogData!V219-A226)","v":""},{"$f":"LogData!E219","v":"*EOL*"},{"$f":"IF(LEFT($C226,1)=\"*\",\"\",LogData!C219)","v":""},{"$f":"IF(LEFT($C226,1)=\"*\",\"\",LogData!F219)","v":""},{"$f":"IF(LEFT($C226,1)=\"*\",\"\",LogData!D219)","v":""},{"$f":"IF(LEFT($C226,1)=\"*\",\"\",LogData!H219)","v":""},{"$f":"IF(LEFT($C226,1)=\"*\",\"\",LogData!T219*100)","v":""}]
[{"$f":"IF($C227=\"*EOL*\",\"\",INT(LogData!V220))","v":""},{"$f":"IF($C227=\"*EOL*\",\"\",LogData!V220-A227)","v":""},{"$f":"LogData!E220","v":"*EOL*"},{"$f":"IF(LEFT($C227,1)=\"*\",\"\",LogData!C220)","v":""},{"$f":"IF(LEFT($C227,1)=\"*\",\"\",LogData!F220)","v":""},{"$f":"IF(LEFT($C227,1)=\"*\",\"\",LogData!D220)","v":""},{"$f":"IF(LEFT($C227,1)=\"*\",\"\",LogData!H220)","v":""},{"$f":"IF(LEFT($C227,1)=\"*\",\"\",LogData!T220*100)","v":""}]
[{"$f":"IF($C228=\"*EOL*\",\"\",INT(LogData!V221))","v":""},{"$f":"IF($C228=\"*EOL*\",\"\",LogData!V221-A228)","v":""},{"$f":"LogData!E221","v":"*EOL*"},{"$f":"IF(LEFT($C228,1)=\"*\",\"\",LogData!C221)","v":""},{"$f":"IF(LEFT($C228,1)=\"*\",\"\",LogData!F221)","v":""},{"$f":"IF(LEFT($C228,1)=\"*\",\"\",LogData!D221)","v":""},{"$f":"IF(LEFT($C228,1)=\"*\",\"\",LogData!H221)","v":""},{"$f":"IF(LEFT($C228,1)=\"*\",\"\",LogData!T221*100)","v":""}]
[{"$f":"IF($C229=\"*EOL*\",\"\",INT(LogData!V222))","v":""},{"$f":"IF($C229=\"*EOL*\",\"\",LogData!V222-A229)","v":""},{"$f":"LogData!E222","v":"*EOL*"},{"$f":"IF(LEFT($C229,1)=\"*\",\"\",LogData!C222)","v":""},{"$f":"IF(LEFT($C229,1)=\"*\",\"\",LogData!F222)","v":""},{"$f":"IF(LEFT($C229,1)=\"*\",\"\",LogData!D222)","v":""},{"$f":"IF(LEFT($C229,1)=\"*\",\"\",LogData!H222)","v":""},{"$f":"IF(LEFT($C229,1)=\"*\",\"\",LogData!T222*100)","v":""}]
[{"$f":"IF($C230=\"*EOL*\",\"\",INT(LogData!V223))","v":""},{"$f":"IF($C230=\"*EOL*\",\"\",LogData!V223-A230)","v":""},{"$f":"LogData!E223","v":"*EOL*"},{"$f":"IF(LEFT($C230,1)=\"*\",\"\",LogData!C223)","v":""},{"$f":"IF(LEFT($C230,1)=\"*\",\"\",LogData!F223)","v":""},{"$f":"IF(LEFT($C230,1)=\"*\",\"\",LogData!D223)","v":""},{"$f":"IF(LEFT($C230,1)=\"*\",\"\",LogData!H223)","v":""},{"$f":"IF(LEFT($C230,1)=\"*\",\"\",LogData!T223*100)","v":""}]
[{"$f":"IF($C231=\"*EOL*\",\"\",INT(LogData!V224))","v":""},{"$f":"IF($C231=\"*EOL*\",\"\",LogData!V224-A231)","v":""},{"$f":"LogData!E224","v":"*EOL*"},{"$f":"IF(LEFT($C231,1)=\"*\",\"\",LogData!C224)","v":""},{"$f":"IF(LEFT($C231,1)=\"*\",\"\",LogData!F224)","v":""},{"$f":"IF(LEFT($C231,1)=\"*\",\"\",LogData!D224)","v":""},{"$f":"IF(LEFT($C231,1)=\"*\",\"\",LogData!H224)","v":""},{"$f":"IF(LEFT($C231,1)=\"*\",\"\",LogData!T224*100)","v":""}]
[{"$f":"IF($C232=\"*EOL*\",\"\",INT(LogData!V225))","v":""},{"$f":"IF($C232=\"*EOL*\",\"\",LogData!V225-A232)","v":""},{"$f":"LogData!E225","v":"*EOL*"},{"$f":"IF(LEFT($C232,1)=\"*\",\"\",LogData!C225)","v":""},{"$f":"IF(LEFT($C232,1)=\"*\",\"\",LogData!F225)","v":""},{"$f":"IF(LEFT($C232,1)=\"*\",\"\",LogData!D225)","v":""},{"$f":"IF(LEFT($C232,1)=\"*\",\"\",LogData!H225)","v":""},{"$f":"IF(LEFT($C232,1)=\"*\",\"\",LogData!T225*100)","v":""}]
[{"$f":"IF($C233=\"*EOL*\",\"\",INT(LogData!V226))","v":""},{"$f":"IF($C233=\"*EOL*\",\"\",LogData!V226-A233)","v":""},{"$f":"LogData!E226","v":"*EOL*"},{"$f":"IF(LEFT($C233,1)=\"*\",\"\",LogData!C226)","v":""},{"$f":"IF(LEFT($C233,1)=\"*\",\"\",LogData!F226)","v":""},{"$f":"IF(LEFT($C233,1)=\"*\",\"\",LogData!D226)","v":""},{"$f":"IF(LEFT($C233,1)=\"*\",\"\",LogData!H226)","v":""},{"$f":"IF(LEFT($C233,1)=\"*\",\"\",LogData!T226*100)","v":""}]
[{"$f":"IF($C234=\"*EOL*\",\"\",INT(LogData!V227))","v":""},{"$f":"IF($C234=\"*EOL*\",\"\",LogData!V227-A234)","v":""},{"$f":"LogData!E227","v":"*EOL*"},{"$f":"IF(LEFT($C234,1)=\"*\",\"\",LogData!C227)","v":""},{"$f":"IF(LEFT($C234,1)=\"*\",\"\",LogData!F227)","v":""},{"$f":"IF(LEFT($C234,1)=\"*\",\"\",LogData!D227)","v":""},{"$f":"IF(LEFT($C234,1)=\"*\",\"\",LogData!H227)","v":""},{"$f":"IF(LEFT($C234,1)=\"*\",\"\",LogData!T227*100)","v":""}]
[{"$f":"IF($C235=\"*EOL*\",\"\",INT(LogData!V228))","v":""},{"$f":"IF($C235=\"*EOL*\",\"\",LogData!V228-A235)","v":""},{"$f":"LogData!E228","v":"*EOL*"},{"$f":"IF(LEFT($C235,1)=\"*\",\"\",LogData!C228)","v":""},{"$f":"IF(LEFT($C235,1)=\"*\",\"\",LogData!F228)","v":""},{"$f":"IF(LEFT($C235,1)=\"*\",\"\",LogData!D228)","v":""},{"$f":"IF(LEFT($C235,1)=\"*\",\"\",LogData!H228)","v":""},{"$f":"IF(LEFT($C235,1)=\"*\",\"\",LogData!T228*100)","v":""}]
[{"$f":"IF($C236=\"*EOL*\",\"\",INT(LogData!V229))","v":""},{"$f":"IF($C236=\"*EOL*\",\"\",LogData!V229-A236)","v":""},{"$f":"LogData!E229","v":"*EOL*"},{"$f":"IF(LEFT($C236,1)=\"*\",\"\",LogData!C229)","v":""},{"$f":"IF(LEFT($C236,1)=\"*\",\"\",LogData!F229)","v":""},{"$f":"IF(LEFT($C236,1)=\"*\",\"\",LogData!D229)","v":""},{"$f":"IF(LEFT($C236,1)=\"*\",\"\",LogData!H229)","v":""},{"$f":"IF(LEFT($C236,1)=\"*\",\"\",LogData!T229*100)","v":""}]
[{"$f":"IF($C237=\"*EOL*\",\"\",INT(LogData!V230))","v":""},{"$f":"IF($C237=\"*EOL*\",\"\",LogData!V230-A237)","v":""},{"$f":"LogData!E230","v":"*EOL*"},{"$f":"IF(LEFT($C237,1)=\"*\",\"\",LogData!C230)","v":""},{"$f":"IF(LEFT($C237,1)=\"*\",\"\",LogData!F230)","v":""},{"$f":"IF(LEFT($C237,1)=\"*\",\"\",LogData!D230)","v":""},{"$f":"IF(LEFT($C237,1)=\"*\",\"\",LogData!H230)","v":""},{"$f":"IF(LEFT($C237,1)=\"*\",\"\",LogData!T230*100)","v":""}]
[{"$f":"IF($C238=\"*EOL*\",\"\",INT(LogData!V231))","v":""},{"$f":"IF($C238=\"*EOL*\",\"\",LogData!V231-A238)","v":""},{"$f":"LogData!E231","v":"*EOL*"},{"$f":"IF(LEFT($C238,1)=\"*\",\"\",LogData!C231)","v":""},{"$f":"IF(LEFT($C238,1)=\"*\",\"\",LogData!F231)","v":""},{"$f":"IF(LEFT($C238,1)=\"*\",\"\",LogData!D231)","v":""},{"$f":"IF(LEFT($C238,1)=\"*\",\"\",LogData!H231)","v":""},{"$f":"IF(LEFT($C238,1)=\"*\",\"\",LogData!T231*100)","v":""}]
[{"$f":"IF($C239=\"*EOL*\",\"\",INT(LogData!V232))","v":""},{"$f":"IF($C239=\"*EOL*\",\"\",LogData!V232-A239)","v":""},{"$f":"LogData!E232","v":"*EOL*"},{"$f":"IF(LEFT($C239,1)=\"*\",\"\",LogData!C232)","v":""},{"$f":"IF(LEFT($C239,1)=\"*\",\"\",LogData!F232)","v":""},{"$f":"IF(LEFT($C239,1)=\"*\",\"\",LogData!D232)","v":""},{"$f":"IF(LEFT($C239,1)=\"*\",\"\",LogData!H232)","v":""},{"$f":"IF(LEFT($C239,1)=\"*\",\"\",LogData!T232*100)","v":""}]
[{"$f":"IF($C240=\"*EOL*\",\"\",INT(LogData!V233))","v":""},{"$f":"IF($C240=\"*EOL*\",\"\",LogData!V233-A240)","v":""},{"$f":"LogData!E233","v":"*EOL*"},{"$f":"IF(LEFT($C240,1)=\"*\",\"\",LogData!C233)","v":""},{"$f":"IF(LEFT($C240,1)=\"*\",\"\",LogData!F233)","v":""},{"$f":"IF(LEFT($C240,1)=\"*\",\"\",LogData!D233)","v":""},{"$f":"IF(LEFT($C240,1)=\"*\",\"\",LogData!H233)","v":""},{"$f":"IF(LEFT($C240,1)=\"*\",\"\",LogData!T233*100)","v":""}]
[{"$f":"IF($C241=\"*EOL*\",\"\",INT(LogData!V234))","v":""},{"$f":"IF($C241=\"*EOL*\",\"\",LogData!V234-A241)","v":""},{"$f":"LogData!E234","v":"*EOL*"},{"$f":"IF(LEFT($C241,1)=\"*\",\"\",LogData!C234)","v":""},{"$f":"IF(LEFT($C241,1)=\"*\",\"\",LogData!F234)","v":""},{"$f":"IF(LEFT($C241,1)=\"*\",\"\",LogData!D234)","v":""},{"$f":"IF(LEFT($C241,1)=\"*\",\"\",LogData!H234)","v":""},{"$f":"IF(LEFT($C241,1)=\"*\",\"\",LogData!T234*100)","v":""}]
[{"$f":"IF($C242=\"*EOL*\",\"\",INT(LogData!V235))","v":""},{"$f":"IF($C242=\"*EOL*\",\"\",LogData!V235-A242)","v":""},{"$f":"LogData!E235","v":"*EOL*"},{"$f":"IF(LEFT($C242,1)=\"*\",\"\",LogData!C235)","v":""},{"$f":"IF(LEFT($C242,1)=\"*\",\"\",LogData!F235)","v":""},{"$f":"IF(LEFT($C242,1)=\"*\",\"\",LogData!D235)","v":""},{"$f":"IF(LEFT($C242,1)=\"*\",\"\",LogData!H235)","v":""},{"$f":"IF(LEFT($C242,1)=\"*\",\"\",LogData!T235*100)","v":""}]
[{"$f":"IF($C243=\"*EOL*\",\"\",INT(LogData!V236))","v":""},{"$f":"IF($C243=\"*EOL*\",\"\",LogData!V236-A243)","v":""},{"$f":"LogData!E236","v":"*EOL*"},{"$f":"IF(LEFT($C243,1)=\"*\",\"\",LogData!C236)","v":""},{"$f":"IF(LEFT($C243,1)=\"*\",\"\",LogData!F236)","v":""},{"$f":"IF(LEFT($C243,1)=\"*\",\"\",LogData!D236)","v":""},{"$f":"IF(LEFT($C243,1)=\"*\",\"\",LogData!H236)","v":""},{"$f":"IF(LEFT($C243,1)=\"*\",\"\",LogData!T236*100)","v":""}]
[{"$f":"IF($C244=\"*EOL*\",\"\",INT(LogData!V237))","v":""},{"$f":"IF($C244=\"*EOL*\",\"\",LogData!V237-A244)","v":""},{"$f":"LogData!E237","v":"*EOL*"},{"$f":"IF(LEFT($C244,1)=\"*\",\"\",LogData!C237)","v":""},{"$f":"IF(LEFT($C244,1)=\"*\",\"\",LogData!F237)","v":""},{"$f":"IF(LEFT($C244,1)=\"*\",\"\",LogData!D237)","v":""},{"$f":"IF(LEFT($C244,1)=\"*\",\"\",LogData!H237)","v":""},{"$f":"IF(LEFT($C244,1)=\"*\",\"\",LogData!T237*100)","v":""}]
[{"$f":"IF($C245=\"*EOL*\",\"\",INT(LogData!V238))","v":""},{"$f":"IF($C245=\"*EOL*\",\"\",LogData!V238-A245)","v":""},{"$f":"LogData!E238","v":"*EOL*"},{"$f":"IF(LEFT($C245,1)=\"*\",\"\",LogData!C238)","v":""},{"$f":"IF(LEFT($C245,1)=\"*\",\"\",LogData!F238)","v":""},{"$f":"IF(LEFT($C245,1)=\"*\",\"\",LogData!D238)","v":""},{"$f":"IF(LEFT($C245,1)=\"*\",\"\",LogData!H238)","v":""},{"$f":"IF(LEFT($C245,1)=\"*\",\"\",LogData!T238*100)","v":""}]
[{"$f":"IF($C246=\"*EOL*\",\"\",INT(LogData!V239))","v":""},{"$f":"IF($C246=\"*EOL*\",\"\",LogData!V239-A246)","v":""},{"$f":"LogData!E239","v":"*EOL*"},{"$f":"IF(LEFT($C246,1)=\"*\",\"\",LogData!C239)","v":""},{"$f":"IF(LEFT($C246,1)=\"*\",\"\",LogData!F239)","v":""},{"$f":"IF(LEFT($C246,1)=\"*\",\"\",LogData!D239)","v":""},{"$f":"IF(LEFT($C246,1)=\"*\",\"\",LogData!H239)","v":""},{"$f":"IF(LEFT($C246,1)=\"*\",\"\",LogData!T239*100)","v":""}]
[{"$f":"IF($C247=\"*EOL*\",\"\",INT(LogData!V240))","v":""},{"$f":"IF($C247=\"*EOL*\",\"\",LogData!V240-A247)","v":""},{"$f":"LogData!E240","v":"*EOL*"},{"$f":"IF(LEFT($C247,1)=\"*\",\"\",LogData!C240)","v":""},{"$f":"IF(LEFT($C247,1)=\"*\",\"\",LogData!F240)","v":""},{"$f":"IF(LEFT($C247,1)=\"*\",\"\",LogData!D240)","v":""},{"$f":"IF(LEFT($C247,1)=\"*\",\"\",LogData!H240)","v":""},{"$f":"IF(LEFT($C247,1)=\"*\",\"\",LogData!T240*100)","v":""}]
[{"$f":"IF($C248=\"*EOL*\",\"\",INT(LogData!V241))","v":""},{"$f":"IF($C248=\"*EOL*\",\"\",LogData!V241-A248)","v":""},{"$f":"LogData!E241","v":"*EOL*"},{"$f":"IF(LEFT($C248,1)=\"*\",\"\",LogData!C241)","v":""},{"$f":"IF(LEFT($C248,1)=\"*\",\"\",LogData!F241)","v":""},{"$f":"IF(LEFT($C248,1)=\"*\",\"\",LogData!D241)","v":""},{"$f":"IF(LEFT($C248,1)=\"*\",\"\",LogData!H241)","v":""},{"$f":"IF(LEFT($C248,1)=\"*\",\"\",LogData!T241*100)","v":""}]
[{"$f":"IF($C249=\"*EOL*\",\"\",INT(LogData!V242))","v":""},{"$f":"IF($C249=\"*EOL*\",\"\",LogData!V242-A249)","v":""},{"$f":"LogData!E242","v":"*EOL*"},{"$f":"IF(LEFT($C249,1)=\"*\",\"\",LogData!C242)","v":""},{"$f":"IF(LEFT($C249,1)=\"*\",\"\",LogData!F242)","v":""},{"$f":"IF(LEFT($C249,1)=\"*\",\"\",LogData!D242)","v":""},{"$f":"IF(LEFT($C249,1)=\"*\",\"\",LogData!H242)","v":""},{"$f":"IF(LEFT($C249,1)=\"*\",\"\",LogData!T242*100)","v":""}]
[{"$f":"IF($C250=\"*EOL*\",\"\",INT(LogData!V243))","v":""},{"$f":"IF($C250=\"*EOL*\",\"\",LogData!V243-A250)","v":""},{"$f":"LogData!E243","v":"*EOL*"},{"$f":"IF(LEFT($C250,1)=\"*\",\"\",LogData!C243)","v":""},{"$f":"IF(LEFT($C250,1)=\"*\",\"\",LogData!F243)","v":""},{"$f":"IF(LEFT($C250,1)=\"*\",\"\",LogData!D243)","v":""},{"$f":"IF(LEFT($C250,1)=\"*\",\"\",LogData!H243)","v":""},{"$f":"IF(LEFT($C250,1)=\"*\",\"\",LogData!T243*100)","v":""}]
[{"$f":"IF($C251=\"*EOL*\",\"\",INT(LogData!V244))","v":""},{"$f":"IF($C251=\"*EOL*\",\"\",LogData!V244-A251)","v":""},{"$f":"LogData!E244","v":"*EOL*"},{"$f":"IF(LEFT($C251,1)=\"*\",\"\",LogData!C244)","v":""},{"$f":"IF(LEFT($C251,1)=\"*\",\"\",LogData!F244)","v":""},{"$f":"IF(LEFT($C251,1)=\"*\",\"\",LogData!D244)","v":""},{"$f":"IF(LEFT($C251,1)=\"*\",\"\",LogData!H244)","v":""},{"$f":"IF(LEFT($C251,1)=\"*\",\"\",LogData!T244*100)","v":""}]
[{"$f":"IF($C252=\"*EOL*\",\"\",INT(LogData!V245))","v":""},{"$f":"IF($C252=\"*EOL*\",\"\",LogData!V245-A252)","v":""},{"$f":"LogData!E245","v":"*EOL*"},{"$f":"IF(LEFT($C252,1)=\"*\",\"\",LogData!C245)","v":""},{"$f":"IF(LEFT($C252,1)=\"*\",\"\",LogData!F245)","v":""},{"$f":"IF(LEFT($C252,1)=\"*\",\"\",LogData!D245)","v":""},{"$f":"IF(LEFT($C252,1)=\"*\",\"\",LogData!H245)","v":""},{"$f":"IF(LEFT($C252,1)=\"*\",\"\",LogData!T245*100)","v":""}]
[{"$f":"IF($C253=\"*EOL*\",\"\",INT(LogData!V246))","v":""},{"$f":"IF($C253=\"*EOL*\",\"\",LogData!V246-A253)","v":""},{"$f":"LogData!E246","v":"*EOL*"},{"$f":"IF(LEFT($C253,1)=\"*\",\"\",LogData!C246)","v":""},{"$f":"IF(LEFT($C253,1)=\"*\",\"\",LogData!F246)","v":""},{"$f":"IF(LEFT($C253,1)=\"*\",\"\",LogData!D246)","v":""},{"$f":"IF(LEFT($C253,1)=\"*\",\"\",LogData!H246)","v":""},{"$f":"IF(LEFT($C253,1)=\"*\",\"\",LogData!T246*100)","v":""}]
[{"$f":"IF($C254=\"*EOL*\",\"\",INT(LogData!V247))","v":""},{"$f":"IF($C254=\"*EOL*\",\"\",LogData!V247-A254)","v":""},{"$f":"LogData!E247","v":"*EOL*"},{"$f":"IF(LEFT($C254,1)=\"*\",\"\",LogData!C247)","v":""},{"$f":"IF(LEFT($C254,1)=\"*\",\"\",LogData!F247)","v":""},{"$f":"IF(LEFT($C254,1)=\"*\",\"\",LogData!D247)","v":""},{"$f":"IF(LEFT($C254,1)=\"*\",\"\",LogData!H247)","v":""},{"$f":"IF(LEFT($C254,1)=\"*\",\"\",LogData!T247*100)","v":""}]
[{"$f":"IF($C255=\"*EOL*\",\"\",INT(LogData!V248))","v":""},{"$f":"IF($C255=\"*EOL*\",\"\",LogData!V248-A255)","v":""},{"$f":"LogData!E248","v":"*EOL*"},{"$f":"IF(LEFT($C255,1)=\"*\",\"\",LogData!C248)","v":""},{"$f":"IF(LEFT($C255,1)=\"*\",\"\",LogData!F248)","v":""},{"$f":"IF(LEFT($C255,1)=\"*\",\"\",LogData!D248)","v":""},{"$f":"IF(LEFT($C255,1)=\"*\",\"\",LogData!H248)","v":""},{"$f":"IF(LEFT($C255,1)=\"*\",\"\",LogData!T248*100)","v":""}]
[{"$f":"IF($C256=\"*EOL*\",\"\",INT(LogData!V249))","v":""},{"$f":"IF($C256=\"*EOL*\",\"\",LogData!V249-A256)","v":""},{"$f":"LogData!E249","v":"*EOL*"},{"$f":"IF(LEFT($C256,1)=\"*\",\"\",LogData!C249)","v":""},{"$f":"IF(LEFT($C256,1)=\"*\",\"\",LogData!F249)","v":""},{"$f":"IF(LEFT($C256,1)=\"*\",\"\",LogData!D249)","v":""},{"$f":"IF(LEFT($C256,1)=\"*\",\"\",LogData!H249)","v":""},{"$f":"IF(LEFT($C256,1)=\"*\",\"\",LogData!T249*100)","v":""}]
[{"$f":"IF($C257=\"*EOL*\",\"\",INT(LogData!V250))","v":""},{"$f":"IF($C257=\"*EOL*\",\"\",LogData!V250-A257)","v":""},{"$f":"LogData!E250","v":"*EOL*"},{"$f":"IF(LEFT($C257,1)=\"*\",\"\",LogData!C250)","v":""},{"$f":"IF(LEFT($C257,1)=\"*\",\"\",LogData!F250)","v":""},{"$f":"IF(LEFT($C257,1)=\"*\",\"\",LogData!D250)","v":""},{"$f":"IF(LEFT($C257,1)=\"*\",\"\",LogData!H250)","v":""},{"$f":"IF(LEFT($C257,1)=\"*\",\"\",LogData!T250*100)","v":""}]
[{"$f":"IF($C258=\"*EOL*\",\"\",INT(LogData!V251))","v":""},{"$f":"IF($C258=\"*EOL*\",\"\",LogData!V251-A258)","v":""},{"$f":"LogData!E251","v":"*EOL*"},{"$f":"IF(LEFT($C258,1)=\"*\",\"\",LogData!C251)","v":""},{"$f":"IF(LEFT($C258,1)=\"*\",\"\",LogData!F251)","v":""},{"$f":"IF(LEFT($C258,1)=\"*\",\"\",LogData!D251)","v":""},{"$f":"IF(LEFT($C258,1)=\"*\",\"\",LogData!H251)","v":""},{"$f":"IF(LEFT($C258,1)=\"*\",\"\",LogData!T251*100)","v":""}]
[{"$f":"IF($C259=\"*EOL*\",\"\",INT(LogData!V252))","v":""},{"$f":"IF($C259=\"*EOL*\",\"\",LogData!V252-A259)","v":""},{"$f":"LogData!E252","v":"*EOL*"},{"$f":"IF(LEFT($C259,1)=\"*\",\"\",LogData!C252)","v":""},{"$f":"IF(LEFT($C259,1)=\"*\",\"\",LogData!F252)","v":""},{"$f":"IF(LEFT($C259,1)=\"*\",\"\",LogData!D252)","v":""},{"$f":"IF(LEFT($C259,1)=\"*\",\"\",LogData!H252)","v":""},{"$f":"IF(LEFT($C259,1)=\"*\",\"\",LogData!T252*100)","v":""}]
[{"$f":"IF($C260=\"*EOL*\",\"\",INT(LogData!V253))","v":""},{"$f":"IF($C260=\"*EOL*\",\"\",LogData!V253-A260)","v":""},{"$f":"LogData!E253","v":"*EOL*"},{"$f":"IF(LEFT($C260,1)=\"*\",\"\",LogData!C253)","v":""},{"$f":"IF(LEFT($C260,1)=\"*\",\"\",LogData!F253)","v":""},{"$f":"IF(LEFT($C260,1)=\"*\",\"\",LogData!D253)","v":""},{"$f":"IF(LEFT($C260,1)=\"*\",\"\",LogData!H253)","v":""},{"$f":"IF(LEFT($C260,1)=\"*\",\"\",LogData!T253*100)","v":""}]
[{"$f":"IF($C261=\"*EOL*\",\"\",INT(LogData!V254))","v":""},{"$f":"IF($C261=\"*EOL*\",\"\",LogData!V254-A261)","v":""},{"$f":"LogData!E254","v":"*EOL*"},{"$f":"IF(LEFT($C261,1)=\"*\",\"\",LogData!C254)","v":""},{"$f":"IF(LEFT($C261,1)=\"*\",\"\",LogData!F254)","v":""},{"$f":"IF(LEFT($C261,1)=\"*\",\"\",LogData!D254)","v":""},{"$f":"IF(LEFT($C261,1)=\"*\",\"\",LogData!H254)","v":""},{"$f":"IF(LEFT($C261,1)=\"*\",\"\",LogData!T254*100)","v":""}]
[{"$f":"IF($C262=\"*EOL*\",\"\",INT(LogData!V255))","v":""},{"$f":"IF($C262=\"*EOL*\",\"\",LogData!V255-A262)","v":""},{"$f":"LogData!E255","v":"*EOL*"},{"$f":"IF(LEFT($C262,1)=\"*\",\"\",LogData!C255)","v":""},{"$f":"IF(LEFT($C262,1)=\"*\",\"\",LogData!F255)","v":""},{"$f":"IF(LEFT($C262,1)=\"*\",\"\",LogData!D255)","v":""},{"$f":"IF(LEFT($C262,1)=\"*\",\"\",LogData!H255)","v":""},{"$f":"IF(LEFT($C262,1)=\"*\",\"\",LogData!T255*100)","v":""}]
[{"$f":"IF($C263=\"*EOL*\",\"\",INT(LogData!V256))","v":""},{"$f":"IF($C263=\"*EOL*\",\"\",LogData!V256-A263)","v":""},{"$f":"LogData!E256","v":"*EOL*"},{"$f":"IF(LEFT($C263,1)=\"*\",\"\",LogData!C256)","v":""},{"$f":"IF(LEFT($C263,1)=\"*\",\"\",LogData!F256)","v":""},{"$f":"IF(LEFT($C263,1)=\"*\",\"\",LogData!D256)","v":""},{"$f":"IF(LEFT($C263,1)=\"*\",\"\",LogData!H256)","v":""},{"$f":"IF(LEFT($C263,1)=\"*\",\"\",LogData!T256*100)","v":""}]
[{"$f":"IF($C264=\"*EOL*\",\"\",INT(LogData!V257))","v":""},{"$f":"IF($C264=\"*EOL*\",\"\",LogData!V257-A264)","v":""},{"$f":"LogData!E257","v":"*EOL*"},{"$f":"IF(LEFT($C264,1)=\"*\",\"\",LogData!C257)","v":""},{"$f":"IF(LEFT($C264,1)=\"*\",\"\",LogData!F257)","v":""},{"$f":"IF(LEFT($C264,1)=\"*\",\"\",LogData!D257)","v":""},{"$f":"IF(LEFT($C264,1)=\"*\",\"\",LogData!H257)","v":""},{"$f":"IF(LEFT($C264,1)=\"*\",\"\",LogData!T257*100)","v":""}]
[{"$f":"IF($C265=\"*EOL*\",\"\",INT(LogData!V258))","v":""},{"$f":"IF($C265=\"*EOL*\",\"\",LogData!V258-A265)","v":""},{"$f":"LogData!E258","v":"*EOL*"},{"$f":"IF(LEFT($C265,1)=\"*\",\"\",LogData!C258)","v":""},{"$f":"IF(LEFT($C265,1)=\"*\",\"\",LogData!F258)","v":""},{"$f":"IF(LEFT($C265,1)=\"*\",\"\",LogData!D258)","v":""},{"$f":"IF(LEFT($C265,1)=\"*\",\"\",LogData!H258)","v":""},{"$f":"IF(LEFT($C265,1)=\"*\",\"\",LogData!T258*100)","v":""}]
[{"$f":"IF($C266=\"*EOL*\",\"\",INT(LogData!V259))","v":""},{"$f":"IF($C266=\"*EOL*\",\"\",LogData!V259-A266)","v":""},{"$f":"LogData!E259","v":"*EOL*"},{"$f":"IF(LEFT($C266,1)=\"*\",\"\",LogData!C259)","v":""},{"$f":"IF(LEFT($C266,1)=\"*\",\"\",LogData!F259)","v":""},{"$f":"IF(LEFT($C266,1)=\"*\",\"\",LogData!D259)","v":""},{"$f":"IF(LEFT($C266,1)=\"*\",\"\",LogData!H259)","v":""},{"$f":"IF(LEFT($C266,1)=\"*\",\"\",LogData!T259*100)","v":""}]
[{"$f":"IF($C267=\"*EOL*\",\"\",INT(LogData!V260))","v":""},{"$f":"IF($C267=\"*EOL*\",\"\",LogData!V260-A267)","v":""},{"$f":"LogData!E260","v":"*EOL*"},{"$f":"IF(LEFT($C267,1)=\"*\",\"\",LogData!C260)","v":""},{"$f":"IF(LEFT($C267,1)=\"*\",\"\",LogData!F260)","v":""},{"$f":"IF(LEFT($C267,1)=\"*\",\"\",LogData!D260)","v":""},{"$f":"IF(LEFT($C267,1)=\"*\",\"\",LogData!H260)","v":""},{"$f":"IF(LEFT($C267,1)=\"*\",\"\",LogData!T260*100)","v":""}]
[{"$f":"IF($C268=\"*EOL*\",\"\",INT(LogData!V261))","v":""},{"$f":"IF($C268=\"*EOL*\",\"\",LogData!V261-A268)","v":""},{"$f":"LogData!E261","v":"*EOL*"},{"$f":"IF(LEFT($C268,1)=\"*\",\"\",LogData!C261)","v":""},{"$f":"IF(LEFT($C268,1)=\"*\",\"\",LogData!F261)","v":""},{"$f":"IF(LEFT($C268,1)=\"*\",\"\",LogData!D261)","v":""},{"$f":"IF(LEFT($C268,1)=\"*\",\"\",LogData!H261)","v":""},{"$f":"IF(LEFT($C268,1)=\"*\",\"\",LogData!T261*100)","v":""}]
[{"$f":"IF($C269=\"*EOL*\",\"\",INT(LogData!V262))","v":""},{"$f":"IF($C269=\"*EOL*\",\"\",LogData!V262-A269)","v":""},{"$f":"LogData!E262","v":"*EOL*"},{"$f":"IF(LEFT($C269,1)=\"*\",\"\",LogData!C262)","v":""},{"$f":"IF(LEFT($C269,1)=\"*\",\"\",LogData!F262)","v":""},{"$f":"IF(LEFT($C269,1)=\"*\",\"\",LogData!D262)","v":""},{"$f":"IF(LEFT($C269,1)=\"*\",\"\",LogData!H262)","v":""},{"$f":"IF(LEFT($C269,1)=\"*\",\"\",LogData!T262*100)","v":""}]
[{"$f":"IF($C270=\"*EOL*\",\"\",INT(LogData!V263))","v":""},{"$f":"IF($C270=\"*EOL*\",\"\",LogData!V263-A270)","v":""},{"$f":"LogData!E263","v":"*EOL*"},{"$f":"IF(LEFT($C270,1)=\"*\",\"\",LogData!C263)","v":""},{"$f":"IF(LEFT($C270,1)=\"*\",\"\",LogData!F263)","v":""},{"$f":"IF(LEFT($C270,1)=\"*\",\"\",LogData!D263)","v":""},{"$f":"IF(LEFT($C270,1)=\"*\",\"\",LogData!H263)","v":""},{"$f":"IF(LEFT($C270,1)=\"*\",\"\",LogData!T263*100)","v":""}]
[{"$f":"IF($C271=\"*EOL*\",\"\",INT(LogData!V264))","v":""},{"$f":"IF($C271=\"*EOL*\",\"\",LogData!V264-A271)","v":""},{"$f":"LogData!E264","v":"*EOL*"},{"$f":"IF(LEFT($C271,1)=\"*\",\"\",LogData!C264)","v":""},{"$f":"IF(LEFT($C271,1)=\"*\",\"\",LogData!F264)","v":""},{"$f":"IF(LEFT($C271,1)=\"*\",\"\",LogData!D264)","v":""},{"$f":"IF(LEFT($C271,1)=\"*\",\"\",LogData!H264)","v":""},{"$f":"IF(LEFT($C271,1)=\"*\",\"\",LogData!T264*100)","v":""}]
[{"$f":"IF($C272=\"*EOL*\",\"\",INT(LogData!V265))","v":""},{"$f":"IF($C272=\"*EOL*\",\"\",LogData!V265-A272)","v":""},{"$f":"LogData!E265","v":"*EOL*"},{"$f":"IF(LEFT($C272,1)=\"*\",\"\",LogData!C265)","v":""},{"$f":"IF(LEFT($C272,1)=\"*\",\"\",LogData!F265)","v":""},{"$f":"IF(LEFT($C272,1)=\"*\",\"\",LogData!D265)","v":""},{"$f":"IF(LEFT($C272,1)=\"*\",\"\",LogData!H265)","v":""},{"$f":"IF(LEFT($C272,1)=\"*\",\"\",LogData!T265*100)","v":""}]
[{"$f":"IF($C273=\"*EOL*\",\"\",INT(LogData!V266))","v":""},{"$f":"IF($C273=\"*EOL*\",\"\",LogData!V266-A273)","v":""},{"$f":"LogData!E266","v":"*EOL*"},{"$f":"IF(LEFT($C273,1)=\"*\",\"\",LogData!C266)","v":""},{"$f":"IF(LEFT($C273,1)=\"*\",\"\",LogData!F266)","v":""},{"$f":"IF(LEFT($C273,1)=\"*\",\"\",LogData!D266)","v":""},{"$f":"IF(LEFT($C273,1)=\"*\",\"\",LogData!H266)","v":""},{"$f":"IF(LEFT($C273,1)=\"*\",\"\",LogData!T266*100)","v":""}]
[{"$f":"IF($C274=\"*EOL*\",\"\",INT(LogData!V267))","v":""},{"$f":"IF($C274=\"*EOL*\",\"\",LogData!V267-A274)","v":""},{"$f":"LogData!E267","v":"*EOL*"},{"$f":"IF(LEFT($C274,1)=\"*\",\"\",LogData!C267)","v":""},{"$f":"IF(LEFT($C274,1)=\"*\",\"\",LogData!F267)","v":""},{"$f":"IF(LEFT($C274,1)=\"*\",\"\",LogData!D267)","v":""},{"$f":"IF(LEFT($C274,1)=\"*\",\"\",LogData!H267)","v":""},{"$f":"IF(LEFT($C274,1)=\"*\",\"\",LogData!T267*100)","v":""}]
[{"$f":"IF($C275=\"*EOL*\",\"\",INT(LogData!V268))","v":""},{"$f":"IF($C275=\"*EOL*\",\"\",LogData!V268-A275)","v":""},{"$f":"LogData!E268","v":"*EOL*"},{"$f":"IF(LEFT($C275,1)=\"*\",\"\",LogData!C268)","v":""},{"$f":"IF(LEFT($C275,1)=\"*\",\"\",LogData!F268)","v":""},{"$f":"IF(LEFT($C275,1)=\"*\",\"\",LogData!D268)","v":""},{"$f":"IF(LEFT($C275,1)=\"*\",\"\",LogData!H268)","v":""},{"$f":"IF(LEFT($C275,1)=\"*\",\"\",LogData!T268*100)","v":""}]
[{"$f":"IF($C276=\"*EOL*\",\"\",INT(LogData!V269))","v":""},{"$f":"IF($C276=\"*EOL*\",\"\",LogData!V269-A276)","v":""},{"$f":"LogData!E269","v":"*EOL*"},{"$f":"IF(LEFT($C276,1)=\"*\",\"\",LogData!C269)","v":""},{"$f":"IF(LEFT($C276,1)=\"*\",\"\",LogData!F269)","v":""},{"$f":"IF(LEFT($C276,1)=\"*\",\"\",LogData!D269)","v":""},{"$f":"IF(LEFT($C276,1)=\"*\",\"\",LogData!H269)","v":""},{"$f":"IF(LEFT($C276,1)=\"*\",\"\",LogData!T269*100)","v":""}]
[{"$f":"IF($C277=\"*EOL*\",\"\",INT(LogData!V270))","v":""},{"$f":"IF($C277=\"*EOL*\",\"\",LogData!V270-A277)","v":""},{"$f":"LogData!E270","v":"*EOL*"},{"$f":"IF(LEFT($C277,1)=\"*\",\"\",LogData!C270)","v":""},{"$f":"IF(LEFT($C277,1)=\"*\",\"\",LogData!F270)","v":""},{"$f":"IF(LEFT($C277,1)=\"*\",\"\",LogData!D270)","v":""},{"$f":"IF(LEFT($C277,1)=\"*\",\"\",LogData!H270)","v":""},{"$f":"IF(LEFT($C277,1)=\"*\",\"\",LogData!T270*100)","v":""}]
[{"$f":"IF($C278=\"*EOL*\",\"\",INT(LogData!V271))","v":""},{"$f":"IF($C278=\"*EOL*\",\"\",LogData!V271-A278)","v":""},{"$f":"LogData!E271","v":"*EOL*"},{"$f":"IF(LEFT($C278,1)=\"*\",\"\",LogData!C271)","v":""},{"$f":"IF(LEFT($C278,1)=\"*\",\"\",LogData!F271)","v":""},{"$f":"IF(LEFT($C278,1)=\"*\",\"\",LogData!D271)","v":""},{"$f":"IF(LEFT($C278,1)=\"*\",\"\",LogData!H271)","v":""},{"$f":"IF(LEFT($C278,1)=\"*\",\"\",LogData!T271*100)","v":""}]
[{"$f":"IF($C279=\"*EOL*\",\"\",INT(LogData!V272))","v":""},{"$f":"IF($C279=\"*EOL*\",\"\",LogData!V272-A279)","v":""},{"$f":"LogData!E272","v":"*EOL*"},{"$f":"IF(LEFT($C279,1)=\"*\",\"\",LogData!C272)","v":""},{"$f":"IF(LEFT($C279,1)=\"*\",\"\",LogData!F272)","v":""},{"$f":"IF(LEFT($C279,1)=\"*\",\"\",LogData!D272)","v":""},{"$f":"IF(LEFT($C279,1)=\"*\",\"\",LogData!H272)","v":""},{"$f":"IF(LEFT($C279,1)=\"*\",\"\",LogData!T272*100)","v":""}]
[{"$f":"IF($C280=\"*EOL*\",\"\",INT(LogData!V273))","v":""},{"$f":"IF($C280=\"*EOL*\",\"\",LogData!V273-A280)","v":""},{"$f":"LogData!E273","v":"*EOL*"},{"$f":"IF(LEFT($C280,1)=\"*\",\"\",LogData!C273)","v":""},{"$f":"IF(LEFT($C280,1)=\"*\",\"\",LogData!F273)","v":""},{"$f":"IF(LEFT($C280,1)=\"*\",\"\",LogData!D273)","v":""},{"$f":"IF(LEFT($C280,1)=\"*\",\"\",LogData!H273)","v":""},{"$f":"IF(LEFT($C280,1)=\"*\",\"\",LogData!T273*100)","v":""}]
[{"$f":"IF($C281=\"*EOL*\",\"\",INT(LogData!V274))","v":""},{"$f":"IF($C281=\"*EOL*\",\"\",LogData!V274-A281)","v":""},{"$f":"LogData!E274","v":"*EOL*"},{"$f":"IF(LEFT($C281,1)=\"*\",\"\",LogData!C274)","v":""},{"$f":"IF(LEFT($C281,1)=\"*\",\"\",LogData!F274)","v":""},{"$f":"IF(LEFT($C281,1)=\"*\",\"\",LogData!D274)","v":""},{"$f":"IF(LEFT($C281,1)=\"*\",\"\",LogData!H274)","v":""},{"$f":"IF(LEFT($C281,1)=\"*\",\"\",LogData!T274*100)","v":""}]
[{"$f":"IF($C282=\"*EOL*\",\"\",INT(LogData!V275))","v":""},{"$f":"IF($C282=\"*EOL*\",\"\",LogData!V275-A282)","v":""},{"$f":"LogData!E275","v":"*EOL*"},{"$f":"IF(LEFT($C282,1)=\"*\",\"\",LogData!C275)","v":""},{"$f":"IF(LEFT($C282,1)=\"*\",\"\",LogData!F275)","v":""},{"$f":"IF(LEFT($C282,1)=\"*\",\"\",LogData!D275)","v":""},{"$f":"IF(LEFT($C282,1)=\"*\",\"\",LogData!H275)","v":""},{"$f":"IF(LEFT($C282,1)=\"*\",\"\",LogData!T275*100)","v":""}]
[{"$f":"IF($C283=\"*EOL*\",\"\",INT(LogData!V276))","v":""},{"$f":"IF($C283=\"*EOL*\",\"\",LogData!V276-A283)","v":""},{"$f":"LogData!E276","v":"*EOL*"},{"$f":"IF(LEFT($C283,1)=\"*\",\"\",LogData!C276)","v":""},{"$f":"IF(LEFT($C283,1)=\"*\",\"\",LogData!F276)","v":""},{"$f":"IF(LEFT($C283,1)=\"*\",\"\",LogData!D276)","v":""},{"$f":"IF(LEFT($C283,1)=\"*\",\"\",LogData!H276)","v":""},{"$f":"IF(LEFT($C283,1)=\"*\",\"\",LogData!T276*100)","v":""}]
[{"$f":"IF($C284=\"*EOL*\",\"\",INT(LogData!V277))","v":""},{"$f":"IF($C284=\"*EOL*\",\"\",LogData!V277-A284)","v":""},{"$f":"LogData!E277","v":"*EOL*"},{"$f":"IF(LEFT($C284,1)=\"*\",\"\",LogData!C277)","v":""},{"$f":"IF(LEFT($C284,1)=\"*\",\"\",LogData!F277)","v":""},{"$f":"IF(LEFT($C284,1)=\"*\",\"\",LogData!D277)","v":""},{"$f":"IF(LEFT($C284,1)=\"*\",\"\",LogData!H277)","v":""},{"$f":"IF(LEFT($C284,1)=\"*\",\"\",LogData!T277*100)","v":""}]
[{"$f":"IF($C285=\"*EOL*\",\"\",INT(LogData!V278))","v":""},{"$f":"IF($C285=\"*EOL*\",\"\",LogData!V278-A285)","v":""},{"$f":"LogData!E278","v":"*EOL*"},{"$f":"IF(LEFT($C285,1)=\"*\",\"\",LogData!C278)","v":""},{"$f":"IF(LEFT($C285,1)=\"*\",\"\",LogData!F278)","v":""},{"$f":"IF(LEFT($C285,1)=\"*\",\"\",LogData!D278)","v":""},{"$f":"IF(LEFT($C285,1)=\"*\",\"\",LogData!H278)","v":""},{"$f":"IF(LEFT($C285,1)=\"*\",\"\",LogData!T278*100)","v":""}]
[{"$f":"IF($C286=\"*EOL*\",\"\",INT(LogData!V279))","v":""},{"$f":"IF($C286=\"*EOL*\",\"\",LogData!V279-A286)","v":""},{"$f":"LogData!E279","v":"*EOL*"},{"$f":"IF(LEFT($C286,1)=\"*\",\"\",LogData!C279)","v":""},{"$f":"IF(LEFT($C286,1)=\"*\",\"\",LogData!F279)","v":""},{"$f":"IF(LEFT($C286,1)=\"*\",\"\",LogData!D279)","v":""},{"$f":"IF(LEFT($C286,1)=\"*\",\"\",LogData!H279)","v":""},{"$f":"IF(LEFT($C286,1)=\"*\",\"\",LogData!T279*100)","v":""}]
[{"$f":"IF($C287=\"*EOL*\",\"\",INT(LogData!V280))","v":""},{"$f":"IF($C287=\"*EOL*\",\"\",LogData!V280-A287)","v":""},{"$f":"LogData!E280","v":"*EOL*"},{"$f":"IF(LEFT($C287,1)=\"*\",\"\",LogData!C280)","v":""},{"$f":"IF(LEFT($C287,1)=\"*\",\"\",LogData!F280)","v":""},{"$f":"IF(LEFT($C287,1)=\"*\",\"\",LogData!D280)","v":""},{"$f":"IF(LEFT($C287,1)=\"*\",\"\",LogData!H280)","v":""},{"$f":"IF(LEFT($C287,1)=\"*\",\"\",LogData!T280*100)","v":""}]
[{"$f":"IF($C288=\"*EOL*\",\"\",INT(LogData!V281))","v":""},{"$f":"IF($C288=\"*EOL*\",\"\",LogData!V281-A288)","v":""},{"$f":"LogData!E281","v":"*EOL*"},{"$f":"IF(LEFT($C288,1)=\"*\",\"\",LogData!C281)","v":""},{"$f":"IF(LEFT($C288,1)=\"*\",\"\",LogData!F281)","v":""},{"$f":"IF(LEFT($C288,1)=\"*\",\"\",LogData!D281)","v":""},{"$f":"IF(LEFT($C288,1)=\"*\",\"\",LogData!H281)","v":""},{"$f":"IF(LEFT($C288,1)=\"*\",\"\",LogData!T281*100)","v":""}]
[{"$f":"IF($C289=\"*EOL*\",\"\",INT(LogData!V282))","v":""},{"$f":"IF($C289=\"*EOL*\",\"\",LogData!V282-A289)","v":""},{"$f":"LogData!E282","v":"*EOL*"},{"$f":"IF(LEFT($C289,1)=\"*\",\"\",LogData!C282)","v":""},{"$f":"IF(LEFT($C289,1)=\"*\",\"\",LogData!F282)","v":""},{"$f":"IF(LEFT($C289,1)=\"*\",\"\",LogData!D282)","v":""},{"$f":"IF(LEFT($C289,1)=\"*\",\"\",LogData!H282)","v":""},{"$f":"IF(LEFT($C289,1)=\"*\",\"\",LogData!T282*100)","v":""}]
[{"$f":"IF($C290=\"*EOL*\",\"\",INT(LogData!V283))","v":""},{"$f":"IF($C290=\"*EOL*\",\"\",LogData!V283-A290)","v":""},{"$f":"LogData!E283","v":"*EOL*"},{"$f":"IF(LEFT($C290,1)=\"*\",\"\",LogData!C283)","v":""},{"$f":"IF(LEFT($C290,1)=\"*\",\"\",LogData!F283)","v":""},{"$f":"IF(LEFT($C290,1)=\"*\",\"\",LogData!D283)","v":""},{"$f":"IF(LEFT($C290,1)=\"*\",\"\",LogData!H283)","v":""},{"$f":"IF(LEFT($C290,1)=\"*\",\"\",LogData!T283*100)","v":""}]
[{"$f":"IF($C291=\"*EOL*\",\"\",INT(LogData!V284))","v":""},{"$f":"IF($C291=\"*EOL*\",\"\",LogData!V284-A291)","v":""},{"$f":"LogData!E284","v":"*EOL*"},{"$f":"IF(LEFT($C291,1)=\"*\",\"\",LogData!C284)","v":""},{"$f":"IF(LEFT($C291,1)=\"*\",\"\",LogData!F284)","v":""},{"$f":"IF(LEFT($C291,1)=\"*\",\"\",LogData!D284)","v":""},{"$f":"IF(LEFT($C291,1)=\"*\",\"\",LogData!H284)","v":""},{"$f":"IF(LEFT($C291,1)=\"*\",\"\",LogData!T284*100)","v":""}]
[{"$f":"IF($C292=\"*EOL*\",\"\",INT(LogData!V285))","v":""},{"$f":"IF($C292=\"*EOL*\",\"\",LogData!V285-A292)","v":""},{"$f":"LogData!E285","v":"*EOL*"},{"$f":"IF(LEFT($C292,1)=\"*\",\"\",LogData!C285)","v":""},{"$f":"IF(LEFT($C292,1)=\"*\",\"\",LogData!F285)","v":""},{"$f":"IF(LEFT($C292,1)=\"*\",\"\",LogData!D285)","v":""},{"$f":"IF(LEFT($C292,1)=\"*\",\"\",LogData!H285)","v":""},{"$f":"IF(LEFT($C292,1)=\"*\",\"\",LogData!T285*100)","v":""}]
[{"$f":"IF($C293=\"*EOL*\",\"\",INT(LogData!V286))","v":""},{"$f":"IF($C293=\"*EOL*\",\"\",LogData!V286-A293)","v":""},{"$f":"LogData!E286","v":"*EOL*"},{"$f":"IF(LEFT($C293,1)=\"*\",\"\",LogData!C286)","v":""},{"$f":"IF(LEFT($C293,1)=\"*\",\"\",LogData!F286)","v":""},{"$f":"IF(LEFT($C293,1)=\"*\",\"\",LogData!D286)","v":""},{"$f":"IF(LEFT($C293,1)=\"*\",\"\",LogData!H286)","v":""},{"$f":"IF(LEFT($C293,1)=\"*\",\"\",LogData!T286*100)","v":""}]
[{"$f":"IF($C294=\"*EOL*\",\"\",INT(LogData!V287))","v":""},{"$f":"IF($C294=\"*EOL*\",\"\",LogData!V287-A294)","v":""},{"$f":"LogData!E287","v":"*EOL*"},{"$f":"IF(LEFT($C294,1)=\"*\",\"\",LogData!C287)","v":""},{"$f":"IF(LEFT($C294,1)=\"*\",\"\",LogData!F287)","v":""},{"$f":"IF(LEFT($C294,1)=\"*\",\"\",LogData!D287)","v":""},{"$f":"IF(LEFT($C294,1)=\"*\",\"\",LogData!H287)","v":""},{"$f":"IF(LEFT($C294,1)=\"*\",\"\",LogData!T287*100)","v":""}]
[{"$f":"IF($C295=\"*EOL*\",\"\",INT(LogData!V288))","v":""},{"$f":"IF($C295=\"*EOL*\",\"\",LogData!V288-A295)","v":""},{"$f":"LogData!E288","v":"*EOL*"},{"$f":"IF(LEFT($C295,1)=\"*\",\"\",LogData!C288)","v":""},{"$f":"IF(LEFT($C295,1)=\"*\",\"\",LogData!F288)","v":""},{"$f":"IF(LEFT($C295,1)=\"*\",\"\",LogData!D288)","v":""},{"$f":"IF(LEFT($C295,1)=\"*\",\"\",LogData!H288)","v":""},{"$f":"IF(LEFT($C295,1)=\"*\",\"\",LogData!T288*100)","v":""}]
[{"$f":"IF($C296=\"*EOL*\",\"\",INT(LogData!V289))","v":""},{"$f":"IF($C296=\"*EOL*\",\"\",LogData!V289-A296)","v":""},{"$f":"LogData!E289","v":"*EOL*"},{"$f":"IF(LEFT($C296,1)=\"*\",\"\",LogData!C289)","v":""},{"$f":"IF(LEFT($C296,1)=\"*\",\"\",LogData!F289)","v":""},{"$f":"IF(LEFT($C296,1)=\"*\",\"\",LogData!D289)","v":""},{"$f":"IF(LEFT($C296,1)=\"*\",\"\",LogData!H289)","v":""},{"$f":"IF(LEFT($C296,1)=\"*\",\"\",LogData!T289*100)","v":""}]
[{"$f":"IF($C297=\"*EOL*\",\"\",INT(LogData!V290))","v":""},{"$f":"IF($C297=\"*EOL*\",\"\",LogData!V290-A297)","v":""},{"$f":"LogData!E290","v":"*EOL*"},{"$f":"IF(LEFT($C297,1)=\"*\",\"\",LogData!C290)","v":""},{"$f":"IF(LEFT($C297,1)=\"*\",\"\",LogData!F290)","v":""},{"$f":"IF(LEFT($C297,1)=\"*\",\"\",LogData!D290)","v":""},{"$f":"IF(LEFT($C297,1)=\"*\",\"\",LogData!H290)","v":""},{"$f":"IF(LEFT($C297,1)=\"*\",\"\",LogData!T290*100)","v":""}]
[{"$f":"IF($C298=\"*EOL*\",\"\",INT(LogData!V291))","v":""},{"$f":"IF($C298=\"*EOL*\",\"\",LogData!V291-A298)","v":""},{"$f":"LogData!E291","v":"*EOL*"},{"$f":"IF(LEFT($C298,1)=\"*\",\"\",LogData!C291)","v":""},{"$f":"IF(LEFT($C298,1)=\"*\",\"\",LogData!F291)","v":""},{"$f":"IF(LEFT($C298,1)=\"*\",\"\",LogData!D291)","v":""},{"$f":"IF(LEFT($C298,1)=\"*\",\"\",LogData!H291)","v":""},{"$f":"IF(LEFT($C298,1)=\"*\",\"\",LogData!T291*100)","v":""}]
[{"$f":"IF($C299=\"*EOL*\",\"\",INT(LogData!V292))","v":""},{"$f":"IF($C299=\"*EOL*\",\"\",LogData!V292-A299)","v":""},{"$f":"LogData!E292","v":"*EOL*"},{"$f":"IF(LEFT($C299,1)=\"*\",\"\",LogData!C292)","v":""},{"$f":"IF(LEFT($C299,1)=\"*\",\"\",LogData!F292)","v":""},{"$f":"IF(LEFT($C299,1)=\"*\",\"\",LogData!D292)","v":""},{"$f":"IF(LEFT($C299,1)=\"*\",\"\",LogData!H292)","v":""},{"$f":"IF(LEFT($C299,1)=\"*\",\"\",LogData!T292*100)","v":""}]
[{"$f":"IF($C300=\"*EOL*\",\"\",INT(LogData!V293))","v":""},{"$f":"IF($C300=\"*EOL*\",\"\",LogData!V293-A300)","v":""},{"$f":"LogData!E293","v":"*EOL*"},{"$f":"IF(LEFT($C300,1)=\"*\",\"\",LogData!C293)","v":""},{"$f":"IF(LEFT($C300,1)=\"*\",\"\",LogData!F293)","v":""},{"$f":"IF(LEFT($C300,1)=\"*\",\"\",LogData!D293)","v":""},{"$f":"IF(LEFT($C300,1)=\"*\",\"\",LogData!H293)","v":""},{"$f":"IF(LEFT($C300,1)=\"*\",\"\",LogData!T293*100)","v":""}]
[{"$f":"IF($C301=\"*EOL*\",\"\",INT(LogData!V294))","v":""},{"$f":"IF($C301=\"*EOL*\",\"\",LogData!V294-A301)","v":""},{"$f":"LogData!E294","v":"*EOL*"},{"$f":"IF(LEFT($C301,1)=\"*\",\"\",LogData!C294)","v":""},{"$f":"IF(LEFT($C301,1)=\"*\",\"\",LogData!F294)","v":""},{"$f":"IF(LEFT($C301,1)=\"*\",\"\",LogData!D294)","v":""},{"$f":"IF(LEFT($C301,1)=\"*\",\"\",LogData!H294)","v":""},{"$f":"IF(LEFT($C301,1)=\"*\",\"\",LogData!T294*100)","v":""}]
[{"$f":"IF($C302=\"*EOL*\",\"\",INT(LogData!V295))","v":""},{"$f":"IF($C302=\"*EOL*\",\"\",LogData!V295-A302)","v":""},{"$f":"LogData!E295","v":"*EOL*"},{"$f":"IF(LEFT($C302,1)=\"*\",\"\",LogData!C295)","v":""},{"$f":"IF(LEFT($C302,1)=\"*\",\"\",LogData!F295)","v":""},{"$f":"IF(LEFT($C302,1)=\"*\",\"\",LogData!D295)","v":""},{"$f":"IF(LEFT($C302,1)=\"*\",\"\",LogData!H295)","v":""},{"$f":"IF(LEFT($C302,1)=\"*\",\"\",LogData!T295*100)","v":""}]
[{"$f":"IF($C303=\"*EOL*\",\"\",INT(LogData!V296))","v":""},{"$f":"IF($C303=\"*EOL*\",\"\",LogData!V296-A303)","v":""},{"$f":"LogData!E296","v":"*EOL*"},{"$f":"IF(LEFT($C303,1)=\"*\",\"\",LogData!C296)","v":""},{"$f":"IF(LEFT($C303,1)=\"*\",\"\",LogData!F296)","v":""},{"$f":"IF(LEFT($C303,1)=\"*\",\"\",LogData!D296)","v":""},{"$f":"IF(LEFT($C303,1)=\"*\",\"\",LogData!H296)","v":""},{"$f":"IF(LEFT($C303,1)=\"*\",\"\",LogData!T296*100)","v":""}]
[{"$f":"IF($C304=\"*EOL*\",\"\",INT(LogData!V297))","v":""},{"$f":"IF($C304=\"*EOL*\",\"\",LogData!V297-A304)","v":""},{"$f":"LogData!E297","v":"*EOL*"},{"$f":"IF(LEFT($C304,1)=\"*\",\"\",LogData!C297)","v":""},{"$f":"IF(LEFT($C304,1)=\"*\",\"\",LogData!F297)","v":""},{"$f":"IF(LEFT($C304,1)=\"*\",\"\",LogData!D297)","v":""},{"$f":"IF(LEFT($C304,1)=\"*\",\"\",LogData!H297)","v":""},{"$f":"IF(LEFT($C304,1)=\"*\",\"\",LogData!T297*100)","v":""}]
[{"$f":"IF($C305=\"*EOL*\",\"\",INT(LogData!V298))","v":""},{"$f":"IF($C305=\"*EOL*\",\"\",LogData!V298-A305)","v":""},{"$f":"LogData!E298","v":"*EOL*"},{"$f":"IF(LEFT($C305,1)=\"*\",\"\",LogData!C298)","v":""},{"$f":"IF(LEFT($C305,1)=\"*\",\"\",LogData!F298)","v":""},{"$f":"IF(LEFT($C305,1)=\"*\",\"\",LogData!D298)","v":""},{"$f":"IF(LEFT($C305,1)=\"*\",\"\",LogData!H298)","v":""},{"$f":"IF(LEFT($C305,1)=\"*\",\"\",LogData!T298*100)","v":""}]
[{"$f":"IF($C306=\"*EOL*\",\"\",INT(LogData!V299))","v":""},{"$f":"IF($C306=\"*EOL*\",\"\",LogData!V299-A306)","v":""},{"$f":"LogData!E299","v":"*EOL*"},{"$f":"IF(LEFT($C306,1)=\"*\",\"\",LogData!C299)","v":""},{"$f":"IF(LEFT($C306,1)=\"*\",\"\",LogData!F299)","v":""},{"$f":"IF(LEFT($C306,1)=\"*\",\"\",LogData!D299)","v":""},{"$f":"IF(LEFT($C306,1)=\"*\",\"\",LogData!H299)","v":""},{"$f":"IF(LEFT($C306,1)=\"*\",\"\",LogData!T299*100)","v":""}]
[{"$f":"IF($C307=\"*EOL*\",\"\",INT(LogData!V300))","v":""},{"$f":"IF($C307=\"*EOL*\",\"\",LogData!V300-A307)","v":""},{"$f":"LogData!E300","v":"*EOL*"},{"$f":"IF(LEFT($C307,1)=\"*\",\"\",LogData!C300)","v":""},{"$f":"IF(LEFT($C307,1)=\"*\",\"\",LogData!F300)","v":""},{"$f":"IF(LEFT($C307,1)=\"*\",\"\",LogData!D300)","v":""},{"$f":"IF(LEFT($C307,1)=\"*\",\"\",LogData!H300)","v":""},{"$f":"IF(LEFT($C307,1)=\"*\",\"\",LogData!T300*100)","v":""}]
[{"$f":"IF($C308=\"*EOL*\",\"\",INT(LogData!V301))","v":""},{"$f":"IF($C308=\"*EOL*\",\"\",LogData!V301-A308)","v":""},{"$f":"LogData!E301","v":"*EOL*"},{"$f":"IF(LEFT($C308,1)=\"*\",\"\",LogData!C301)","v":""},{"$f":"IF(LEFT($C308,1)=\"*\",\"\",LogData!F301)","v":""},{"$f":"IF(LEFT($C308,1)=\"*\",\"\",LogData!D301)","v":""},{"$f":"IF(LEFT($C308,1)=\"*\",\"\",LogData!H301)","v":""},{"$f":"IF(LEFT($C308,1)=\"*\",\"\",LogData!T301*100)","v":""}]
[{"$f":"IF($C309=\"*EOL*\",\"\",INT(LogData!V302))","v":""},{"$f":"IF($C309=\"*EOL*\",\"\",LogData!V302-A309)","v":""},{"$f":"LogData!E302","v":"*EOL*"},{"$f":"IF(LEFT($C309,1)=\"*\",\"\",LogData!C302)","v":""},{"$f":"IF(LEFT($C309,1)=\"*\",\"\",LogData!F302)","v":""},{"$f":"IF(LEFT($C309,1)=\"*\",\"\",LogData!D302)","v":""},{"$f":"IF(LEFT($C309,1)=\"*\",\"\",LogData!H302)","v":""},{"$f":"IF(LEFT($C309,1)=\"*\",\"\",LogData!T302*100)","v":""}]
[{"$f":"IF($C310=\"*EOL*\",\"\",INT(LogData!V303))","v":""},{"$f":"IF($C310=\"*EOL*\",\"\",LogData!V303-A310)","v":""},{"$f":"LogData!E303","v":"*EOL*"},{"$f":"IF(LEFT($C310,1)=\"*\",\"\",LogData!C303)","v":""},{"$f":"IF(LEFT($C310,1)=\"*\",\"\",LogData!F303)","v":""},{"$f":"IF(LEFT($C310,1)=\"*\",\"\",LogData!D303)","v":""},{"$f":"IF(LEFT($C310,1)=\"*\",\"\",LogData!H303)","v":""},{"$f":"IF(LEFT($C310,1)=\"*\",\"\",LogData!T303*100)","v":""}]
[{"$f":"IF($C311=\"*EOL*\",\"\",INT(LogData!V304))","v":""},{"$f":"IF($C311=\"*EOL*\",\"\",LogData!V304-A311)","v":""},{"$f":"LogData!E304","v":"*EOL*"},{"$f":"IF(LEFT($C311,1)=\"*\",\"\",LogData!C304)","v":""},{"$f":"IF(LEFT($C311,1)=\"*\",\"\",LogData!F304)","v":""},{"$f":"IF(LEFT($C311,1)=\"*\",\"\",LogData!D304)","v":""},{"$f":"IF(LEFT($C311,1)=\"*\",\"\",LogData!H304)","v":""},{"$f":"IF(LEFT($C311,1)=\"*\",\"\",LogData!T304*100)","v":""}]
[{"$f":"IF($C312=\"*EOL*\",\"\",INT(LogData!V305))","v":""},{"$f":"IF($C312=\"*EOL*\",\"\",LogData!V305-A312)","v":""},{"$f":"LogData!E305","v":"*EOL*"},{"$f":"IF(LEFT($C312,1)=\"*\",\"\",LogData!C305)","v":""},{"$f":"IF(LEFT($C312,1)=\"*\",\"\",LogData!F305)","v":""},{"$f":"IF(LEFT($C312,1)=\"*\",\"\",LogData!D305)","v":""},{"$f":"IF(LEFT($C312,1)=\"*\",\"\",LogData!H305)","v":""},{"$f":"IF(LEFT($C312,1)=\"*\",\"\",LogData!T305*100)","v":""}]
[{"$f":"IF($C313=\"*EOL*\",\"\",INT(LogData!V306))","v":""},{"$f":"IF($C313=\"*EOL*\",\"\",LogData!V306-A313)","v":""},{"$f":"LogData!E306","v":"*EOL*"},{"$f":"IF(LEFT($C313,1)=\"*\",\"\",LogData!C306)","v":""},{"$f":"IF(LEFT($C313,1)=\"*\",\"\",LogData!F306)","v":""},{"$f":"IF(LEFT($C313,1)=\"*\",\"\",LogData!D306)","v":""},{"$f":"IF(LEFT($C313,1)=\"*\",\"\",LogData!H306)","v":""},{"$f":"IF(LEFT($C313,1)=\"*\",\"\",LogData!T306*100)","v":""}]
[{"$f":"IF($C314=\"*EOL*\",\"\",INT(LogData!V307))","v":""},{"$f":"IF($C314=\"*EOL*\",\"\",LogData!V307-A314)","v":""},{"$f":"LogData!E307","v":"*EOL*"},{"$f":"IF(LEFT($C314,1)=\"*\",\"\",LogData!C307)","v":""},{"$f":"IF(LEFT($C314,1)=\"*\",\"\",LogData!F307)","v":""},{"$f":"IF(LEFT($C314,1)=\"*\",\"\",LogData!D307)","v":""},{"$f":"IF(LEFT($C314,1)=\"*\",\"\",LogData!H307)","v":""},{"$f":"IF(LEFT($C314,1)=\"*\",\"\",LogData!T307*100)","v":""}]
[{"$f":"IF($C315=\"*EOL*\",\"\",INT(LogData!V308))","v":""},{"$f":"IF($C315=\"*EOL*\",\"\",LogData!V308-A315)","v":""},{"$f":"LogData!E308","v":"*EOL*"},{"$f":"IF(LEFT($C315,1)=\"*\",\"\",LogData!C308)","v":""},{"$f":"IF(LEFT($C315,1)=\"*\",\"\",LogData!F308)","v":""},{"$f":"IF(LEFT($C315,1)=\"*\",\"\",LogData!D308)","v":""},{"$f":"IF(LEFT($C315,1)=\"*\",\"\",LogData!H308)","v":""},{"$f":"IF(LEFT($C315,1)=\"*\",\"\",LogData!T308*100)","v":""}]
[{"$f":"IF($C316=\"*EOL*\",\"\",INT(LogData!V309))","v":""},{"$f":"IF($C316=\"*EOL*\",\"\",LogData!V309-A316)","v":""},{"$f":"LogData!E309","v":"*EOL*"},{"$f":"IF(LEFT($C316,1)=\"*\",\"\",LogData!C309)","v":""},{"$f":"IF(LEFT($C316,1)=\"*\",\"\",LogData!F309)","v":""},{"$f":"IF(LEFT($C316,1)=\"*\",\"\",LogData!D309)","v":""},{"$f":"IF(LEFT($C316,1)=\"*\",\"\",LogData!H309)","v":""},{"$f":"IF(LEFT($C316,1)=\"*\",\"\",LogData!T309*100)","v":""}]
[{"$f":"IF($C317=\"*EOL*\",\"\",INT(LogData!V310))","v":""},{"$f":"IF($C317=\"*EOL*\",\"\",LogData!V310-A317)","v":""},{"$f":"LogData!E310","v":"*EOL*"},{"$f":"IF(LEFT($C317,1)=\"*\",\"\",LogData!C310)","v":""},{"$f":"IF(LEFT($C317,1)=\"*\",\"\",LogData!F310)","v":""},{"$f":"IF(LEFT($C317,1)=\"*\",\"\",LogData!D310)","v":""},{"$f":"IF(LEFT($C317,1)=\"*\",\"\",LogData!H310)","v":""},{"$f":"IF(LEFT($C317,1)=\"*\",\"\",LogData!T310*100)","v":""}]
[{"$f":"IF($C318=\"*EOL*\",\"\",INT(LogData!V311))","v":""},{"$f":"IF($C318=\"*EOL*\",\"\",LogData!V311-A318)","v":""},{"$f":"LogData!E311","v":"*EOL*"},{"$f":"IF(LEFT($C318,1)=\"*\",\"\",LogData!C311)","v":""},{"$f":"IF(LEFT($C318,1)=\"*\",\"\",LogData!F311)","v":""},{"$f":"IF(LEFT($C318,1)=\"*\",\"\",LogData!D311)","v":""},{"$f":"IF(LEFT($C318,1)=\"*\",\"\",LogData!H311)","v":""},{"$f":"IF(LEFT($C318,1)=\"*\",\"\",LogData!T311*100)","v":""}]
[{"$f":"IF($C319=\"*EOL*\",\"\",INT(LogData!V312))","v":""},{"$f":"IF($C319=\"*EOL*\",\"\",LogData!V312-A319)","v":""},{"$f":"LogData!E312","v":"*EOL*"},{"$f":"IF(LEFT($C319,1)=\"*\",\"\",LogData!C312)","v":""},{"$f":"IF(LEFT($C319,1)=\"*\",\"\",LogData!F312)","v":""},{"$f":"IF(LEFT($C319,1)=\"*\",\"\",LogData!D312)","v":""},{"$f":"IF(LEFT($C319,1)=\"*\",\"\",LogData!H312)","v":""},{"$f":"IF(LEFT($C319,1)=\"*\",\"\",LogData!T312*100)","v":""}]
[{"$f":"IF($C320=\"*EOL*\",\"\",INT(LogData!V313))","v":""},{"$f":"IF($C320=\"*EOL*\",\"\",LogData!V313-A320)","v":""},{"$f":"LogData!E313","v":"*EOL*"},{"$f":"IF(LEFT($C320,1)=\"*\",\"\",LogData!C313)","v":""},{"$f":"IF(LEFT($C320,1)=\"*\",\"\",LogData!F313)","v":""},{"$f":"IF(LEFT($C320,1)=\"*\",\"\",LogData!D313)","v":""},{"$f":"IF(LEFT($C320,1)=\"*\",\"\",LogData!H313)","v":""},{"$f":"IF(LEFT($C320,1)=\"*\",\"\",LogData!T313*100)","v":""}]
[{"$f":"IF($C321=\"*EOL*\",\"\",INT(LogData!V314))","v":""},{"$f":"IF($C321=\"*EOL*\",\"\",LogData!V314-A321)","v":""},{"$f":"LogData!E314","v":"*EOL*"},{"$f":"IF(LEFT($C321,1)=\"*\",\"\",LogData!C314)","v":""},{"$f":"IF(LEFT($C321,1)=\"*\",\"\",LogData!F314)","v":""},{"$f":"IF(LEFT($C321,1)=\"*\",\"\",LogData!D314)","v":""},{"$f":"IF(LEFT($C321,1)=\"*\",\"\",LogData!H314)","v":""},{"$f":"IF(LEFT($C321,1)=\"*\",\"\",LogData!T314*100)","v":""}]
[{"$f":"IF($C322=\"*EOL*\",\"\",INT(LogData!V315))","v":""},{"$f":"IF($C322=\"*EOL*\",\"\",LogData!V315-A322)","v":""},{"$f":"LogData!E315","v":"*EOL*"},{"$f":"IF(LEFT($C322,1)=\"*\",\"\",LogData!C315)","v":""},{"$f":"IF(LEFT($C322,1)=\"*\",\"\",LogData!F315)","v":""},{"$f":"IF(LEFT($C322,1)=\"*\",\"\",LogData!D315)","v":""},{"$f":"IF(LEFT($C322,1)=\"*\",\"\",LogData!H315)","v":""},{"$f":"IF(LEFT($C322,1)=\"*\",\"\",LogData!T315*100)","v":""}]
[{"$f":"IF($C323=\"*EOL*\",\"\",INT(LogData!V316))","v":""},{"$f":"IF($C323=\"*EOL*\",\"\",LogData!V316-A323)","v":""},{"$f":"LogData!E316","v":"*EOL*"},{"$f":"IF(LEFT($C323,1)=\"*\",\"\",LogData!C316)","v":""},{"$f":"IF(LEFT($C323,1)=\"*\",\"\",LogData!F316)","v":""},{"$f":"IF(LEFT($C323,1)=\"*\",\"\",LogData!D316)","v":""},{"$f":"IF(LEFT($C323,1)=\"*\",\"\",LogData!H316)","v":""},{"$f":"IF(LEFT($C323,1)=\"*\",\"\",LogData!T316*100)","v":""}]
[{"$f":"IF($C324=\"*EOL*\",\"\",INT(LogData!V317))","v":""},{"$f":"IF($C324=\"*EOL*\",\"\",LogData!V317-A324)","v":""},{"$f":"LogData!E317","v":"*EOL*"},{"$f":"IF(LEFT($C324,1)=\"*\",\"\",LogData!C317)","v":""},{"$f":"IF(LEFT($C324,1)=\"*\",\"\",LogData!F317)","v":""},{"$f":"IF(LEFT($C324,1)=\"*\",\"\",LogData!D317)","v":""},{"$f":"IF(LEFT($C324,1)=\"*\",\"\",LogData!H317)","v":""},{"$f":"IF(LEFT($C324,1)=\"*\",\"\",LogData!T317*100)","v":""}]
[{"$f":"IF($C325=\"*EOL*\",\"\",INT(LogData!V318))","v":""},{"$f":"IF($C325=\"*EOL*\",\"\",LogData!V318-A325)","v":""},{"$f":"LogData!E318","v":"*EOL*"},{"$f":"IF(LEFT($C325,1)=\"*\",\"\",LogData!C318)","v":""},{"$f":"IF(LEFT($C325,1)=\"*\",\"\",LogData!F318)","v":""},{"$f":"IF(LEFT($C325,1)=\"*\",\"\",LogData!D318)","v":""},{"$f":"IF(LEFT($C325,1)=\"*\",\"\",LogData!H318)","v":""},{"$f":"IF(LEFT($C325,1)=\"*\",\"\",LogData!T318*100)","v":""}]
[{"$f":"IF($C326=\"*EOL*\",\"\",INT(LogData!V319))","v":""},{"$f":"IF($C326=\"*EOL*\",\"\",LogData!V319-A326)","v":""},{"$f":"LogData!E319","v":"*EOL*"},{"$f":"IF(LEFT($C326,1)=\"*\",\"\",LogData!C319)","v":""},{"$f":"IF(LEFT($C326,1)=\"*\",\"\",LogData!F319)","v":""},{"$f":"IF(LEFT($C326,1)=\"*\",\"\",LogData!D319)","v":""},{"$f":"IF(LEFT($C326,1)=\"*\",\"\",LogData!H319)","v":""},{"$f":"IF(LEFT($C326,1)=\"*\",\"\",LogData!T319*100)","v":""}]
[{"$f":"IF($C327=\"*EOL*\",\"\",INT(LogData!V320))","v":""},{"$f":"IF($C327=\"*EOL*\",\"\",LogData!V320-A327)","v":""},{"$f":"LogData!E320","v":"*EOL*"},{"$f":"IF(LEFT($C327,1)=\"*\",\"\",LogData!C320)","v":""},{"$f":"IF(LEFT($C327,1)=\"*\",\"\",LogData!F320)","v":""},{"$f":"IF(LEFT($C327,1)=\"*\",\"\",LogData!D320)","v":""},{"$f":"IF(LEFT($C327,1)=\"*\",\"\",LogData!H320)","v":""},{"$f":"IF(LEFT($C327,1)=\"*\",\"\",LogData!T320*100)","v":""}]
[{"$f":"IF($C328=\"*EOL*\",\"\",INT(LogData!V321))","v":""},{"$f":"IF($C328=\"*EOL*\",\"\",LogData!V321-A328)","v":""},{"$f":"LogData!E321","v":"*EOL*"},{"$f":"IF(LEFT($C328,1)=\"*\",\"\",LogData!C321)","v":""},{"$f":"IF(LEFT($C328,1)=\"*\",\"\",LogData!F321)","v":""},{"$f":"IF(LEFT($C328,1)=\"*\",\"\",LogData!D321)","v":""},{"$f":"IF(LEFT($C328,1)=\"*\",\"\",LogData!H321)","v":""},{"$f":"IF(LEFT($C328,1)=\"*\",\"\",LogData!T321*100)","v":""}]
[{"$f":"IF($C329=\"*EOL*\",\"\",INT(LogData!V322))","v":""},{"$f":"IF($C329=\"*EOL*\",\"\",LogData!V322-A329)","v":""},{"$f":"LogData!E322","v":"*EOL*"},{"$f":"IF(LEFT($C329,1)=\"*\",\"\",LogData!C322)","v":""},{"$f":"IF(LEFT($C329,1)=\"*\",\"\",LogData!F322)","v":""},{"$f":"IF(LEFT($C329,1)=\"*\",\"\",LogData!D322)","v":""},{"$f":"IF(LEFT($C329,1)=\"*\",\"\",LogData!H322)","v":""},{"$f":"IF(LEFT($C329,1)=\"*\",\"\",LogData!T322*100)","v":""}]
[{"$f":"IF($C330=\"*EOL*\",\"\",INT(LogData!V323))","v":""},{"$f":"IF($C330=\"*EOL*\",\"\",LogData!V323-A330)","v":""},{"$f":"LogData!E323","v":"*EOL*"},{"$f":"IF(LEFT($C330,1)=\"*\",\"\",LogData!C323)","v":""},{"$f":"IF(LEFT($C330,1)=\"*\",\"\",LogData!F323)","v":""},{"$f":"IF(LEFT($C330,1)=\"*\",\"\",LogData!D323)","v":""},{"$f":"IF(LEFT($C330,1)=\"*\",\"\",LogData!H323)","v":""},{"$f":"IF(LEFT($C330,1)=\"*\",\"\",LogData!T323*100)","v":""}]
[{"$f":"IF($C331=\"*EOL*\",\"\",INT(LogData!V324))","v":""},{"$f":"IF($C331=\"*EOL*\",\"\",LogData!V324-A331)","v":""},{"$f":"LogData!E324","v":"*EOL*"},{"$f":"IF(LEFT($C331,1)=\"*\",\"\",LogData!C324)","v":""},{"$f":"IF(LEFT($C331,1)=\"*\",\"\",LogData!F324)","v":""},{"$f":"IF(LEFT($C331,1)=\"*\",\"\",LogData!D324)","v":""},{"$f":"IF(LEFT($C331,1)=\"*\",\"\",LogData!H324)","v":""},{"$f":"IF(LEFT($C331,1)=\"*\",\"\",LogData!T324*100)","v":""}]
[{"$f":"IF($C332=\"*EOL*\",\"\",INT(LogData!V325))","v":""},{"$f":"IF($C332=\"*EOL*\",\"\",LogData!V325-A332)","v":""},{"$f":"LogData!E325","v":"*EOL*"},{"$f":"IF(LEFT($C332,1)=\"*\",\"\",LogData!C325)","v":""},{"$f":"IF(LEFT($C332,1)=\"*\",\"\",LogData!F325)","v":""},{"$f":"IF(LEFT($C332,1)=\"*\",\"\",LogData!D325)","v":""},{"$f":"IF(LEFT($C332,1)=\"*\",\"\",LogData!H325)","v":""},{"$f":"IF(LEFT($C332,1)=\"*\",\"\",LogData!T325*100)","v":""}]
[{"$f":"IF($C333=\"*EOL*\",\"\",INT(LogData!V326))","v":""},{"$f":"IF($C333=\"*EOL*\",\"\",LogData!V326-A333)","v":""},{"$f":"LogData!E326","v":"*EOL*"},{"$f":"IF(LEFT($C333,1)=\"*\",\"\",LogData!C326)","v":""},{"$f":"IF(LEFT($C333,1)=\"*\",\"\",LogData!F326)","v":""},{"$f":"IF(LEFT($C333,1)=\"*\",\"\",LogData!D326)","v":""},{"$f":"IF(LEFT($C333,1)=\"*\",\"\",LogData!H326)","v":""},{"$f":"IF(LEFT($C333,1)=\"*\",\"\",LogData!T326*100)","v":""}]
[{"$f":"IF($C334=\"*EOL*\",\"\",INT(LogData!V327))","v":""},{"$f":"IF($C334=\"*EOL*\",\"\",LogData!V327-A334)","v":""},{"$f":"LogData!E327","v":"*EOL*"},{"$f":"IF(LEFT($C334,1)=\"*\",\"\",LogData!C327)","v":""},{"$f":"IF(LEFT($C334,1)=\"*\",\"\",LogData!F327)","v":""},{"$f":"IF(LEFT($C334,1)=\"*\",\"\",LogData!D327)","v":""},{"$f":"IF(LEFT($C334,1)=\"*\",\"\",LogData!H327)","v":""},{"$f":"IF(LEFT($C334,1)=\"*\",\"\",LogData!T327*100)","v":""}]
[{"$f":"IF($C335=\"*EOL*\",\"\",INT(LogData!V328))","v":""},{"$f":"IF($C335=\"*EOL*\",\"\",LogData!V328-A335)","v":""},{"$f":"LogData!E328","v":"*EOL*"},{"$f":"IF(LEFT($C335,1)=\"*\",\"\",LogData!C328)","v":""},{"$f":"IF(LEFT($C335,1)=\"*\",\"\",LogData!F328)","v":""},{"$f":"IF(LEFT($C335,1)=\"*\",\"\",LogData!D328)","v":""},{"$f":"IF(LEFT($C335,1)=\"*\",\"\",LogData!H328)","v":""},{"$f":"IF(LEFT($C335,1)=\"*\",\"\",LogData!T328*100)","v":""}]
[{"$f":"IF($C336=\"*EOL*\",\"\",INT(LogData!V329))","v":""},{"$f":"IF($C336=\"*EOL*\",\"\",LogData!V329-A336)","v":""},{"$f":"LogData!E329","v":"*EOL*"},{"$f":"IF(LEFT($C336,1)=\"*\",\"\",LogData!C329)","v":""},{"$f":"IF(LEFT($C336,1)=\"*\",\"\",LogData!F329)","v":""},{"$f":"IF(LEFT($C336,1)=\"*\",\"\",LogData!D329)","v":""},{"$f":"IF(LEFT($C336,1)=\"*\",\"\",LogData!H329)","v":""},{"$f":"IF(LEFT($C336,1)=\"*\",\"\",LogData!T329*100)","v":""}]
[{"$f":"IF($C337=\"*EOL*\",\"\",INT(LogData!V330))","v":""},{"$f":"IF($C337=\"*EOL*\",\"\",LogData!V330-A337)","v":""},{"$f":"LogData!E330","v":"*EOL*"},{"$f":"IF(LEFT($C337,1)=\"*\",\"\",LogData!C330)","v":""},{"$f":"IF(LEFT($C337,1)=\"*\",\"\",LogData!F330)","v":""},{"$f":"IF(LEFT($C337,1)=\"*\",\"\",LogData!D330)","v":""},{"$f":"IF(LEFT($C337,1)=\"*\",\"\",LogData!H330)","v":""},{"$f":"IF(LEFT($C337,1)=\"*\",\"\",LogData!T330*100)","v":""}]
[{"$f":"IF($C338=\"*EOL*\",\"\",INT(LogData!V331))","v":""},{"$f":"IF($C338=\"*EOL*\",\"\",LogData!V331-A338)","v":""},{"$f":"LogData!E331","v":"*EOL*"},{"$f":"IF(LEFT($C338,1)=\"*\",\"\",LogData!C331)","v":""},{"$f":"IF(LEFT($C338,1)=\"*\",\"\",LogData!F331)","v":""},{"$f":"IF(LEFT($C338,1)=\"*\",\"\",LogData!D331)","v":""},{"$f":"IF(LEFT($C338,1)=\"*\",\"\",LogData!H331)","v":""},{"$f":"IF(LEFT($C338,1)=\"*\",\"\",LogData!T331*100)","v":""}]
[{"$f":"IF($C339=\"*EOL*\",\"\",INT(LogData!V332))","v":""},{"$f":"IF($C339=\"*EOL*\",\"\",LogData!V332-A339)","v":""},{"$f":"LogData!E332","v":"*EOL*"},{"$f":"IF(LEFT($C339,1)=\"*\",\"\",LogData!C332)","v":""},{"$f":"IF(LEFT($C339,1)=\"*\",\"\",LogData!F332)","v":""},{"$f":"IF(LEFT($C339,1)=\"*\",\"\",LogData!D332)","v":""},{"$f":"IF(LEFT($C339,1)=\"*\",\"\",LogData!H332)","v":""},{"$f":"IF(LEFT($C339,1)=\"*\",\"\",LogData!T332*100)","v":""}]
[{"$f":"IF($C340=\"*EOL*\",\"\",INT(LogData!V333))","v":""},{"$f":"IF($C340=\"*EOL*\",\"\",LogData!V333-A340)","v":""},{"$f":"LogData!E333","v":"*EOL*"},{"$f":"IF(LEFT($C340,1)=\"*\",\"\",LogData!C333)","v":""},{"$f":"IF(LEFT($C340,1)=\"*\",\"\",LogData!F333)","v":""},{"$f":"IF(LEFT($C340,1)=\"*\",\"\",LogData!D333)","v":""},{"$f":"IF(LEFT($C340,1)=\"*\",\"\",LogData!H333)","v":""},{"$f":"IF(LEFT($C340,1)=\"*\",\"\",LogData!T333*100)","v":""}]
[{"$f":"IF($C341=\"*EOL*\",\"\",INT(LogData!V334))","v":""},{"$f":"IF($C341=\"*EOL*\",\"\",LogData!V334-A341)","v":""},{"$f":"LogData!E334","v":"*EOL*"},{"$f":"IF(LEFT($C341,1)=\"*\",\"\",LogData!C334)","v":""},{"$f":"IF(LEFT($C341,1)=\"*\",\"\",LogData!F334)","v":""},{"$f":"IF(LEFT($C341,1)=\"*\",\"\",LogData!D334)","v":""},{"$f":"IF(LEFT($C341,1)=\"*\",\"\",LogData!H334)","v":""},{"$f":"IF(LEFT($C341,1)=\"*\",\"\",LogData!T334*100)","v":""}]
[{"$f":"IF($C342=\"*EOL*\",\"\",INT(LogData!V335))","v":""},{"$f":"IF($C342=\"*EOL*\",\"\",LogData!V335-A342)","v":""},{"$f":"LogData!E335","v":"*EOL*"},{"$f":"IF(LEFT($C342,1)=\"*\",\"\",LogData!C335)","v":""},{"$f":"IF(LEFT($C342,1)=\"*\",\"\",LogData!F335)","v":""},{"$f":"IF(LEFT($C342,1)=\"*\",\"\",LogData!D335)","v":""},{"$f":"IF(LEFT($C342,1)=\"*\",\"\",LogData!H335)","v":""},{"$f":"IF(LEFT($C342,1)=\"*\",\"\",LogData!T335*100)","v":""}]
[{"$f":"IF($C343=\"*EOL*\",\"\",INT(LogData!V336))","v":""},{"$f":"IF($C343=\"*EOL*\",\"\",LogData!V336-A343)","v":""},{"$f":"LogData!E336","v":"*EOL*"},{"$f":"IF(LEFT($C343,1)=\"*\",\"\",LogData!C336)","v":""},{"$f":"IF(LEFT($C343,1)=\"*\",\"\",LogData!F336)","v":""},{"$f":"IF(LEFT($C343,1)=\"*\",\"\",LogData!D336)","v":""},{"$f":"IF(LEFT($C343,1)=\"*\",\"\",LogData!H336)","v":""},{"$f":"IF(LEFT($C343,1)=\"*\",\"\",LogData!T336*100)","v":""}]
[{"$f":"IF($C344=\"*EOL*\",\"\",INT(LogData!V337))","v":""},{"$f":"IF($C344=\"*EOL*\",\"\",LogData!V337-A344)","v":""},{"$f":"LogData!E337","v":"*EOL*"},{"$f":"IF(LEFT($C344,1)=\"*\",\"\",LogData!C337)","v":""},{"$f":"IF(LEFT($C344,1)=\"*\",\"\",LogData!F337)","v":""},{"$f":"IF(LEFT($C344,1)=\"*\",\"\",LogData!D337)","v":""},{"$f":"IF(LEFT($C344,1)=\"*\",\"\",LogData!H337)","v":""},{"$f":"IF(LEFT($C344,1)=\"*\",\"\",LogData!T337*100)","v":""}]
[{"$f":"IF($C345=\"*EOL*\",\"\",INT(LogData!V338))","v":""},{"$f":"IF($C345=\"*EOL*\",\"\",LogData!V338-A345)","v":""},{"$f":"LogData!E338","v":"*EOL*"},{"$f":"IF(LEFT($C345,1)=\"*\",\"\",LogData!C338)","v":""},{"$f":"IF(LEFT($C345,1)=\"*\",\"\",LogData!F338)","v":""},{"$f":"IF(LEFT($C345,1)=\"*\",\"\",LogData!D338)","v":""},{"$f":"IF(LEFT($C345,1)=\"*\",\"\",LogData!H338)","v":""},{"$f":"IF(LEFT($C345,1)=\"*\",\"\",LogData!T338*100)","v":""}]
[{"$f":"IF($C346=\"*EOL*\",\"\",INT(LogData!V339))","v":""},{"$f":"IF($C346=\"*EOL*\",\"\",LogData!V339-A346)","v":""},{"$f":"LogData!E339","v":"*EOL*"},{"$f":"IF(LEFT($C346,1)=\"*\",\"\",LogData!C339)","v":""},{"$f":"IF(LEFT($C346,1)=\"*\",\"\",LogData!F339)","v":""},{"$f":"IF(LEFT($C346,1)=\"*\",\"\",LogData!D339)","v":""},{"$f":"IF(LEFT($C346,1)=\"*\",\"\",LogData!H339)","v":""},{"$f":"IF(LEFT($C346,1)=\"*\",\"\",LogData!T339*100)","v":""}]
[{"$f":"IF($C347=\"*EOL*\",\"\",INT(LogData!V340))","v":""},{"$f":"IF($C347=\"*EOL*\",\"\",LogData!V340-A347)","v":""},{"$f":"LogData!E340","v":"*EOL*"},{"$f":"IF(LEFT($C347,1)=\"*\",\"\",LogData!C340)","v":""},{"$f":"IF(LEFT($C347,1)=\"*\",\"\",LogData!F340)","v":""},{"$f":"IF(LEFT($C347,1)=\"*\",\"\",LogData!D340)","v":""},{"$f":"IF(LEFT($C347,1)=\"*\",\"\",LogData!H340)","v":""},{"$f":"IF(LEFT($C347,1)=\"*\",\"\",LogData!T340*100)","v":""}]
[{"$f":"IF($C348=\"*EOL*\",\"\",INT(LogData!V341))","v":""},{"$f":"IF($C348=\"*EOL*\",\"\",LogData!V341-A348)","v":""},{"$f":"LogData!E341","v":"*EOL*"},{"$f":"IF(LEFT($C348,1)=\"*\",\"\",LogData!C341)","v":""},{"$f":"IF(LEFT($C348,1)=\"*\",\"\",LogData!F341)","v":""},{"$f":"IF(LEFT($C348,1)=\"*\",\"\",LogData!D341)","v":""},{"$f":"IF(LEFT($C348,1)=\"*\",\"\",LogData!H341)","v":""},{"$f":"IF(LEFT($C348,1)=\"*\",\"\",LogData!T341*100)","v":""}]
[{"$f":"IF($C349=\"*EOL*\",\"\",INT(LogData!V342))","v":""},{"$f":"IF($C349=\"*EOL*\",\"\",LogData!V342-A349)","v":""},{"$f":"LogData!E342","v":"*EOL*"},{"$f":"IF(LEFT($C349,1)=\"*\",\"\",LogData!C342)","v":""},{"$f":"IF(LEFT($C349,1)=\"*\",\"\",LogData!F342)","v":""},{"$f":"IF(LEFT($C349,1)=\"*\",\"\",LogData!D342)","v":""},{"$f":"IF(LEFT($C349,1)=\"*\",\"\",LogData!H342)","v":""},{"$f":"IF(LEFT($C349,1)=\"*\",\"\",LogData!T342*100)","v":""}]
[{"$f":"IF($C350=\"*EOL*\",\"\",INT(LogData!V343))","v":""},{"$f":"IF($C350=\"*EOL*\",\"\",LogData!V343-A350)","v":""},{"$f":"LogData!E343","v":"*EOL*"},{"$f":"IF(LEFT($C350,1)=\"*\",\"\",LogData!C343)","v":""},{"$f":"IF(LEFT($C350,1)=\"*\",\"\",LogData!F343)","v":""},{"$f":"IF(LEFT($C350,1)=\"*\",\"\",LogData!D343)","v":""},{"$f":"IF(LEFT($C350,1)=\"*\",\"\",LogData!H343)","v":""},{"$f":"IF(LEFT($C350,1)=\"*\",\"\",LogData!T343*100)","v":""}]
[{"$f":"IF($C351=\"*EOL*\",\"\",INT(LogData!V344))","v":""},{"$f":"IF($C351=\"*EOL*\",\"\",LogData!V344-A351)","v":""},{"$f":"LogData!E344","v":"*EOL*"},{"$f":"IF(LEFT($C351,1)=\"*\",\"\",LogData!C344)","v":""},{"$f":"IF(LEFT($C351,1)=\"*\",\"\",LogData!F344)","v":""},{"$f":"IF(LEFT($C351,1)=\"*\",\"\",LogData!D344)","v":""},{"$f":"IF(LEFT($C351,1)=\"*\",\"\",LogData!H344)","v":""},{"$f":"IF(LEFT($C351,1)=\"*\",\"\",LogData!T344*100)","v":""}]
[{"$f":"IF($C352=\"*EOL*\",\"\",INT(LogData!V345))","v":""},{"$f":"IF($C352=\"*EOL*\",\"\",LogData!V345-A352)","v":""},{"$f":"LogData!E345","v":"*EOL*"},{"$f":"IF(LEFT($C352,1)=\"*\",\"\",LogData!C345)","v":""},{"$f":"IF(LEFT($C352,1)=\"*\",\"\",LogData!F345)","v":""},{"$f":"IF(LEFT($C352,1)=\"*\",\"\",LogData!D345)","v":""},{"$f":"IF(LEFT($C352,1)=\"*\",\"\",LogData!H345)","v":""},{"$f":"IF(LEFT($C352,1)=\"*\",\"\",LogData!T345*100)","v":""}]
[{"$f":"IF($C353=\"*EOL*\",\"\",INT(LogData!V346))","v":""},{"$f":"IF($C353=\"*EOL*\",\"\",LogData!V346-A353)","v":""},{"$f":"LogData!E346","v":"*EOL*"},{"$f":"IF(LEFT($C353,1)=\"*\",\"\",LogData!C346)","v":""},{"$f":"IF(LEFT($C353,1)=\"*\",\"\",LogData!F346)","v":""},{"$f":"IF(LEFT($C353,1)=\"*\",\"\",LogData!D346)","v":""},{"$f":"IF(LEFT($C353,1)=\"*\",\"\",LogData!H346)","v":""},{"$f":"IF(LEFT($C353,1)=\"*\",\"\",LogData!T346*100)","v":""}]
[{"$f":"IF($C354=\"*EOL*\",\"\",INT(LogData!V347))","v":""},{"$f":"IF($C354=\"*EOL*\",\"\",LogData!V347-A354)","v":""},{"$f":"LogData!E347","v":"*EOL*"},{"$f":"IF(LEFT($C354,1)=\"*\",\"\",LogData!C347)","v":""},{"$f":"IF(LEFT($C354,1)=\"*\",\"\",LogData!F347)","v":""},{"$f":"IF(LEFT($C354,1)=\"*\",\"\",LogData!D347)","v":""},{"$f":"IF(LEFT($C354,1)=\"*\",\"\",LogData!H347)","v":""},{"$f":"IF(LEFT($C354,1)=\"*\",\"\",LogData!T347*100)","v":""}]
[{"$f":"IF($C355=\"*EOL*\",\"\",INT(LogData!V348))","v":""},{"$f":"IF($C355=\"*EOL*\",\"\",LogData!V348-A355)","v":""},{"$f":"LogData!E348","v":"*EOL*"},{"$f":"IF(LEFT($C355,1)=\"*\",\"\",LogData!C348)","v":""},{"$f":"IF(LEFT($C355,1)=\"*\",\"\",LogData!F348)","v":""},{"$f":"IF(LEFT($C355,1)=\"*\",\"\",LogData!D348)","v":""},{"$f":"IF(LEFT($C355,1)=\"*\",\"\",LogData!H348)","v":""},{"$f":"IF(LEFT($C355,1)=\"*\",\"\",LogData!T348*100)","v":""}]
[{"$f":"IF($C356=\"*EOL*\",\"\",INT(LogData!V349))","v":""},{"$f":"IF($C356=\"*EOL*\",\"\",LogData!V349-A356)","v":""},{"$f":"LogData!E349","v":"*EOL*"},{"$f":"IF(LEFT($C356,1)=\"*\",\"\",LogData!C349)","v":""},{"$f":"IF(LEFT($C356,1)=\"*\",\"\",LogData!F349)","v":""},{"$f":"IF(LEFT($C356,1)=\"*\",\"\",LogData!D349)","v":""},{"$f":"IF(LEFT($C356,1)=\"*\",\"\",LogData!H349)","v":""},{"$f":"IF(LEFT($C356,1)=\"*\",\"\",LogData!T349*100)","v":""}]
[{"$f":"IF($C357=\"*EOL*\",\"\",INT(LogData!V350))","v":""},{"$f":"IF($C357=\"*EOL*\",\"\",LogData!V350-A357)","v":""},{"$f":"LogData!E350","v":"*EOL*"},{"$f":"IF(LEFT($C357,1)=\"*\",\"\",LogData!C350)","v":""},{"$f":"IF(LEFT($C357,1)=\"*\",\"\",LogData!F350)","v":""},{"$f":"IF(LEFT($C357,1)=\"*\",\"\",LogData!D350)","v":""},{"$f":"IF(LEFT($C357,1)=\"*\",\"\",LogData!H350)","v":""},{"$f":"IF(LEFT($C357,1)=\"*\",\"\",LogData!T350*100)","v":""}]
[{"$f":"IF($C358=\"*EOL*\",\"\",INT(LogData!V351))","v":""},{"$f":"IF($C358=\"*EOL*\",\"\",LogData!V351-A358)","v":""},{"$f":"LogData!E351","v":"*EOL*"},{"$f":"IF(LEFT($C358,1)=\"*\",\"\",LogData!C351)","v":""},{"$f":"IF(LEFT($C358,1)=\"*\",\"\",LogData!F351)","v":""},{"$f":"IF(LEFT($C358,1)=\"*\",\"\",LogData!D351)","v":""},{"$f":"IF(LEFT($C358,1)=\"*\",\"\",LogData!H351)","v":""},{"$f":"IF(LEFT($C358,1)=\"*\",\"\",LogData!T351*100)","v":""}]
[{"$f":"IF($C359=\"*EOL*\",\"\",INT(LogData!V352))","v":""},{"$f":"IF($C359=\"*EOL*\",\"\",LogData!V352-A359)","v":""},{"$f":"LogData!E352","v":"*EOL*"},{"$f":"IF(LEFT($C359,1)=\"*\",\"\",LogData!C352)","v":""},{"$f":"IF(LEFT($C359,1)=\"*\",\"\",LogData!F352)","v":""},{"$f":"IF(LEFT($C359,1)=\"*\",\"\",LogData!D352)","v":""},{"$f":"IF(LEFT($C359,1)=\"*\",\"\",LogData!H352)","v":""},{"$f":"IF(LEFT($C359,1)=\"*\",\"\",LogData!T352*100)","v":""}]
[{"$f":"IF($C360=\"*EOL*\",\"\",INT(LogData!V353))","v":""},{"$f":"IF($C360=\"*EOL*\",\"\",LogData!V353-A360)","v":""},{"$f":"LogData!E353","v":"*EOL*"},{"$f":"IF(LEFT($C360,1)=\"*\",\"\",LogData!C353)","v":""},{"$f":"IF(LEFT($C360,1)=\"*\",\"\",LogData!F353)","v":""},{"$f":"IF(LEFT($C360,1)=\"*\",\"\",LogData!D353)","v":""},{"$f":"IF(LEFT($C360,1)=\"*\",\"\",LogData!H353)","v":""},{"$f":"IF(LEFT($C360,1)=\"*\",\"\",LogData!T353*100)","v":""}]
[{"$f":"IF($C361=\"*EOL*\",\"\",INT(LogData!V354))","v":""},{"$f":"IF($C361=\"*EOL*\",\"\",LogData!V354-A361)","v":""},{"$f":"LogData!E354","v":"*EOL*"},{"$f":"IF(LEFT($C361,1)=\"*\",\"\",LogData!C354)","v":""},{"$f":"IF(LEFT($C361,1)=\"*\",\"\",LogData!F354)","v":""},{"$f":"IF(LEFT($C361,1)=\"*\",\"\",LogData!D354)","v":""},{"$f":"IF(LEFT($C361,1)=\"*\",\"\",LogData!H354)","v":""},{"$f":"IF(LEFT($C361,1)=\"*\",\"\",LogData!T354*100)","v":""}]
[{"$f":"IF($C362=\"*EOL*\",\"\",INT(LogData!V355))","v":""},{"$f":"IF($C362=\"*EOL*\",\"\",LogData!V355-A362)","v":""},{"$f":"LogData!E355","v":"*EOL*"},{"$f":"IF(LEFT($C362,1)=\"*\",\"\",LogData!C355)","v":""},{"$f":"IF(LEFT($C362,1)=\"*\",\"\",LogData!F355)","v":""},{"$f":"IF(LEFT($C362,1)=\"*\",\"\",LogData!D355)","v":""},{"$f":"IF(LEFT($C362,1)=\"*\",\"\",LogData!H355)","v":""},{"$f":"IF(LEFT($C362,1)=\"*\",\"\",LogData!T355*100)","v":""}]
[{"$f":"IF($C363=\"*EOL*\",\"\",INT(LogData!V356))","v":""},{"$f":"IF($C363=\"*EOL*\",\"\",LogData!V356-A363)","v":""},{"$f":"LogData!E356","v":"*EOL*"},{"$f":"IF(LEFT($C363,1)=\"*\",\"\",LogData!C356)","v":""},{"$f":"IF(LEFT($C363,1)=\"*\",\"\",LogData!F356)","v":""},{"$f":"IF(LEFT($C363,1)=\"*\",\"\",LogData!D356)","v":""},{"$f":"IF(LEFT($C363,1)=\"*\",\"\",LogData!H356)","v":""},{"$f":"IF(LEFT($C363,1)=\"*\",\"\",LogData!T356*100)","v":""}]
[{"$f":"IF($C364=\"*EOL*\",\"\",INT(LogData!V357))","v":""},{"$f":"IF($C364=\"*EOL*\",\"\",LogData!V357-A364)","v":""},{"$f":"LogData!E357","v":"*EOL*"},{"$f":"IF(LEFT($C364,1)=\"*\",\"\",LogData!C357)","v":""},{"$f":"IF(LEFT($C364,1)=\"*\",\"\",LogData!F357)","v":""},{"$f":"IF(LEFT($C364,1)=\"*\",\"\",LogData!D357)","v":""},{"$f":"IF(LEFT($C364,1)=\"*\",\"\",LogData!H357)","v":""},{"$f":"IF(LEFT($C364,1)=\"*\",\"\",LogData!T357*100)","v":""}]
[{"$f":"IF($C365=\"*EOL*\",\"\",INT(LogData!V358))","v":""},{"$f":"IF($C365=\"*EOL*\",\"\",LogData!V358-A365)","v":""},{"$f":"LogData!E358","v":"*EOL*"},{"$f":"IF(LEFT($C365,1)=\"*\",\"\",LogData!C358)","v":""},{"$f":"IF(LEFT($C365,1)=\"*\",\"\",LogData!F358)","v":""},{"$f":"IF(LEFT($C365,1)=\"*\",\"\",LogData!D358)","v":""},{"$f":"IF(LEFT($C365,1)=\"*\",\"\",LogData!H358)","v":""},{"$f":"IF(LEFT($C365,1)=\"*\",\"\",LogData!T358*100)","v":""}]
[{"$f":"IF($C366=\"*EOL*\",\"\",INT(LogData!V359))","v":""},{"$f":"IF($C366=\"*EOL*\",\"\",LogData!V359-A366)","v":""},{"$f":"LogData!E359","v":"*EOL*"},{"$f":"IF(LEFT($C366,1)=\"*\",\"\",LogData!C359)","v":""},{"$f":"IF(LEFT($C366,1)=\"*\",\"\",LogData!F359)","v":""},{"$f":"IF(LEFT($C366,1)=\"*\",\"\",LogData!D359)","v":""},{"$f":"IF(LEFT($C366,1)=\"*\",\"\",LogData!H359)","v":""},{"$f":"IF(LEFT($C366,1)=\"*\",\"\",LogData!T359*100)","v":""}]
[{"$f":"IF($C367=\"*EOL*\",\"\",INT(LogData!V360))","v":""},{"$f":"IF($C367=\"*EOL*\",\"\",LogData!V360-A367)","v":""},{"$f":"LogData!E360","v":"*EOL*"},{"$f":"IF(LEFT($C367,1)=\"*\",\"\",LogData!C360)","v":""},{"$f":"IF(LEFT($C367,1)=\"*\",\"\",LogData!F360)","v":""},{"$f":"IF(LEFT($C367,1)=\"*\",\"\",LogData!D360)","v":""},{"$f":"IF(LEFT($C367,1)=\"*\",\"\",LogData!H360)","v":""},{"$f":"IF(LEFT($C367,1)=\"*\",\"\",LogData!T360*100)","v":""}]
[{"$f":"IF($C368=\"*EOL*\",\"\",INT(LogData!V361))","v":""},{"$f":"IF($C368=\"*EOL*\",\"\",LogData!V361-A368)","v":""},{"$f":"LogData!E361","v":"*EOL*"},{"$f":"IF(LEFT($C368,1)=\"*\",\"\",LogData!C361)","v":""},{"$f":"IF(LEFT($C368,1)=\"*\",\"\",LogData!F361)","v":""},{"$f":"IF(LEFT($C368,1)=\"*\",\"\",LogData!D361)","v":""},{"$f":"IF(LEFT($C368,1)=\"*\",\"\",LogData!H361)","v":""},{"$f":"IF(LEFT($C368,1)=\"*\",\"\",LogData!T361*100)","v":""}]
[{"$f":"IF($C369=\"*EOL*\",\"\",INT(LogData!V362))","v":""},{"$f":"IF($C369=\"*EOL*\",\"\",LogData!V362-A369)","v":""},{"$f":"LogData!E362","v":"*EOL*"},{"$f":"IF(LEFT($C369,1)=\"*\",\"\",LogData!C362)","v":""},{"$f":"IF(LEFT($C369,1)=\"*\",\"\",LogData!F362)","v":""},{"$f":"IF(LEFT($C369,1)=\"*\",\"\",LogData!D362)","v":""},{"$f":"IF(LEFT($C369,1)=\"*\",\"\",LogData!H362)","v":""},{"$f":"IF(LEFT($C369,1)=\"*\",\"\",LogData!T362*100)","v":""}]
[{"$f":"IF($C370=\"*EOL*\",\"\",INT(LogData!V363))","v":""},{"$f":"IF($C370=\"*EOL*\",\"\",LogData!V363-A370)","v":""},{"$f":"LogData!E363","v":"*EOL*"},{"$f":"IF(LEFT($C370,1)=\"*\",\"\",LogData!C363)","v":""},{"$f":"IF(LEFT($C370,1)=\"*\",\"\",LogData!F363)","v":""},{"$f":"IF(LEFT($C370,1)=\"*\",\"\",LogData!D363)","v":""},{"$f":"IF(LEFT($C370,1)=\"*\",\"\",LogData!H363)","v":""},{"$f":"IF(LEFT($C370,1)=\"*\",\"\",LogData!T363*100)","v":""}]
[{"$f":"IF($C371=\"*EOL*\",\"\",INT(LogData!V364))","v":""},{"$f":"IF($C371=\"*EOL*\",\"\",LogData!V364-A371)","v":""},{"$f":"LogData!E364","v":"*EOL*"},{"$f":"IF(LEFT($C371,1)=\"*\",\"\",LogData!C364)","v":""},{"$f":"IF(LEFT($C371,1)=\"*\",\"\",LogData!F364)","v":""},{"$f":"IF(LEFT($C371,1)=\"*\",\"\",LogData!D364)","v":""},{"$f":"IF(LEFT($C371,1)=\"*\",\"\",LogData!H364)","v":""},{"$f":"IF(LEFT($C371,1)=\"*\",\"\",LogData!T364*100)","v":""}]
[{"$f":"IF($C372=\"*EOL*\",\"\",INT(LogData!V365))","v":""},{"$f":"IF($C372=\"*EOL*\",\"\",LogData!V365-A372)","v":""},{"$f":"LogData!E365","v":"*EOL*"},{"$f":"IF(LEFT($C372,1)=\"*\",\"\",LogData!C365)","v":""},{"$f":"IF(LEFT($C372,1)=\"*\",\"\",LogData!F365)","v":""},{"$f":"IF(LEFT($C372,1)=\"*\",\"\",LogData!D365)","v":""},{"$f":"IF(LEFT($C372,1)=\"*\",\"\",LogData!H365)","v":""},{"$f":"IF(LEFT($C372,1)=\"*\",\"\",LogData!T365*100)","v":""}]
[{"$f":"IF($C373=\"*EOL*\",\"\",INT(LogData!V366))","v":""},{"$f":"IF($C373=\"*EOL*\",\"\",LogData!V366-A373)","v":""},{"$f":"LogData!E366","v":"*EOL*"},{"$f":"IF(LEFT($C373,1)=\"*\",\"\",LogData!C366)","v":""},{"$f":"IF(LEFT($C373,1)=\"*\",\"\",LogData!F366)","v":""},{"$f":"IF(LEFT($C373,1)=\"*\",\"\",LogData!D366)","v":""},{"$f":"IF(LEFT($C373,1)=\"*\",\"\",LogData!H366)","v":""},{"$f":"IF(LEFT($C373,1)=\"*\",\"\",LogData!T366*100)","v":""}]
[{"$f":"IF($C374=\"*EOL*\",\"\",INT(LogData!V367))","v":""},{"$f":"IF($C374=\"*EOL*\",\"\",LogData!V367-A374)","v":""},{"$f":"LogData!E367","v":"*EOL*"},{"$f":"IF(LEFT($C374,1)=\"*\",\"\",LogData!C367)","v":""},{"$f":"IF(LEFT($C374,1)=\"*\",\"\",LogData!F367)","v":""},{"$f":"IF(LEFT($C374,1)=\"*\",\"\",LogData!D367)","v":""},{"$f":"IF(LEFT($C374,1)=\"*\",\"\",LogData!H367)","v":""},{"$f":"IF(LEFT($C374,1)=\"*\",\"\",LogData!T367*100)","v":""}]
[{"$f":"IF($C375=\"*EOL*\",\"\",INT(LogData!V368))","v":""},{"$f":"IF($C375=\"*EOL*\",\"\",LogData!V368-A375)","v":""},{"$f":"LogData!E368","v":"*EOL*"},{"$f":"IF(LEFT($C375,1)=\"*\",\"\",LogData!C368)","v":""},{"$f":"IF(LEFT($C375,1)=\"*\",\"\",LogData!F368)","v":""},{"$f":"IF(LEFT($C375,1)=\"*\",\"\",LogData!D368)","v":""},{"$f":"IF(LEFT($C375,1)=\"*\",\"\",LogData!H368)","v":""},{"$f":"IF(LEFT($C375,1)=\"*\",\"\",LogData!T368*100)","v":""}]
[{"$f":"IF($C376=\"*EOL*\",\"\",INT(LogData!V369))","v":""},{"$f":"IF($C376=\"*EOL*\",\"\",LogData!V369-A376)","v":""},{"$f":"LogData!E369","v":"*EOL*"},{"$f":"IF(LEFT($C376,1)=\"*\",\"\",LogData!C369)","v":""},{"$f":"IF(LEFT($C376,1)=\"*\",\"\",LogData!F369)","v":""},{"$f":"IF(LEFT($C376,1)=\"*\",\"\",LogData!D369)","v":""},{"$f":"IF(LEFT($C376,1)=\"*\",\"\",LogData!H369)","v":""},{"$f":"IF(LEFT($C376,1)=\"*\",\"\",LogData!T369*100)","v":""}]
[{"$f":"IF($C377=\"*EOL*\",\"\",INT(LogData!V370))","v":""},{"$f":"IF($C377=\"*EOL*\",\"\",LogData!V370-A377)","v":""},{"$f":"LogData!E370","v":"*EOL*"},{"$f":"IF(LEFT($C377,1)=\"*\",\"\",LogData!C370)","v":""},{"$f":"IF(LEFT($C377,1)=\"*\",\"\",LogData!F370)","v":""},{"$f":"IF(LEFT($C377,1)=\"*\",\"\",LogData!D370)","v":""},{"$f":"IF(LEFT($C377,1)=\"*\",\"\",LogData!H370)","v":""},{"$f":"IF(LEFT($C377,1)=\"*\",\"\",LogData!T370*100)","v":""}]
[{"$f":"IF($C378=\"*EOL*\",\"\",INT(LogData!V371))","v":""},{"$f":"IF($C378=\"*EOL*\",\"\",LogData!V371-A378)","v":""},{"$f":"LogData!E371","v":"*EOL*"},{"$f":"IF(LEFT($C378,1)=\"*\",\"\",LogData!C371)","v":""},{"$f":"IF(LEFT($C378,1)=\"*\",\"\",LogData!F371)","v":""},{"$f":"IF(LEFT($C378,1)=\"*\",\"\",LogData!D371)","v":""},{"$f":"IF(LEFT($C378,1)=\"*\",\"\",LogData!H371)","v":""},{"$f":"IF(LEFT($C378,1)=\"*\",\"\",LogData!T371*100)","v":""}]
[{"$f":"IF($C379=\"*EOL*\",\"\",INT(LogData!V372))","v":""},{"$f":"IF($C379=\"*EOL*\",\"\",LogData!V372-A379)","v":""},{"$f":"LogData!E372","v":"*EOL*"},{"$f":"IF(LEFT($C379,1)=\"*\",\"\",LogData!C372)","v":""},{"$f":"IF(LEFT($C379,1)=\"*\",\"\",LogData!F372)","v":""},{"$f":"IF(LEFT($C379,1)=\"*\",\"\",LogData!D372)","v":""},{"$f":"IF(LEFT($C379,1)=\"*\",\"\",LogData!H372)","v":""},{"$f":"IF(LEFT($C379,1)=\"*\",\"\",LogData!T372*100)","v":""}]
[{"$f":"IF($C380=\"*EOL*\",\"\",INT(LogData!V373))","v":""},{"$f":"IF($C380=\"*EOL*\",\"\",LogData!V373-A380)","v":""},{"$f":"LogData!E373","v":"*EOL*"},{"$f":"IF(LEFT($C380,1)=\"*\",\"\",LogData!C373)","v":""},{"$f":"IF(LEFT($C380,1)=\"*\",\"\",LogData!F373)","v":""},{"$f":"IF(LEFT($C380,1)=\"*\",\"\",LogData!D373)","v":""},{"$f":"IF(LEFT($C380,1)=\"*\",\"\",LogData!H373)","v":""},{"$f":"IF(LEFT($C380,1)=\"*\",\"\",LogData!T373*100)","v":""}]
[{"$f":"IF($C381=\"*EOL*\",\"\",INT(LogData!V374))","v":""},{"$f":"IF($C381=\"*EOL*\",\"\",LogData!V374-A381)","v":""},{"$f":"LogData!E374","v":"*EOL*"},{"$f":"IF(LEFT($C381,1)=\"*\",\"\",LogData!C374)","v":""},{"$f":"IF(LEFT($C381,1)=\"*\",\"\",LogData!F374)","v":""},{"$f":"IF(LEFT($C381,1)=\"*\",\"\",LogData!D374)","v":""},{"$f":"IF(LEFT($C381,1)=\"*\",\"\",LogData!H374)","v":""},{"$f":"IF(LEFT($C381,1)=\"*\",\"\",LogData!T374*100)","v":""}]
[{"$f":"IF($C382=\"*EOL*\",\"\",INT(LogData!V375))","v":""},{"$f":"IF($C382=\"*EOL*\",\"\",LogData!V375-A382)","v":""},{"$f":"LogData!E375","v":"*EOL*"},{"$f":"IF(LEFT($C382,1)=\"*\",\"\",LogData!C375)","v":""},{"$f":"IF(LEFT($C382,1)=\"*\",\"\",LogData!F375)","v":""},{"$f":"IF(LEFT($C382,1)=\"*\",\"\",LogData!D375)","v":""},{"$f":"IF(LEFT($C382,1)=\"*\",\"\",LogData!H375)","v":""},{"$f":"IF(LEFT($C382,1)=\"*\",\"\",LogData!T375*100)","v":""}]
[{"$f":"IF($C383=\"*EOL*\",\"\",INT(LogData!V376))","v":""},{"$f":"IF($C383=\"*EOL*\",\"\",LogData!V376-A383)","v":""},{"$f":"LogData!E376","v":"*EOL*"},{"$f":"IF(LEFT($C383,1)=\"*\",\"\",LogData!C376)","v":""},{"$f":"IF(LEFT($C383,1)=\"*\",\"\",LogData!F376)","v":""},{"$f":"IF(LEFT($C383,1)=\"*\",\"\",LogData!D376)","v":""},{"$f":"IF(LEFT($C383,1)=\"*\",\"\",LogData!H376)","v":""},{"$f":"IF(LEFT($C383,1)=\"*\",\"\",LogData!T376*100)","v":""}]
[{"$f":"IF($C384=\"*EOL*\",\"\",INT(LogData!V377))","v":""},{"$f":"IF($C384=\"*EOL*\",\"\",LogData!V377-A384)","v":""},{"$f":"LogData!E377","v":"*EOL*"},{"$f":"IF(LEFT($C384,1)=\"*\",\"\",LogData!C377)","v":""},{"$f":"IF(LEFT($C384,1)=\"*\",\"\",LogData!F377)","v":""},{"$f":"IF(LEFT($C384,1)=\"*\",\"\",LogData!D377)","v":""},{"$f":"IF(LEFT($C384,1)=\"*\",\"\",LogData!H377)","v":""},{"$f":"IF(LEFT($C384,1)=\"*\",\"\",LogData!T377*100)","v":""}]
[{"$f":"IF($C385=\"*EOL*\",\"\",INT(LogData!V378))","v":""},{"$f":"IF($C385=\"*EOL*\",\"\",LogData!V378-A385)","v":""},{"$f":"LogData!E378","v":"*EOL*"},{"$f":"IF(LEFT($C385,1)=\"*\",\"\",LogData!C378)","v":""},{"$f":"IF(LEFT($C385,1)=\"*\",\"\",LogData!F378)","v":""},{"$f":"IF(LEFT($C385,1)=\"*\",\"\",LogData!D378)","v":""},{"$f":"IF(LEFT($C385,1)=\"*\",\"\",LogData!H378)","v":""},{"$f":"IF(LEFT($C385,1)=\"*\",\"\",LogData!T378*100)","v":""}]
[{"$f":"IF($C386=\"*EOL*\",\"\",INT(LogData!V379))","v":""},{"$f":"IF($C386=\"*EOL*\",\"\",LogData!V379-A386)","v":""},{"$f":"LogData!E379","v":"*EOL*"},{"$f":"IF(LEFT($C386,1)=\"*\",\"\",LogData!C379)","v":""},{"$f":"IF(LEFT($C386,1)=\"*\",\"\",LogData!F379)","v":""},{"$f":"IF(LEFT($C386,1)=\"*\",\"\",LogData!D379)","v":""},{"$f":"IF(LEFT($C386,1)=\"*\",\"\",LogData!H379)","v":""},{"$f":"IF(LEFT($C386,1)=\"*\",\"\",LogData!T379*100)","v":""}]
[{"$f":"IF($C387=\"*EOL*\",\"\",INT(LogData!V380))","v":""},{"$f":"IF($C387=\"*EOL*\",\"\",LogData!V380-A387)","v":""},{"$f":"LogData!E380","v":"*EOL*"},{"$f":"IF(LEFT($C387,1)=\"*\",\"\",LogData!C380)","v":""},{"$f":"IF(LEFT($C387,1)=\"*\",\"\",LogData!F380)","v":""},{"$f":"IF(LEFT($C387,1)=\"*\",\"\",LogData!D380)","v":""},{"$f":"IF(LEFT($C387,1)=\"*\",\"\",LogData!H380)","v":""},{"$f":"IF(LEFT($C387,1)=\"*\",\"\",LogData!T380*100)","v":""}]
[{"$f":"IF($C388=\"*EOL*\",\"\",INT(LogData!V381))","v":""},{"$f":"IF($C388=\"*EOL*\",\"\",LogData!V381-A388)","v":""},{"$f":"LogData!E381","v":"*EOL*"},{"$f":"IF(LEFT($C388,1)=\"*\",\"\",LogData!C381)","v":""},{"$f":"IF(LEFT($C388,1)=\"*\",\"\",LogData!F381)","v":""},{"$f":"IF(LEFT($C388,1)=\"*\",\"\",LogData!D381)","v":""},{"$f":"IF(LEFT($C388,1)=\"*\",\"\",LogData!H381)","v":""},{"$f":"IF(LEFT($C388,1)=\"*\",\"\",LogData!T381*100)","v":""}]
[{"$f":"IF($C389=\"*EOL*\",\"\",INT(LogData!V382))","v":""},{"$f":"IF($C389=\"*EOL*\",\"\",LogData!V382-A389)","v":""},{"$f":"LogData!E382","v":"*EOL*"},{"$f":"IF(LEFT($C389,1)=\"*\",\"\",LogData!C382)","v":""},{"$f":"IF(LEFT($C389,1)=\"*\",\"\",LogData!F382)","v":""},{"$f":"IF(LEFT($C389,1)=\"*\",\"\",LogData!D382)","v":""},{"$f":"IF(LEFT($C389,1)=\"*\",\"\",LogData!H382)","v":""},{"$f":"IF(LEFT($C389,1)=\"*\",\"\",LogData!T382*100)","v":""}]
[{"$f":"IF($C390=\"*EOL*\",\"\",INT(LogData!V383))","v":""},{"$f":"IF($C390=\"*EOL*\",\"\",LogData!V383-A390)","v":""},{"$f":"LogData!E383","v":"*EOL*"},{"$f":"IF(LEFT($C390,1)=\"*\",\"\",LogData!C383)","v":""},{"$f":"IF(LEFT($C390,1)=\"*\",\"\",LogData!F383)","v":""},{"$f":"IF(LEFT($C390,1)=\"*\",\"\",LogData!D383)","v":""},{"$f":"IF(LEFT($C390,1)=\"*\",\"\",LogData!H383)","v":""},{"$f":"IF(LEFT($C390,1)=\"*\",\"\",LogData!T383*100)","v":""}]
[{"$f":"IF($C391=\"*EOL*\",\"\",INT(LogData!V384))","v":""},{"$f":"IF($C391=\"*EOL*\",\"\",LogData!V384-A391)","v":""},{"$f":"LogData!E384","v":"*EOL*"},{"$f":"IF(LEFT($C391,1)=\"*\",\"\",LogData!C384)","v":""},{"$f":"IF(LEFT($C391,1)=\"*\",\"\",LogData!F384)","v":""},{"$f":"IF(LEFT($C391,1)=\"*\",\"\",LogData!D384)","v":""},{"$f":"IF(LEFT($C391,1)=\"*\",\"\",LogData!H384)","v":""},{"$f":"IF(LEFT($C391,1)=\"*\",\"\",LogData!T384*100)","v":""}]
[{"$f":"IF($C392=\"*EOL*\",\"\",INT(LogData!V385))","v":""},{"$f":"IF($C392=\"*EOL*\",\"\",LogData!V385-A392)","v":""},{"$f":"LogData!E385","v":"*EOL*"},{"$f":"IF(LEFT($C392,1)=\"*\",\"\",LogData!C385)","v":""},{"$f":"IF(LEFT($C392,1)=\"*\",\"\",LogData!F385)","v":""},{"$f":"IF(LEFT($C392,1)=\"*\",\"\",LogData!D385)","v":""},{"$f":"IF(LEFT($C392,1)=\"*\",\"\",LogData!H385)","v":""},{"$f":"IF(LEFT($C392,1)=\"*\",\"\",LogData!T385*100)","v":""}]
[{"$f":"IF($C393=\"*EOL*\",\"\",INT(LogData!V386))","v":""},{"$f":"IF($C393=\"*EOL*\",\"\",LogData!V386-A393)","v":""},{"$f":"LogData!E386","v":"*EOL*"},{"$f":"IF(LEFT($C393,1)=\"*\",\"\",LogData!C386)","v":""},{"$f":"IF(LEFT($C393,1)=\"*\",\"\",LogData!F386)","v":""},{"$f":"IF(LEFT($C393,1)=\"*\",\"\",LogData!D386)","v":""},{"$f":"IF(LEFT($C393,1)=\"*\",\"\",LogData!H386)","v":""},{"$f":"IF(LEFT($C393,1)=\"*\",\"\",LogData!T386*100)","v":""}]
[{"$f":"IF($C394=\"*EOL*\",\"\",INT(LogData!V387))","v":""},{"$f":"IF($C394=\"*EOL*\",\"\",LogData!V387-A394)","v":""},{"$f":"LogData!E387","v":"*EOL*"},{"$f":"IF(LEFT($C394,1)=\"*\",\"\",LogData!C387)","v":""},{"$f":"IF(LEFT($C394,1)=\"*\",\"\",LogData!F387)","v":""},{"$f":"IF(LEFT($C394,1)=\"*\",\"\",LogData!D387)","v":""},{"$f":"IF(LEFT($C394,1)=\"*\",\"\",LogData!H387)","v":""},{"$f":"IF(LEFT($C394,1)=\"*\",\"\",LogData!T387*100)","v":""}]
[{"$f":"IF($C395=\"*EOL*\",\"\",INT(LogData!V388))","v":""},{"$f":"IF($C395=\"*EOL*\",\"\",LogData!V388-A395)","v":""},{"$f":"LogData!E388","v":"*EOL*"},{"$f":"IF(LEFT($C395,1)=\"*\",\"\",LogData!C388)","v":""},{"$f":"IF(LEFT($C395,1)=\"*\",\"\",LogData!F388)","v":""},{"$f":"IF(LEFT($C395,1)=\"*\",\"\",LogData!D388)","v":""},{"$f":"IF(LEFT($C395,1)=\"*\",\"\",LogData!H388)","v":""},{"$f":"IF(LEFT($C395,1)=\"*\",\"\",LogData!T388*100)","v":""}]
[{"$f":"IF($C396=\"*EOL*\",\"\",INT(LogData!V389))","v":""},{"$f":"IF($C396=\"*EOL*\",\"\",LogData!V389-A396)","v":""},{"$f":"LogData!E389","v":"*EOL*"},{"$f":"IF(LEFT($C396,1)=\"*\",\"\",LogData!C389)","v":""},{"$f":"IF(LEFT($C396,1)=\"*\",\"\",LogData!F389)","v":""},{"$f":"IF(LEFT($C396,1)=\"*\",\"\",LogData!D389)","v":""},{"$f":"IF(LEFT($C396,1)=\"*\",\"\",LogData!H389)","v":""},{"$f":"IF(LEFT($C396,1)=\"*\",\"\",LogData!T389*100)","v":""}]
[{"$f":"IF($C397=\"*EOL*\",\"\",INT(LogData!V390))","v":""},{"$f":"IF($C397=\"*EOL*\",\"\",LogData!V390-A397)","v":""},{"$f":"LogData!E390","v":"*EOL*"},{"$f":"IF(LEFT($C397,1)=\"*\",\"\",LogData!C390)","v":""},{"$f":"IF(LEFT($C397,1)=\"*\",\"\",LogData!F390)","v":""},{"$f":"IF(LEFT($C397,1)=\"*\",\"\",LogData!D390)","v":""},{"$f":"IF(LEFT($C397,1)=\"*\",\"\",LogData!H390)","v":""},{"$f":"IF(LEFT($C397,1)=\"*\",\"\",LogData!T390*100)","v":""}]
[{"$f":"IF($C398=\"*EOL*\",\"\",INT(LogData!V391))","v":""},{"$f":"IF($C398=\"*EOL*\",\"\",LogData!V391-A398)","v":""},{"$f":"LogData!E391","v":"*EOL*"},{"$f":"IF(LEFT($C398,1)=\"*\",\"\",LogData!C391)","v":""},{"$f":"IF(LEFT($C398,1)=\"*\",\"\",LogData!F391)","v":""},{"$f":"IF(LEFT($C398,1)=\"*\",\"\",LogData!D391)","v":""},{"$f":"IF(LEFT($C398,1)=\"*\",\"\",LogData!H391)","v":""},{"$f":"IF(LEFT($C398,1)=\"*\",\"\",LogData!T391*100)","v":""}]
[{"$f":"IF($C399=\"*EOL*\",\"\",INT(LogData!V392))","v":""},{"$f":"IF($C399=\"*EOL*\",\"\",LogData!V392-A399)","v":""},{"$f":"LogData!E392","v":"*EOL*"},{"$f":"IF(LEFT($C399,1)=\"*\",\"\",LogData!C392)","v":""},{"$f":"IF(LEFT($C399,1)=\"*\",\"\",LogData!F392)","v":""},{"$f":"IF(LEFT($C399,1)=\"*\",\"\",LogData!D392)","v":""},{"$f":"IF(LEFT($C399,1)=\"*\",\"\",LogData!H392)","v":""},{"$f":"IF(LEFT($C399,1)=\"*\",\"\",LogData!T392*100)","v":""}]
[{"$f":"IF($C400=\"*EOL*\",\"\",INT(LogData!V393))","v":""},{"$f":"IF($C400=\"*EOL*\",\"\",LogData!V393-A400)","v":""},{"$f":"LogData!E393","v":"*EOL*"},{"$f":"IF(LEFT($C400,1)=\"*\",\"\",LogData!C393)","v":""},{"$f":"IF(LEFT($C400,1)=\"*\",\"\",LogData!F393)","v":""},{"$f":"IF(LEFT($C400,1)=\"*\",\"\",LogData!D393)","v":""},{"$f":"IF(LEFT($C400,1)=\"*\",\"\",LogData!H393)","v":""},{"$f":"IF(LEFT($C400,1)=\"*\",\"\",LogData!T393*100)","v":""}]
[{"$f":"IF($C401=\"*EOL*\",\"\",INT(LogData!V394))","v":""},{"$f":"IF($C401=\"*EOL*\",\"\",LogData!V394-A401)","v":""},{"$f":"LogData!E394","v":"*EOL*"},{"$f":"IF(LEFT($C401,1)=\"*\",\"\",LogData!C394)","v":""},{"$f":"IF(LEFT($C401,1)=\"*\",\"\",LogData!F394)","v":""},{"$f":"IF(LEFT($C401,1)=\"*\",\"\",LogData!D394)","v":""},{"$f":"IF(LEFT($C401,1)=\"*\",\"\",LogData!H394)","v":""},{"$f":"IF(LEFT($C401,1)=\"*\",\"\",LogData!T394*100)","v":""}]
[{"$f":"IF($C402=\"*EOL*\",\"\",INT(LogData!V395))","v":""},{"$f":"IF($C402=\"*EOL*\",\"\",LogData!V395-A402)","v":""},{"$f":"LogData!E395","v":"*EOL*"},{"$f":"IF(LEFT($C402,1)=\"*\",\"\",LogData!C395)","v":""},{"$f":"IF(LEFT($C402,1)=\"*\",\"\",LogData!F395)","v":""},{"$f":"IF(LEFT($C402,1)=\"*\",\"\",LogData!D395)","v":""},{"$f":"IF(LEFT($C402,1)=\"*\",\"\",LogData!H395)","v":""},{"$f":"IF(LEFT($C402,1)=\"*\",\"\",LogData!T395*100)","v":""}]
[{"$f":"IF($C403=\"*EOL*\",\"\",INT(LogData!V396))","v":""},{"$f":"IF($C403=\"*EOL*\",\"\",LogData!V396-A403)","v":""},{"$f":"LogData!E396","v":"*EOL*"},{"$f":"IF(LEFT($C403,1)=\"*\",\"\",LogData!C396)","v":""},{"$f":"IF(LEFT($C403,1)=\"*\",\"\",LogData!F396)","v":""},{"$f":"IF(LEFT($C403,1)=\"*\",\"\",LogData!D396)","v":""},{"$f":"IF(LEFT($C403,1)=\"*\",\"\",LogData!H396)","v":""},{"$f":"IF(LEFT($C403,1)=\"*\",\"\",LogData!T396*100)","v":""}]
[{"$f":"IF($C404=\"*EOL*\",\"\",INT(LogData!V397))","v":""},{"$f":"IF($C404=\"*EOL*\",\"\",LogData!V397-A404)","v":""},{"$f":"LogData!E397","v":"*EOL*"},{"$f":"IF(LEFT($C404,1)=\"*\",\"\",LogData!C397)","v":""},{"$f":"IF(LEFT($C404,1)=\"*\",\"\",LogData!F397)","v":""},{"$f":"IF(LEFT($C404,1)=\"*\",\"\",LogData!D397)","v":""},{"$f":"IF(LEFT($C404,1)=\"*\",\"\",LogData!H397)","v":""},{"$f":"IF(LEFT($C404,1)=\"*\",\"\",LogData!T397*100)","v":""}]
[{"$f":"IF($C405=\"*EOL*\",\"\",INT(LogData!V398))","v":""},{"$f":"IF($C405=\"*EOL*\",\"\",LogData!V398-A405)","v":""},{"$f":"LogData!E398","v":"*EOL*"},{"$f":"IF(LEFT($C405,1)=\"*\",\"\",LogData!C398)","v":""},{"$f":"IF(LEFT($C405,1)=\"*\",\"\",LogData!F398)","v":""},{"$f":"IF(LEFT($C405,1)=\"*\",\"\",LogData!D398)","v":""},{"$f":"IF(LEFT($C405,1)=\"*\",\"\",LogData!H398)","v":""},{"$f":"IF(LEFT($C405,1)=\"*\",\"\",LogData!T398*100)","v":""}]
[{"$f":"IF($C406=\"*EOL*\",\"\",INT(LogData!V399))","v":""},{"$f":"IF($C406=\"*EOL*\",\"\",LogData!V399-A406)","v":""},{"$f":"LogData!E399","v":"*EOL*"},{"$f":"IF(LEFT($C406,1)=\"*\",\"\",LogData!C399)","v":""},{"$f":"IF(LEFT($C406,1)=\"*\",\"\",LogData!F399)","v":""},{"$f":"IF(LEFT($C406,1)=\"*\",\"\",LogData!D399)","v":""},{"$f":"IF(LEFT($C406,1)=\"*\",\"\",LogData!H399)","v":""},{"$f":"IF(LEFT($C406,1)=\"*\",\"\",LogData!T399*100)","v":""}]
[{"$f":"IF($C407=\"*EOL*\",\"\",INT(LogData!V400))","v":""},{"$f":"IF($C407=\"*EOL*\",\"\",LogData!V400-A407)","v":""},{"$f":"LogData!E400","v":"*EOL*"},{"$f":"IF(LEFT($C407,1)=\"*\",\"\",LogData!C400)","v":""},{"$f":"IF(LEFT($C407,1)=\"*\",\"\",LogData!F400)","v":""},{"$f":"IF(LEFT($C407,1)=\"*\",\"\",LogData!D400)","v":""},{"$f":"IF(LEFT($C407,1)=\"*\",\"\",LogData!H400)","v":""},{"$f":"IF(LEFT($C407,1)=\"*\",\"\",LogData!T400*100)","v":""}]
[{"$f":"IF($C408=\"*EOL*\",\"\",INT(LogData!V401))","v":""},{"$f":"IF($C408=\"*EOL*\",\"\",LogData!V401-A408)","v":""},{"$f":"LogData!E401","v":"*EOL*"},{"$f":"IF(LEFT($C408,1)=\"*\",\"\",LogData!C401)","v":""},{"$f":"IF(LEFT($C408,1)=\"*\",\"\",LogData!F401)","v":""},{"$f":"IF(LEFT($C408,1)=\"*\",\"\",LogData!D401)","v":""},{"$f":"IF(LEFT($C408,1)=\"*\",\"\",LogData!H401)","v":""},{"$f":"IF(LEFT($C408,1)=\"*\",\"\",LogData!T401*100)","v":""}]
[{"$f":"IF($C409=\"*EOL*\",\"\",INT(LogData!V402))","v":""},{"$f":"IF($C409=\"*EOL*\",\"\",LogData!V402-A409)","v":""},{"$f":"LogData!E402","v":"*EOL*"},{"$f":"IF(LEFT($C409,1)=\"*\",\"\",LogData!C402)","v":""},{"$f":"IF(LEFT($C409,1)=\"*\",\"\",LogData!F402)","v":""},{"$f":"IF(LEFT($C409,1)=\"*\",\"\",LogData!D402)","v":""},{"$f":"IF(LEFT($C409,1)=\"*\",\"\",LogData!H402)","v":""},{"$f":"IF(LEFT($C409,1)=\"*\",\"\",LogData!T402*100)","v":""}]
[{"$f":"IF($C410=\"*EOL*\",\"\",INT(LogData!V403))","v":""},{"$f":"IF($C410=\"*EOL*\",\"\",LogData!V403-A410)","v":""},{"$f":"LogData!E403","v":"*EOL*"},{"$f":"IF(LEFT($C410,1)=\"*\",\"\",LogData!C403)","v":""},{"$f":"IF(LEFT($C410,1)=\"*\",\"\",LogData!F403)","v":""},{"$f":"IF(LEFT($C410,1)=\"*\",\"\",LogData!D403)","v":""},{"$f":"IF(LEFT($C410,1)=\"*\",\"\",LogData!H403)","v":""},{"$f":"IF(LEFT($C410,1)=\"*\",\"\",LogData!T403*100)","v":""}]
[{"$f":"IF($C411=\"*EOL*\",\"\",INT(LogData!V404))","v":""},{"$f":"IF($C411=\"*EOL*\",\"\",LogData!V404-A411)","v":""},{"$f":"LogData!E404","v":"*EOL*"},{"$f":"IF(LEFT($C411,1)=\"*\",\"\",LogData!C404)","v":""},{"$f":"IF(LEFT($C411,1)=\"*\",\"\",LogData!F404)","v":""},{"$f":"IF(LEFT($C411,1)=\"*\",\"\",LogData!D404)","v":""},{"$f":"IF(LEFT($C411,1)=\"*\",\"\",LogData!H404)","v":""},{"$f":"IF(LEFT($C411,1)=\"*\",\"\",LogData!T404*100)","v":""}]
[{"$f":"IF($C412=\"*EOL*\",\"\",INT(LogData!V405))","v":""},{"$f":"IF($C412=\"*EOL*\",\"\",LogData!V405-A412)","v":""},{"$f":"LogData!E405","v":"*EOL*"},{"$f":"IF(LEFT($C412,1)=\"*\",\"\",LogData!C405)","v":""},{"$f":"IF(LEFT($C412,1)=\"*\",\"\",LogData!F405)","v":""},{"$f":"IF(LEFT($C412,1)=\"*\",\"\",LogData!D405)","v":""},{"$f":"IF(LEFT($C412,1)=\"*\",\"\",LogData!H405)","v":""},{"$f":"IF(LEFT($C412,1)=\"*\",\"\",LogData!T405*100)","v":""}]
[{"$f":"IF($C413=\"*EOL*\",\"\",INT(LogData!V406))","v":""},{"$f":"IF($C413=\"*EOL*\",\"\",LogData!V406-A413)","v":""},{"$f":"LogData!E406","v":"*EOL*"},{"$f":"IF(LEFT($C413,1)=\"*\",\"\",LogData!C406)","v":""},{"$f":"IF(LEFT($C413,1)=\"*\",\"\",LogData!F406)","v":""},{"$f":"IF(LEFT($C413,1)=\"*\",\"\",LogData!D406)","v":""},{"$f":"IF(LEFT($C413,1)=\"*\",\"\",LogData!H406)","v":""},{"$f":"IF(LEFT($C413,1)=\"*\",\"\",LogData!T406*100)","v":""}]
[{"$f":"IF($C414=\"*EOL*\",\"\",INT(LogData!V407))","v":""},{"$f":"IF($C414=\"*EOL*\",\"\",LogData!V407-A414)","v":""},{"$f":"LogData!E407","v":"*EOL*"},{"$f":"IF(LEFT($C414,1)=\"*\",\"\",LogData!C407)","v":""},{"$f":"IF(LEFT($C414,1)=\"*\",\"\",LogData!F407)","v":""},{"$f":"IF(LEFT($C414,1)=\"*\",\"\",LogData!D407)","v":""},{"$f":"IF(LEFT($C414,1)=\"*\",\"\",LogData!H407)","v":""},{"$f":"IF(LEFT($C414,1)=\"*\",\"\",LogData!T407*100)","v":""}]
[{"$f":"IF($C415=\"*EOL*\",\"\",INT(LogData!V408))","v":""},{"$f":"IF($C415=\"*EOL*\",\"\",LogData!V408-A415)","v":""},{"$f":"LogData!E408","v":"*EOL*"},{"$f":"IF(LEFT($C415,1)=\"*\",\"\",LogData!C408)","v":""},{"$f":"IF(LEFT($C415,1)=\"*\",\"\",LogData!F408)","v":""},{"$f":"IF(LEFT($C415,1)=\"*\",\"\",LogData!D408)","v":""},{"$f":"IF(LEFT($C415,1)=\"*\",\"\",LogData!H408)","v":""},{"$f":"IF(LEFT($C415,1)=\"*\",\"\",LogData!T408*100)","v":""}]
[{"$f":"IF($C416=\"*EOL*\",\"\",INT(LogData!V409))","v":""},{"$f":"IF($C416=\"*EOL*\",\"\",LogData!V409-A416)","v":""},{"$f":"LogData!E409","v":"*EOL*"},{"$f":"IF(LEFT($C416,1)=\"*\",\"\",LogData!C409)","v":""},{"$f":"IF(LEFT($C416,1)=\"*\",\"\",LogData!F409)","v":""},{"$f":"IF(LEFT($C416,1)=\"*\",\"\",LogData!D409)","v":""},{"$f":"IF(LEFT($C416,1)=\"*\",\"\",LogData!H409)","v":""},{"$f":"IF(LEFT($C416,1)=\"*\",\"\",LogData!T409*100)","v":""}]
[{"$f":"IF($C417=\"*EOL*\",\"\",INT(LogData!V410))","v":""},{"$f":"IF($C417=\"*EOL*\",\"\",LogData!V410-A417)","v":""},{"$f":"LogData!E410","v":"*EOL*"},{"$f":"IF(LEFT($C417,1)=\"*\",\"\",LogData!C410)","v":""},{"$f":"IF(LEFT($C417,1)=\"*\",\"\",LogData!F410)","v":""},{"$f":"IF(LEFT($C417,1)=\"*\",\"\",LogData!D410)","v":""},{"$f":"IF(LEFT($C417,1)=\"*\",\"\",LogData!H410)","v":""},{"$f":"IF(LEFT($C417,1)=\"*\",\"\",LogData!T410*100)","v":""}]
[{"$f":"IF($C418=\"*EOL*\",\"\",INT(LogData!V411))","v":""},{"$f":"IF($C418=\"*EOL*\",\"\",LogData!V411-A418)","v":""},{"$f":"LogData!E411","v":"*EOL*"},{"$f":"IF(LEFT($C418,1)=\"*\",\"\",LogData!C411)","v":""},{"$f":"IF(LEFT($C418,1)=\"*\",\"\",LogData!F411)","v":""},{"$f":"IF(LEFT($C418,1)=\"*\",\"\",LogData!D411)","v":""},{"$f":"IF(LEFT($C418,1)=\"*\",\"\",LogData!H411)","v":""},{"$f":"IF(LEFT($C418,1)=\"*\",\"\",LogData!T411*100)","v":""}]
[{"$f":"IF($C419=\"*EOL*\",\"\",INT(LogData!V412))","v":""},{"$f":"IF($C419=\"*EOL*\",\"\",LogData!V412-A419)","v":""},{"$f":"LogData!E412","v":"*EOL*"},{"$f":"IF(LEFT($C419,1)=\"*\",\"\",LogData!C412)","v":""},{"$f":"IF(LEFT($C419,1)=\"*\",\"\",LogData!F412)","v":""},{"$f":"IF(LEFT($C419,1)=\"*\",\"\",LogData!D412)","v":""},{"$f":"IF(LEFT($C419,1)=\"*\",\"\",LogData!H412)","v":""},{"$f":"IF(LEFT($C419,1)=\"*\",\"\",LogData!T412*100)","v":""}]
[{"$f":"IF($C420=\"*EOL*\",\"\",INT(LogData!V413))","v":""},{"$f":"IF($C420=\"*EOL*\",\"\",LogData!V413-A420)","v":""},{"$f":"LogData!E413","v":"*EOL*"},{"$f":"IF(LEFT($C420,1)=\"*\",\"\",LogData!C413)","v":""},{"$f":"IF(LEFT($C420,1)=\"*\",\"\",LogData!F413)","v":""},{"$f":"IF(LEFT($C420,1)=\"*\",\"\",LogData!D413)","v":""},{"$f":"IF(LEFT($C420,1)=\"*\",\"\",LogData!H413)","v":""},{"$f":"IF(LEFT($C420,1)=\"*\",\"\",LogData!T413*100)","v":""}]
[{"$f":"IF($C421=\"*EOL*\",\"\",INT(LogData!V414))","v":""},{"$f":"IF($C421=\"*EOL*\",\"\",LogData!V414-A421)","v":""},{"$f":"LogData!E414","v":"*EOL*"},{"$f":"IF(LEFT($C421,1)=\"*\",\"\",LogData!C414)","v":""},{"$f":"IF(LEFT($C421,1)=\"*\",\"\",LogData!F414)","v":""},{"$f":"IF(LEFT($C421,1)=\"*\",\"\",LogData!D414)","v":""},{"$f":"IF(LEFT($C421,1)=\"*\",\"\",LogData!H414)","v":""},{"$f":"IF(LEFT($C421,1)=\"*\",\"\",LogData!T414*100)","v":""}]
[{"$f":"IF($C422=\"*EOL*\",\"\",INT(LogData!V415))","v":""},{"$f":"IF($C422=\"*EOL*\",\"\",LogData!V415-A422)","v":""},{"$f":"LogData!E415","v":"*EOL*"},{"$f":"IF(LEFT($C422,1)=\"*\",\"\",LogData!C415)","v":""},{"$f":"IF(LEFT($C422,1)=\"*\",\"\",LogData!F415)","v":""},{"$f":"IF(LEFT($C422,1)=\"*\",\"\",LogData!D415)","v":""},{"$f":"IF(LEFT($C422,1)=\"*\",\"\",LogData!H415)","v":""},{"$f":"IF(LEFT($C422,1)=\"*\",\"\",LogData!T415*100)","v":""}]
[{"$f":"IF($C423=\"*EOL*\",\"\",INT(LogData!V416))","v":""},{"$f":"IF($C423=\"*EOL*\",\"\",LogData!V416-A423)","v":""},{"$f":"LogData!E416","v":"*EOL*"},{"$f":"IF(LEFT($C423,1)=\"*\",\"\",LogData!C416)","v":""},{"$f":"IF(LEFT($C423,1)=\"*\",\"\",LogData!F416)","v":""},{"$f":"IF(LEFT($C423,1)=\"*\",\"\",LogData!D416)","v":""},{"$f":"IF(LEFT($C423,1)=\"*\",\"\",LogData!H416)","v":""},{"$f":"IF(LEFT($C423,1)=\"*\",\"\",LogData!T416*100)","v":""}]
[{"$f":"IF($C424=\"*EOL*\",\"\",INT(LogData!V417))","v":""},{"$f":"IF($C424=\"*EOL*\",\"\",LogData!V417-A424)","v":""},{"$f":"LogData!E417","v":"*EOL*"},{"$f":"IF(LEFT($C424,1)=\"*\",\"\",LogData!C417)","v":""},{"$f":"IF(LEFT($C424,1)=\"*\",\"\",LogData!F417)","v":""},{"$f":"IF(LEFT($C424,1)=\"*\",\"\",LogData!D417)","v":""},{"$f":"IF(LEFT($C424,1)=\"*\",\"\",LogData!H417)","v":""},{"$f":"IF(LEFT($C424,1)=\"*\",\"\",LogData!T417*100)","v":""}]
[{"$f":"IF($C425=\"*EOL*\",\"\",INT(LogData!V418))","v":""},{"$f":"IF($C425=\"*EOL*\",\"\",LogData!V418-A425)","v":""},{"$f":"LogData!E418","v":"*EOL*"},{"$f":"IF(LEFT($C425,1)=\"*\",\"\",LogData!C418)","v":""},{"$f":"IF(LEFT($C425,1)=\"*\",\"\",LogData!F418)","v":""},{"$f":"IF(LEFT($C425,1)=\"*\",\"\",LogData!D418)","v":""},{"$f":"IF(LEFT($C425,1)=\"*\",\"\",LogData!H418)","v":""},{"$f":"IF(LEFT($C425,1)=\"*\",\"\",LogData!T418*100)","v":""}]
[{"$f":"IF($C426=\"*EOL*\",\"\",INT(LogData!V419))","v":""},{"$f":"IF($C426=\"*EOL*\",\"\",LogData!V419-A426)","v":""},{"$f":"LogData!E419","v":"*EOL*"},{"$f":"IF(LEFT($C426,1)=\"*\",\"\",LogData!C419)","v":""},{"$f":"IF(LEFT($C426,1)=\"*\",\"\",LogData!F419)","v":""},{"$f":"IF(LEFT($C426,1)=\"*\",\"\",LogData!D419)","v":""},{"$f":"IF(LEFT($C426,1)=\"*\",\"\",LogData!H419)","v":""},{"$f":"IF(LEFT($C426,1)=\"*\",\"\",LogData!T419*100)","v":""}]
[{"$f":"IF($C427=\"*EOL*\",\"\",INT(LogData!V420))","v":""},{"$f":"IF($C427=\"*EOL*\",\"\",LogData!V420-A427)","v":""},{"$f":"LogData!E420","v":"*EOL*"},{"$f":"IF(LEFT($C427,1)=\"*\",\"\",LogData!C420)","v":""},{"$f":"IF(LEFT($C427,1)=\"*\",\"\",LogData!F420)","v":""},{"$f":"IF(LEFT($C427,1)=\"*\",\"\",LogData!D420)","v":""},{"$f":"IF(LEFT($C427,1)=\"*\",\"\",LogData!H420)","v":""},{"$f":"IF(LEFT($C427,1)=\"*\",\"\",LogData!T420*100)","v":""}]
[{"$f":"IF($C428=\"*EOL*\",\"\",INT(LogData!V421))","v":""},{"$f":"IF($C428=\"*EOL*\",\"\",LogData!V421-A428)","v":""},{"$f":"LogData!E421","v":"*EOL*"},{"$f":"IF(LEFT($C428,1)=\"*\",\"\",LogData!C421)","v":""},{"$f":"IF(LEFT($C428,1)=\"*\",\"\",LogData!F421)","v":""},{"$f":"IF(LEFT($C428,1)=\"*\",\"\",LogData!D421)","v":""},{"$f":"IF(LEFT($C428,1)=\"*\",\"\",LogData!H421)","v":""},{"$f":"IF(LEFT($C428,1)=\"*\",\"\",LogData!T421*100)","v":""}]
[{"$f":"IF($C429=\"*EOL*\",\"\",INT(LogData!V422))","v":""},{"$f":"IF($C429=\"*EOL*\",\"\",LogData!V422-A429)","v":""},{"$f":"LogData!E422","v":"*EOL*"},{"$f":"IF(LEFT($C429,1)=\"*\",\"\",LogData!C422)","v":""},{"$f":"IF(LEFT($C429,1)=\"*\",\"\",LogData!F422)","v":""},{"$f":"IF(LEFT($C429,1)=\"*\",\"\",LogData!D422)","v":""},{"$f":"IF(LEFT($C429,1)=\"*\",\"\",LogData!H422)","v":""},{"$f":"IF(LEFT($C429,1)=\"*\",\"\",LogData!T422*100)","v":""}]
[{"$f":"IF($C430=\"*EOL*\",\"\",INT(LogData!V423))","v":""},{"$f":"IF($C430=\"*EOL*\",\"\",LogData!V423-A430)","v":""},{"$f":"LogData!E423","v":"*EOL*"},{"$f":"IF(LEFT($C430,1)=\"*\",\"\",LogData!C423)","v":""},{"$f":"IF(LEFT($C430,1)=\"*\",\"\",LogData!F423)","v":""},{"$f":"IF(LEFT($C430,1)=\"*\",\"\",LogData!D423)","v":""},{"$f":"IF(LEFT($C430,1)=\"*\",\"\",LogData!H423)","v":""},{"$f":"IF(LEFT($C430,1)=\"*\",\"\",LogData!T423*100)","v":""}]
[{"$f":"IF($C431=\"*EOL*\",\"\",INT(LogData!V424))","v":""},{"$f":"IF($C431=\"*EOL*\",\"\",LogData!V424-A431)","v":""},{"$f":"LogData!E424","v":"*EOL*"},{"$f":"IF(LEFT($C431,1)=\"*\",\"\",LogData!C424)","v":""},{"$f":"IF(LEFT($C431,1)=\"*\",\"\",LogData!F424)","v":""},{"$f":"IF(LEFT($C431,1)=\"*\",\"\",LogData!D424)","v":""},{"$f":"IF(LEFT($C431,1)=\"*\",\"\",LogData!H424)","v":""},{"$f":"IF(LEFT($C431,1)=\"*\",\"\",LogData!T424*100)","v":""}]
[{"$f":"IF($C432=\"*EOL*\",\"\",INT(LogData!V425))","v":""},{"$f":"IF($C432=\"*EOL*\",\"\",LogData!V425-A432)","v":""},{"$f":"LogData!E425","v":"*EOL*"},{"$f":"IF(LEFT($C432,1)=\"*\",\"\",LogData!C425)","v":""},{"$f":"IF(LEFT($C432,1)=\"*\",\"\",LogData!F425)","v":""},{"$f":"IF(LEFT($C432,1)=\"*\",\"\",LogData!D425)","v":""},{"$f":"IF(LEFT($C432,1)=\"*\",\"\",LogData!H425)","v":""},{"$f":"IF(LEFT($C432,1)=\"*\",\"\",LogData!T425*100)","v":""}]
[{"$f":"IF($C433=\"*EOL*\",\"\",INT(LogData!V426))","v":""},{"$f":"IF($C433=\"*EOL*\",\"\",LogData!V426-A433)","v":""},{"$f":"LogData!E426","v":"*EOL*"},{"$f":"IF(LEFT($C433,1)=\"*\",\"\",LogData!C426)","v":""},{"$f":"IF(LEFT($C433,1)=\"*\",\"\",LogData!F426)","v":""},{"$f":"IF(LEFT($C433,1)=\"*\",\"\",LogData!D426)","v":""},{"$f":"IF(LEFT($C433,1)=\"*\",\"\",LogData!H426)","v":""},{"$f":"IF(LEFT($C433,1)=\"*\",\"\",LogData!T426*100)","v":""}]
[{"$f":"IF($C434=\"*EOL*\",\"\",INT(LogData!V427))","v":""},{"$f":"IF($C434=\"*EOL*\",\"\",LogData!V427-A434)","v":""},{"$f":"LogData!E427","v":"*EOL*"},{"$f":"IF(LEFT($C434,1)=\"*\",\"\",LogData!C427)","v":""},{"$f":"IF(LEFT($C434,1)=\"*\",\"\",LogData!F427)","v":""},{"$f":"IF(LEFT($C434,1)=\"*\",\"\",LogData!D427)","v":""},{"$f":"IF(LEFT($C434,1)=\"*\",\"\",LogData!H427)","v":""},{"$f":"IF(LEFT($C434,1)=\"*\",\"\",LogData!T427*100)","v":""}]
[{"$f":"IF($C435=\"*EOL*\",\"\",INT(LogData!V428))","v":""},{"$f":"IF($C435=\"*EOL*\",\"\",LogData!V428-A435)","v":""},{"$f":"LogData!E428","v":"*EOL*"},{"$f":"IF(LEFT($C435,1)=\"*\",\"\",LogData!C428)","v":""},{"$f":"IF(LEFT($C435,1)=\"*\",\"\",LogData!F428)","v":""},{"$f":"IF(LEFT($C435,1)=\"*\",\"\",LogData!D428)","v":""},{"$f":"IF(LEFT($C435,1)=\"*\",\"\",LogData!H428)","v":""},{"$f":"IF(LEFT($C435,1)=\"*\",\"\",LogData!T428*100)","v":""}]
[{"$f":"IF($C436=\"*EOL*\",\"\",INT(LogData!V429))","v":""},{"$f":"IF($C436=\"*EOL*\",\"\",LogData!V429-A436)","v":""},{"$f":"LogData!E429","v":"*EOL*"},{"$f":"IF(LEFT($C436,1)=\"*\",\"\",LogData!C429)","v":""},{"$f":"IF(LEFT($C436,1)=\"*\",\"\",LogData!F429)","v":""},{"$f":"IF(LEFT($C436,1)=\"*\",\"\",LogData!D429)","v":""},{"$f":"IF(LEFT($C436,1)=\"*\",\"\",LogData!H429)","v":""},{"$f":"IF(LEFT($C436,1)=\"*\",\"\",LogData!T429*100)","v":""}]
[{"$f":"IF($C437=\"*EOL*\",\"\",INT(LogData!V430))","v":""},{"$f":"IF($C437=\"*EOL*\",\"\",LogData!V430-A437)","v":""},{"$f":"LogData!E430","v":"*EOL*"},{"$f":"IF(LEFT($C437,1)=\"*\",\"\",LogData!C430)","v":""},{"$f":"IF(LEFT($C437,1)=\"*\",\"\",LogData!F430)","v":""},{"$f":"IF(LEFT($C437,1)=\"*\",\"\",LogData!D430)","v":""},{"$f":"IF(LEFT($C437,1)=\"*\",\"\",LogData!H430)","v":""},{"$f":"IF(LEFT($C437,1)=\"*\",\"\",LogData!T430*100)","v":""}]
[{"$f":"IF($C438=\"*EOL*\",\"\",INT(LogData!V431))","v":""},{"$f":"IF($C438=\"*EOL*\",\"\",LogData!V431-A438)","v":""},{"$f":"LogData!E431","v":"*EOL*"},{"$f":"IF(LEFT($C438,1)=\"*\",\"\",LogData!C431)","v":""},{"$f":"IF(LEFT($C438,1)=\"*\",\"\",LogData!F431)","v":""},{"$f":"IF(LEFT($C438,1)=\"*\",\"\",LogData!D431)","v":""},{"$f":"IF(LEFT($C438,1)=\"*\",\"\",LogData!H431)","v":""},{"$f":"IF(LEFT($C438,1)=\"*\",\"\",LogData!T431*100)","v":""}]
[{"$f":"IF($C439=\"*EOL*\",\"\",INT(LogData!V432))","v":""},{"$f":"IF($C439=\"*EOL*\",\"\",LogData!V432-A439)","v":""},{"$f":"LogData!E432","v":"*EOL*"},{"$f":"IF(LEFT($C439,1)=\"*\",\"\",LogData!C432)","v":""},{"$f":"IF(LEFT($C439,1)=\"*\",\"\",LogData!F432)","v":""},{"$f":"IF(LEFT($C439,1)=\"*\",\"\",LogData!D432)","v":""},{"$f":"IF(LEFT($C439,1)=\"*\",\"\",LogData!H432)","v":""},{"$f":"IF(LEFT($C439,1)=\"*\",\"\",LogData!T432*100)","v":""}]
[{"$f":"IF($C440=\"*EOL*\",\"\",INT(LogData!V433))","v":""},{"$f":"IF($C440=\"*EOL*\",\"\",LogData!V433-A440)","v":""},{"$f":"LogData!E433","v":"*EOL*"},{"$f":"IF(LEFT($C440,1)=\"*\",\"\",LogData!C433)","v":""},{"$f":"IF(LEFT($C440,1)=\"*\",\"\",LogData!F433)","v":""},{"$f":"IF(LEFT($C440,1)=\"*\",\"\",LogData!D433)","v":""},{"$f":"IF(LEFT($C440,1)=\"*\",\"\",LogData!H433)","v":""},{"$f":"IF(LEFT($C440,1)=\"*\",\"\",LogData!T433*100)","v":""}]
[{"$f":"IF($C441=\"*EOL*\",\"\",INT(LogData!V434))","v":""},{"$f":"IF($C441=\"*EOL*\",\"\",LogData!V434-A441)","v":""},{"$f":"LogData!E434","v":"*EOL*"},{"$f":"IF(LEFT($C441,1)=\"*\",\"\",LogData!C434)","v":""},{"$f":"IF(LEFT($C441,1)=\"*\",\"\",LogData!F434)","v":""},{"$f":"IF(LEFT($C441,1)=\"*\",\"\",LogData!D434)","v":""},{"$f":"IF(LEFT($C441,1)=\"*\",\"\",LogData!H434)","v":""},{"$f":"IF(LEFT($C441,1)=\"*\",\"\",LogData!T434*100)","v":""}]
[{"$f":"IF($C442=\"*EOL*\",\"\",INT(LogData!V435))","v":""},{"$f":"IF($C442=\"*EOL*\",\"\",LogData!V435-A442)","v":""},{"$f":"LogData!E435","v":"*EOL*"},{"$f":"IF(LEFT($C442,1)=\"*\",\"\",LogData!C435)","v":""},{"$f":"IF(LEFT($C442,1)=\"*\",\"\",LogData!F435)","v":""},{"$f":"IF(LEFT($C442,1)=\"*\",\"\",LogData!D435)","v":""},{"$f":"IF(LEFT($C442,1)=\"*\",\"\",LogData!H435)","v":""},{"$f":"IF(LEFT($C442,1)=\"*\",\"\",LogData!T435*100)","v":""}]
[{"$f":"IF($C443=\"*EOL*\",\"\",INT(LogData!V436))","v":""},{"$f":"IF($C443=\"*EOL*\",\"\",LogData!V436-A443)","v":""},{"$f":"LogData!E436","v":"*EOL*"},{"$f":"IF(LEFT($C443,1)=\"*\",\"\",LogData!C436)","v":""},{"$f":"IF(LEFT($C443,1)=\"*\",\"\",LogData!F436)","v":""},{"$f":"IF(LEFT($C443,1)=\"*\",\"\",LogData!D436)","v":""},{"$f":"IF(LEFT($C443,1)=\"*\",\"\",LogData!H436)","v":""},{"$f":"IF(LEFT($C443,1)=\"*\",\"\",LogData!T436*100)","v":""}]
[{"$f":"IF($C444=\"*EOL*\",\"\",INT(LogData!V437))","v":""},{"$f":"IF($C444=\"*EOL*\",\"\",LogData!V437-A444)","v":""},{"$f":"LogData!E437","v":"*EOL*"},{"$f":"IF(LEFT($C444,1)=\"*\",\"\",LogData!C437)","v":""},{"$f":"IF(LEFT($C444,1)=\"*\",\"\",LogData!F437)","v":""},{"$f":"IF(LEFT($C444,1)=\"*\",\"\",LogData!D437)","v":""},{"$f":"IF(LEFT($C444,1)=\"*\",\"\",LogData!H437)","v":""},{"$f":"IF(LEFT($C444,1)=\"*\",\"\",LogData!T437*100)","v":""}]
[{"$f":"IF($C445=\"*EOL*\",\"\",INT(LogData!V438))","v":""},{"$f":"IF($C445=\"*EOL*\",\"\",LogData!V438-A445)","v":""},{"$f":"LogData!E438","v":"*EOL*"},{"$f":"IF(LEFT($C445,1)=\"*\",\"\",LogData!C438)","v":""},{"$f":"IF(LEFT($C445,1)=\"*\",\"\",LogData!F438)","v":""},{"$f":"IF(LEFT($C445,1)=\"*\",\"\",LogData!D438)","v":""},{"$f":"IF(LEFT($C445,1)=\"*\",\"\",LogData!H438)","v":""},{"$f":"IF(LEFT($C445,1)=\"*\",\"\",LogData!T438*100)","v":""}]
[{"$f":"IF($C446=\"*EOL*\",\"\",INT(LogData!V439))","v":""},{"$f":"IF($C446=\"*EOL*\",\"\",LogData!V439-A446)","v":""},{"$f":"LogData!E439","v":"*EOL*"},{"$f":"IF(LEFT($C446,1)=\"*\",\"\",LogData!C439)","v":""},{"$f":"IF(LEFT($C446,1)=\"*\",\"\",LogData!F439)","v":""},{"$f":"IF(LEFT($C446,1)=\"*\",\"\",LogData!D439)","v":""},{"$f":"IF(LEFT($C446,1)=\"*\",\"\",LogData!H439)","v":""},{"$f":"IF(LEFT($C446,1)=\"*\",\"\",LogData!T439*100)","v":""}]
[{"$f":"IF($C447=\"*EOL*\",\"\",INT(LogData!V440))","v":""},{"$f":"IF($C447=\"*EOL*\",\"\",LogData!V440-A447)","v":""},{"$f":"LogData!E440","v":"*EOL*"},{"$f":"IF(LEFT($C447,1)=\"*\",\"\",LogData!C440)","v":""},{"$f":"IF(LEFT($C447,1)=\"*\",\"\",LogData!F440)","v":""},{"$f":"IF(LEFT($C447,1)=\"*\",\"\",LogData!D440)","v":""},{"$f":"IF(LEFT($C447,1)=\"*\",\"\",LogData!H440)","v":""},{"$f":"IF(LEFT($C447,1)=\"*\",\"\",LogData!T440*100)","v":""}]
[{"$f":"IF($C448=\"*EOL*\",\"\",INT(LogData!V441))","v":""},{"$f":"IF($C448=\"*EOL*\",\"\",LogData!V441-A448)","v":""},{"$f":"LogData!E441","v":"*EOL*"},{"$f":"IF(LEFT($C448,1)=\"*\",\"\",LogData!C441)","v":""},{"$f":"IF(LEFT($C448,1)=\"*\",\"\",LogData!F441)","v":""},{"$f":"IF(LEFT($C448,1)=\"*\",\"\",LogData!D441)","v":""},{"$f":"IF(LEFT($C448,1)=\"*\",\"\",LogData!H441)","v":""},{"$f":"IF(LEFT($C448,1)=\"*\",\"\",LogData!T441*100)","v":""}]
[{"$f":"IF($C449=\"*EOL*\",\"\",INT(LogData!V442))","v":""},{"$f":"IF($C449=\"*EOL*\",\"\",LogData!V442-A449)","v":""},{"$f":"LogData!E442","v":"*EOL*"},{"$f":"IF(LEFT($C449,1)=\"*\",\"\",LogData!C442)","v":""},{"$f":"IF(LEFT($C449,1)=\"*\",\"\",LogData!F442)","v":""},{"$f":"IF(LEFT($C449,1)=\"*\",\"\",LogData!D442)","v":""},{"$f":"IF(LEFT($C449,1)=\"*\",\"\",LogData!H442)","v":""},{"$f":"IF(LEFT($C449,1)=\"*\",\"\",LogData!T442*100)","v":""}]
[{"$f":"IF($C450=\"*EOL*\",\"\",INT(LogData!V443))","v":""},{"$f":"IF($C450=\"*EOL*\",\"\",LogData!V443-A450)","v":""},{"$f":"LogData!E443","v":"*EOL*"},{"$f":"IF(LEFT($C450,1)=\"*\",\"\",LogData!C443)","v":""},{"$f":"IF(LEFT($C450,1)=\"*\",\"\",LogData!F443)","v":""},{"$f":"IF(LEFT($C450,1)=\"*\",\"\",LogData!D443)","v":""},{"$f":"IF(LEFT($C450,1)=\"*\",\"\",LogData!H443)","v":""},{"$f":"IF(LEFT($C450,1)=\"*\",\"\",LogData!T443*100)","v":""}]
[{"$f":"IF($C451=\"*EOL*\",\"\",INT(LogData!V444))","v":""},{"$f":"IF($C451=\"*EOL*\",\"\",LogData!V444-A451)","v":""},{"$f":"LogData!E444","v":"*EOL*"},{"$f":"IF(LEFT($C451,1)=\"*\",\"\",LogData!C444)","v":""},{"$f":"IF(LEFT($C451,1)=\"*\",\"\",LogData!F444)","v":""},{"$f":"IF(LEFT($C451,1)=\"*\",\"\",LogData!D444)","v":""},{"$f":"IF(LEFT($C451,1)=\"*\",\"\",LogData!H444)","v":""},{"$f":"IF(LEFT($C451,1)=\"*\",\"\",LogData!T444*100)","v":""}]
[{"$f":"IF($C452=\"*EOL*\",\"\",INT(LogData!V445))","v":""},{"$f":"IF($C452=\"*EOL*\",\"\",LogData!V445-A452)","v":""},{"$f":"LogData!E445","v":"*EOL*"},{"$f":"IF(LEFT($C452,1)=\"*\",\"\",LogData!C445)","v":""},{"$f":"IF(LEFT($C452,1)=\"*\",\"\",LogData!F445)","v":""},{"$f":"IF(LEFT($C452,1)=\"*\",\"\",LogData!D445)","v":""},{"$f":"IF(LEFT($C452,1)=\"*\",\"\",LogData!H445)","v":""},{"$f":"IF(LEFT($C452,1)=\"*\",\"\",LogData!T445*100)","v":""}]
[{"$f":"IF($C453=\"*EOL*\",\"\",INT(LogData!V446))","v":""},{"$f":"IF($C453=\"*EOL*\",\"\",LogData!V446-A453)","v":""},{"$f":"LogData!E446","v":"*EOL*"},{"$f":"IF(LEFT($C453,1)=\"*\",\"\",LogData!C446)","v":""},{"$f":"IF(LEFT($C453,1)=\"*\",\"\",LogData!F446)","v":""},{"$f":"IF(LEFT($C453,1)=\"*\",\"\",LogData!D446)","v":""},{"$f":"IF(LEFT($C453,1)=\"*\",\"\",LogData!H446)","v":""},{"$f":"IF(LEFT($C453,1)=\"*\",\"\",LogData!T446*100)","v":""}]
[{"$f":"IF($C454=\"*EOL*\",\"\",INT(LogData!V447))","v":""},{"$f":"IF($C454=\"*EOL*\",\"\",LogData!V447-A454)","v":""},{"$f":"LogData!E447","v":"*EOL*"},{"$f":"IF(LEFT($C454,1)=\"*\",\"\",LogData!C447)","v":""},{"$f":"IF(LEFT($C454,1)=\"*\",\"\",LogData!F447)","v":""},{"$f":"IF(LEFT($C454,1)=\"*\",\"\",LogData!D447)","v":""},{"$f":"IF(LEFT($C454,1)=\"*\",\"\",LogData!H447)","v":""},{"$f":"IF(LEFT($C454,1)=\"*\",\"\",LogData!T447*100)","v":""}]
[{"$f":"IF($C455=\"*EOL*\",\"\",INT(LogData!V448))","v":""},{"$f":"IF($C455=\"*EOL*\",\"\",LogData!V448-A455)","v":""},{"$f":"LogData!E448","v":"*EOL*"},{"$f":"IF(LEFT($C455,1)=\"*\",\"\",LogData!C448)","v":""},{"$f":"IF(LEFT($C455,1)=\"*\",\"\",LogData!F448)","v":""},{"$f":"IF(LEFT($C455,1)=\"*\",\"\",LogData!D448)","v":""},{"$f":"IF(LEFT($C455,1)=\"*\",\"\",LogData!H448)","v":""},{"$f":"IF(LEFT($C455,1)=\"*\",\"\",LogData!T448*100)","v":""}]
[{"$f":"IF($C456=\"*EOL*\",\"\",INT(LogData!V449))","v":""},{"$f":"IF($C456=\"*EOL*\",\"\",LogData!V449-A456)","v":""},{"$f":"LogData!E449","v":"*EOL*"},{"$f":"IF(LEFT($C456,1)=\"*\",\"\",LogData!C449)","v":""},{"$f":"IF(LEFT($C456,1)=\"*\",\"\",LogData!F449)","v":""},{"$f":"IF(LEFT($C456,1)=\"*\",\"\",LogData!D449)","v":""},{"$f":"IF(LEFT($C456,1)=\"*\",\"\",LogData!H449)","v":""},{"$f":"IF(LEFT($C456,1)=\"*\",\"\",LogData!T449*100)","v":""}]
[{"$f":"IF($C457=\"*EOL*\",\"\",INT(LogData!V450))","v":""},{"$f":"IF($C457=\"*EOL*\",\"\",LogData!V450-A457)","v":""},{"$f":"LogData!E450","v":"*EOL*"},{"$f":"IF(LEFT($C457,1)=\"*\",\"\",LogData!C450)","v":""},{"$f":"IF(LEFT($C457,1)=\"*\",\"\",LogData!F450)","v":""},{"$f":"IF(LEFT($C457,1)=\"*\",\"\",LogData!D450)","v":""},{"$f":"IF(LEFT($C457,1)=\"*\",\"\",LogData!H450)","v":""},{"$f":"IF(LEFT($C457,1)=\"*\",\"\",LogData!T450*100)","v":""}]
[{"$f":"IF($C458=\"*EOL*\",\"\",INT(LogData!V451))","v":""},{"$f":"IF($C458=\"*EOL*\",\"\",LogData!V451-A458)","v":""},{"$f":"LogData!E451","v":"*EOL*"},{"$f":"IF(LEFT($C458,1)=\"*\",\"\",LogData!C451)","v":""},{"$f":"IF(LEFT($C458,1)=\"*\",\"\",LogData!F451)","v":""},{"$f":"IF(LEFT($C458,1)=\"*\",\"\",LogData!D451)","v":""},{"$f":"IF(LEFT($C458,1)=\"*\",\"\",LogData!H451)","v":""},{"$f":"IF(LEFT($C458,1)=\"*\",\"\",LogData!T451*100)","v":""}]
[{"$f":"IF($C459=\"*EOL*\",\"\",INT(LogData!V452))","v":""},{"$f":"IF($C459=\"*EOL*\",\"\",LogData!V452-A459)","v":""},{"$f":"LogData!E452","v":"*EOL*"},{"$f":"IF(LEFT($C459,1)=\"*\",\"\",LogData!C452)","v":""},{"$f":"IF(LEFT($C459,1)=\"*\",\"\",LogData!F452)","v":""},{"$f":"IF(LEFT($C459,1)=\"*\",\"\",LogData!D452)","v":""},{"$f":"IF(LEFT($C459,1)=\"*\",\"\",LogData!H452)","v":""},{"$f":"IF(LEFT($C459,1)=\"*\",\"\",LogData!T452*100)","v":""}]
[{"$f":"IF($C460=\"*EOL*\",\"\",INT(LogData!V453))","v":""},{"$f":"IF($C460=\"*EOL*\",\"\",LogData!V453-A460)","v":""},{"$f":"LogData!E453","v":"*EOL*"},{"$f":"IF(LEFT($C460,1)=\"*\",\"\",LogData!C453)","v":""},{"$f":"IF(LEFT($C460,1)=\"*\",\"\",LogData!F453)","v":""},{"$f":"IF(LEFT($C460,1)=\"*\",\"\",LogData!D453)","v":""},{"$f":"IF(LEFT($C460,1)=\"*\",\"\",LogData!H453)","v":""},{"$f":"IF(LEFT($C460,1)=\"*\",\"\",LogData!T453*100)","v":""}]
[{"$f":"IF($C461=\"*EOL*\",\"\",INT(LogData!V454))","v":""},{"$f":"IF($C461=\"*EOL*\",\"\",LogData!V454-A461)","v":""},{"$f":"LogData!E454","v":"*EOL*"},{"$f":"IF(LEFT($C461,1)=\"*\",\"\",LogData!C454)","v":""},{"$f":"IF(LEFT($C461,1)=\"*\",\"\",LogData!F454)","v":""},{"$f":"IF(LEFT($C461,1)=\"*\",\"\",LogData!D454)","v":""},{"$f":"IF(LEFT($C461,1)=\"*\",\"\",LogData!H454)","v":""},{"$f":"IF(LEFT($C461,1)=\"*\",\"\",LogData!T454*100)","v":""}]
[{"$f":"IF($C462=\"*EOL*\",\"\",INT(LogData!V455))","v":""},{"$f":"IF($C462=\"*EOL*\",\"\",LogData!V455-A462)","v":""},{"$f":"LogData!E455","v":"*EOL*"},{"$f":"IF(LEFT($C462,1)=\"*\",\"\",LogData!C455)","v":""},{"$f":"IF(LEFT($C462,1)=\"*\",\"\",LogData!F455)","v":""},{"$f":"IF(LEFT($C462,1)=\"*\",\"\",LogData!D455)","v":""},{"$f":"IF(LEFT($C462,1)=\"*\",\"\",LogData!H455)","v":""},{"$f":"IF(LEFT($C462,1)=\"*\",\"\",LogData!T455*100)","v":""}]
[{"$f":"IF($C463=\"*EOL*\",\"\",INT(LogData!V456))","v":""},{"$f":"IF($C463=\"*EOL*\",\"\",LogData!V456-A463)","v":""},{"$f":"LogData!E456","v":"*EOL*"},{"$f":"IF(LEFT($C463,1)=\"*\",\"\",LogData!C456)","v":""},{"$f":"IF(LEFT($C463,1)=\"*\",\"\",LogData!F456)","v":""},{"$f":"IF(LEFT($C463,1)=\"*\",\"\",LogData!D456)","v":""},{"$f":"IF(LEFT($C463,1)=\"*\",\"\",LogData!H456)","v":""},{"$f":"IF(LEFT($C463,1)=\"*\",\"\",LogData!T456*100)","v":""}]
[{"$f":"IF($C464=\"*EOL*\",\"\",INT(LogData!V457))","v":""},{"$f":"IF($C464=\"*EOL*\",\"\",LogData!V457-A464)","v":""},{"$f":"LogData!E457","v":"*EOL*"},{"$f":"IF(LEFT($C464,1)=\"*\",\"\",LogData!C457)","v":""},{"$f":"IF(LEFT($C464,1)=\"*\",\"\",LogData!F457)","v":""},{"$f":"IF(LEFT($C464,1)=\"*\",\"\",LogData!D457)","v":""},{"$f":"IF(LEFT($C464,1)=\"*\",\"\",LogData!H457)","v":""},{"$f":"IF(LEFT($C464,1)=\"*\",\"\",LogData!T457*100)","v":""}]
[{"$f":"IF($C465=\"*EOL*\",\"\",INT(LogData!V458))","v":""},{"$f":"IF($C465=\"*EOL*\",\"\",LogData!V458-A465)","v":""},{"$f":"LogData!E458","v":"*EOL*"},{"$f":"IF(LEFT($C465,1)=\"*\",\"\",LogData!C458)","v":""},{"$f":"IF(LEFT($C465,1)=\"*\",\"\",LogData!F458)","v":""},{"$f":"IF(LEFT($C465,1)=\"*\",\"\",LogData!D458)","v":""},{"$f":"IF(LEFT($C465,1)=\"*\",\"\",LogData!H458)","v":""},{"$f":"IF(LEFT($C465,1)=\"*\",\"\",LogData!T458*100)","v":""}]
[{"$f":"IF($C466=\"*EOL*\",\"\",INT(LogData!V459))","v":""},{"$f":"IF($C466=\"*EOL*\",\"\",LogData!V459-A466)","v":""},{"$f":"LogData!E459","v":"*EOL*"},{"$f":"IF(LEFT($C466,1)=\"*\",\"\",LogData!C459)","v":""},{"$f":"IF(LEFT($C466,1)=\"*\",\"\",LogData!F459)","v":""},{"$f":"IF(LEFT($C466,1)=\"*\",\"\",LogData!D459)","v":""},{"$f":"IF(LEFT($C466,1)=\"*\",\"\",LogData!H459)","v":""},{"$f":"IF(LEFT($C466,1)=\"*\",\"\",LogData!T459*100)","v":""}]
[{"$f":"IF($C467=\"*EOL*\",\"\",INT(LogData!V460))","v":""},{"$f":"IF($C467=\"*EOL*\",\"\",LogData!V460-A467)","v":""},{"$f":"LogData!E460","v":"*EOL*"},{"$f":"IF(LEFT($C467,1)=\"*\",\"\",LogData!C460)","v":""},{"$f":"IF(LEFT($C467,1)=\"*\",\"\",LogData!F460)","v":""},{"$f":"IF(LEFT($C467,1)=\"*\",\"\",LogData!D460)","v":""},{"$f":"IF(LEFT($C467,1)=\"*\",\"\",LogData!H460)","v":""},{"$f":"IF(LEFT($C467,1)=\"*\",\"\",LogData!T460*100)","v":""}]
[{"$f":"IF($C468=\"*EOL*\",\"\",INT(LogData!V461))","v":""},{"$f":"IF($C468=\"*EOL*\",\"\",LogData!V461-A468)","v":""},{"$f":"LogData!E461","v":"*EOL*"},{"$f":"IF(LEFT($C468,1)=\"*\",\"\",LogData!C461)","v":""},{"$f":"IF(LEFT($C468,1)=\"*\",\"\",LogData!F461)","v":""},{"$f":"IF(LEFT($C468,1)=\"*\",\"\",LogData!D461)","v":""},{"$f":"IF(LEFT($C468,1)=\"*\",\"\",LogData!H461)","v":""},{"$f":"IF(LEFT($C468,1)=\"*\",\"\",LogData!T461*100)","v":""}]
[{"$f":"IF($C469=\"*EOL*\",\"\",INT(LogData!V462))","v":""},{"$f":"IF($C469=\"*EOL*\",\"\",LogData!V462-A469)","v":""},{"$f":"LogData!E462","v":"*EOL*"},{"$f":"IF(LEFT($C469,1)=\"*\",\"\",LogData!C462)","v":""},{"$f":"IF(LEFT($C469,1)=\"*\",\"\",LogData!F462)","v":""},{"$f":"IF(LEFT($C469,1)=\"*\",\"\",LogData!D462)","v":""},{"$f":"IF(LEFT($C469,1)=\"*\",\"\",LogData!H462)","v":""},{"$f":"IF(LEFT($C469,1)=\"*\",\"\",LogData!T462*100)","v":""}]
[{"$f":"IF($C470=\"*EOL*\",\"\",INT(LogData!V463))","v":""},{"$f":"IF($C470=\"*EOL*\",\"\",LogData!V463-A470)","v":""},{"$f":"LogData!E463","v":"*EOL*"},{"$f":"IF(LEFT($C470,1)=\"*\",\"\",LogData!C463)","v":""},{"$f":"IF(LEFT($C470,1)=\"*\",\"\",LogData!F463)","v":""},{"$f":"IF(LEFT($C470,1)=\"*\",\"\",LogData!D463)","v":""},{"$f":"IF(LEFT($C470,1)=\"*\",\"\",LogData!H463)","v":""},{"$f":"IF(LEFT($C470,1)=\"*\",\"\",LogData!T463*100)","v":""}]
[{"$f":"IF($C471=\"*EOL*\",\"\",INT(LogData!V464))","v":""},{"$f":"IF($C471=\"*EOL*\",\"\",LogData!V464-A471)","v":""},{"$f":"LogData!E464","v":"*EOL*"},{"$f":"IF(LEFT($C471,1)=\"*\",\"\",LogData!C464)","v":""},{"$f":"IF(LEFT($C471,1)=\"*\",\"\",LogData!F464)","v":""},{"$f":"IF(LEFT($C471,1)=\"*\",\"\",LogData!D464)","v":""},{"$f":"IF(LEFT($C471,1)=\"*\",\"\",LogData!H464)","v":""},{"$f":"IF(LEFT($C471,1)=\"*\",\"\",LogData!T464*100)","v":""}]
[{"$f":"IF($C472=\"*EOL*\",\"\",INT(LogData!V465))","v":""},{"$f":"IF($C472=\"*EOL*\",\"\",LogData!V465-A472)","v":""},{"$f":"LogData!E465","v":"*EOL*"},{"$f":"IF(LEFT($C472,1)=\"*\",\"\",LogData!C465)","v":""},{"$f":"IF(LEFT($C472,1)=\"*\",\"\",LogData!F465)","v":""},{"$f":"IF(LEFT($C472,1)=\"*\",\"\",LogData!D465)","v":""},{"$f":"IF(LEFT($C472,1)=\"*\",\"\",LogData!H465)","v":""},{"$f":"IF(LEFT($C472,1)=\"*\",\"\",LogData!T465*100)","v":""}]
[{"$f":"IF($C473=\"*EOL*\",\"\",INT(LogData!V466))","v":""},{"$f":"IF($C473=\"*EOL*\",\"\",LogData!V466-A473)","v":""},{"$f":"LogData!E466","v":"*EOL*"},{"$f":"IF(LEFT($C473,1)=\"*\",\"\",LogData!C466)","v":""},{"$f":"IF(LEFT($C473,1)=\"*\",\"\",LogData!F466)","v":""},{"$f":"IF(LEFT($C473,1)=\"*\",\"\",LogData!D466)","v":""},{"$f":"IF(LEFT($C473,1)=\"*\",\"\",LogData!H466)","v":""},{"$f":"IF(LEFT($C473,1)=\"*\",\"\",LogData!T466*100)","v":""}]
[{"$f":"IF($C474=\"*EOL*\",\"\",INT(LogData!V467))","v":""},{"$f":"IF($C474=\"*EOL*\",\"\",LogData!V467-A474)","v":""},{"$f":"LogData!E467","v":"*EOL*"},{"$f":"IF(LEFT($C474,1)=\"*\",\"\",LogData!C467)","v":""},{"$f":"IF(LEFT($C474,1)=\"*\",\"\",LogData!F467)","v":""},{"$f":"IF(LEFT($C474,1)=\"*\",\"\",LogData!D467)","v":""},{"$f":"IF(LEFT($C474,1)=\"*\",\"\",LogData!H467)","v":""},{"$f":"IF(LEFT($C474,1)=\"*\",\"\",LogData!T467*100)","v":""}]
[{"$f":"IF($C475=\"*EOL*\",\"\",INT(LogData!V468))","v":""},{"$f":"IF($C475=\"*EOL*\",\"\",LogData!V468-A475)","v":""},{"$f":"LogData!E468","v":"*EOL*"},{"$f":"IF(LEFT($C475,1)=\"*\",\"\",LogData!C468)","v":""},{"$f":"IF(LEFT($C475,1)=\"*\",\"\",LogData!F468)","v":""},{"$f":"IF(LEFT($C475,1)=\"*\",\"\",LogData!D468)","v":""},{"$f":"IF(LEFT($C475,1)=\"*\",\"\",LogData!H468)","v":""},{"$f":"IF(LEFT($C475,1)=\"*\",\"\",LogData!T468*100)","v":""}]
[{"$f":"IF($C476=\"*EOL*\",\"\",INT(LogData!V469))","v":""},{"$f":"IF($C476=\"*EOL*\",\"\",LogData!V469-A476)","v":""},{"$f":"LogData!E469","v":"*EOL*"},{"$f":"IF(LEFT($C476,1)=\"*\",\"\",LogData!C469)","v":""},{"$f":"IF(LEFT($C476,1)=\"*\",\"\",LogData!F469)","v":""},{"$f":"IF(LEFT($C476,1)=\"*\",\"\",LogData!D469)","v":""},{"$f":"IF(LEFT($C476,1)=\"*\",\"\",LogData!H469)","v":""},{"$f":"IF(LEFT($C476,1)=\"*\",\"\",LogData!T469*100)","v":""}]
[{"$f":"IF($C477=\"*EOL*\",\"\",INT(LogData!V470))","v":""},{"$f":"IF($C477=\"*EOL*\",\"\",LogData!V470-A477)","v":""},{"$f":"LogData!E470","v":"*EOL*"},{"$f":"IF(LEFT($C477,1)=\"*\",\"\",LogData!C470)","v":""},{"$f":"IF(LEFT($C477,1)=\"*\",\"\",LogData!F470)","v":""},{"$f":"IF(LEFT($C477,1)=\"*\",\"\",LogData!D470)","v":""},{"$f":"IF(LEFT($C477,1)=\"*\",\"\",LogData!H470)","v":""},{"$f":"IF(LEFT($C477,1)=\"*\",\"\",LogData!T470*100)","v":""}]
[{"$f":"IF($C478=\"*EOL*\",\"\",INT(LogData!V471))","v":""},{"$f":"IF($C478=\"*EOL*\",\"\",LogData!V471-A478)","v":""},{"$f":"LogData!E471","v":"*EOL*"},{"$f":"IF(LEFT($C478,1)=\"*\",\"\",LogData!C471)","v":""},{"$f":"IF(LEFT($C478,1)=\"*\",\"\",LogData!F471)","v":""},{"$f":"IF(LEFT($C478,1)=\"*\",\"\",LogData!D471)","v":""},{"$f":"IF(LEFT($C478,1)=\"*\",\"\",LogData!H471)","v":""},{"$f":"IF(LEFT($C478,1)=\"*\",\"\",LogData!T471*100)","v":""}]
[{"$f":"IF($C479=\"*EOL*\",\"\",INT(LogData!V472))","v":""},{"$f":"IF($C479=\"*EOL*\",\"\",LogData!V472-A479)","v":""},{"$f":"LogData!E472","v":"*EOL*"},{"$f":"IF(LEFT($C479,1)=\"*\",\"\",LogData!C472)","v":""},{"$f":"IF(LEFT($C479,1)=\"*\",\"\",LogData!F472)","v":""},{"$f":"IF(LEFT($C479,1)=\"*\",\"\",LogData!D472)","v":""},{"$f":"IF(LEFT($C479,1)=\"*\",\"\",LogData!H472)","v":""},{"$f":"IF(LEFT($C479,1)=\"*\",\"\",LogData!T472*100)","v":""}]
[{"$f":"IF($C480=\"*EOL*\",\"\",INT(LogData!V473))","v":""},{"$f":"IF($C480=\"*EOL*\",\"\",LogData!V473-A480)","v":""},{"$f":"LogData!E473","v":"*EOL*"},{"$f":"IF(LEFT($C480,1)=\"*\",\"\",LogData!C473)","v":""},{"$f":"IF(LEFT($C480,1)=\"*\",\"\",LogData!F473)","v":""},{"$f":"IF(LEFT($C480,1)=\"*\",\"\",LogData!D473)","v":""},{"$f":"IF(LEFT($C480,1)=\"*\",\"\",LogData!H473)","v":""},{"$f":"IF(LEFT($C480,1)=\"*\",\"\",LogData!T473*100)","v":""}]
[{"$f":"IF($C481=\"*EOL*\",\"\",INT(LogData!V474))","v":""},{"$f":"IF($C481=\"*EOL*\",\"\",LogData!V474-A481)","v":""},{"$f":"LogData!E474","v":"*EOL*"},{"$f":"IF(LEFT($C481,1)=\"*\",\"\",LogData!C474)","v":""},{"$f":"IF(LEFT($C481,1)=\"*\",\"\",LogData!F474)","v":""},{"$f":"IF(LEFT($C481,1)=\"*\",\"\",LogData!D474)","v":""},{"$f":"IF(LEFT($C481,1)=\"*\",\"\",LogData!H474)","v":""},{"$f":"IF(LEFT($C481,1)=\"*\",\"\",LogData!T474*100)","v":""}]
[{"$f":"IF($C482=\"*EOL*\",\"\",INT(LogData!V475))","v":""},{"$f":"IF($C482=\"*EOL*\",\"\",LogData!V475-A482)","v":""},{"$f":"LogData!E475","v":"*EOL*"},{"$f":"IF(LEFT($C482,1)=\"*\",\"\",LogData!C475)","v":""},{"$f":"IF(LEFT($C482,1)=\"*\",\"\",LogData!F475)","v":""},{"$f":"IF(LEFT($C482,1)=\"*\",\"\",LogData!D475)","v":""},{"$f":"IF(LEFT($C482,1)=\"*\",\"\",LogData!H475)","v":""},{"$f":"IF(LEFT($C482,1)=\"*\",\"\",LogData!T475*100)","v":""}]
[{"$f":"IF($C483=\"*EOL*\",\"\",INT(LogData!V476))","v":""},{"$f":"IF($C483=\"*EOL*\",\"\",LogData!V476-A483)","v":""},{"$f":"LogData!E476","v":"*EOL*"},{"$f":"IF(LEFT($C483,1)=\"*\",\"\",LogData!C476)","v":""},{"$f":"IF(LEFT($C483,1)=\"*\",\"\",LogData!F476)","v":""},{"$f":"IF(LEFT($C483,1)=\"*\",\"\",LogData!D476)","v":""},{"$f":"IF(LEFT($C483,1)=\"*\",\"\",LogData!H476)","v":""},{"$f":"IF(LEFT($C483,1)=\"*\",\"\",LogData!T476*100)","v":""}]
[{"$f":"IF($C484=\"*EOL*\",\"\",INT(LogData!V477))","v":""},{"$f":"IF($C484=\"*EOL*\",\"\",LogData!V477-A484)","v":""},{"$f":"LogData!E477","v":"*EOL*"},{"$f":"IF(LEFT($C484,1)=\"*\",\"\",LogData!C477)","v":""},{"$f":"IF(LEFT($C484,1)=\"*\",\"\",LogData!F477)","v":""},{"$f":"IF(LEFT($C484,1)=\"*\",\"\",LogData!D477)","v":""},{"$f":"IF(LEFT($C484,1)=\"*\",\"\",LogData!H477)","v":""},{"$f":"IF(LEFT($C484,1)=\"*\",\"\",LogData!T477*100)","v":""}]
[{"$f":"IF($C485=\"*EOL*\",\"\",INT(LogData!V478))","v":""},{"$f":"IF($C485=\"*EOL*\",\"\",LogData!V478-A485)","v":""},{"$f":"LogData!E478","v":"*EOL*"},{"$f":"IF(LEFT($C485,1)=\"*\",\"\",LogData!C478)","v":""},{"$f":"IF(LEFT($C485,1)=\"*\",\"\",LogData!F478)","v":""},{"$f":"IF(LEFT($C485,1)=\"*\",\"\",LogData!D478)","v":""},{"$f":"IF(LEFT($C485,1)=\"*\",\"\",LogData!H478)","v":""},{"$f":"IF(LEFT($C485,1)=\"*\",\"\",LogData!T478*100)","v":""}]
[{"$f":"IF($C486=\"*EOL*\",\"\",INT(LogData!V479))","v":""},{"$f":"IF($C486=\"*EOL*\",\"\",LogData!V479-A486)","v":""},{"$f":"LogData!E479","v":"*EOL*"},{"$f":"IF(LEFT($C486,1)=\"*\",\"\",LogData!C479)","v":""},{"$f":"IF(LEFT($C486,1)=\"*\",\"\",LogData!F479)","v":""},{"$f":"IF(LEFT($C486,1)=\"*\",\"\",LogData!D479)","v":""},{"$f":"IF(LEFT($C486,1)=\"*\",\"\",LogData!H479)","v":""},{"$f":"IF(LEFT($C486,1)=\"*\",\"\",LogData!T479*100)","v":""}]
[{"$f":"IF($C487=\"*EOL*\",\"\",INT(LogData!V480))","v":""},{"$f":"IF($C487=\"*EOL*\",\"\",LogData!V480-A487)","v":""},{"$f":"LogData!E480","v":"*EOL*"},{"$f":"IF(LEFT($C487,1)=\"*\",\"\",LogData!C480)","v":""},{"$f":"IF(LEFT($C487,1)=\"*\",\"\",LogData!F480)","v":""},{"$f":"IF(LEFT($C487,1)=\"*\",\"\",LogData!D480)","v":""},{"$f":"IF(LEFT($C487,1)=\"*\",\"\",LogData!H480)","v":""},{"$f":"IF(LEFT($C487,1)=\"*\",\"\",LogData!T480*100)","v":""}]
[{"$f":"IF($C488=\"*EOL*\",\"\",INT(LogData!V481))","v":""},{"$f":"IF($C488=\"*EOL*\",\"\",LogData!V481-A488)","v":""},{"$f":"LogData!E481","v":"*EOL*"},{"$f":"IF(LEFT($C488,1)=\"*\",\"\",LogData!C481)","v":""},{"$f":"IF(LEFT($C488,1)=\"*\",\"\",LogData!F481)","v":""},{"$f":"IF(LEFT($C488,1)=\"*\",\"\",LogData!D481)","v":""},{"$f":"IF(LEFT($C488,1)=\"*\",\"\",LogData!H481)","v":""},{"$f":"IF(LEFT($C488,1)=\"*\",\"\",LogData!T481*100)","v":""}]
[{"$f":"IF($C489=\"*EOL*\",\"\",INT(LogData!V482))","v":""},{"$f":"IF($C489=\"*EOL*\",\"\",LogData!V482-A489)","v":""},{"$f":"LogData!E482","v":"*EOL*"},{"$f":"IF(LEFT($C489,1)=\"*\",\"\",LogData!C482)","v":""},{"$f":"IF(LEFT($C489,1)=\"*\",\"\",LogData!F482)","v":""},{"$f":"IF(LEFT($C489,1)=\"*\",\"\",LogData!D482)","v":""},{"$f":"IF(LEFT($C489,1)=\"*\",\"\",LogData!H482)","v":""},{"$f":"IF(LEFT($C489,1)=\"*\",\"\",LogData!T482*100)","v":""}]
[{"$f":"IF($C490=\"*EOL*\",\"\",INT(LogData!V483))","v":""},{"$f":"IF($C490=\"*EOL*\",\"\",LogData!V483-A490)","v":""},{"$f":"LogData!E483","v":"*EOL*"},{"$f":"IF(LEFT($C490,1)=\"*\",\"\",LogData!C483)","v":""},{"$f":"IF(LEFT($C490,1)=\"*\",\"\",LogData!F483)","v":""},{"$f":"IF(LEFT($C490,1)=\"*\",\"\",LogData!D483)","v":""},{"$f":"IF(LEFT($C490,1)=\"*\",\"\",LogData!H483)","v":""},{"$f":"IF(LEFT($C490,1)=\"*\",\"\",LogData!T483*100)","v":""}]
[{"$f":"IF($C491=\"*EOL*\",\"\",INT(LogData!V484))","v":""},{"$f":"IF($C491=\"*EOL*\",\"\",LogData!V484-A491)","v":""},{"$f":"LogData!E484","v":"*EOL*"},{"$f":"IF(LEFT($C491,1)=\"*\",\"\",LogData!C484)","v":""},{"$f":"IF(LEFT($C491,1)=\"*\",\"\",LogData!F484)","v":""},{"$f":"IF(LEFT($C491,1)=\"*\",\"\",LogData!D484)","v":""},{"$f":"IF(LEFT($C491,1)=\"*\",\"\",LogData!H484)","v":""},{"$f":"IF(LEFT($C491,1)=\"*\",\"\",LogData!T484*100)","v":""}]
[{"$f":"IF($C492=\"*EOL*\",\"\",INT(LogData!V485))","v":""},{"$f":"IF($C492=\"*EOL*\",\"\",LogData!V485-A492)","v":""},{"$f":"LogData!E485","v":"*EOL*"},{"$f":"IF(LEFT($C492,1)=\"*\",\"\",LogData!C485)","v":""},{"$f":"IF(LEFT($C492,1)=\"*\",\"\",LogData!F485)","v":""},{"$f":"IF(LEFT($C492,1)=\"*\",\"\",LogData!D485)","v":""},{"$f":"IF(LEFT($C492,1)=\"*\",\"\",LogData!H485)","v":""},{"$f":"IF(LEFT($C492,1)=\"*\",\"\",LogData!T485*100)","v":""}]
[{"$f":"IF($C493=\"*EOL*\",\"\",INT(LogData!V486))","v":""},{"$f":"IF($C493=\"*EOL*\",\"\",LogData!V486-A493)","v":""},{"$f":"LogData!E486","v":"*EOL*"},{"$f":"IF(LEFT($C493,1)=\"*\",\"\",LogData!C486)","v":""},{"$f":"IF(LEFT($C493,1)=\"*\",\"\",LogData!F486)","v":""},{"$f":"IF(LEFT($C493,1)=\"*\",\"\",LogData!D486)","v":""},{"$f":"IF(LEFT($C493,1)=\"*\",\"\",LogData!H486)","v":""},{"$f":"IF(LEFT($C493,1)=\"*\",\"\",LogData!T486*100)","v":""}]
[{"$f":"IF($C494=\"*EOL*\",\"\",INT(LogData!V487))","v":""},{"$f":"IF($C494=\"*EOL*\",\"\",LogData!V487-A494)","v":""},{"$f":"LogData!E487","v":"*EOL*"},{"$f":"IF(LEFT($C494,1)=\"*\",\"\",LogData!C487)","v":""},{"$f":"IF(LEFT($C494,1)=\"*\",\"\",LogData!F487)","v":""},{"$f":"IF(LEFT($C494,1)=\"*\",\"\",LogData!D487)","v":""},{"$f":"IF(LEFT($C494,1)=\"*\",\"\",LogData!H487)","v":""},{"$f":"IF(LEFT($C494,1)=\"*\",\"\",LogData!T487*100)","v":""}]
[{"$f":"IF($C495=\"*EOL*\",\"\",INT(LogData!V488))","v":""},{"$f":"IF($C495=\"*EOL*\",\"\",LogData!V488-A495)","v":""},{"$f":"LogData!E488","v":"*EOL*"},{"$f":"IF(LEFT($C495,1)=\"*\",\"\",LogData!C488)","v":""},{"$f":"IF(LEFT($C495,1)=\"*\",\"\",LogData!F488)","v":""},{"$f":"IF(LEFT($C495,1)=\"*\",\"\",LogData!D488)","v":""},{"$f":"IF(LEFT($C495,1)=\"*\",\"\",LogData!H488)","v":""},{"$f":"IF(LEFT($C495,1)=\"*\",\"\",LogData!T488*100)","v":""}]
[{"$f":"IF($C496=\"*EOL*\",\"\",INT(LogData!V489))","v":""},{"$f":"IF($C496=\"*EOL*\",\"\",LogData!V489-A496)","v":""},{"$f":"LogData!E489","v":"*EOL*"},{"$f":"IF(LEFT($C496,1)=\"*\",\"\",LogData!C489)","v":""},{"$f":"IF(LEFT($C496,1)=\"*\",\"\",LogData!F489)","v":""},{"$f":"IF(LEFT($C496,1)=\"*\",\"\",LogData!D489)","v":""},{"$f":"IF(LEFT($C496,1)=\"*\",\"\",LogData!H489)","v":""},{"$f":"IF(LEFT($C496,1)=\"*\",\"\",LogData!T489*100)","v":""}]
[{"$f":"IF($C497=\"*EOL*\",\"\",INT(LogData!V490))","v":""},{"$f":"IF($C497=\"*EOL*\",\"\",LogData!V490-A497)","v":""},{"$f":"LogData!E490","v":"*EOL*"},{"$f":"IF(LEFT($C497,1)=\"*\",\"\",LogData!C490)","v":""},{"$f":"IF(LEFT($C497,1)=\"*\",\"\",LogData!F490)","v":""},{"$f":"IF(LEFT($C497,1)=\"*\",\"\",LogData!D490)","v":""},{"$f":"IF(LEFT($C497,1)=\"*\",\"\",LogData!H490)","v":""},{"$f":"IF(LEFT($C497,1)=\"*\",\"\",LogData!T490*100)","v":""}]
[{"$f":"IF($C498=\"*EOL*\",\"\",INT(LogData!V491))","v":""},{"$f":"IF($C498=\"*EOL*\",\"\",LogData!V491-A498)","v":""},{"$f":"LogData!E491","v":"*EOL*"},{"$f":"IF(LEFT($C498,1)=\"*\",\"\",LogData!C491)","v":""},{"$f":"IF(LEFT($C498,1)=\"*\",\"\",LogData!F491)","v":""},{"$f":"IF(LEFT($C498,1)=\"*\",\"\",LogData!D491)","v":""},{"$f":"IF(LEFT($C498,1)=\"*\",\"\",LogData!H491)","v":""},{"$f":"IF(LEFT($C498,1)=\"*\",\"\",LogData!T491*100)","v":""}]
[{"$f":"IF($C499=\"*EOL*\",\"\",INT(LogData!V492))","v":""},{"$f":"IF($C499=\"*EOL*\",\"\",LogData!V492-A499)","v":""},{"$f":"LogData!E492","v":"*EOL*"},{"$f":"IF(LEFT($C499,1)=\"*\",\"\",LogData!C492)","v":""},{"$f":"IF(LEFT($C499,1)=\"*\",\"\",LogData!F492)","v":""},{"$f":"IF(LEFT($C499,1)=\"*\",\"\",LogData!D492)","v":""},{"$f":"IF(LEFT($C499,1)=\"*\",\"\",LogData!H492)","v":""},{"$f":"IF(LEFT($C499,1)=\"*\",\"\",LogData!T492*100)","v":""}]
[{"$f":"IF($C500=\"*EOL*\",\"\",INT(LogData!V493))","v":""},{"$f":"IF($C500=\"*EOL*\",\"\",LogData!V493-A500)","v":""},{"$f":"LogData!E493","v":"*EOL*"},{"$f":"IF(LEFT($C500,1)=\"*\",\"\",LogData!C493)","v":""},{"$f":"IF(LEFT($C500,1)=\"*\",\"\",LogData!F493)","v":""},{"$f":"IF(LEFT($C500,1)=\"*\",\"\",LogData!D493)","v":""},{"$f":"IF(LEFT($C500,1)=\"*\",\"\",LogData!H493)","v":""},{"$f":"IF(LEFT($C500,1)=\"*\",\"\",LogData!T493*100)","v":""}]
[{"$f":"IF($C501=\"*EOL*\",\"\",INT(LogData!V494))","v":""},{"$f":"IF($C501=\"*EOL*\",\"\",LogData!V494-A501)","v":""},{"$f":"LogData!E494","v":"*EOL*"},{"$f":"IF(LEFT($C501,1)=\"*\",\"\",LogData!C494)","v":""},{"$f":"IF(LEFT($C501,1)=\"*\",\"\",LogData!F494)","v":""},{"$f":"IF(LEFT($C501,1)=\"*\",\"\",LogData!D494)","v":""},{"$f":"IF(LEFT($C501,1)=\"*\",\"\",LogData!H494)","v":""},{"$f":"IF(LEFT($C501,1)=\"*\",\"\",LogData!T494*100)","v":""}]
[{"$f":"IF($C502=\"*EOL*\",\"\",INT(LogData!V495))","v":""},{"$f":"IF($C502=\"*EOL*\",\"\",LogData!V495-A502)","v":""},{"$f":"LogData!E495","v":"*EOL*"},{"$f":"IF(LEFT($C502,1)=\"*\",\"\",LogData!C495)","v":""},{"$f":"IF(LEFT($C502,1)=\"*\",\"\",LogData!F495)","v":""},{"$f":"IF(LEFT($C502,1)=\"*\",\"\",LogData!D495)","v":""},{"$f":"IF(LEFT($C502,1)=\"*\",\"\",LogData!H495)","v":""},{"$f":"IF(LEFT($C502,1)=\"*\",\"\",LogData!T495*100)","v":""}]
[{"$f":"IF($C503=\"*EOL*\",\"\",INT(LogData!V496))","v":""},{"$f":"IF($C503=\"*EOL*\",\"\",LogData!V496-A503)","v":""},{"$f":"LogData!E496","v":"*EOL*"},{"$f":"IF(LEFT($C503,1)=\"*\",\"\",LogData!C496)","v":""},{"$f":"IF(LEFT($C503,1)=\"*\",\"\",LogData!F496)","v":""},{"$f":"IF(LEFT($C503,1)=\"*\",\"\",LogData!D496)","v":""},{"$f":"IF(LEFT($C503,1)=\"*\",\"\",LogData!H496)","v":""},{"$f":"IF(LEFT($C503,1)=\"*\",\"\",LogData!T496*100)","v":""}]
[{"$f":"IF($C504=\"*EOL*\",\"\",INT(LogData!V497))","v":""},{"$f":"IF($C504=\"*EOL*\",\"\",LogData!V497-A504)","v":""},{"$f":"LogData!E497","v":"*EOL*"},{"$f":"IF(LEFT($C504,1)=\"*\",\"\",LogData!C497)","v":""},{"$f":"IF(LEFT($C504,1)=\"*\",\"\",LogData!F497)","v":""},{"$f":"IF(LEFT($C504,1)=\"*\",\"\",LogData!D497)","v":""},{"$f":"IF(LEFT($C504,1)=\"*\",\"\",LogData!H497)","v":""},{"$f":"IF(LEFT($C504,1)=\"*\",\"\",LogData!T497*100)","v":""}]
[{"$f":"IF($C505=\"*EOL*\",\"\",INT(LogData!V498))","v":""},{"$f":"IF($C505=\"*EOL*\",\"\",LogData!V498-A505)","v":""},{"$f":"LogData!E498","v":"*EOL*"},{"$f":"IF(LEFT($C505,1)=\"*\",\"\",LogData!C498)","v":""},{"$f":"IF(LEFT($C505,1)=\"*\",\"\",LogData!F498)","v":""},{"$f":"IF(LEFT($C505,1)=\"*\",\"\",LogData!D498)","v":""},{"$f":"IF(LEFT($C505,1)=\"*\",\"\",LogData!H498)","v":""},{"$f":"IF(LEFT($C505,1)=\"*\",\"\",LogData!T498*100)","v":""}]
[{"$f":"IF($C506=\"*EOL*\",\"\",INT(LogData!V499))","v":""},{"$f":"IF($C506=\"*EOL*\",\"\",LogData!V499-A506)","v":""},{"$f":"LogData!E499","v":"*EOL*"},{"$f":"IF(LEFT($C506,1)=\"*\",\"\",LogData!C499)","v":""},{"$f":"IF(LEFT($C506,1)=\"*\",\"\",LogData!F499)","v":""},{"$f":"IF(LEFT($C506,1)=\"*\",\"\",LogData!D499)","v":""},{"$f":"IF(LEFT($C506,1)=\"*\",\"\",LogData!H499)","v":""},{"$f":"IF(LEFT($C506,1)=\"*\",\"\",LogData!T499*100)","v":""}]
[{"$f":"IF($C507=\"*EOL*\",\"\",INT(LogData!V500))","v":""},{"$f":"IF($C507=\"*EOL*\",\"\",LogData!V500-A507)","v":""},{"$f":"LogData!E500","v":"*EOL*"},{"$f":"IF(LEFT($C507,1)=\"*\",\"\",LogData!C500)","v":""},{"$f":"IF(LEFT($C507,1)=\"*\",\"\",LogData!F500)","v":""},{"$f":"IF(LEFT($C507,1)=\"*\",\"\",LogData!D500)","v":""},{"$f":"IF(LEFT($C507,1)=\"*\",\"\",LogData!H500)","v":""},{"$f":"IF(LEFT($C507,1)=\"*\",\"\",LogData!T500*100)","v":""}]
[{"$f":"IF($C508=\"*EOL*\",\"\",INT(LogData!V501))","v":""},{"$f":"IF($C508=\"*EOL*\",\"\",LogData!V501-A508)","v":""},{"$f":"LogData!E501","v":"*EOL*"},{"$f":"IF(LEFT($C508,1)=\"*\",\"\",LogData!C501)","v":""},{"$f":"IF(LEFT($C508,1)=\"*\",\"\",LogData!F501)","v":""},{"$f":"IF(LEFT($C508,1)=\"*\",\"\",LogData!D501)","v":""},{"$f":"IF(LEFT($C508,1)=\"*\",\"\",LogData!H501)","v":""},{"$f":"IF(LEFT($C508,1)=\"*\",\"\",LogData!T501*100)","v":""}]
[{"$f":"IF($C509=\"*EOL*\",\"\",INT(LogData!V502))","v":""},{"$f":"IF($C509=\"*EOL*\",\"\",LogData!V502-A509)","v":""},{"$f":"LogData!E502","v":"*EOL*"},{"$f":"IF(LEFT($C509,1)=\"*\",\"\",LogData!C502)","v":""},{"$f":"IF(LEFT($C509,1)=\"*\",\"\",LogData!F502)","v":""},{"$f":"IF(LEFT($C509,1)=\"*\",\"\",LogData!D502)","v":""},{"$f":"IF(LEFT($C509,1)=\"*\",\"\",LogData!H502)","v":""},{"$f":"IF(LEFT($C509,1)=\"*\",\"\",LogData!T502*100)","v":""}]
[{"$f":"IF($C510=\"*EOL*\",\"\",INT(LogData!V503))","v":""},{"$f":"IF($C510=\"*EOL*\",\"\",LogData!V503-A510)","v":""},{"$f":"LogData!E503","v":"*EOL*"},{"$f":"IF(LEFT($C510,1)=\"*\",\"\",LogData!C503)","v":""},{"$f":"IF(LEFT($C510,1)=\"*\",\"\",LogData!F503)","v":""},{"$f":"IF(LEFT($C510,1)=\"*\",\"\",LogData!D503)","v":""},{"$f":"IF(LEFT($C510,1)=\"*\",\"\",LogData!H503)","v":""},{"$f":"IF(LEFT($C510,1)=\"*\",\"\",LogData!T503*100)","v":""}]
[{"$f":"IF($C511=\"*EOL*\",\"\",INT(LogData!V504))","v":""},{"$f":"IF($C511=\"*EOL*\",\"\",LogData!V504-A511)","v":""},{"$f":"LogData!E504","v":"*EOL*"},{"$f":"IF(LEFT($C511,1)=\"*\",\"\",LogData!C504)","v":""},{"$f":"IF(LEFT($C511,1)=\"*\",\"\",LogData!F504)","v":""},{"$f":"IF(LEFT($C511,1)=\"*\",\"\",LogData!D504)","v":""},{"$f":"IF(LEFT($C511,1)=\"*\",\"\",LogData!H504)","v":""},{"$f":"IF(LEFT($C511,1)=\"*\",\"\",LogData!T504*100)","v":""}]
[{"$f":"IF($C512=\"*EOL*\",\"\",INT(LogData!V505))","v":""},{"$f":"IF($C512=\"*EOL*\",\"\",LogData!V505-A512)","v":""},{"$f":"LogData!E505","v":"*EOL*"},{"$f":"IF(LEFT($C512,1)=\"*\",\"\",LogData!C505)","v":""},{"$f":"IF(LEFT($C512,1)=\"*\",\"\",LogData!F505)","v":""},{"$f":"IF(LEFT($C512,1)=\"*\",\"\",LogData!D505)","v":""},{"$f":"IF(LEFT($C512,1)=\"*\",\"\",LogData!H505)","v":""},{"$f":"IF(LEFT($C512,1)=\"*\",\"\",LogData!T505*100)","v":""}]
[{"$f":"IF($C513=\"*EOL*\",\"\",INT(LogData!V506))","v":""},{"$f":"IF($C513=\"*EOL*\",\"\",LogData!V506-A513)","v":""},{"$f":"LogData!E506","v":"*EOL*"},{"$f":"IF(LEFT($C513,1)=\"*\",\"\",LogData!C506)","v":""},{"$f":"IF(LEFT($C513,1)=\"*\",\"\",LogData!F506)","v":""},{"$f":"IF(LEFT($C513,1)=\"*\",\"\",LogData!D506)","v":""},{"$f":"IF(LEFT($C513,1)=\"*\",\"\",LogData!H506)","v":""},{"$f":"IF(LEFT($C513,1)=\"*\",\"\",LogData!T506*100)","v":""}]
[{"$f":"IF($C514=\"*EOL*\",\"\",INT(LogData!V507))","v":""},{"$f":"IF($C514=\"*EOL*\",\"\",LogData!V507-A514)","v":""},{"$f":"LogData!E507","v":"*EOL*"},{"$f":"IF(LEFT($C514,1)=\"*\",\"\",LogData!C507)","v":""},{"$f":"IF(LEFT($C514,1)=\"*\",\"\",LogData!F507)","v":""},{"$f":"IF(LEFT($C514,1)=\"*\",\"\",LogData!D507)","v":""},{"$f":"IF(LEFT($C514,1)=\"*\",\"\",LogData!H507)","v":""},{"$f":"IF(LEFT($C514,1)=\"*\",\"\",LogData!T507*100)","v":""}]
[{"$f":"IF($C515=\"*EOL*\",\"\",INT(LogData!V508))","v":""},{"$f":"IF($C515=\"*EOL*\",\"\",LogData!V508-A515)","v":""},{"$f":"LogData!E508","v":"*EOL*"},{"$f":"IF(LEFT($C515,1)=\"*\",\"\",LogData!C508)","v":""},{"$f":"IF(LEFT($C515,1)=\"*\",\"\",LogData!F508)","v":""},{"$f":"IF(LEFT($C515,1)=\"*\",\"\",LogData!D508)","v":""},{"$f":"IF(LEFT($C515,1)=\"*\",\"\",LogData!H508)","v":""},{"$f":"IF(LEFT($C515,1)=\"*\",\"\",LogData!T508*100)","v":""}]
[{"$f":"IF($C516=\"*EOL*\",\"\",INT(LogData!V509))","v":""},{"$f":"IF($C516=\"*EOL*\",\"\",LogData!V509-A516)","v":""},{"$f":"LogData!E509","v":"*EOL*"},{"$f":"IF(LEFT($C516,1)=\"*\",\"\",LogData!C509)","v":""},{"$f":"IF(LEFT($C516,1)=\"*\",\"\",LogData!F509)","v":""},{"$f":"IF(LEFT($C516,1)=\"*\",\"\",LogData!D509)","v":""},{"$f":"IF(LEFT($C516,1)=\"*\",\"\",LogData!H509)","v":""},{"$f":"IF(LEFT($C516,1)=\"*\",\"\",LogData!T509*100)","v":""}]
[{"$f":"IF($C517=\"*EOL*\",\"\",INT(LogData!V510))","v":""},{"$f":"IF($C517=\"*EOL*\",\"\",LogData!V510-A517)","v":""},{"$f":"LogData!E510","v":"*EOL*"},{"$f":"IF(LEFT($C517,1)=\"*\",\"\",LogData!C510)","v":""},{"$f":"IF(LEFT($C517,1)=\"*\",\"\",LogData!F510)","v":""},{"$f":"IF(LEFT($C517,1)=\"*\",\"\",LogData!D510)","v":""},{"$f":"IF(LEFT($C517,1)=\"*\",\"\",LogData!H510)","v":""},{"$f":"IF(LEFT($C517,1)=\"*\",\"\",LogData!T510*100)","v":""}]
[{"$f":"IF($C518=\"*EOL*\",\"\",INT(LogData!V511))","v":""},{"$f":"IF($C518=\"*EOL*\",\"\",LogData!V511-A518)","v":""},{"$f":"LogData!E511","v":"*EOL*"},{"$f":"IF(LEFT($C518,1)=\"*\",\"\",LogData!C511)","v":""},{"$f":"IF(LEFT($C518,1)=\"*\",\"\",LogData!F511)","v":""},{"$f":"IF(LEFT($C518,1)=\"*\",\"\",LogData!D511)","v":""},{"$f":"IF(LEFT($C518,1)=\"*\",\"\",LogData!H511)","v":""},{"$f":"IF(LEFT($C518,1)=\"*\",\"\",LogData!T511*100)","v":""}]
[{"$f":"IF($C519=\"*EOL*\",\"\",INT(LogData!V512))","v":""},{"$f":"IF($C519=\"*EOL*\",\"\",LogData!V512-A519)","v":""},{"$f":"LogData!E512","v":"*EOL*"},{"$f":"IF(LEFT($C519,1)=\"*\",\"\",LogData!C512)","v":""},{"$f":"IF(LEFT($C519,1)=\"*\",\"\",LogData!F512)","v":""},{"$f":"IF(LEFT($C519,1)=\"*\",\"\",LogData!D512)","v":""},{"$f":"IF(LEFT($C519,1)=\"*\",\"\",LogData!H512)","v":""},{"$f":"IF(LEFT($C519,1)=\"*\",\"\",LogData!T512*100)","v":""}]
[{"$f":"IF($C520=\"*EOL*\",\"\",INT(LogData!V513))","v":""},{"$f":"IF($C520=\"*EOL*\",\"\",LogData!V513-A520)","v":""},{"$f":"LogData!E513","v":"*EOL*"},{"$f":"IF(LEFT($C520,1)=\"*\",\"\",LogData!C513)","v":""},{"$f":"IF(LEFT($C520,1)=\"*\",\"\",LogData!F513)","v":""},{"$f":"IF(LEFT($C520,1)=\"*\",\"\",LogData!D513)","v":""},{"$f":"IF(LEFT($C520,1)=\"*\",\"\",LogData!H513)","v":""},{"$f":"IF(LEFT($C520,1)=\"*\",\"\",LogData!T513*100)","v":""}]
[{"$f":"IF($C521=\"*EOL*\",\"\",INT(LogData!V514))","v":""},{"$f":"IF($C521=\"*EOL*\",\"\",LogData!V514-A521)","v":""},{"$f":"LogData!E514","v":"*EOL*"},{"$f":"IF(LEFT($C521,1)=\"*\",\"\",LogData!C514)","v":""},{"$f":"IF(LEFT($C521,1)=\"*\",\"\",LogData!F514)","v":""},{"$f":"IF(LEFT($C521,1)=\"*\",\"\",LogData!D514)","v":""},{"$f":"IF(LEFT($C521,1)=\"*\",\"\",LogData!H514)","v":""},{"$f":"IF(LEFT($C521,1)=\"*\",\"\",LogData!T514*100)","v":""}]
[{"$f":"IF($C522=\"*EOL*\",\"\",INT(LogData!V515))","v":""},{"$f":"IF($C522=\"*EOL*\",\"\",LogData!V515-A522)","v":""},{"$f":"LogData!E515","v":"*EOL*"},{"$f":"IF(LEFT($C522,1)=\"*\",\"\",LogData!C515)","v":""},{"$f":"IF(LEFT($C522,1)=\"*\",\"\",LogData!F515)","v":""},{"$f":"IF(LEFT($C522,1)=\"*\",\"\",LogData!D515)","v":""},{"$f":"IF(LEFT($C522,1)=\"*\",\"\",LogData!H515)","v":""},{"$f":"IF(LEFT($C522,1)=\"*\",\"\",LogData!T515*100)","v":""}]
[{"$f":"IF($C523=\"*EOL*\",\"\",INT(LogData!V516))","v":""},{"$f":"IF($C523=\"*EOL*\",\"\",LogData!V516-A523)","v":""},{"$f":"LogData!E516","v":"*EOL*"},{"$f":"IF(LEFT($C523,1)=\"*\",\"\",LogData!C516)","v":""},{"$f":"IF(LEFT($C523,1)=\"*\",\"\",LogData!F516)","v":""},{"$f":"IF(LEFT($C523,1)=\"*\",\"\",LogData!D516)","v":""},{"$f":"IF(LEFT($C523,1)=\"*\",\"\",LogData!H516)","v":""},{"$f":"IF(LEFT($C523,1)=\"*\",\"\",LogData!T516*100)","v":""}]
[{"$f":"IF($C524=\"*EOL*\",\"\",INT(LogData!V517))","v":""},{"$f":"IF($C524=\"*EOL*\",\"\",LogData!V517-A524)","v":""},{"$f":"LogData!E517","v":"*EOL*"},{"$f":"IF(LEFT($C524,1)=\"*\",\"\",LogData!C517)","v":""},{"$f":"IF(LEFT($C524,1)=\"*\",\"\",LogData!F517)","v":""},{"$f":"IF(LEFT($C524,1)=\"*\",\"\",LogData!D517)","v":""},{"$f":"IF(LEFT($C524,1)=\"*\",\"\",LogData!H517)","v":""},{"$f":"IF(LEFT($C524,1)=\"*\",\"\",LogData!T517*100)","v":""}]
[{"$f":"IF($C525=\"*EOL*\",\"\",INT(LogData!V518))","v":""},{"$f":"IF($C525=\"*EOL*\",\"\",LogData!V518-A525)","v":""},{"$f":"LogData!E518","v":"*EOL*"},{"$f":"IF(LEFT($C525,1)=\"*\",\"\",LogData!C518)","v":""},{"$f":"IF(LEFT($C525,1)=\"*\",\"\",LogData!F518)","v":""},{"$f":"IF(LEFT($C525,1)=\"*\",\"\",LogData!D518)","v":""},{"$f":"IF(LEFT($C525,1)=\"*\",\"\",LogData!H518)","v":""},{"$f":"IF(LEFT($C525,1)=\"*\",\"\",LogData!T518*100)","v":""}]
[{"$f":"IF($C526=\"*EOL*\",\"\",INT(LogData!V519))","v":""},{"$f":"IF($C526=\"*EOL*\",\"\",LogData!V519-A526)","v":""},{"$f":"LogData!E519","v":"*EOL*"},{"$f":"IF(LEFT($C526,1)=\"*\",\"\",LogData!C519)","v":""},{"$f":"IF(LEFT($C526,1)=\"*\",\"\",LogData!F519)","v":""},{"$f":"IF(LEFT($C526,1)=\"*\",\"\",LogData!D519)","v":""},{"$f":"IF(LEFT($C526,1)=\"*\",\"\",LogData!H519)","v":""},{"$f":"IF(LEFT($C526,1)=\"*\",\"\",LogData!T519*100)","v":""}]
[{"$f":"IF($C527=\"*EOL*\",\"\",INT(LogData!V520))","v":""},{"$f":"IF($C527=\"*EOL*\",\"\",LogData!V520-A527)","v":""},{"$f":"LogData!E520","v":"*EOL*"},{"$f":"IF(LEFT($C527,1)=\"*\",\"\",LogData!C520)","v":""},{"$f":"IF(LEFT($C527,1)=\"*\",\"\",LogData!F520)","v":""},{"$f":"IF(LEFT($C527,1)=\"*\",\"\",LogData!D520)","v":""},{"$f":"IF(LEFT($C527,1)=\"*\",\"\",LogData!H520)","v":""},{"$f":"IF(LEFT($C527,1)=\"*\",\"\",LogData!T520*100)","v":""}]
[{"$f":"IF($C528=\"*EOL*\",\"\",INT(LogData!V521))","v":""},{"$f":"IF($C528=\"*EOL*\",\"\",LogData!V521-A528)","v":""},{"$f":"LogData!E521","v":"*EOL*"},{"$f":"IF(LEFT($C528,1)=\"*\",\"\",LogData!C521)","v":""},{"$f":"IF(LEFT($C528,1)=\"*\",\"\",LogData!F521)","v":""},{"$f":"IF(LEFT($C528,1)=\"*\",\"\",LogData!D521)","v":""},{"$f":"IF(LEFT($C528,1)=\"*\",\"\",LogData!H521)","v":""},{"$f":"IF(LEFT($C528,1)=\"*\",\"\",LogData!T521*100)","v":""}]
[{"$f":"IF($C529=\"*EOL*\",\"\",INT(LogData!V522))","v":""},{"$f":"IF($C529=\"*EOL*\",\"\",LogData!V522-A529)","v":""},{"$f":"LogData!E522","v":"*EOL*"},{"$f":"IF(LEFT($C529,1)=\"*\",\"\",LogData!C522)","v":""},{"$f":"IF(LEFT($C529,1)=\"*\",\"\",LogData!F522)","v":""},{"$f":"IF(LEFT($C529,1)=\"*\",\"\",LogData!D522)","v":""},{"$f":"IF(LEFT($C529,1)=\"*\",\"\",LogData!H522)","v":""},{"$f":"IF(LEFT($C529,1)=\"*\",\"\",LogData!T522*100)","v":""}]
[{"$f":"IF($C530=\"*EOL*\",\"\",INT(LogData!V523))","v":""},{"$f":"IF($C530=\"*EOL*\",\"\",LogData!V523-A530)","v":""},{"$f":"LogData!E523","v":"*EOL*"},{"$f":"IF(LEFT($C530,1)=\"*\",\"\",LogData!C523)","v":""},{"$f":"IF(LEFT($C530,1)=\"*\",\"\",LogData!F523)","v":""},{"$f":"IF(LEFT($C530,1)=\"*\",\"\",LogData!D523)","v":""},{"$f":"IF(LEFT($C530,1)=\"*\",\"\",LogData!H523)","v":""},{"$f":"IF(LEFT($C530,1)=\"*\",\"\",LogData!T523*100)","v":""}]
[{"$f":"IF($C531=\"*EOL*\",\"\",INT(LogData!V524))","v":""},{"$f":"IF($C531=\"*EOL*\",\"\",LogData!V524-A531)","v":""},{"$f":"LogData!E524","v":"*EOL*"},{"$f":"IF(LEFT($C531,1)=\"*\",\"\",LogData!C524)","v":""},{"$f":"IF(LEFT($C531,1)=\"*\",\"\",LogData!F524)","v":""},{"$f":"IF(LEFT($C531,1)=\"*\",\"\",LogData!D524)","v":""},{"$f":"IF(LEFT($C531,1)=\"*\",\"\",LogData!H524)","v":""},{"$f":"IF(LEFT($C531,1)=\"*\",\"\",LogData!T524*100)","v":""}]
[{"$f":"IF($C532=\"*EOL*\",\"\",INT(LogData!V525))","v":""},{"$f":"IF($C532=\"*EOL*\",\"\",LogData!V525-A532)","v":""},{"$f":"LogData!E525","v":"*EOL*"},{"$f":"IF(LEFT($C532,1)=\"*\",\"\",LogData!C525)","v":""},{"$f":"IF(LEFT($C532,1)=\"*\",\"\",LogData!F525)","v":""},{"$f":"IF(LEFT($C532,1)=\"*\",\"\",LogData!D525)","v":""},{"$f":"IF(LEFT($C532,1)=\"*\",\"\",LogData!H525)","v":""},{"$f":"IF(LEFT($C532,1)=\"*\",\"\",LogData!T525*100)","v":""}]
[{"$f":"IF($C533=\"*EOL*\",\"\",INT(LogData!V526))","v":""},{"$f":"IF($C533=\"*EOL*\",\"\",LogData!V526-A533)","v":""},{"$f":"LogData!E526","v":"*EOL*"},{"$f":"IF(LEFT($C533,1)=\"*\",\"\",LogData!C526)","v":""},{"$f":"IF(LEFT($C533,1)=\"*\",\"\",LogData!F526)","v":""},{"$f":"IF(LEFT($C533,1)=\"*\",\"\",LogData!D526)","v":""},{"$f":"IF(LEFT($C533,1)=\"*\",\"\",LogData!H526)","v":""},{"$f":"IF(LEFT($C533,1)=\"*\",\"\",LogData!T526*100)","v":""}]
[{"$f":"IF($C534=\"*EOL*\",\"\",INT(LogData!V527))","v":""},{"$f":"IF($C534=\"*EOL*\",\"\",LogData!V527-A534)","v":""},{"$f":"LogData!E527","v":"*EOL*"},{"$f":"IF(LEFT($C534,1)=\"*\",\"\",LogData!C527)","v":""},{"$f":"IF(LEFT($C534,1)=\"*\",\"\",LogData!F527)","v":""},{"$f":"IF(LEFT($C534,1)=\"*\",\"\",LogData!D527)","v":""},{"$f":"IF(LEFT($C534,1)=\"*\",\"\",LogData!H527)","v":""},{"$f":"IF(LEFT($C534,1)=\"*\",\"\",LogData!T527*100)","v":""}]
[{"$f":"IF($C535=\"*EOL*\",\"\",INT(LogData!V528))","v":""},{"$f":"IF($C535=\"*EOL*\",\"\",LogData!V528-A535)","v":""},{"$f":"LogData!E528","v":"*EOL*"},{"$f":"IF(LEFT($C535,1)=\"*\",\"\",LogData!C528)","v":""},{"$f":"IF(LEFT($C535,1)=\"*\",\"\",LogData!F528)","v":""},{"$f":"IF(LEFT($C535,1)=\"*\",\"\",LogData!D528)","v":""},{"$f":"IF(LEFT($C535,1)=\"*\",\"\",LogData!H528)","v":""},{"$f":"IF(LEFT($C535,1)=\"*\",\"\",LogData!T528*100)","v":""}]
[{"$f":"IF($C536=\"*EOL*\",\"\",INT(LogData!V529))","v":""},{"$f":"IF($C536=\"*EOL*\",\"\",LogData!V529-A536)","v":""},{"$f":"LogData!E529","v":"*EOL*"},{"$f":"IF(LEFT($C536,1)=\"*\",\"\",LogData!C529)","v":""},{"$f":"IF(LEFT($C536,1)=\"*\",\"\",LogData!F529)","v":""},{"$f":"IF(LEFT($C536,1)=\"*\",\"\",LogData!D529)","v":""},{"$f":"IF(LEFT($C536,1)=\"*\",\"\",LogData!H529)","v":""},{"$f":"IF(LEFT($C536,1)=\"*\",\"\",LogData!T529*100)","v":""}]
[{"$f":"IF($C537=\"*EOL*\",\"\",INT(LogData!V530))","v":""},{"$f":"IF($C537=\"*EOL*\",\"\",LogData!V530-A537)","v":""},{"$f":"LogData!E530","v":"*EOL*"},{"$f":"IF(LEFT($C537,1)=\"*\",\"\",LogData!C530)","v":""},{"$f":"IF(LEFT($C537,1)=\"*\",\"\",LogData!F530)","v":""},{"$f":"IF(LEFT($C537,1)=\"*\",\"\",LogData!D530)","v":""},{"$f":"IF(LEFT($C537,1)=\"*\",\"\",LogData!H530)","v":""},{"$f":"IF(LEFT($C537,1)=\"*\",\"\",LogData!T530*100)","v":""}]
[{"$f":"IF($C538=\"*EOL*\",\"\",INT(LogData!V531))","v":""},{"$f":"IF($C538=\"*EOL*\",\"\",LogData!V531-A538)","v":""},{"$f":"LogData!E531","v":"*EOL*"},{"$f":"IF(LEFT($C538,1)=\"*\",\"\",LogData!C531)","v":""},{"$f":"IF(LEFT($C538,1)=\"*\",\"\",LogData!F531)","v":""},{"$f":"IF(LEFT($C538,1)=\"*\",\"\",LogData!D531)","v":""},{"$f":"IF(LEFT($C538,1)=\"*\",\"\",LogData!H531)","v":""},{"$f":"IF(LEFT($C538,1)=\"*\",\"\",LogData!T531*100)","v":""}]
[{"$f":"IF($C539=\"*EOL*\",\"\",INT(LogData!V532))","v":""},{"$f":"IF($C539=\"*EOL*\",\"\",LogData!V532-A539)","v":""},{"$f":"LogData!E532","v":"*EOL*"},{"$f":"IF(LEFT($C539,1)=\"*\",\"\",LogData!C532)","v":""},{"$f":"IF(LEFT($C539,1)=\"*\",\"\",LogData!F532)","v":""},{"$f":"IF(LEFT($C539,1)=\"*\",\"\",LogData!D532)","v":""},{"$f":"IF(LEFT($C539,1)=\"*\",\"\",LogData!H532)","v":""},{"$f":"IF(LEFT($C539,1)=\"*\",\"\",LogData!T532*100)","v":""}]
[{"$f":"IF($C540=\"*EOL*\",\"\",INT(LogData!V533))","v":""},{"$f":"IF($C540=\"*EOL*\",\"\",LogData!V533-A540)","v":""},{"$f":"LogData!E533","v":"*EOL*"},{"$f":"IF(LEFT($C540,1)=\"*\",\"\",LogData!C533)","v":""},{"$f":"IF(LEFT($C540,1)=\"*\",\"\",LogData!F533)","v":""},{"$f":"IF(LEFT($C540,1)=\"*\",\"\",LogData!D533)","v":""},{"$f":"IF(LEFT($C540,1)=\"*\",\"\",LogData!H533)","v":""},{"$f":"IF(LEFT($C540,1)=\"*\",\"\",LogData!T533*100)","v":""}]
[{"$f":"IF($C541=\"*EOL*\",\"\",INT(LogData!V534))","v":""},{"$f":"IF($C541=\"*EOL*\",\"\",LogData!V534-A541)","v":""},{"$f":"LogData!E534","v":"*EOL*"},{"$f":"IF(LEFT($C541,1)=\"*\",\"\",LogData!C534)","v":""},{"$f":"IF(LEFT($C541,1)=\"*\",\"\",LogData!F534)","v":""},{"$f":"IF(LEFT($C541,1)=\"*\",\"\",LogData!D534)","v":""},{"$f":"IF(LEFT($C541,1)=\"*\",\"\",LogData!H534)","v":""},{"$f":"IF(LEFT($C541,1)=\"*\",\"\",LogData!T534*100)","v":""}]
[{"$f":"IF($C542=\"*EOL*\",\"\",INT(LogData!V535))","v":""},{"$f":"IF($C542=\"*EOL*\",\"\",LogData!V535-A542)","v":""},{"$f":"LogData!E535","v":"*EOL*"},{"$f":"IF(LEFT($C542,1)=\"*\",\"\",LogData!C535)","v":""},{"$f":"IF(LEFT($C542,1)=\"*\",\"\",LogData!F535)","v":""},{"$f":"IF(LEFT($C542,1)=\"*\",\"\",LogData!D535)","v":""},{"$f":"IF(LEFT($C542,1)=\"*\",\"\",LogData!H535)","v":""},{"$f":"IF(LEFT($C542,1)=\"*\",\"\",LogData!T535*100)","v":""}]
[{"$f":"IF($C543=\"*EOL*\",\"\",INT(LogData!V536))","v":""},{"$f":"IF($C543=\"*EOL*\",\"\",LogData!V536-A543)","v":""},{"$f":"LogData!E536","v":"*EOL*"},{"$f":"IF(LEFT($C543,1)=\"*\",\"\",LogData!C536)","v":""},{"$f":"IF(LEFT($C543,1)=\"*\",\"\",LogData!F536)","v":""},{"$f":"IF(LEFT($C543,1)=\"*\",\"\",LogData!D536)","v":""},{"$f":"IF(LEFT($C543,1)=\"*\",\"\",LogData!H536)","v":""},{"$f":"IF(LEFT($C543,1)=\"*\",\"\",LogData!T536*100)","v":""}]
[{"$f":"IF($C544=\"*EOL*\",\"\",INT(LogData!V537))","v":""},{"$f":"IF($C544=\"*EOL*\",\"\",LogData!V537-A544)","v":""},{"$f":"LogData!E537","v":"*EOL*"},{"$f":"IF(LEFT($C544,1)=\"*\",\"\",LogData!C537)","v":""},{"$f":"IF(LEFT($C544,1)=\"*\",\"\",LogData!F537)","v":""},{"$f":"IF(LEFT($C544,1)=\"*\",\"\",LogData!D537)","v":""},{"$f":"IF(LEFT($C544,1)=\"*\",\"\",LogData!H537)","v":""},{"$f":"IF(LEFT($C544,1)=\"*\",\"\",LogData!T537*100)","v":""}]
[{"$f":"IF($C545=\"*EOL*\",\"\",INT(LogData!V538))","v":""},{"$f":"IF($C545=\"*EOL*\",\"\",LogData!V538-A545)","v":""},{"$f":"LogData!E538","v":"*EOL*"},{"$f":"IF(LEFT($C545,1)=\"*\",\"\",LogData!C538)","v":""},{"$f":"IF(LEFT($C545,1)=\"*\",\"\",LogData!F538)","v":""},{"$f":"IF(LEFT($C545,1)=\"*\",\"\",LogData!D538)","v":""},{"$f":"IF(LEFT($C545,1)=\"*\",\"\",LogData!H538)","v":""},{"$f":"IF(LEFT($C545,1)=\"*\",\"\",LogData!T538*100)","v":""}]
[{"$f":"IF($C546=\"*EOL*\",\"\",INT(LogData!V539))","v":""},{"$f":"IF($C546=\"*EOL*\",\"\",LogData!V539-A546)","v":""},{"$f":"LogData!E539","v":"*EOL*"},{"$f":"IF(LEFT($C546,1)=\"*\",\"\",LogData!C539)","v":""},{"$f":"IF(LEFT($C546,1)=\"*\",\"\",LogData!F539)","v":""},{"$f":"IF(LEFT($C546,1)=\"*\",\"\",LogData!D539)","v":""},{"$f":"IF(LEFT($C546,1)=\"*\",\"\",LogData!H539)","v":""},{"$f":"IF(LEFT($C546,1)=\"*\",\"\",LogData!T539*100)","v":""}]
[{"$f":"IF($C547=\"*EOL*\",\"\",INT(LogData!V540))","v":""},{"$f":"IF($C547=\"*EOL*\",\"\",LogData!V540-A547)","v":""},{"$f":"LogData!E540","v":"*EOL*"},{"$f":"IF(LEFT($C547,1)=\"*\",\"\",LogData!C540)","v":""},{"$f":"IF(LEFT($C547,1)=\"*\",\"\",LogData!F540)","v":""},{"$f":"IF(LEFT($C547,1)=\"*\",\"\",LogData!D540)","v":""},{"$f":"IF(LEFT($C547,1)=\"*\",\"\",LogData!H540)","v":""},{"$f":"IF(LEFT($C547,1)=\"*\",\"\",LogData!T540*100)","v":""}]
[{"$f":"IF($C548=\"*EOL*\",\"\",INT(LogData!V541))","v":""},{"$f":"IF($C548=\"*EOL*\",\"\",LogData!V541-A548)","v":""},{"$f":"LogData!E541","v":"*EOL*"},{"$f":"IF(LEFT($C548,1)=\"*\",\"\",LogData!C541)","v":""},{"$f":"IF(LEFT($C548,1)=\"*\",\"\",LogData!F541)","v":""},{"$f":"IF(LEFT($C548,1)=\"*\",\"\",LogData!D541)","v":""},{"$f":"IF(LEFT($C548,1)=\"*\",\"\",LogData!H541)","v":""},{"$f":"IF(LEFT($C548,1)=\"*\",\"\",LogData!T541*100)","v":""}]
[{"$f":"IF($C549=\"*EOL*\",\"\",INT(LogData!V542))","v":""},{"$f":"IF($C549=\"*EOL*\",\"\",LogData!V542-A549)","v":""},{"$f":"LogData!E542","v":"*EOL*"},{"$f":"IF(LEFT($C549,1)=\"*\",\"\",LogData!C542)","v":""},{"$f":"IF(LEFT($C549,1)=\"*\",\"\",LogData!F542)","v":""},{"$f":"IF(LEFT($C549,1)=\"*\",\"\",LogData!D542)","v":""},{"$f":"IF(LEFT($C549,1)=\"*\",\"\",LogData!H542)","v":""},{"$f":"IF(LEFT($C549,1)=\"*\",\"\",LogData!T542*100)","v":""}]
[{"$f":"IF($C550=\"*EOL*\",\"\",INT(LogData!V543))","v":""},{"$f":"IF($C550=\"*EOL*\",\"\",LogData!V543-A550)","v":""},{"$f":"LogData!E543","v":"*EOL*"},{"$f":"IF(LEFT($C550,1)=\"*\",\"\",LogData!C543)","v":""},{"$f":"IF(LEFT($C550,1)=\"*\",\"\",LogData!F543)","v":""},{"$f":"IF(LEFT($C550,1)=\"*\",\"\",LogData!D543)","v":""},{"$f":"IF(LEFT($C550,1)=\"*\",\"\",LogData!H543)","v":""},{"$f":"IF(LEFT($C550,1)=\"*\",\"\",LogData!T543*100)","v":""}]
[{"$f":"IF($C551=\"*EOL*\",\"\",INT(LogData!V544))","v":""},{"$f":"IF($C551=\"*EOL*\",\"\",LogData!V544-A551)","v":""},{"$f":"LogData!E544","v":"*EOL*"},{"$f":"IF(LEFT($C551,1)=\"*\",\"\",LogData!C544)","v":""},{"$f":"IF(LEFT($C551,1)=\"*\",\"\",LogData!F544)","v":""},{"$f":"IF(LEFT($C551,1)=\"*\",\"\",LogData!D544)","v":""},{"$f":"IF(LEFT($C551,1)=\"*\",\"\",LogData!H544)","v":""},{"$f":"IF(LEFT($C551,1)=\"*\",\"\",LogData!T544*100)","v":""}]
[{"$f":"IF($C552=\"*EOL*\",\"\",INT(LogData!V545))","v":""},{"$f":"IF($C552=\"*EOL*\",\"\",LogData!V545-A552)","v":""},{"$f":"LogData!E545","v":"*EOL*"},{"$f":"IF(LEFT($C552,1)=\"*\",\"\",LogData!C545)","v":""},{"$f":"IF(LEFT($C552,1)=\"*\",\"\",LogData!F545)","v":""},{"$f":"IF(LEFT($C552,1)=\"*\",\"\",LogData!D545)","v":""},{"$f":"IF(LEFT($C552,1)=\"*\",\"\",LogData!H545)","v":""},{"$f":"IF(LEFT($C552,1)=\"*\",\"\",LogData!T545*100)","v":""}]
[{"$f":"IF($C553=\"*EOL*\",\"\",INT(LogData!V546))","v":""},{"$f":"IF($C553=\"*EOL*\",\"\",LogData!V546-A553)","v":""},{"$f":"LogData!E546","v":"*EOL*"},{"$f":"IF(LEFT($C553,1)=\"*\",\"\",LogData!C546)","v":""},{"$f":"IF(LEFT($C553,1)=\"*\",\"\",LogData!F546)","v":""},{"$f":"IF(LEFT($C553,1)=\"*\",\"\",LogData!D546)","v":""},{"$f":"IF(LEFT($C553,1)=\"*\",\"\",LogData!H546)","v":""},{"$f":"IF(LEFT($C553,1)=\"*\",\"\",LogData!T546*100)","v":""}]
[{"$f":"IF($C554=\"*EOL*\",\"\",INT(LogData!V547))","v":""},{"$f":"IF($C554=\"*EOL*\",\"\",LogData!V547-A554)","v":""},{"$f":"LogData!E547","v":"*EOL*"},{"$f":"IF(LEFT($C554,1)=\"*\",\"\",LogData!C547)","v":""},{"$f":"IF(LEFT($C554,1)=\"*\",\"\",LogData!F547)","v":""},{"$f":"IF(LEFT($C554,1)=\"*\",\"\",LogData!D547)","v":""},{"$f":"IF(LEFT($C554,1)=\"*\",\"\",LogData!H547)","v":""},{"$f":"IF(LEFT($C554,1)=\"*\",\"\",LogData!T547*100)","v":""}]
[{"$f":"IF($C555=\"*EOL*\",\"\",INT(LogData!V548))","v":""},{"$f":"IF($C555=\"*EOL*\",\"\",LogData!V548-A555)","v":""},{"$f":"LogData!E548","v":"*EOL*"},{"$f":"IF(LEFT($C555,1)=\"*\",\"\",LogData!C548)","v":""},{"$f":"IF(LEFT($C555,1)=\"*\",\"\",LogData!F548)","v":""},{"$f":"IF(LEFT($C555,1)=\"*\",\"\",LogData!D548)","v":""},{"$f":"IF(LEFT($C555,1)=\"*\",\"\",LogData!H548)","v":""},{"$f":"IF(LEFT($C555,1)=\"*\",\"\",LogData!T548*100)","v":""}]
[{"$f":"IF($C556=\"*EOL*\",\"\",INT(LogData!V549))","v":""},{"$f":"IF($C556=\"*EOL*\",\"\",LogData!V549-A556)","v":""},{"$f":"LogData!E549","v":"*EOL*"},{"$f":"IF(LEFT($C556,1)=\"*\",\"\",LogData!C549)","v":""},{"$f":"IF(LEFT($C556,1)=\"*\",\"\",LogData!F549)","v":""},{"$f":"IF(LEFT($C556,1)=\"*\",\"\",LogData!D549)","v":""},{"$f":"IF(LEFT($C556,1)=\"*\",\"\",LogData!H549)","v":""},{"$f":"IF(LEFT($C556,1)=\"*\",\"\",LogData!T549*100)","v":""}]
[{"$f":"IF($C557=\"*EOL*\",\"\",INT(LogData!V550))","v":""},{"$f":"IF($C557=\"*EOL*\",\"\",LogData!V550-A557)","v":""},{"$f":"LogData!E550","v":"*EOL*"},{"$f":"IF(LEFT($C557,1)=\"*\",\"\",LogData!C550)","v":""},{"$f":"IF(LEFT($C557,1)=\"*\",\"\",LogData!F550)","v":""},{"$f":"IF(LEFT($C557,1)=\"*\",\"\",LogData!D550)","v":""},{"$f":"IF(LEFT($C557,1)=\"*\",\"\",LogData!H550)","v":""},{"$f":"IF(LEFT($C557,1)=\"*\",\"\",LogData!T550*100)","v":""}]
[{"$f":"IF($C558=\"*EOL*\",\"\",INT(LogData!V551))","v":""},{"$f":"IF($C558=\"*EOL*\",\"\",LogData!V551-A558)","v":""},{"$f":"LogData!E551","v":"*EOL*"},{"$f":"IF(LEFT($C558,1)=\"*\",\"\",LogData!C551)","v":""},{"$f":"IF(LEFT($C558,1)=\"*\",\"\",LogData!F551)","v":""},{"$f":"IF(LEFT($C558,1)=\"*\",\"\",LogData!D551)","v":""},{"$f":"IF(LEFT($C558,1)=\"*\",\"\",LogData!H551)","v":""},{"$f":"IF(LEFT($C558,1)=\"*\",\"\",LogData!T551*100)","v":""}]
[{"$f":"IF($C559=\"*EOL*\",\"\",INT(LogData!V552))","v":""},{"$f":"IF($C559=\"*EOL*\",\"\",LogData!V552-A559)","v":""},{"$f":"LogData!E552","v":"*EOL*"},{"$f":"IF(LEFT($C559,1)=\"*\",\"\",LogData!C552)","v":""},{"$f":"IF(LEFT($C559,1)=\"*\",\"\",LogData!F552)","v":""},{"$f":"IF(LEFT($C559,1)=\"*\",\"\",LogData!D552)","v":""},{"$f":"IF(LEFT($C559,1)=\"*\",\"\",LogData!H552)","v":""},{"$f":"IF(LEFT($C559,1)=\"*\",\"\",LogData!T552*100)","v":""}]
[{"$f":"IF($C560=\"*EOL*\",\"\",INT(LogData!V553))","v":""},{"$f":"IF($C560=\"*EOL*\",\"\",LogData!V553-A560)","v":""},{"$f":"LogData!E553","v":"*EOL*"},{"$f":"IF(LEFT($C560,1)=\"*\",\"\",LogData!C553)","v":""},{"$f":"IF(LEFT($C560,1)=\"*\",\"\",LogData!F553)","v":""},{"$f":"IF(LEFT($C560,1)=\"*\",\"\",LogData!D553)","v":""},{"$f":"IF(LEFT($C560,1)=\"*\",\"\",LogData!H553)","v":""},{"$f":"IF(LEFT($C560,1)=\"*\",\"\",LogData!T553*100)","v":""}]
[{"$f":"IF($C561=\"*EOL*\",\"\",INT(LogData!V554))","v":""},{"$f":"IF($C561=\"*EOL*\",\"\",LogData!V554-A561)","v":""},{"$f":"LogData!E554","v":"*EOL*"},{"$f":"IF(LEFT($C561,1)=\"*\",\"\",LogData!C554)","v":""},{"$f":"IF(LEFT($C561,1)=\"*\",\"\",LogData!F554)","v":""},{"$f":"IF(LEFT($C561,1)=\"*\",\"\",LogData!D554)","v":""},{"$f":"IF(LEFT($C561,1)=\"*\",\"\",LogData!H554)","v":""},{"$f":"IF(LEFT($C561,1)=\"*\",\"\",LogData!T554*100)","v":""}]
[{"$f":"IF($C562=\"*EOL*\",\"\",INT(LogData!V555))","v":""},{"$f":"IF($C562=\"*EOL*\",\"\",LogData!V555-A562)","v":""},{"$f":"LogData!E555","v":"*EOL*"},{"$f":"IF(LEFT($C562,1)=\"*\",\"\",LogData!C555)","v":""},{"$f":"IF(LEFT($C562,1)=\"*\",\"\",LogData!F555)","v":""},{"$f":"IF(LEFT($C562,1)=\"*\",\"\",LogData!D555)","v":""},{"$f":"IF(LEFT($C562,1)=\"*\",\"\",LogData!H555)","v":""},{"$f":"IF(LEFT($C562,1)=\"*\",\"\",LogData!T555*100)","v":""}]
[{"$f":"IF($C563=\"*EOL*\",\"\",INT(LogData!V556))","v":""},{"$f":"IF($C563=\"*EOL*\",\"\",LogData!V556-A563)","v":""},{"$f":"LogData!E556","v":"*EOL*"},{"$f":"IF(LEFT($C563,1)=\"*\",\"\",LogData!C556)","v":""},{"$f":"IF(LEFT($C563,1)=\"*\",\"\",LogData!F556)","v":""},{"$f":"IF(LEFT($C563,1)=\"*\",\"\",LogData!D556)","v":""},{"$f":"IF(LEFT($C563,1)=\"*\",\"\",LogData!H556)","v":""},{"$f":"IF(LEFT($C563,1)=\"*\",\"\",LogData!T556*100)","v":""}]
[{"$f":"IF($C564=\"*EOL*\",\"\",INT(LogData!V557))","v":""},{"$f":"IF($C564=\"*EOL*\",\"\",LogData!V557-A564)","v":""},{"$f":"LogData!E557","v":"*EOL*"},{"$f":"IF(LEFT($C564,1)=\"*\",\"\",LogData!C557)","v":""},{"$f":"IF(LEFT($C564,1)=\"*\",\"\",LogData!F557)","v":""},{"$f":"IF(LEFT($C564,1)=\"*\",\"\",LogData!D557)","v":""},{"$f":"IF(LEFT($C564,1)=\"*\",\"\",LogData!H557)","v":""},{"$f":"IF(LEFT($C564,1)=\"*\",\"\",LogData!T557*100)","v":""}]
[{"$f":"IF($C565=\"*EOL*\",\"\",INT(LogData!V558))","v":""},{"$f":"IF($C565=\"*EOL*\",\"\",LogData!V558-A565)","v":""},{"$f":"LogData!E558","v":"*EOL*"},{"$f":"IF(LEFT($C565,1)=\"*\",\"\",LogData!C558)","v":""},{"$f":"IF(LEFT($C565,1)=\"*\",\"\",LogData!F558)","v":""},{"$f":"IF(LEFT($C565,1)=\"*\",\"\",LogData!D558)","v":""},{"$f":"IF(LEFT($C565,1)=\"*\",\"\",LogData!H558)","v":""},{"$f":"IF(LEFT($C565,1)=\"*\",\"\",LogData!T558*100)","v":""}]
[{"$f":"IF($C566=\"*EOL*\",\"\",INT(LogData!V559))","v":""},{"$f":"IF($C566=\"*EOL*\",\"\",LogData!V559-A566)","v":""},{"$f":"LogData!E559","v":"*EOL*"},{"$f":"IF(LEFT($C566,1)=\"*\",\"\",LogData!C559)","v":""},{"$f":"IF(LEFT($C566,1)=\"*\",\"\",LogData!F559)","v":""},{"$f":"IF(LEFT($C566,1)=\"*\",\"\",LogData!D559)","v":""},{"$f":"IF(LEFT($C566,1)=\"*\",\"\",LogData!H559)","v":""},{"$f":"IF(LEFT($C566,1)=\"*\",\"\",LogData!T559*100)","v":""}]
[{"$f":"IF($C567=\"*EOL*\",\"\",INT(LogData!V560))","v":""},{"$f":"IF($C567=\"*EOL*\",\"\",LogData!V560-A567)","v":""},{"$f":"LogData!E560","v":"*EOL*"},{"$f":"IF(LEFT($C567,1)=\"*\",\"\",LogData!C560)","v":""},{"$f":"IF(LEFT($C567,1)=\"*\",\"\",LogData!F560)","v":""},{"$f":"IF(LEFT($C567,1)=\"*\",\"\",LogData!D560)","v":""},{"$f":"IF(LEFT($C567,1)=\"*\",\"\",LogData!H560)","v":""},{"$f":"IF(LEFT($C567,1)=\"*\",\"\",LogData!T560*100)","v":""}]
[{"$f":"IF($C568=\"*EOL*\",\"\",INT(LogData!V561))","v":""},{"$f":"IF($C568=\"*EOL*\",\"\",LogData!V561-A568)","v":""},{"$f":"LogData!E561","v":"*EOL*"},{"$f":"IF(LEFT($C568,1)=\"*\",\"\",LogData!C561)","v":""},{"$f":"IF(LEFT($C568,1)=\"*\",\"\",LogData!F561)","v":""},{"$f":"IF(LEFT($C568,1)=\"*\",\"\",LogData!D561)","v":""},{"$f":"IF(LEFT($C568,1)=\"*\",\"\",LogData!H561)","v":""},{"$f":"IF(LEFT($C568,1)=\"*\",\"\",LogData!T561*100)","v":""}]
[{"$f":"IF($C569=\"*EOL*\",\"\",INT(LogData!V562))","v":""},{"$f":"IF($C569=\"*EOL*\",\"\",LogData!V562-A569)","v":""},{"$f":"LogData!E562","v":"*EOL*"},{"$f":"IF(LEFT($C569,1)=\"*\",\"\",LogData!C562)","v":""},{"$f":"IF(LEFT($C569,1)=\"*\",\"\",LogData!F562)","v":""},{"$f":"IF(LEFT($C569,1)=\"*\",\"\",LogData!D562)","v":""},{"$f":"IF(LEFT($C569,1)=\"*\",\"\",LogData!H562)","v":""},{"$f":"IF(LEFT($C569,1)=\"*\",\"\",LogData!T562*100)","v":""}]
[{"$f":"IF($C570=\"*EOL*\",\"\",INT(LogData!V563))","v":""},{"$f":"IF($C570=\"*EOL*\",\"\",LogData!V563-A570)","v":""},{"$f":"LogData!E563","v":"*EOL*"},{"$f":"IF(LEFT($C570,1)=\"*\",\"\",LogData!C563)","v":""},{"$f":"IF(LEFT($C570,1)=\"*\",\"\",LogData!F563)","v":""},{"$f":"IF(LEFT($C570,1)=\"*\",\"\",LogData!D563)","v":""},{"$f":"IF(LEFT($C570,1)=\"*\",\"\",LogData!H563)","v":""},{"$f":"IF(LEFT($C570,1)=\"*\",\"\",LogData!T563*100)","v":""}]
[{"$f":"IF($C571=\"*EOL*\",\"\",INT(LogData!V564))","v":""},{"$f":"IF($C571=\"*EOL*\",\"\",LogData!V564-A571)","v":""},{"$f":"LogData!E564","v":"*EOL*"},{"$f":"IF(LEFT($C571,1)=\"*\",\"\",LogData!C564)","v":""},{"$f":"IF(LEFT($C571,1)=\"*\",\"\",LogData!F564)","v":""},{"$f":"IF(LEFT($C571,1)=\"*\",\"\",LogData!D564)","v":""},{"$f":"IF(LEFT($C571,1)=\"*\",\"\",LogData!H564)","v":""},{"$f":"IF(LEFT($C571,1)=\"*\",\"\",LogData!T564*100)","v":""}]
[{"$f":"IF($C572=\"*EOL*\",\"\",INT(LogData!V565))","v":""},{"$f":"IF($C572=\"*EOL*\",\"\",LogData!V565-A572)","v":""},{"$f":"LogData!E565","v":"*EOL*"},{"$f":"IF(LEFT($C572,1)=\"*\",\"\",LogData!C565)","v":""},{"$f":"IF(LEFT($C572,1)=\"*\",\"\",LogData!F565)","v":""},{"$f":"IF(LEFT($C572,1)=\"*\",\"\",LogData!D565)","v":""},{"$f":"IF(LEFT($C572,1)=\"*\",\"\",LogData!H565)","v":""},{"$f":"IF(LEFT($C572,1)=\"*\",\"\",LogData!T565*100)","v":""}]
[{"$f":"IF($C573=\"*EOL*\",\"\",INT(LogData!V566))","v":""},{"$f":"IF($C573=\"*EOL*\",\"\",LogData!V566-A573)","v":""},{"$f":"LogData!E566","v":"*EOL*"},{"$f":"IF(LEFT($C573,1)=\"*\",\"\",LogData!C566)","v":""},{"$f":"IF(LEFT($C573,1)=\"*\",\"\",LogData!F566)","v":""},{"$f":"IF(LEFT($C573,1)=\"*\",\"\",LogData!D566)","v":""},{"$f":"IF(LEFT($C573,1)=\"*\",\"\",LogData!H566)","v":""},{"$f":"IF(LEFT($C573,1)=\"*\",\"\",LogData!T566*100)","v":""}]
[{"$f":"IF($C574=\"*EOL*\",\"\",INT(LogData!V567))","v":""},{"$f":"IF($C574=\"*EOL*\",\"\",LogData!V567-A574)","v":""},{"$f":"LogData!E567","v":"*EOL*"},{"$f":"IF(LEFT($C574,1)=\"*\",\"\",LogData!C567)","v":""},{"$f":"IF(LEFT($C574,1)=\"*\",\"\",LogData!F567)","v":""},{"$f":"IF(LEFT($C574,1)=\"*\",\"\",LogData!D567)","v":""},{"$f":"IF(LEFT($C574,1)=\"*\",\"\",LogData!H567)","v":""},{"$f":"IF(LEFT($C574,1)=\"*\",\"\",LogData!T567*100)","v":""}]
[{"$f":"IF($C575=\"*EOL*\",\"\",INT(LogData!V568))","v":""},{"$f":"IF($C575=\"*EOL*\",\"\",LogData!V568-A575)","v":""},{"$f":"LogData!E568","v":"*EOL*"},{"$f":"IF(LEFT($C575,1)=\"*\",\"\",LogData!C568)","v":""},{"$f":"IF(LEFT($C575,1)=\"*\",\"\",LogData!F568)","v":""},{"$f":"IF(LEFT($C575,1)=\"*\",\"\",LogData!D568)","v":""},{"$f":"IF(LEFT($C575,1)=\"*\",\"\",LogData!H568)","v":""},{"$f":"IF(LEFT($C575,1)=\"*\",\"\",LogData!T568*100)","v":""}]
[{"$f":"IF($C576=\"*EOL*\",\"\",INT(LogData!V569))","v":""},{"$f":"IF($C576=\"*EOL*\",\"\",LogData!V569-A576)","v":""},{"$f":"LogData!E569","v":"*EOL*"},{"$f":"IF(LEFT($C576,1)=\"*\",\"\",LogData!C569)","v":""},{"$f":"IF(LEFT($C576,1)=\"*\",\"\",LogData!F569)","v":""},{"$f":"IF(LEFT($C576,1)=\"*\",\"\",LogData!D569)","v":""},{"$f":"IF(LEFT($C576,1)=\"*\",\"\",LogData!H569)","v":""},{"$f":"IF(LEFT($C576,1)=\"*\",\"\",LogData!T569*100)","v":""}]
[{"$f":"IF($C577=\"*EOL*\",\"\",INT(LogData!V570))","v":""},{"$f":"IF($C577=\"*EOL*\",\"\",LogData!V570-A577)","v":""},{"$f":"LogData!E570","v":"*EOL*"},{"$f":"IF(LEFT($C577,1)=\"*\",\"\",LogData!C570)","v":""},{"$f":"IF(LEFT($C577,1)=\"*\",\"\",LogData!F570)","v":""},{"$f":"IF(LEFT($C577,1)=\"*\",\"\",LogData!D570)","v":""},{"$f":"IF(LEFT($C577,1)=\"*\",\"\",LogData!H570)","v":""},{"$f":"IF(LEFT($C577,1)=\"*\",\"\",LogData!T570*100)","v":""}]
[{"$f":"IF($C578=\"*EOL*\",\"\",INT(LogData!V571))","v":""},{"$f":"IF($C578=\"*EOL*\",\"\",LogData!V571-A578)","v":""},{"$f":"LogData!E571","v":"*EOL*"},{"$f":"IF(LEFT($C578,1)=\"*\",\"\",LogData!C571)","v":""},{"$f":"IF(LEFT($C578,1)=\"*\",\"\",LogData!F571)","v":""},{"$f":"IF(LEFT($C578,1)=\"*\",\"\",LogData!D571)","v":""},{"$f":"IF(LEFT($C578,1)=\"*\",\"\",LogData!H571)","v":""},{"$f":"IF(LEFT($C578,1)=\"*\",\"\",LogData!T571*100)","v":""}]
[{"$f":"IF($C579=\"*EOL*\",\"\",INT(LogData!V572))","v":""},{"$f":"IF($C579=\"*EOL*\",\"\",LogData!V572-A579)","v":""},{"$f":"LogData!E572","v":"*EOL*"},{"$f":"IF(LEFT($C579,1)=\"*\",\"\",LogData!C572)","v":""},{"$f":"IF(LEFT($C579,1)=\"*\",\"\",LogData!F572)","v":""},{"$f":"IF(LEFT($C579,1)=\"*\",\"\",LogData!D572)","v":""},{"$f":"IF(LEFT($C579,1)=\"*\",\"\",LogData!H572)","v":""},{"$f":"IF(LEFT($C579,1)=\"*\",\"\",LogData!T572*100)","v":""}]
[{"$f":"IF($C580=\"*EOL*\",\"\",INT(LogData!V573))","v":""},{"$f":"IF($C580=\"*EOL*\",\"\",LogData!V573-A580)","v":""},{"$f":"LogData!E573","v":"*EOL*"},{"$f":"IF(LEFT($C580,1)=\"*\",\"\",LogData!C573)","v":""},{"$f":"IF(LEFT($C580,1)=\"*\",\"\",LogData!F573)","v":""},{"$f":"IF(LEFT($C580,1)=\"*\",\"\",LogData!D573)","v":""},{"$f":"IF(LEFT($C580,1)=\"*\",\"\",LogData!H573)","v":""},{"$f":"IF(LEFT($C580,1)=\"*\",\"\",LogData!T573*100)","v":""}]
[{"$f":"IF($C581=\"*EOL*\",\"\",INT(LogData!V574))","v":""},{"$f":"IF($C581=\"*EOL*\",\"\",LogData!V574-A581)","v":""},{"$f":"LogData!E574","v":"*EOL*"},{"$f":"IF(LEFT($C581,1)=\"*\",\"\",LogData!C574)","v":""},{"$f":"IF(LEFT($C581,1)=\"*\",\"\",LogData!F574)","v":""},{"$f":"IF(LEFT($C581,1)=\"*\",\"\",LogData!D574)","v":""},{"$f":"IF(LEFT($C581,1)=\"*\",\"\",LogData!H574)","v":""},{"$f":"IF(LEFT($C581,1)=\"*\",\"\",LogData!T574*100)","v":""}]
[{"$f":"IF($C582=\"*EOL*\",\"\",INT(LogData!V575))","v":""},{"$f":"IF($C582=\"*EOL*\",\"\",LogData!V575-A582)","v":""},{"$f":"LogData!E575","v":"*EOL*"},{"$f":"IF(LEFT($C582,1)=\"*\",\"\",LogData!C575)","v":""},{"$f":"IF(LEFT($C582,1)=\"*\",\"\",LogData!F575)","v":""},{"$f":"IF(LEFT($C582,1)=\"*\",\"\",LogData!D575)","v":""},{"$f":"IF(LEFT($C582,1)=\"*\",\"\",LogData!H575)","v":""},{"$f":"IF(LEFT($C582,1)=\"*\",\"\",LogData!T575*100)","v":""}]
[{"$f":"IF($C583=\"*EOL*\",\"\",INT(LogData!V576))","v":""},{"$f":"IF($C583=\"*EOL*\",\"\",LogData!V576-A583)","v":""},{"$f":"LogData!E576","v":"*EOL*"},{"$f":"IF(LEFT($C583,1)=\"*\",\"\",LogData!C576)","v":""},{"$f":"IF(LEFT($C583,1)=\"*\",\"\",LogData!F576)","v":""},{"$f":"IF(LEFT($C583,1)=\"*\",\"\",LogData!D576)","v":""},{"$f":"IF(LEFT($C583,1)=\"*\",\"\",LogData!H576)","v":""},{"$f":"IF(LEFT($C583,1)=\"*\",\"\",LogData!T576*100)","v":""}]
[{"$f":"IF($C584=\"*EOL*\",\"\",INT(LogData!V577))","v":""},{"$f":"IF($C584=\"*EOL*\",\"\",LogData!V577-A584)","v":""},{"$f":"LogData!E577","v":"*EOL*"},{"$f":"IF(LEFT($C584,1)=\"*\",\"\",LogData!C577)","v":""},{"$f":"IF(LEFT($C584,1)=\"*\",\"\",LogData!F577)","v":""},{"$f":"IF(LEFT($C584,1)=\"*\",\"\",LogData!D577)","v":""},{"$f":"IF(LEFT($C584,1)=\"*\",\"\",LogData!H577)","v":""},{"$f":"IF(LEFT($C584,1)=\"*\",\"\",LogData!T577*100)","v":""}]
[{"$f":"IF($C585=\"*EOL*\",\"\",INT(LogData!V578))","v":""},{"$f":"IF($C585=\"*EOL*\",\"\",LogData!V578-A585)","v":""},{"$f":"LogData!E578","v":"*EOL*"},{"$f":"IF(LEFT($C585,1)=\"*\",\"\",LogData!C578)","v":""},{"$f":"IF(LEFT($C585,1)=\"*\",\"\",LogData!F578)","v":""},{"$f":"IF(LEFT($C585,1)=\"*\",\"\",LogData!D578)","v":""},{"$f":"IF(LEFT($C585,1)=\"*\",\"\",LogData!H578)","v":""},{"$f":"IF(LEFT($C585,1)=\"*\",\"\",LogData!T578*100)","v":""}]
[{"$f":"IF($C586=\"*EOL*\",\"\",INT(LogData!V579))","v":""},{"$f":"IF($C586=\"*EOL*\",\"\",LogData!V579-A586)","v":""},{"$f":"LogData!E579","v":"*EOL*"},{"$f":"IF(LEFT($C586,1)=\"*\",\"\",LogData!C579)","v":""},{"$f":"IF(LEFT($C586,1)=\"*\",\"\",LogData!F579)","v":""},{"$f":"IF(LEFT($C586,1)=\"*\",\"\",LogData!D579)","v":""},{"$f":"IF(LEFT($C586,1)=\"*\",\"\",LogData!H579)","v":""},{"$f":"IF(LEFT($C586,1)=\"*\",\"\",LogData!T579*100)","v":""}]
[{"$f":"IF($C587=\"*EOL*\",\"\",INT(LogData!V580))","v":""},{"$f":"IF($C587=\"*EOL*\",\"\",LogData!V580-A587)","v":""},{"$f":"LogData!E580","v":"*EOL*"},{"$f":"IF(LEFT($C587,1)=\"*\",\"\",LogData!C580)","v":""},{"$f":"IF(LEFT($C587,1)=\"*\",\"\",LogData!F580)","v":""},{"$f":"IF(LEFT($C587,1)=\"*\",\"\",LogData!D580)","v":""},{"$f":"IF(LEFT($C587,1)=\"*\",\"\",LogData!H580)","v":""},{"$f":"IF(LEFT($C587,1)=\"*\",\"\",LogData!T580*100)","v":""}]
[{"$f":"IF($C588=\"*EOL*\",\"\",INT(LogData!V581))","v":""},{"$f":"IF($C588=\"*EOL*\",\"\",LogData!V581-A588)","v":""},{"$f":"LogData!E581","v":"*EOL*"},{"$f":"IF(LEFT($C588,1)=\"*\",\"\",LogData!C581)","v":""},{"$f":"IF(LEFT($C588,1)=\"*\",\"\",LogData!F581)","v":""},{"$f":"IF(LEFT($C588,1)=\"*\",\"\",LogData!D581)","v":""},{"$f":"IF(LEFT($C588,1)=\"*\",\"\",LogData!H581)","v":""},{"$f":"IF(LEFT($C588,1)=\"*\",\"\",LogData!T581*100)","v":""}]
[{"$f":"IF($C589=\"*EOL*\",\"\",INT(LogData!V582))","v":""},{"$f":"IF($C589=\"*EOL*\",\"\",LogData!V582-A589)","v":""},{"$f":"LogData!E582","v":"*EOL*"},{"$f":"IF(LEFT($C589,1)=\"*\",\"\",LogData!C582)","v":""},{"$f":"IF(LEFT($C589,1)=\"*\",\"\",LogData!F582)","v":""},{"$f":"IF(LEFT($C589,1)=\"*\",\"\",LogData!D582)","v":""},{"$f":"IF(LEFT($C589,1)=\"*\",\"\",LogData!H582)","v":""},{"$f":"IF(LEFT($C589,1)=\"*\",\"\",LogData!T582*100)","v":""}]
[{"$f":"IF($C590=\"*EOL*\",\"\",INT(LogData!V583))","v":""},{"$f":"IF($C590=\"*EOL*\",\"\",LogData!V583-A590)","v":""},{"$f":"LogData!E583","v":"*EOL*"},{"$f":"IF(LEFT($C590,1)=\"*\",\"\",LogData!C583)","v":""},{"$f":"IF(LEFT($C590,1)=\"*\",\"\",LogData!F583)","v":""},{"$f":"IF(LEFT($C590,1)=\"*\",\"\",LogData!D583)","v":""},{"$f":"IF(LEFT($C590,1)=\"*\",\"\",LogData!H583)","v":""},{"$f":"IF(LEFT($C590,1)=\"*\",\"\",LogData!T583*100)","v":""}]
[{"$f":"IF($C591=\"*EOL*\",\"\",INT(LogData!V584))","v":""},{"$f":"IF($C591=\"*EOL*\",\"\",LogData!V584-A591)","v":""},{"$f":"LogData!E584","v":"*EOL*"},{"$f":"IF(LEFT($C591,1)=\"*\",\"\",LogData!C584)","v":""},{"$f":"IF(LEFT($C591,1)=\"*\",\"\",LogData!F584)","v":""},{"$f":"IF(LEFT($C591,1)=\"*\",\"\",LogData!D584)","v":""},{"$f":"IF(LEFT($C591,1)=\"*\",\"\",LogData!H584)","v":""},{"$f":"IF(LEFT($C591,1)=\"*\",\"\",LogData!T584*100)","v":""}]
[{"$f":"IF($C592=\"*EOL*\",\"\",INT(LogData!V585))","v":""},{"$f":"IF($C592=\"*EOL*\",\"\",LogData!V585-A592)","v":""},{"$f":"LogData!E585","v":"*EOL*"},{"$f":"IF(LEFT($C592,1)=\"*\",\"\",LogData!C585)","v":""},{"$f":"IF(LEFT($C592,1)=\"*\",\"\",LogData!F585)","v":""},{"$f":"IF(LEFT($C592,1)=\"*\",\"\",LogData!D585)","v":""},{"$f":"IF(LEFT($C592,1)=\"*\",\"\",LogData!H585)","v":""},{"$f":"IF(LEFT($C592,1)=\"*\",\"\",LogData!T585*100)","v":""}]
[{"$f":"IF($C593=\"*EOL*\",\"\",INT(LogData!V586))","v":""},{"$f":"IF($C593=\"*EOL*\",\"\",LogData!V586-A593)","v":""},{"$f":"LogData!E586","v":"*EOL*"},{"$f":"IF(LEFT($C593,1)=\"*\",\"\",LogData!C586)","v":""},{"$f":"IF(LEFT($C593,1)=\"*\",\"\",LogData!F586)","v":""},{"$f":"IF(LEFT($C593,1)=\"*\",\"\",LogData!D586)","v":""},{"$f":"IF(LEFT($C593,1)=\"*\",\"\",LogData!H586)","v":""},{"$f":"IF(LEFT($C593,1)=\"*\",\"\",LogData!T586*100)","v":""}]
[{"$f":"IF($C594=\"*EOL*\",\"\",INT(LogData!V587))","v":""},{"$f":"IF($C594=\"*EOL*\",\"\",LogData!V587-A594)","v":""},{"$f":"LogData!E587","v":"*EOL*"},{"$f":"IF(LEFT($C594,1)=\"*\",\"\",LogData!C587)","v":""},{"$f":"IF(LEFT($C594,1)=\"*\",\"\",LogData!F587)","v":""},{"$f":"IF(LEFT($C594,1)=\"*\",\"\",LogData!D587)","v":""},{"$f":"IF(LEFT($C594,1)=\"*\",\"\",LogData!H587)","v":""},{"$f":"IF(LEFT($C594,1)=\"*\",\"\",LogData!T587*100)","v":""}]
[{"$f":"IF($C595=\"*EOL*\",\"\",INT(LogData!V588))","v":""},{"$f":"IF($C595=\"*EOL*\",\"\",LogData!V588-A595)","v":""},{"$f":"LogData!E588","v":"*EOL*"},{"$f":"IF(LEFT($C595,1)=\"*\",\"\",LogData!C588)","v":""},{"$f":"IF(LEFT($C595,1)=\"*\",\"\",LogData!F588)","v":""},{"$f":"IF(LEFT($C595,1)=\"*\",\"\",LogData!D588)","v":""},{"$f":"IF(LEFT($C595,1)=\"*\",\"\",LogData!H588)","v":""},{"$f":"IF(LEFT($C595,1)=\"*\",\"\",LogData!T588*100)","v":""}]
[{"$f":"IF($C596=\"*EOL*\",\"\",INT(LogData!V589))","v":""},{"$f":"IF($C596=\"*EOL*\",\"\",LogData!V589-A596)","v":""},{"$f":"LogData!E589","v":"*EOL*"},{"$f":"IF(LEFT($C596,1)=\"*\",\"\",LogData!C589)","v":""},{"$f":"IF(LEFT($C596,1)=\"*\",\"\",LogData!F589)","v":""},{"$f":"IF(LEFT($C596,1)=\"*\",\"\",LogData!D589)","v":""},{"$f":"IF(LEFT($C596,1)=\"*\",\"\",LogData!H589)","v":""},{"$f":"IF(LEFT($C596,1)=\"*\",\"\",LogData!T589*100)","v":""}]
[{"$f":"IF($C597=\"*EOL*\",\"\",INT(LogData!V590))","v":""},{"$f":"IF($C597=\"*EOL*\",\"\",LogData!V590-A597)","v":""},{"$f":"LogData!E590","v":"*EOL*"},{"$f":"IF(LEFT($C597,1)=\"*\",\"\",LogData!C590)","v":""},{"$f":"IF(LEFT($C597,1)=\"*\",\"\",LogData!F590)","v":""},{"$f":"IF(LEFT($C597,1)=\"*\",\"\",LogData!D590)","v":""},{"$f":"IF(LEFT($C597,1)=\"*\",\"\",LogData!H590)","v":""},{"$f":"IF(LEFT($C597,1)=\"*\",\"\",LogData!T590*100)","v":""}]
[{"$f":"IF($C598=\"*EOL*\",\"\",INT(LogData!V591))","v":""},{"$f":"IF($C598=\"*EOL*\",\"\",LogData!V591-A598)","v":""},{"$f":"LogData!E591","v":"*EOL*"},{"$f":"IF(LEFT($C598,1)=\"*\",\"\",LogData!C591)","v":""},{"$f":"IF(LEFT($C598,1)=\"*\",\"\",LogData!F591)","v":""},{"$f":"IF(LEFT($C598,1)=\"*\",\"\",LogData!D591)","v":""},{"$f":"IF(LEFT($C598,1)=\"*\",\"\",LogData!H591)","v":""},{"$f":"IF(LEFT($C598,1)=\"*\",\"\",LogData!T591*100)","v":""}]
[{"$f":"IF($C599=\"*EOL*\",\"\",INT(LogData!V592))","v":""},{"$f":"IF($C599=\"*EOL*\",\"\",LogData!V592-A599)","v":""},{"$f":"LogData!E592","v":"*EOL*"},{"$f":"IF(LEFT($C599,1)=\"*\",\"\",LogData!C592)","v":""},{"$f":"IF(LEFT($C599,1)=\"*\",\"\",LogData!F592)","v":""},{"$f":"IF(LEFT($C599,1)=\"*\",\"\",LogData!D592)","v":""},{"$f":"IF(LEFT($C599,1)=\"*\",\"\",LogData!H592)","v":""},{"$f":"IF(LEFT($C599,1)=\"*\",\"\",LogData!T592*100)","v":""}]
[{"$f":"IF($C600=\"*EOL*\",\"\",INT(LogData!V593))","v":""},{"$f":"IF($C600=\"*EOL*\",\"\",LogData!V593-A600)","v":""},{"$f":"LogData!E593","v":"*EOL*"},{"$f":"IF(LEFT($C600,1)=\"*\",\"\",LogData!C593)","v":""},{"$f":"IF(LEFT($C600,1)=\"*\",\"\",LogData!F593)","v":""},{"$f":"IF(LEFT($C600,1)=\"*\",\"\",LogData!D593)","v":""},{"$f":"IF(LEFT($C600,1)=\"*\",\"\",LogData!H593)","v":""},{"$f":"IF(LEFT($C600,1)=\"*\",\"\",LogData!T593*100)","v":""}]
[{"$f":"IF($C601=\"*EOL*\",\"\",INT(LogData!V594))","v":""},{"$f":"IF($C601=\"*EOL*\",\"\",LogData!V594-A601)","v":""},{"$f":"LogData!E594","v":"*EOL*"},{"$f":"IF(LEFT($C601,1)=\"*\",\"\",LogData!C594)","v":""},{"$f":"IF(LEFT($C601,1)=\"*\",\"\",LogData!F594)","v":""},{"$f":"IF(LEFT($C601,1)=\"*\",\"\",LogData!D594)","v":""},{"$f":"IF(LEFT($C601,1)=\"*\",\"\",LogData!H594)","v":""},{"$f":"IF(LEFT($C601,1)=\"*\",\"\",LogData!T594*100)","v":""}]
[{"$f":"IF($C602=\"*EOL*\",\"\",INT(LogData!V595))","v":""},{"$f":"IF($C602=\"*EOL*\",\"\",LogData!V595-A602)","v":""},{"$f":"LogData!E595","v":"*EOL*"},{"$f":"IF(LEFT($C602,1)=\"*\",\"\",LogData!C595)","v":""},{"$f":"IF(LEFT($C602,1)=\"*\",\"\",LogData!F595)","v":""},{"$f":"IF(LEFT($C602,1)=\"*\",\"\",LogData!D595)","v":""},{"$f":"IF(LEFT($C602,1)=\"*\",\"\",LogData!H595)","v":""},{"$f":"IF(LEFT($C602,1)=\"*\",\"\",LogData!T595*100)","v":""}]
[{"$f":"IF($C603=\"*EOL*\",\"\",INT(LogData!V596))","v":""},{"$f":"IF($C603=\"*EOL*\",\"\",LogData!V596-A603)","v":""},{"$f":"LogData!E596","v":"*EOL*"},{"$f":"IF(LEFT($C603,1)=\"*\",\"\",LogData!C596)","v":""},{"$f":"IF(LEFT($C603,1)=\"*\",\"\",LogData!F596)","v":""},{"$f":"IF(LEFT($C603,1)=\"*\",\"\",LogData!D596)","v":""},{"$f":"IF(LEFT($C603,1)=\"*\",\"\",LogData!H596)","v":""},{"$f":"IF(LEFT($C603,1)=\"*\",\"\",LogData!T596*100)","v":""}]
[{"$f":"IF($C604=\"*EOL*\",\"\",INT(LogData!V597))","v":""},{"$f":"IF($C604=\"*EOL*\",\"\",LogData!V597-A604)","v":""},{"$f":"LogData!E597","v":"*EOL*"},{"$f":"IF(LEFT($C604,1)=\"*\",\"\",LogData!C597)","v":""},{"$f":"IF(LEFT($C604,1)=\"*\",\"\",LogData!F597)","v":""},{"$f":"IF(LEFT($C604,1)=\"*\",\"\",LogData!D597)","v":""},{"$f":"IF(LEFT($C604,1)=\"*\",\"\",LogData!H597)","v":""},{"$f":"IF(LEFT($C604,1)=\"*\",\"\",LogData!T597*100)","v":""}]
[{"$f":"IF($C605=\"*EOL*\",\"\",INT(LogData!V598))","v":""},{"$f":"IF($C605=\"*EOL*\",\"\",LogData!V598-A605)","v":""},{"$f":"LogData!E598","v":"*EOL*"},{"$f":"IF(LEFT($C605,1)=\"*\",\"\",LogData!C598)","v":""},{"$f":"IF(LEFT($C605,1)=\"*\",\"\",LogData!F598)","v":""},{"$f":"IF(LEFT($C605,1)=\"*\",\"\",LogData!D598)","v":""},{"$f":"IF(LEFT($C605,1)=\"*\",\"\",LogData!H598)","v":""},{"$f":"IF(LEFT($C605,1)=\"*\",\"\",LogData!T598*100)","v":""}]
[{"$f":"IF($C606=\"*EOL*\",\"\",INT(LogData!V599))","v":""},{"$f":"IF($C606=\"*EOL*\",\"\",LogData!V599-A606)","v":""},{"$f":"LogData!E599","v":"*EOL*"},{"$f":"IF(LEFT($C606,1)=\"*\",\"\",LogData!C599)","v":""},{"$f":"IF(LEFT($C606,1)=\"*\",\"\",LogData!F599)","v":""},{"$f":"IF(LEFT($C606,1)=\"*\",\"\",LogData!D599)","v":""},{"$f":"IF(LEFT($C606,1)=\"*\",\"\",LogData!H599)","v":""},{"$f":"IF(LEFT($C606,1)=\"*\",\"\",LogData!T599*100)","v":""}]
[{"$f":"IF($C607=\"*EOL*\",\"\",INT(LogData!V600))","v":""},{"$f":"IF($C607=\"*EOL*\",\"\",LogData!V600-A607)","v":""},{"$f":"LogData!E600","v":"*EOL*"},{"$f":"IF(LEFT($C607,1)=\"*\",\"\",LogData!C600)","v":""},{"$f":"IF(LEFT($C607,1)=\"*\",\"\",LogData!F600)","v":""},{"$f":"IF(LEFT($C607,1)=\"*\",\"\",LogData!D600)","v":""},{"$f":"IF(LEFT($C607,1)=\"*\",\"\",LogData!H600)","v":""},{"$f":"IF(LEFT($C607,1)=\"*\",\"\",LogData!T600*100)","v":""}]
[{"$f":"IF($C608=\"*EOL*\",\"\",INT(LogData!V601))","v":""},{"$f":"IF($C608=\"*EOL*\",\"\",LogData!V601-A608)","v":""},{"$f":"LogData!E601","v":"*EOL*"},{"$f":"IF(LEFT($C608,1)=\"*\",\"\",LogData!C601)","v":""},{"$f":"IF(LEFT($C608,1)=\"*\",\"\",LogData!F601)","v":""},{"$f":"IF(LEFT($C608,1)=\"*\",\"\",LogData!D601)","v":""},{"$f":"IF(LEFT($C608,1)=\"*\",\"\",LogData!H601)","v":""},{"$f":"IF(LEFT($C608,1)=\"*\",\"\",LogData!T601*100)","v":""}]
[{"$f":"IF($C609=\"*EOL*\",\"\",INT(LogData!V602))","v":""},{"$f":"IF($C609=\"*EOL*\",\"\",LogData!V602-A609)","v":""},{"$f":"LogData!E602","v":"*EOL*"},{"$f":"IF(LEFT($C609,1)=\"*\",\"\",LogData!C602)","v":""},{"$f":"IF(LEFT($C609,1)=\"*\",\"\",LogData!F602)","v":""},{"$f":"IF(LEFT($C609,1)=\"*\",\"\",LogData!D602)","v":""},{"$f":"IF(LEFT($C609,1)=\"*\",\"\",LogData!H602)","v":""},{"$f":"IF(LEFT($C609,1)=\"*\",\"\",LogData!T602*100)","v":""}]
[{"$f":"IF($C610=\"*EOL*\",\"\",INT(LogData!V603))","v":""},{"$f":"IF($C610=\"*EOL*\",\"\",LogData!V603-A610)","v":""},{"$f":"LogData!E603","v":"*EOL*"},{"$f":"IF(LEFT($C610,1)=\"*\",\"\",LogData!C603)","v":""},{"$f":"IF(LEFT($C610,1)=\"*\",\"\",LogData!F603)","v":""},{"$f":"IF(LEFT($C610,1)=\"*\",\"\",LogData!D603)","v":""},{"$f":"IF(LEFT($C610,1)=\"*\",\"\",LogData!H603)","v":""},{"$f":"IF(LEFT($C610,1)=\"*\",\"\",LogData!T603*100)","v":""}]
[{"$f":"IF($C611=\"*EOL*\",\"\",INT(LogData!V604))","v":""},{"$f":"IF($C611=\"*EOL*\",\"\",LogData!V604-A611)","v":""},{"$f":"LogData!E604","v":"*EOL*"},{"$f":"IF(LEFT($C611,1)=\"*\",\"\",LogData!C604)","v":""},{"$f":"IF(LEFT($C611,1)=\"*\",\"\",LogData!F604)","v":""},{"$f":"IF(LEFT($C611,1)=\"*\",\"\",LogData!D604)","v":""},{"$f":"IF(LEFT($C611,1)=\"*\",\"\",LogData!H604)","v":""},{"$f":"IF(LEFT($C611,1)=\"*\",\"\",LogData!T604*100)","v":""}]
[{"$f":"IF($C612=\"*EOL*\",\"\",INT(LogData!V605))","v":""},{"$f":"IF($C612=\"*EOL*\",\"\",LogData!V605-A612)","v":""},{"$f":"LogData!E605","v":"*EOL*"},{"$f":"IF(LEFT($C612,1)=\"*\",\"\",LogData!C605)","v":""},{"$f":"IF(LEFT($C612,1)=\"*\",\"\",LogData!F605)","v":""},{"$f":"IF(LEFT($C612,1)=\"*\",\"\",LogData!D605)","v":""},{"$f":"IF(LEFT($C612,1)=\"*\",\"\",LogData!H605)","v":""},{"$f":"IF(LEFT($C612,1)=\"*\",\"\",LogData!T605*100)","v":""}]
[{"$f":"IF($C613=\"*EOL*\",\"\",INT(LogData!V606))","v":""},{"$f":"IF($C613=\"*EOL*\",\"\",LogData!V606-A613)","v":""},{"$f":"LogData!E606","v":"*EOL*"},{"$f":"IF(LEFT($C613,1)=\"*\",\"\",LogData!C606)","v":""},{"$f":"IF(LEFT($C613,1)=\"*\",\"\",LogData!F606)","v":""},{"$f":"IF(LEFT($C613,1)=\"*\",\"\",LogData!D606)","v":""},{"$f":"IF(LEFT($C613,1)=\"*\",\"\",LogData!H606)","v":""},{"$f":"IF(LEFT($C613,1)=\"*\",\"\",LogData!T606*100)","v":""}]
[{"$f":"IF($C614=\"*EOL*\",\"\",INT(LogData!V607))","v":""},{"$f":"IF($C614=\"*EOL*\",\"\",LogData!V607-A614)","v":""},{"$f":"LogData!E607","v":"*EOL*"},{"$f":"IF(LEFT($C614,1)=\"*\",\"\",LogData!C607)","v":""},{"$f":"IF(LEFT($C614,1)=\"*\",\"\",LogData!F607)","v":""},{"$f":"IF(LEFT($C614,1)=\"*\",\"\",LogData!D607)","v":""},{"$f":"IF(LEFT($C614,1)=\"*\",\"\",LogData!H607)","v":""},{"$f":"IF(LEFT($C614,1)=\"*\",\"\",LogData!T607*100)","v":""}]
[{"$f":"IF($C615=\"*EOL*\",\"\",INT(LogData!V608))","v":""},{"$f":"IF($C615=\"*EOL*\",\"\",LogData!V608-A615)","v":""},{"$f":"LogData!E608","v":"*EOL*"},{"$f":"IF(LEFT($C615,1)=\"*\",\"\",LogData!C608)","v":""},{"$f":"IF(LEFT($C615,1)=\"*\",\"\",LogData!F608)","v":""},{"$f":"IF(LEFT($C615,1)=\"*\",\"\",LogData!D608)","v":""},{"$f":"IF(LEFT($C615,1)=\"*\",\"\",LogData!H608)","v":""},{"$f":"IF(LEFT($C615,1)=\"*\",\"\",LogData!T608*100)","v":""}]
[{"$f":"IF($C616=\"*EOL*\",\"\",INT(LogData!V609))","v":""},{"$f":"IF($C616=\"*EOL*\",\"\",LogData!V609-A616)","v":""},{"$f":"LogData!E609","v":"*EOL*"},{"$f":"IF(LEFT($C616,1)=\"*\",\"\",LogData!C609)","v":""},{"$f":"IF(LEFT($C616,1)=\"*\",\"\",LogData!F609)","v":""},{"$f":"IF(LEFT($C616,1)=\"*\",\"\",LogData!D609)","v":""},{"$f":"IF(LEFT($C616,1)=\"*\",\"\",LogData!H609)","v":""},{"$f":"IF(LEFT($C616,1)=\"*\",\"\",LogData!T609*100)","v":""}]
[{"$f":"IF($C617=\"*EOL*\",\"\",INT(LogData!V610))","v":""},{"$f":"IF($C617=\"*EOL*\",\"\",LogData!V610-A617)","v":""},{"$f":"LogData!E610","v":"*EOL*"},{"$f":"IF(LEFT($C617,1)=\"*\",\"\",LogData!C610)","v":""},{"$f":"IF(LEFT($C617,1)=\"*\",\"\",LogData!F610)","v":""},{"$f":"IF(LEFT($C617,1)=\"*\",\"\",LogData!D610)","v":""},{"$f":"IF(LEFT($C617,1)=\"*\",\"\",LogData!H610)","v":""},{"$f":"IF(LEFT($C617,1)=\"*\",\"\",LogData!T610*100)","v":""}]
[{"$f":"IF($C618=\"*EOL*\",\"\",INT(LogData!V611))","v":""},{"$f":"IF($C618=\"*EOL*\",\"\",LogData!V611-A618)","v":""},{"$f":"LogData!E611","v":"*EOL*"},{"$f":"IF(LEFT($C618,1)=\"*\",\"\",LogData!C611)","v":""},{"$f":"IF(LEFT($C618,1)=\"*\",\"\",LogData!F611)","v":""},{"$f":"IF(LEFT($C618,1)=\"*\",\"\",LogData!D611)","v":""},{"$f":"IF(LEFT($C618,1)=\"*\",\"\",LogData!H611)","v":""},{"$f":"IF(LEFT($C618,1)=\"*\",\"\",LogData!T611*100)","v":""}]
[{"$f":"IF($C619=\"*EOL*\",\"\",INT(LogData!V612))","v":""},{"$f":"IF($C619=\"*EOL*\",\"\",LogData!V612-A619)","v":""},{"$f":"LogData!E612","v":"*EOL*"},{"$f":"IF(LEFT($C619,1)=\"*\",\"\",LogData!C612)","v":""},{"$f":"IF(LEFT($C619,1)=\"*\",\"\",LogData!F612)","v":""},{"$f":"IF(LEFT($C619,1)=\"*\",\"\",LogData!D612)","v":""},{"$f":"IF(LEFT($C619,1)=\"*\",\"\",LogData!H612)","v":""},{"$f":"IF(LEFT($C619,1)=\"*\",\"\",LogData!T612*100)","v":""}]
[{"$f":"IF($C620=\"*EOL*\",\"\",INT(LogData!V613))","v":""},{"$f":"IF($C620=\"*EOL*\",\"\",LogData!V613-A620)","v":""},{"$f":"LogData!E613","v":"*EOL*"},{"$f":"IF(LEFT($C620,1)=\"*\",\"\",LogData!C613)","v":""},{"$f":"IF(LEFT($C620,1)=\"*\",\"\",LogData!F613)","v":""},{"$f":"IF(LEFT($C620,1)=\"*\",\"\",LogData!D613)","v":""},{"$f":"IF(LEFT($C620,1)=\"*\",\"\",LogData!H613)","v":""},{"$f":"IF(LEFT($C620,1)=\"*\",\"\",LogData!T613*100)","v":""}]
[{"$f":"IF($C621=\"*EOL*\",\"\",INT(LogData!V614))","v":""},{"$f":"IF($C621=\"*EOL*\",\"\",LogData!V614-A621)","v":""},{"$f":"LogData!E614","v":"*EOL*"},{"$f":"IF(LEFT($C621,1)=\"*\",\"\",LogData!C614)","v":""},{"$f":"IF(LEFT($C621,1)=\"*\",\"\",LogData!F614)","v":""},{"$f":"IF(LEFT($C621,1)=\"*\",\"\",LogData!D614)","v":""},{"$f":"IF(LEFT($C621,1)=\"*\",\"\",LogData!H614)","v":""},{"$f":"IF(LEFT($C621,1)=\"*\",\"\",LogData!T614*100)","v":""}]
[{"$f":"IF($C622=\"*EOL*\",\"\",INT(LogData!V615))","v":""},{"$f":"IF($C622=\"*EOL*\",\"\",LogData!V615-A622)","v":""},{"$f":"LogData!E615","v":"*EOL*"},{"$f":"IF(LEFT($C622,1)=\"*\",\"\",LogData!C615)","v":""},{"$f":"IF(LEFT($C622,1)=\"*\",\"\",LogData!F615)","v":""},{"$f":"IF(LEFT($C622,1)=\"*\",\"\",LogData!D615)","v":""},{"$f":"IF(LEFT($C622,1)=\"*\",\"\",LogData!H615)","v":""},{"$f":"IF(LEFT($C622,1)=\"*\",\"\",LogData!T615*100)","v":""}]
[{"$f":"IF($C623=\"*EOL*\",\"\",INT(LogData!V616))","v":""},{"$f":"IF($C623=\"*EOL*\",\"\",LogData!V616-A623)","v":""},{"$f":"LogData!E616","v":"*EOL*"},{"$f":"IF(LEFT($C623,1)=\"*\",\"\",LogData!C616)","v":""},{"$f":"IF(LEFT($C623,1)=\"*\",\"\",LogData!F616)","v":""},{"$f":"IF(LEFT($C623,1)=\"*\",\"\",LogData!D616)","v":""},{"$f":"IF(LEFT($C623,1)=\"*\",\"\",LogData!H616)","v":""},{"$f":"IF(LEFT($C623,1)=\"*\",\"\",LogData!T616*100)","v":""}]
[{"$f":"IF($C624=\"*EOL*\",\"\",INT(LogData!V617))","v":""},{"$f":"IF($C624=\"*EOL*\",\"\",LogData!V617-A624)","v":""},{"$f":"LogData!E617","v":"*EOL*"},{"$f":"IF(LEFT($C624,1)=\"*\",\"\",LogData!C617)","v":""},{"$f":"IF(LEFT($C624,1)=\"*\",\"\",LogData!F617)","v":""},{"$f":"IF(LEFT($C624,1)=\"*\",\"\",LogData!D617)","v":""},{"$f":"IF(LEFT($C624,1)=\"*\",\"\",LogData!H617)","v":""},{"$f":"IF(LEFT($C624,1)=\"*\",\"\",LogData!T617*100)","v":""}]
[{"$f":"IF($C625=\"*EOL*\",\"\",INT(LogData!V618))","v":""},{"$f":"IF($C625=\"*EOL*\",\"\",LogData!V618-A625)","v":""},{"$f":"LogData!E618","v":"*EOL*"},{"$f":"IF(LEFT($C625,1)=\"*\",\"\",LogData!C618)","v":""},{"$f":"IF(LEFT($C625,1)=\"*\",\"\",LogData!F618)","v":""},{"$f":"IF(LEFT($C625,1)=\"*\",\"\",LogData!D618)","v":""},{"$f":"IF(LEFT($C625,1)=\"*\",\"\",LogData!H618)","v":""},{"$f":"IF(LEFT($C625,1)=\"*\",\"\",LogData!T618*100)","v":""}]
[{"$f":"IF($C626=\"*EOL*\",\"\",INT(LogData!V619))","v":""},{"$f":"IF($C626=\"*EOL*\",\"\",LogData!V619-A626)","v":""},{"$f":"LogData!E619","v":"*EOL*"},{"$f":"IF(LEFT($C626,1)=\"*\",\"\",LogData!C619)","v":""},{"$f":"IF(LEFT($C626,1)=\"*\",\"\",LogData!F619)","v":""},{"$f":"IF(LEFT($C626,1)=\"*\",\"\",LogData!D619)","v":""},{"$f":"IF(LEFT($C626,1)=\"*\",\"\",LogData!H619)","v":""},{"$f":"IF(LEFT($C626,1)=\"*\",\"\",LogData!T619*100)","v":""}]
[{"$f":"IF($C627=\"*EOL*\",\"\",INT(LogData!V620))","v":""},{"$f":"IF($C627=\"*EOL*\",\"\",LogData!V620-A627)","v":""},{"$f":"LogData!E620","v":"*EOL*"},{"$f":"IF(LEFT($C627,1)=\"*\",\"\",LogData!C620)","v":""},{"$f":"IF(LEFT($C627,1)=\"*\",\"\",LogData!F620)","v":""},{"$f":"IF(LEFT($C627,1)=\"*\",\"\",LogData!D620)","v":""},{"$f":"IF(LEFT($C627,1)=\"*\",\"\",LogData!H620)","v":""},{"$f":"IF(LEFT($C627,1)=\"*\",\"\",LogData!T620*100)","v":""}]
[{"$f":"IF($C628=\"*EOL*\",\"\",INT(LogData!V621))","v":""},{"$f":"IF($C628=\"*EOL*\",\"\",LogData!V621-A628)","v":""},{"$f":"LogData!E621","v":"*EOL*"},{"$f":"IF(LEFT($C628,1)=\"*\",\"\",LogData!C621)","v":""},{"$f":"IF(LEFT($C628,1)=\"*\",\"\",LogData!F621)","v":""},{"$f":"IF(LEFT($C628,1)=\"*\",\"\",LogData!D621)","v":""},{"$f":"IF(LEFT($C628,1)=\"*\",\"\",LogData!H621)","v":""},{"$f":"IF(LEFT($C628,1)=\"*\",\"\",LogData!T621*100)","v":""}]
[{"$f":"IF($C629=\"*EOL*\",\"\",INT(LogData!V622))","v":""},{"$f":"IF($C629=\"*EOL*\",\"\",LogData!V622-A629)","v":""},{"$f":"LogData!E622","v":"*EOL*"},{"$f":"IF(LEFT($C629,1)=\"*\",\"\",LogData!C622)","v":""},{"$f":"IF(LEFT($C629,1)=\"*\",\"\",LogData!F622)","v":""},{"$f":"IF(LEFT($C629,1)=\"*\",\"\",LogData!D622)","v":""},{"$f":"IF(LEFT($C629,1)=\"*\",\"\",LogData!H622)","v":""},{"$f":"IF(LEFT($C629,1)=\"*\",\"\",LogData!T622*100)","v":""}]
[{"$f":"IF($C630=\"*EOL*\",\"\",INT(LogData!V623))","v":""},{"$f":"IF($C630=\"*EOL*\",\"\",LogData!V623-A630)","v":""},{"$f":"LogData!E623","v":"*EOL*"},{"$f":"IF(LEFT($C630,1)=\"*\",\"\",LogData!C623)","v":""},{"$f":"IF(LEFT($C630,1)=\"*\",\"\",LogData!F623)","v":""},{"$f":"IF(LEFT($C630,1)=\"*\",\"\",LogData!D623)","v":""},{"$f":"IF(LEFT($C630,1)=\"*\",\"\",LogData!H623)","v":""},{"$f":"IF(LEFT($C630,1)=\"*\",\"\",LogData!T623*100)","v":""}]
[{"$f":"IF($C631=\"*EOL*\",\"\",INT(LogData!V624))","v":""},{"$f":"IF($C631=\"*EOL*\",\"\",LogData!V624-A631)","v":""},{"$f":"LogData!E624","v":"*EOL*"},{"$f":"IF(LEFT($C631,1)=\"*\",\"\",LogData!C624)","v":""},{"$f":"IF(LEFT($C631,1)=\"*\",\"\",LogData!F624)","v":""},{"$f":"IF(LEFT($C631,1)=\"*\",\"\",LogData!D624)","v":""},{"$f":"IF(LEFT($C631,1)=\"*\",\"\",LogData!H624)","v":""},{"$f":"IF(LEFT($C631,1)=\"*\",\"\",LogData!T624*100)","v":""}]
[{"$f":"IF($C632=\"*EOL*\",\"\",INT(LogData!V625))","v":""},{"$f":"IF($C632=\"*EOL*\",\"\",LogData!V625-A632)","v":""},{"$f":"LogData!E625","v":"*EOL*"},{"$f":"IF(LEFT($C632,1)=\"*\",\"\",LogData!C625)","v":""},{"$f":"IF(LEFT($C632,1)=\"*\",\"\",LogData!F625)","v":""},{"$f":"IF(LEFT($C632,1)=\"*\",\"\",LogData!D625)","v":""},{"$f":"IF(LEFT($C632,1)=\"*\",\"\",LogData!H625)","v":""},{"$f":"IF(LEFT($C632,1)=\"*\",\"\",LogData!T625*100)","v":""}]
[{"$f":"IF($C633=\"*EOL*\",\"\",INT(LogData!V626))","v":""},{"$f":"IF($C633=\"*EOL*\",\"\",LogData!V626-A633)","v":""},{"$f":"LogData!E626","v":"*EOL*"},{"$f":"IF(LEFT($C633,1)=\"*\",\"\",LogData!C626)","v":""},{"$f":"IF(LEFT($C633,1)=\"*\",\"\",LogData!F626)","v":""},{"$f":"IF(LEFT($C633,1)=\"*\",\"\",LogData!D626)","v":""},{"$f":"IF(LEFT($C633,1)=\"*\",\"\",LogData!H626)","v":""},{"$f":"IF(LEFT($C633,1)=\"*\",\"\",LogData!T626*100)","v":""}]
[{"$f":"IF($C634=\"*EOL*\",\"\",INT(LogData!V627))","v":""},{"$f":"IF($C634=\"*EOL*\",\"\",LogData!V627-A634)","v":""},{"$f":"LogData!E627","v":"*EOL*"},{"$f":"IF(LEFT($C634,1)=\"*\",\"\",LogData!C627)","v":""},{"$f":"IF(LEFT($C634,1)=\"*\",\"\",LogData!F627)","v":""},{"$f":"IF(LEFT($C634,1)=\"*\",\"\",LogData!D627)","v":""},{"$f":"IF(LEFT($C634,1)=\"*\",\"\",LogData!H627)","v":""},{"$f":"IF(LEFT($C634,1)=\"*\",\"\",LogData!T627*100)","v":""}]
[{"$f":"IF($C635=\"*EOL*\",\"\",INT(LogData!V628))","v":""},{"$f":"IF($C635=\"*EOL*\",\"\",LogData!V628-A635)","v":""},{"$f":"LogData!E628","v":"*EOL*"},{"$f":"IF(LEFT($C635,1)=\"*\",\"\",LogData!C628)","v":""},{"$f":"IF(LEFT($C635,1)=\"*\",\"\",LogData!F628)","v":""},{"$f":"IF(LEFT($C635,1)=\"*\",\"\",LogData!D628)","v":""},{"$f":"IF(LEFT($C635,1)=\"*\",\"\",LogData!H628)","v":""},{"$f":"IF(LEFT($C635,1)=\"*\",\"\",LogData!T628*100)","v":""}]
[{"$f":"IF($C636=\"*EOL*\",\"\",INT(LogData!V629))","v":""},{"$f":"IF($C636=\"*EOL*\",\"\",LogData!V629-A636)","v":""},{"$f":"LogData!E629","v":"*EOL*"},{"$f":"IF(LEFT($C636,1)=\"*\",\"\",LogData!C629)","v":""},{"$f":"IF(LEFT($C636,1)=\"*\",\"\",LogData!F629)","v":""},{"$f":"IF(LEFT($C636,1)=\"*\",\"\",LogData!D629)","v":""},{"$f":"IF(LEFT($C636,1)=\"*\",\"\",LogData!H629)","v":""},{"$f":"IF(LEFT($C636,1)=\"*\",\"\",LogData!T629*100)","v":""}]
[{"$f":"IF($C637=\"*EOL*\",\"\",INT(LogData!V630))","v":""},{"$f":"IF($C637=\"*EOL*\",\"\",LogData!V630-A637)","v":""},{"$f":"LogData!E630","v":"*EOL*"},{"$f":"IF(LEFT($C637,1)=\"*\",\"\",LogData!C630)","v":""},{"$f":"IF(LEFT($C637,1)=\"*\",\"\",LogData!F630)","v":""},{"$f":"IF(LEFT($C637,1)=\"*\",\"\",LogData!D630)","v":""},{"$f":"IF(LEFT($C637,1)=\"*\",\"\",LogData!H630)","v":""},{"$f":"IF(LEFT($C637,1)=\"*\",\"\",LogData!T630*100)","v":""}]
[{"$f":"IF($C638=\"*EOL*\",\"\",INT(LogData!V631))","v":""},{"$f":"IF($C638=\"*EOL*\",\"\",LogData!V631-A638)","v":""},{"$f":"LogData!E631","v":"*EOL*"},{"$f":"IF(LEFT($C638,1)=\"*\",\"\",LogData!C631)","v":""},{"$f":"IF(LEFT($C638,1)=\"*\",\"\",LogData!F631)","v":""},{"$f":"IF(LEFT($C638,1)=\"*\",\"\",LogData!D631)","v":""},{"$f":"IF(LEFT($C638,1)=\"*\",\"\",LogData!H631)","v":""},{"$f":"IF(LEFT($C638,1)=\"*\",\"\",LogData!T631*100)","v":""}]
[{"$f":"IF($C639=\"*EOL*\",\"\",INT(LogData!V632))","v":""},{"$f":"IF($C639=\"*EOL*\",\"\",LogData!V632-A639)","v":""},{"$f":"LogData!E632","v":"*EOL*"},{"$f":"IF(LEFT($C639,1)=\"*\",\"\",LogData!C632)","v":""},{"$f":"IF(LEFT($C639,1)=\"*\",\"\",LogData!F632)","v":""},{"$f":"IF(LEFT($C639,1)=\"*\",\"\",LogData!D632)","v":""},{"$f":"IF(LEFT($C639,1)=\"*\",\"\",LogData!H632)","v":""},{"$f":"IF(LEFT($C639,1)=\"*\",\"\",LogData!T632*100)","v":""}]
[{"$f":"IF($C640=\"*EOL*\",\"\",INT(LogData!V633))","v":""},{"$f":"IF($C640=\"*EOL*\",\"\",LogData!V633-A640)","v":""},{"$f":"LogData!E633","v":"*EOL*"},{"$f":"IF(LEFT($C640,1)=\"*\",\"\",LogData!C633)","v":""},{"$f":"IF(LEFT($C640,1)=\"*\",\"\",LogData!F633)","v":""},{"$f":"IF(LEFT($C640,1)=\"*\",\"\",LogData!D633)","v":""},{"$f":"IF(LEFT($C640,1)=\"*\",\"\",LogData!H633)","v":""},{"$f":"IF(LEFT($C640,1)=\"*\",\"\",LogData!T633*100)","v":""}]
[{"$f":"IF($C641=\"*EOL*\",\"\",INT(LogData!V634))","v":""},{"$f":"IF($C641=\"*EOL*\",\"\",LogData!V634-A641)","v":""},{"$f":"LogData!E634","v":"*EOL*"},{"$f":"IF(LEFT($C641,1)=\"*\",\"\",LogData!C634)","v":""},{"$f":"IF(LEFT($C641,1)=\"*\",\"\",LogData!F634)","v":""},{"$f":"IF(LEFT($C641,1)=\"*\",\"\",LogData!D634)","v":""},{"$f":"IF(LEFT($C641,1)=\"*\",\"\",LogData!H634)","v":""},{"$f":"IF(LEFT($C641,1)=\"*\",\"\",LogData!T634*100)","v":""}]
[{"$f":"IF($C642=\"*EOL*\",\"\",INT(LogData!V635))","v":""},{"$f":"IF($C642=\"*EOL*\",\"\",LogData!V635-A642)","v":""},{"$f":"LogData!E635","v":"*EOL*"},{"$f":"IF(LEFT($C642,1)=\"*\",\"\",LogData!C635)","v":""},{"$f":"IF(LEFT($C642,1)=\"*\",\"\",LogData!F635)","v":""},{"$f":"IF(LEFT($C642,1)=\"*\",\"\",LogData!D635)","v":""},{"$f":"IF(LEFT($C642,1)=\"*\",\"\",LogData!H635)","v":""},{"$f":"IF(LEFT($C642,1)=\"*\",\"\",LogData!T635*100)","v":""}]
[{"$f":"IF($C643=\"*EOL*\",\"\",INT(LogData!V636))","v":""},{"$f":"IF($C643=\"*EOL*\",\"\",LogData!V636-A643)","v":""},{"$f":"LogData!E636","v":"*EOL*"},{"$f":"IF(LEFT($C643,1)=\"*\",\"\",LogData!C636)","v":""},{"$f":"IF(LEFT($C643,1)=\"*\",\"\",LogData!F636)","v":""},{"$f":"IF(LEFT($C643,1)=\"*\",\"\",LogData!D636)","v":""},{"$f":"IF(LEFT($C643,1)=\"*\",\"\",LogData!H636)","v":""},{"$f":"IF(LEFT($C643,1)=\"*\",\"\",LogData!T636*100)","v":""}]
[{"$f":"IF($C644=\"*EOL*\",\"\",INT(LogData!V637))","v":""},{"$f":"IF($C644=\"*EOL*\",\"\",LogData!V637-A644)","v":""},{"$f":"LogData!E637","v":"*EOL*"},{"$f":"IF(LEFT($C644,1)=\"*\",\"\",LogData!C637)","v":""},{"$f":"IF(LEFT($C644,1)=\"*\",\"\",LogData!F637)","v":""},{"$f":"IF(LEFT($C644,1)=\"*\",\"\",LogData!D637)","v":""},{"$f":"IF(LEFT($C644,1)=\"*\",\"\",LogData!H637)","v":""},{"$f":"IF(LEFT($C644,1)=\"*\",\"\",LogData!T637*100)","v":""}]
[{"$f":"IF($C645=\"*EOL*\",\"\",INT(LogData!V638))","v":""},{"$f":"IF($C645=\"*EOL*\",\"\",LogData!V638-A645)","v":""},{"$f":"LogData!E638","v":"*EOL*"},{"$f":"IF(LEFT($C645,1)=\"*\",\"\",LogData!C638)","v":""},{"$f":"IF(LEFT($C645,1)=\"*\",\"\",LogData!F638)","v":""},{"$f":"IF(LEFT($C645,1)=\"*\",\"\",LogData!D638)","v":""},{"$f":"IF(LEFT($C645,1)=\"*\",\"\",LogData!H638)","v":""},{"$f":"IF(LEFT($C645,1)=\"*\",\"\",LogData!T638*100)","v":""}]
[{"$f":"IF($C646=\"*EOL*\",\"\",INT(LogData!V639))","v":""},{"$f":"IF($C646=\"*EOL*\",\"\",LogData!V639-A646)","v":""},{"$f":"LogData!E639","v":"*EOL*"},{"$f":"IF(LEFT($C646,1)=\"*\",\"\",LogData!C639)","v":""},{"$f":"IF(LEFT($C646,1)=\"*\",\"\",LogData!F639)","v":""},{"$f":"IF(LEFT($C646,1)=\"*\",\"\",LogData!D639)","v":""},{"$f":"IF(LEFT($C646,1)=\"*\",\"\",LogData!H639)","v":""},{"$f":"IF(LEFT($C646,1)=\"*\",\"\",LogData!T639*100)","v":""}]
[{"$f":"IF($C647=\"*EOL*\",\"\",INT(LogData!V640))","v":""},{"$f":"IF($C647=\"*EOL*\",\"\",LogData!V640-A647)","v":""},{"$f":"LogData!E640","v":"*EOL*"},{"$f":"IF(LEFT($C647,1)=\"*\",\"\",LogData!C640)","v":""},{"$f":"IF(LEFT($C647,1)=\"*\",\"\",LogData!F640)","v":""},{"$f":"IF(LEFT($C647,1)=\"*\",\"\",LogData!D640)","v":""},{"$f":"IF(LEFT($C647,1)=\"*\",\"\",LogData!H640)","v":""},{"$f":"IF(LEFT($C647,1)=\"*\",\"\",LogData!T640*100)","v":""}]
[{"$f":"IF($C648=\"*EOL*\",\"\",INT(LogData!V641))","v":""},{"$f":"IF($C648=\"*EOL*\",\"\",LogData!V641-A648)","v":""},{"$f":"LogData!E641","v":"*EOL*"},{"$f":"IF(LEFT($C648,1)=\"*\",\"\",LogData!C641)","v":""},{"$f":"IF(LEFT($C648,1)=\"*\",\"\",LogData!F641)","v":""},{"$f":"IF(LEFT($C648,1)=\"*\",\"\",LogData!D641)","v":""},{"$f":"IF(LEFT($C648,1)=\"*\",\"\",LogData!H641)","v":""},{"$f":"IF(LEFT($C648,1)=\"*\",\"\",LogData!T641*100)","v":""}]
[{"$f":"IF($C649=\"*EOL*\",\"\",INT(LogData!V642))","v":""},{"$f":"IF($C649=\"*EOL*\",\"\",LogData!V642-A649)","v":""},{"$f":"LogData!E642","v":"*EOL*"},{"$f":"IF(LEFT($C649,1)=\"*\",\"\",LogData!C642)","v":""},{"$f":"IF(LEFT($C649,1)=\"*\",\"\",LogData!F642)","v":""},{"$f":"IF(LEFT($C649,1)=\"*\",\"\",LogData!D642)","v":""},{"$f":"IF(LEFT($C649,1)=\"*\",\"\",LogData!H642)","v":""},{"$f":"IF(LEFT($C649,1)=\"*\",\"\",LogData!T642*100)","v":""}]
[{"$f":"IF($C650=\"*EOL*\",\"\",INT(LogData!V643))","v":""},{"$f":"IF($C650=\"*EOL*\",\"\",LogData!V643-A650)","v":""},{"$f":"LogData!E643","v":"*EOL*"},{"$f":"IF(LEFT($C650,1)=\"*\",\"\",LogData!C643)","v":""},{"$f":"IF(LEFT($C650,1)=\"*\",\"\",LogData!F643)","v":""},{"$f":"IF(LEFT($C650,1)=\"*\",\"\",LogData!D643)","v":""},{"$f":"IF(LEFT($C650,1)=\"*\",\"\",LogData!H643)","v":""},{"$f":"IF(LEFT($C650,1)=\"*\",\"\",LogData!T643*100)","v":""}]
[{"$f":"IF($C651=\"*EOL*\",\"\",INT(LogData!V644))","v":""},{"$f":"IF($C651=\"*EOL*\",\"\",LogData!V644-A651)","v":""},{"$f":"LogData!E644","v":"*EOL*"},{"$f":"IF(LEFT($C651,1)=\"*\",\"\",LogData!C644)","v":""},{"$f":"IF(LEFT($C651,1)=\"*\",\"\",LogData!F644)","v":""},{"$f":"IF(LEFT($C651,1)=\"*\",\"\",LogData!D644)","v":""},{"$f":"IF(LEFT($C651,1)=\"*\",\"\",LogData!H644)","v":""},{"$f":"IF(LEFT($C651,1)=\"*\",\"\",LogData!T644*100)","v":""}]
[{"$f":"IF($C652=\"*EOL*\",\"\",INT(LogData!V645))","v":""},{"$f":"IF($C652=\"*EOL*\",\"\",LogData!V645-A652)","v":""},{"$f":"LogData!E645","v":"*EOL*"},{"$f":"IF(LEFT($C652,1)=\"*\",\"\",LogData!C645)","v":""},{"$f":"IF(LEFT($C652,1)=\"*\",\"\",LogData!F645)","v":""},{"$f":"IF(LEFT($C652,1)=\"*\",\"\",LogData!D645)","v":""},{"$f":"IF(LEFT($C652,1)=\"*\",\"\",LogData!H645)","v":""},{"$f":"IF(LEFT($C652,1)=\"*\",\"\",LogData!T645*100)","v":""}]
[{"$f":"IF($C653=\"*EOL*\",\"\",INT(LogData!V646))","v":""},{"$f":"IF($C653=\"*EOL*\",\"\",LogData!V646-A653)","v":""},{"$f":"LogData!E646","v":"*EOL*"},{"$f":"IF(LEFT($C653,1)=\"*\",\"\",LogData!C646)","v":""},{"$f":"IF(LEFT($C653,1)=\"*\",\"\",LogData!F646)","v":""},{"$f":"IF(LEFT($C653,1)=\"*\",\"\",LogData!D646)","v":""},{"$f":"IF(LEFT($C653,1)=\"*\",\"\",LogData!H646)","v":""},{"$f":"IF(LEFT($C653,1)=\"*\",\"\",LogData!T646*100)","v":""}]
[{"$f":"IF($C654=\"*EOL*\",\"\",INT(LogData!V647))","v":""},{"$f":"IF($C654=\"*EOL*\",\"\",LogData!V647-A654)","v":""},{"$f":"LogData!E647","v":"*EOL*"},{"$f":"IF(LEFT($C654,1)=\"*\",\"\",LogData!C647)","v":""},{"$f":"IF(LEFT($C654,1)=\"*\",\"\",LogData!F647)","v":""},{"$f":"IF(LEFT($C654,1)=\"*\",\"\",LogData!D647)","v":""},{"$f":"IF(LEFT($C654,1)=\"*\",\"\",LogData!H647)","v":""},{"$f":"IF(LEFT($C654,1)=\"*\",\"\",LogData!T647*100)","v":""}]
[{"$f":"IF($C655=\"*EOL*\",\"\",INT(LogData!V648))","v":""},{"$f":"IF($C655=\"*EOL*\",\"\",LogData!V648-A655)","v":""},{"$f":"LogData!E648","v":"*EOL*"},{"$f":"IF(LEFT($C655,1)=\"*\",\"\",LogData!C648)","v":""},{"$f":"IF(LEFT($C655,1)=\"*\",\"\",LogData!F648)","v":""},{"$f":"IF(LEFT($C655,1)=\"*\",\"\",LogData!D648)","v":""},{"$f":"IF(LEFT($C655,1)=\"*\",\"\",LogData!H648)","v":""},{"$f":"IF(LEFT($C655,1)=\"*\",\"\",LogData!T648*100)","v":""}]
[{"$f":"IF($C656=\"*EOL*\",\"\",INT(LogData!V649))","v":""},{"$f":"IF($C656=\"*EOL*\",\"\",LogData!V649-A656)","v":""},{"$f":"LogData!E649","v":"*EOL*"},{"$f":"IF(LEFT($C656,1)=\"*\",\"\",LogData!C649)","v":""},{"$f":"IF(LEFT($C656,1)=\"*\",\"\",LogData!F649)","v":""},{"$f":"IF(LEFT($C656,1)=\"*\",\"\",LogData!D649)","v":""},{"$f":"IF(LEFT($C656,1)=\"*\",\"\",LogData!H649)","v":""},{"$f":"IF(LEFT($C656,1)=\"*\",\"\",LogData!T649*100)","v":""}]
[{"$f":"IF($C657=\"*EOL*\",\"\",INT(LogData!V650))","v":""},{"$f":"IF($C657=\"*EOL*\",\"\",LogData!V650-A657)","v":""},{"$f":"LogData!E650","v":"*EOL*"},{"$f":"IF(LEFT($C657,1)=\"*\",\"\",LogData!C650)","v":""},{"$f":"IF(LEFT($C657,1)=\"*\",\"\",LogData!F650)","v":""},{"$f":"IF(LEFT($C657,1)=\"*\",\"\",LogData!D650)","v":""},{"$f":"IF(LEFT($C657,1)=\"*\",\"\",LogData!H650)","v":""},{"$f":"IF(LEFT($C657,1)=\"*\",\"\",LogData!T650*100)","v":""}]
[{"$f":"IF($C658=\"*EOL*\",\"\",INT(LogData!V651))","v":""},{"$f":"IF($C658=\"*EOL*\",\"\",LogData!V651-A658)","v":""},{"$f":"LogData!E651","v":"*EOL*"},{"$f":"IF(LEFT($C658,1)=\"*\",\"\",LogData!C651)","v":""},{"$f":"IF(LEFT($C658,1)=\"*\",\"\",LogData!F651)","v":""},{"$f":"IF(LEFT($C658,1)=\"*\",\"\",LogData!D651)","v":""},{"$f":"IF(LEFT($C658,1)=\"*\",\"\",LogData!H651)","v":""},{"$f":"IF(LEFT($C658,1)=\"*\",\"\",LogData!T651*100)","v":""}]
[{"$f":"IF($C659=\"*EOL*\",\"\",INT(LogData!V652))","v":""},{"$f":"IF($C659=\"*EOL*\",\"\",LogData!V652-A659)","v":""},{"$f":"LogData!E652","v":"*EOL*"},{"$f":"IF(LEFT($C659,1)=\"*\",\"\",LogData!C652)","v":""},{"$f":"IF(LEFT($C659,1)=\"*\",\"\",LogData!F652)","v":""},{"$f":"IF(LEFT($C659,1)=\"*\",\"\",LogData!D652)","v":""},{"$f":"IF(LEFT($C659,1)=\"*\",\"\",LogData!H652)","v":""},{"$f":"IF(LEFT($C659,1)=\"*\",\"\",LogData!T652*100)","v":""}]
[{"$f":"IF($C660=\"*EOL*\",\"\",INT(LogData!V653))","v":""},{"$f":"IF($C660=\"*EOL*\",\"\",LogData!V653-A660)","v":""},{"$f":"LogData!E653","v":"*EOL*"},{"$f":"IF(LEFT($C660,1)=\"*\",\"\",LogData!C653)","v":""},{"$f":"IF(LEFT($C660,1)=\"*\",\"\",LogData!F653)","v":""},{"$f":"IF(LEFT($C660,1)=\"*\",\"\",LogData!D653)","v":""},{"$f":"IF(LEFT($C660,1)=\"*\",\"\",LogData!H653)","v":""},{"$f":"IF(LEFT($C660,1)=\"*\",\"\",LogData!T653*100)","v":""}]
[{"$f":"IF($C661=\"*EOL*\",\"\",INT(LogData!V654))","v":""},{"$f":"IF($C661=\"*EOL*\",\"\",LogData!V654-A661)","v":""},{"$f":"LogData!E654","v":"*EOL*"},{"$f":"IF(LEFT($C661,1)=\"*\",\"\",LogData!C654)","v":""},{"$f":"IF(LEFT($C661,1)=\"*\",\"\",LogData!F654)","v":""},{"$f":"IF(LEFT($C661,1)=\"*\",\"\",LogData!D654)","v":""},{"$f":"IF(LEFT($C661,1)=\"*\",\"\",LogData!H654)","v":""},{"$f":"IF(LEFT($C661,1)=\"*\",\"\",LogData!T654*100)","v":""}]
[{"$f":"IF($C662=\"*EOL*\",\"\",INT(LogData!V655))","v":""},{"$f":"IF($C662=\"*EOL*\",\"\",LogData!V655-A662)","v":""},{"$f":"LogData!E655","v":"*EOL*"},{"$f":"IF(LEFT($C662,1)=\"*\",\"\",LogData!C655)","v":""},{"$f":"IF(LEFT($C662,1)=\"*\",\"\",LogData!F655)","v":""},{"$f":"IF(LEFT($C662,1)=\"*\",\"\",LogData!D655)","v":""},{"$f":"IF(LEFT($C662,1)=\"*\",\"\",LogData!H655)","v":""},{"$f":"IF(LEFT($C662,1)=\"*\",\"\",LogData!T655*100)","v":""}]
[{"$f":"IF($C663=\"*EOL*\",\"\",INT(LogData!V656))","v":""},{"$f":"IF($C663=\"*EOL*\",\"\",LogData!V656-A663)","v":""},{"$f":"LogData!E656","v":"*EOL*"},{"$f":"IF(LEFT($C663,1)=\"*\",\"\",LogData!C656)","v":""},{"$f":"IF(LEFT($C663,1)=\"*\",\"\",LogData!F656)","v":""},{"$f":"IF(LEFT($C663,1)=\"*\",\"\",LogData!D656)","v":""},{"$f":"IF(LEFT($C663,1)=\"*\",\"\",LogData!H656)","v":""},{"$f":"IF(LEFT($C663,1)=\"*\",\"\",LogData!T656*100)","v":""}]
[{"$f":"IF($C664=\"*EOL*\",\"\",INT(LogData!V657))","v":""},{"$f":"IF($C664=\"*EOL*\",\"\",LogData!V657-A664)","v":""},{"$f":"LogData!E657","v":"*EOL*"},{"$f":"IF(LEFT($C664,1)=\"*\",\"\",LogData!C657)","v":""},{"$f":"IF(LEFT($C664,1)=\"*\",\"\",LogData!F657)","v":""},{"$f":"IF(LEFT($C664,1)=\"*\",\"\",LogData!D657)","v":""},{"$f":"IF(LEFT($C664,1)=\"*\",\"\",LogData!H657)","v":""},{"$f":"IF(LEFT($C664,1)=\"*\",\"\",LogData!T657*100)","v":""}]
[{"$f":"IF($C665=\"*EOL*\",\"\",INT(LogData!V658))","v":""},{"$f":"IF($C665=\"*EOL*\",\"\",LogData!V658-A665)","v":""},{"$f":"LogData!E658","v":"*EOL*"},{"$f":"IF(LEFT($C665,1)=\"*\",\"\",LogData!C658)","v":""},{"$f":"IF(LEFT($C665,1)=\"*\",\"\",LogData!F658)","v":""},{"$f":"IF(LEFT($C665,1)=\"*\",\"\",LogData!D658)","v":""},{"$f":"IF(LEFT($C665,1)=\"*\",\"\",LogData!H658)","v":""},{"$f":"IF(LEFT($C665,1)=\"*\",\"\",LogData!T658*100)","v":""}]
[{"$f":"IF($C666=\"*EOL*\",\"\",INT(LogData!V659))","v":""},{"$f":"IF($C666=\"*EOL*\",\"\",LogData!V659-A666)","v":""},{"$f":"LogData!E659","v":"*EOL*"},{"$f":"IF(LEFT($C666,1)=\"*\",\"\",LogData!C659)","v":""},{"$f":"IF(LEFT($C666,1)=\"*\",\"\",LogData!F659)","v":""},{"$f":"IF(LEFT($C666,1)=\"*\",\"\",LogData!D659)","v":""},{"$f":"IF(LEFT($C666,1)=\"*\",\"\",LogData!H659)","v":""},{"$f":"IF(LEFT($C666,1)=\"*\",\"\",LogData!T659*100)","v":""}]
[{"$f":"IF($C667=\"*EOL*\",\"\",INT(LogData!V660))","v":""},{"$f":"IF($C667=\"*EOL*\",\"\",LogData!V660-A667)","v":""},{"$f":"LogData!E660","v":"*EOL*"},{"$f":"IF(LEFT($C667,1)=\"*\",\"\",LogData!C660)","v":""},{"$f":"IF(LEFT($C667,1)=\"*\",\"\",LogData!F660)","v":""},{"$f":"IF(LEFT($C667,1)=\"*\",\"\",LogData!D660)","v":""},{"$f":"IF(LEFT($C667,1)=\"*\",\"\",LogData!H660)","v":""},{"$f":"IF(LEFT($C667,1)=\"*\",\"\",LogData!T660*100)","v":""}]
[{"$f":"IF($C668=\"*EOL*\",\"\",INT(LogData!V661))","v":""},{"$f":"IF($C668=\"*EOL*\",\"\",LogData!V661-A668)","v":""},{"$f":"LogData!E661","v":"*EOL*"},{"$f":"IF(LEFT($C668,1)=\"*\",\"\",LogData!C661)","v":""},{"$f":"IF(LEFT($C668,1)=\"*\",\"\",LogData!F661)","v":""},{"$f":"IF(LEFT($C668,1)=\"*\",\"\",LogData!D661)","v":""},{"$f":"IF(LEFT($C668,1)=\"*\",\"\",LogData!H661)","v":""},{"$f":"IF(LEFT($C668,1)=\"*\",\"\",LogData!T661*100)","v":""}]
[{"$f":"IF($C669=\"*EOL*\",\"\",INT(LogData!V662))","v":""},{"$f":"IF($C669=\"*EOL*\",\"\",LogData!V662-A669)","v":""},{"$f":"LogData!E662","v":"*EOL*"},{"$f":"IF(LEFT($C669,1)=\"*\",\"\",LogData!C662)","v":""},{"$f":"IF(LEFT($C669,1)=\"*\",\"\",LogData!F662)","v":""},{"$f":"IF(LEFT($C669,1)=\"*\",\"\",LogData!D662)","v":""},{"$f":"IF(LEFT($C669,1)=\"*\",\"\",LogData!H662)","v":""},{"$f":"IF(LEFT($C669,1)=\"*\",\"\",LogData!T662*100)","v":""}]
[{"$f":"IF($C670=\"*EOL*\",\"\",INT(LogData!V663))","v":""},{"$f":"IF($C670=\"*EOL*\",\"\",LogData!V663-A670)","v":""},{"$f":"LogData!E663","v":"*EOL*"},{"$f":"IF(LEFT($C670,1)=\"*\",\"\",LogData!C663)","v":""},{"$f":"IF(LEFT($C670,1)=\"*\",\"\",LogData!F663)","v":""},{"$f":"IF(LEFT($C670,1)=\"*\",\"\",LogData!D663)","v":""},{"$f":"IF(LEFT($C670,1)=\"*\",\"\",LogData!H663)","v":""},{"$f":"IF(LEFT($C670,1)=\"*\",\"\",LogData!T663*100)","v":""}]
[{"$f":"IF($C671=\"*EOL*\",\"\",INT(LogData!V664))","v":""},{"$f":"IF($C671=\"*EOL*\",\"\",LogData!V664-A671)","v":""},{"$f":"LogData!E664","v":"*EOL*"},{"$f":"IF(LEFT($C671,1)=\"*\",\"\",LogData!C664)","v":""},{"$f":"IF(LEFT($C671,1)=\"*\",\"\",LogData!F664)","v":""},{"$f":"IF(LEFT($C671,1)=\"*\",\"\",LogData!D664)","v":""},{"$f":"IF(LEFT($C671,1)=\"*\",\"\",LogData!H664)","v":""},{"$f":"IF(LEFT($C671,1)=\"*\",\"\",LogData!T664*100)","v":""}]
[{"$f":"IF($C672=\"*EOL*\",\"\",INT(LogData!V665))","v":""},{"$f":"IF($C672=\"*EOL*\",\"\",LogData!V665-A672)","v":""},{"$f":"LogData!E665","v":"*EOL*"},{"$f":"IF(LEFT($C672,1)=\"*\",\"\",LogData!C665)","v":""},{"$f":"IF(LEFT($C672,1)=\"*\",\"\",LogData!F665)","v":""},{"$f":"IF(LEFT($C672,1)=\"*\",\"\",LogData!D665)","v":""},{"$f":"IF(LEFT($C672,1)=\"*\",\"\",LogData!H665)","v":""},{"$f":"IF(LEFT($C672,1)=\"*\",\"\",LogData!T665*100)","v":""}]
[{"$f":"IF($C673=\"*EOL*\",\"\",INT(LogData!V666))","v":""},{"$f":"IF($C673=\"*EOL*\",\"\",LogData!V666-A673)","v":""},{"$f":"LogData!E666","v":"*EOL*"},{"$f":"IF(LEFT($C673,1)=\"*\",\"\",LogData!C666)","v":""},{"$f":"IF(LEFT($C673,1)=\"*\",\"\",LogData!F666)","v":""},{"$f":"IF(LEFT($C673,1)=\"*\",\"\",LogData!D666)","v":""},{"$f":"IF(LEFT($C673,1)=\"*\",\"\",LogData!H666)","v":""},{"$f":"IF(LEFT($C673,1)=\"*\",\"\",LogData!T666*100)","v":""}]
[{"$f":"IF($C674=\"*EOL*\",\"\",INT(LogData!V667))","v":""},{"$f":"IF($C674=\"*EOL*\",\"\",LogData!V667-A674)","v":""},{"$f":"LogData!E667","v":"*EOL*"},{"$f":"IF(LEFT($C674,1)=\"*\",\"\",LogData!C667)","v":""},{"$f":"IF(LEFT($C674,1)=\"*\",\"\",LogData!F667)","v":""},{"$f":"IF(LEFT($C674,1)=\"*\",\"\",LogData!D667)","v":""},{"$f":"IF(LEFT($C674,1)=\"*\",\"\",LogData!H667)","v":""},{"$f":"IF(LEFT($C674,1)=\"*\",\"\",LogData!T667*100)","v":""}]
[{"$f":"IF($C675=\"*EOL*\",\"\",INT(LogData!V668))","v":""},{"$f":"IF($C675=\"*EOL*\",\"\",LogData!V668-A675)","v":""},{"$f":"LogData!E668","v":"*EOL*"},{"$f":"IF(LEFT($C675,1)=\"*\",\"\",LogData!C668)","v":""},{"$f":"IF(LEFT($C675,1)=\"*\",\"\",LogData!F668)","v":""},{"$f":"IF(LEFT($C675,1)=\"*\",\"\",LogData!D668)","v":""},{"$f":"IF(LEFT($C675,1)=\"*\",\"\",LogData!H668)","v":""},{"$f":"IF(LEFT($C675,1)=\"*\",\"\",LogData!T668*100)","v":""}]
[{"$f":"IF($C676=\"*EOL*\",\"\",INT(LogData!V669))","v":""},{"$f":"IF($C676=\"*EOL*\",\"\",LogData!V669-A676)","v":""},{"$f":"LogData!E669","v":"*EOL*"},{"$f":"IF(LEFT($C676,1)=\"*\",\"\",LogData!C669)","v":""},{"$f":"IF(LEFT($C676,1)=\"*\",\"\",LogData!F669)","v":""},{"$f":"IF(LEFT($C676,1)=\"*\",\"\",LogData!D669)","v":""},{"$f":"IF(LEFT($C676,1)=\"*\",\"\",LogData!H669)","v":""},{"$f":"IF(LEFT($C676,1)=\"*\",\"\",LogData!T669*100)","v":""}]
[{"$f":"IF($C677=\"*EOL*\",\"\",INT(LogData!V670))","v":""},{"$f":"IF($C677=\"*EOL*\",\"\",LogData!V670-A677)","v":""},{"$f":"LogData!E670","v":"*EOL*"},{"$f":"IF(LEFT($C677,1)=\"*\",\"\",LogData!C670)","v":""},{"$f":"IF(LEFT($C677,1)=\"*\",\"\",LogData!F670)","v":""},{"$f":"IF(LEFT($C677,1)=\"*\",\"\",LogData!D670)","v":""},{"$f":"IF(LEFT($C677,1)=\"*\",\"\",LogData!H670)","v":""},{"$f":"IF(LEFT($C677,1)=\"*\",\"\",LogData!T670*100)","v":""}]
[{"$f":"IF($C678=\"*EOL*\",\"\",INT(LogData!V671))","v":""},{"$f":"IF($C678=\"*EOL*\",\"\",LogData!V671-A678)","v":""},{"$f":"LogData!E671","v":"*EOL*"},{"$f":"IF(LEFT($C678,1)=\"*\",\"\",LogData!C671)","v":""},{"$f":"IF(LEFT($C678,1)=\"*\",\"\",LogData!F671)","v":""},{"$f":"IF(LEFT($C678,1)=\"*\",\"\",LogData!D671)","v":""},{"$f":"IF(LEFT($C678,1)=\"*\",\"\",LogData!H671)","v":""},{"$f":"IF(LEFT($C678,1)=\"*\",\"\",LogData!T671*100)","v":""}]
[{"$f":"IF($C679=\"*EOL*\",\"\",INT(LogData!V672))","v":""},{"$f":"IF($C679=\"*EOL*\",\"\",LogData!V672-A679)","v":""},{"$f":"LogData!E672","v":"*EOL*"},{"$f":"IF(LEFT($C679,1)=\"*\",\"\",LogData!C672)","v":""},{"$f":"IF(LEFT($C679,1)=\"*\",\"\",LogData!F672)","v":""},{"$f":"IF(LEFT($C679,1)=\"*\",\"\",LogData!D672)","v":""},{"$f":"IF(LEFT($C679,1)=\"*\",\"\",LogData!H672)","v":""},{"$f":"IF(LEFT($C679,1)=\"*\",\"\",LogData!T672*100)","v":""}]
[{"$f":"IF($C680=\"*EOL*\",\"\",INT(LogData!V673))","v":""},{"$f":"IF($C680=\"*EOL*\",\"\",LogData!V673-A680)","v":""},{"$f":"LogData!E673","v":"*EOL*"},{"$f":"IF(LEFT($C680,1)=\"*\",\"\",LogData!C673)","v":""},{"$f":"IF(LEFT($C680,1)=\"*\",\"\",LogData!F673)","v":""},{"$f":"IF(LEFT($C680,1)=\"*\",\"\",LogData!D673)","v":""},{"$f":"IF(LEFT($C680,1)=\"*\",\"\",LogData!H673)","v":""},{"$f":"IF(LEFT($C680,1)=\"*\",\"\",LogData!T673*100)","v":""}]
[{"$f":"IF($C681=\"*EOL*\",\"\",INT(LogData!V674))","v":""},{"$f":"IF($C681=\"*EOL*\",\"\",LogData!V674-A681)","v":""},{"$f":"LogData!E674","v":"*EOL*"},{"$f":"IF(LEFT($C681,1)=\"*\",\"\",LogData!C674)","v":""},{"$f":"IF(LEFT($C681,1)=\"*\",\"\",LogData!F674)","v":""},{"$f":"IF(LEFT($C681,1)=\"*\",\"\",LogData!D674)","v":""},{"$f":"IF(LEFT($C681,1)=\"*\",\"\",LogData!H674)","v":""},{"$f":"IF(LEFT($C681,1)=\"*\",\"\",LogData!T674*100)","v":""}]
[{"$f":"IF($C682=\"*EOL*\",\"\",INT(LogData!V675))","v":""},{"$f":"IF($C682=\"*EOL*\",\"\",LogData!V675-A682)","v":""},{"$f":"LogData!E675","v":"*EOL*"},{"$f":"IF(LEFT($C682,1)=\"*\",\"\",LogData!C675)","v":""},{"$f":"IF(LEFT($C682,1)=\"*\",\"\",LogData!F675)","v":""},{"$f":"IF(LEFT($C682,1)=\"*\",\"\",LogData!D675)","v":""},{"$f":"IF(LEFT($C682,1)=\"*\",\"\",LogData!H675)","v":""},{"$f":"IF(LEFT($C682,1)=\"*\",\"\",LogData!T675*100)","v":""}]
[{"$f":"IF($C683=\"*EOL*\",\"\",INT(LogData!V676))","v":""},{"$f":"IF($C683=\"*EOL*\",\"\",LogData!V676-A683)","v":""},{"$f":"LogData!E676","v":"*EOL*"},{"$f":"IF(LEFT($C683,1)=\"*\",\"\",LogData!C676)","v":""},{"$f":"IF(LEFT($C683,1)=\"*\",\"\",LogData!F676)","v":""},{"$f":"IF(LEFT($C683,1)=\"*\",\"\",LogData!D676)","v":""},{"$f":"IF(LEFT($C683,1)=\"*\",\"\",LogData!H676)","v":""},{"$f":"IF(LEFT($C683,1)=\"*\",\"\",LogData!T676*100)","v":""}]
[{"$f":"IF($C684=\"*EOL*\",\"\",INT(LogData!V677))","v":""},{"$f":"IF($C684=\"*EOL*\",\"\",LogData!V677-A684)","v":""},{"$f":"LogData!E677","v":"*EOL*"},{"$f":"IF(LEFT($C684,1)=\"*\",\"\",LogData!C677)","v":""},{"$f":"IF(LEFT($C684,1)=\"*\",\"\",LogData!F677)","v":""},{"$f":"IF(LEFT($C684,1)=\"*\",\"\",LogData!D677)","v":""},{"$f":"IF(LEFT($C684,1)=\"*\",\"\",LogData!H677)","v":""},{"$f":"IF(LEFT($C684,1)=\"*\",\"\",LogData!T677*100)","v":""}]
[{"$f":"IF($C685=\"*EOL*\",\"\",INT(LogData!V678))","v":""},{"$f":"IF($C685=\"*EOL*\",\"\",LogData!V678-A685)","v":""},{"$f":"LogData!E678","v":"*EOL*"},{"$f":"IF(LEFT($C685,1)=\"*\",\"\",LogData!C678)","v":""},{"$f":"IF(LEFT($C685,1)=\"*\",\"\",LogData!F678)","v":""},{"$f":"IF(LEFT($C685,1)=\"*\",\"\",LogData!D678)","v":""},{"$f":"IF(LEFT($C685,1)=\"*\",\"\",LogData!H678)","v":""},{"$f":"IF(LEFT($C685,1)=\"*\",\"\",LogData!T678*100)","v":""}]
[{"$f":"IF($C686=\"*EOL*\",\"\",INT(LogData!V679))","v":""},{"$f":"IF($C686=\"*EOL*\",\"\",LogData!V679-A686)","v":""},{"$f":"LogData!E679","v":"*EOL*"},{"$f":"IF(LEFT($C686,1)=\"*\",\"\",LogData!C679)","v":""},{"$f":"IF(LEFT($C686,1)=\"*\",\"\",LogData!F679)","v":""},{"$f":"IF(LEFT($C686,1)=\"*\",\"\",LogData!D679)","v":""},{"$f":"IF(LEFT($C686,1)=\"*\",\"\",LogData!H679)","v":""},{"$f":"IF(LEFT($C686,1)=\"*\",\"\",LogData!T679*100)","v":""}]
[{"$f":"IF($C687=\"*EOL*\",\"\",INT(LogData!V680))","v":""},{"$f":"IF($C687=\"*EOL*\",\"\",LogData!V680-A687)","v":""},{"$f":"LogData!E680","v":"*EOL*"},{"$f":"IF(LEFT($C687,1)=\"*\",\"\",LogData!C680)","v":""},{"$f":"IF(LEFT($C687,1)=\"*\",\"\",LogData!F680)","v":""},{"$f":"IF(LEFT($C687,1)=\"*\",\"\",LogData!D680)","v":""},{"$f":"IF(LEFT($C687,1)=\"*\",\"\",LogData!H680)","v":""},{"$f":"IF(LEFT($C687,1)=\"*\",\"\",LogData!T680*100)","v":""}]
[{"$f":"IF($C688=\"*EOL*\",\"\",INT(LogData!V681))","v":""},{"$f":"IF($C688=\"*EOL*\",\"\",LogData!V681-A688)","v":""},{"$f":"LogData!E681","v":"*EOL*"},{"$f":"IF(LEFT($C688,1)=\"*\",\"\",LogData!C681)","v":""},{"$f":"IF(LEFT($C688,1)=\"*\",\"\",LogData!F681)","v":""},{"$f":"IF(LEFT($C688,1)=\"*\",\"\",LogData!D681)","v":""},{"$f":"IF(LEFT($C688,1)=\"*\",\"\",LogData!H681)","v":""},{"$f":"IF(LEFT($C688,1)=\"*\",\"\",LogData!T681*100)","v":""}]
[{"$f":"IF($C689=\"*EOL*\",\"\",INT(LogData!V682))","v":""},{"$f":"IF($C689=\"*EOL*\",\"\",LogData!V682-A689)","v":""},{"$f":"LogData!E682","v":"*EOL*"},{"$f":"IF(LEFT($C689,1)=\"*\",\"\",LogData!C682)","v":""},{"$f":"IF(LEFT($C689,1)=\"*\",\"\",LogData!F682)","v":""},{"$f":"IF(LEFT($C689,1)=\"*\",\"\",LogData!D682)","v":""},{"$f":"IF(LEFT($C689,1)=\"*\",\"\",LogData!H682)","v":""},{"$f":"IF(LEFT($C689,1)=\"*\",\"\",LogData!T682*100)","v":""}]
[{"$f":"IF($C690=\"*EOL*\",\"\",INT(LogData!V683))","v":""},{"$f":"IF($C690=\"*EOL*\",\"\",LogData!V683-A690)","v":""},{"$f":"LogData!E683","v":"*EOL*"},{"$f":"IF(LEFT($C690,1)=\"*\",\"\",LogData!C683)","v":""},{"$f":"IF(LEFT($C690,1)=\"*\",\"\",LogData!F683)","v":""},{"$f":"IF(LEFT($C690,1)=\"*\",\"\",LogData!D683)","v":""},{"$f":"IF(LEFT($C690,1)=\"*\",\"\",LogData!H683)","v":""},{"$f":"IF(LEFT($C690,1)=\"*\",\"\",LogData!T683*100)","v":""}]
[{"$f":"IF($C691=\"*EOL*\",\"\",INT(LogData!V684))","v":""},{"$f":"IF($C691=\"*EOL*\",\"\",LogData!V684-A691)","v":""},{"$f":"LogData!E684","v":"*EOL*"},{"$f":"IF(LEFT($C691,1)=\"*\",\"\",LogData!C684)","v":""},{"$f":"IF(LEFT($C691,1)=\"*\",\"\",LogData!F684)","v":""},{"$f":"IF(LEFT($C691,1)=\"*\",\"\",LogData!D684)","v":""},{"$f":"IF(LEFT($C691,1)=\"*\",\"\",LogData!H684)","v":""},{"$f":"IF(LEFT($C691,1)=\"*\",\"\",LogData!T684*100)","v":""}]
[{"$f":"IF($C692=\"*EOL*\",\"\",INT(LogData!V685))","v":""},{"$f":"IF($C692=\"*EOL*\",\"\",LogData!V685-A692)","v":""},{"$f":"LogData!E685","v":"*EOL*"},{"$f":"IF(LEFT($C692,1)=\"*\",\"\",LogData!C685)","v":""},{"$f":"IF(LEFT($C692,1)=\"*\",\"\",LogData!F685)","v":""},{"$f":"IF(LEFT($C692,1)=\"*\",\"\",LogData!D685)","v":""},{"$f":"IF(LEFT($C692,1)=\"*\",\"\",LogData!H685)","v":""},{"$f":"IF(LEFT($C692,1)=\"*\",\"\",LogData!T685*100)","v":""}]
[{"$f":"IF($C693=\"*EOL*\",\"\",INT(LogData!V686))","v":""},{"$f":"IF($C693=\"*EOL*\",\"\",LogData!V686-A693)","v":""},{"$f":"LogData!E686","v":"*EOL*"},{"$f":"IF(LEFT($C693,1)=\"*\",\"\",LogData!C686)","v":""},{"$f":"IF(LEFT($C693,1)=\"*\",\"\",LogData!F686)","v":""},{"$f":"IF(LEFT($C693,1)=\"*\",\"\",LogData!D686)","v":""},{"$f":"IF(LEFT($C693,1)=\"*\",\"\",LogData!H686)","v":""},{"$f":"IF(LEFT($C693,1)=\"*\",\"\",LogData!T686*100)","v":""}]
[{"$f":"IF($C694=\"*EOL*\",\"\",INT(LogData!V687))","v":""},{"$f":"IF($C694=\"*EOL*\",\"\",LogData!V687-A694)","v":""},{"$f":"LogData!E687","v":"*EOL*"},{"$f":"IF(LEFT($C694,1)=\"*\",\"\",LogData!C687)","v":""},{"$f":"IF(LEFT($C694,1)=\"*\",\"\",LogData!F687)","v":""},{"$f":"IF(LEFT($C694,1)=\"*\",\"\",LogData!D687)","v":""},{"$f":"IF(LEFT($C694,1)=\"*\",\"\",LogData!H687)","v":""},{"$f":"IF(LEFT($C694,1)=\"*\",\"\",LogData!T687*100)","v":""}]
[{"$f":"IF($C695=\"*EOL*\",\"\",INT(LogData!V688))","v":""},{"$f":"IF($C695=\"*EOL*\",\"\",LogData!V688-A695)","v":""},{"$f":"LogData!E688","v":"*EOL*"},{"$f":"IF(LEFT($C695,1)=\"*\",\"\",LogData!C688)","v":""},{"$f":"IF(LEFT($C695,1)=\"*\",\"\",LogData!F688)","v":""},{"$f":"IF(LEFT($C695,1)=\"*\",\"\",LogData!D688)","v":""},{"$f":"IF(LEFT($C695,1)=\"*\",\"\",LogData!H688)","v":""},{"$f":"IF(LEFT($C695,1)=\"*\",\"\",LogData!T688*100)","v":""}]
[{"$f":"IF($C696=\"*EOL*\",\"\",INT(LogData!V689))","v":""},{"$f":"IF($C696=\"*EOL*\",\"\",LogData!V689-A696)","v":""},{"$f":"LogData!E689","v":"*EOL*"},{"$f":"IF(LEFT($C696,1)=\"*\",\"\",LogData!C689)","v":""},{"$f":"IF(LEFT($C696,1)=\"*\",\"\",LogData!F689)","v":""},{"$f":"IF(LEFT($C696,1)=\"*\",\"\",LogData!D689)","v":""},{"$f":"IF(LEFT($C696,1)=\"*\",\"\",LogData!H689)","v":""},{"$f":"IF(LEFT($C696,1)=\"*\",\"\",LogData!T689*100)","v":""}]
[{"$f":"IF($C697=\"*EOL*\",\"\",INT(LogData!V690))","v":""},{"$f":"IF($C697=\"*EOL*\",\"\",LogData!V690-A697)","v":""},{"$f":"LogData!E690","v":"*EOL*"},{"$f":"IF(LEFT($C697,1)=\"*\",\"\",LogData!C690)","v":""},{"$f":"IF(LEFT($C697,1)=\"*\",\"\",LogData!F690)","v":""},{"$f":"IF(LEFT($C697,1)=\"*\",\"\",LogData!D690)","v":""},{"$f":"IF(LEFT($C697,1)=\"*\",\"\",LogData!H690)","v":""},{"$f":"IF(LEFT($C697,1)=\"*\",\"\",LogData!T690*100)","v":""}]
[{"$f":"IF($C698=\"*EOL*\",\"\",INT(LogData!V691))","v":""},{"$f":"IF($C698=\"*EOL*\",\"\",LogData!V691-A698)","v":""},{"$f":"LogData!E691","v":"*EOL*"},{"$f":"IF(LEFT($C698,1)=\"*\",\"\",LogData!C691)","v":""},{"$f":"IF(LEFT($C698,1)=\"*\",\"\",LogData!F691)","v":""},{"$f":"IF(LEFT($C698,1)=\"*\",\"\",LogData!D691)","v":""},{"$f":"IF(LEFT($C698,1)=\"*\",\"\",LogData!H691)","v":""},{"$f":"IF(LEFT($C698,1)=\"*\",\"\",LogData!T691*100)","v":""}]
[{"$f":"IF($C699=\"*EOL*\",\"\",INT(LogData!V692))","v":""},{"$f":"IF($C699=\"*EOL*\",\"\",LogData!V692-A699)","v":""},{"$f":"LogData!E692","v":"*EOL*"},{"$f":"IF(LEFT($C699,1)=\"*\",\"\",LogData!C692)","v":""},{"$f":"IF(LEFT($C699,1)=\"*\",\"\",LogData!F692)","v":""},{"$f":"IF(LEFT($C699,1)=\"*\",\"\",LogData!D692)","v":""},{"$f":"IF(LEFT($C699,1)=\"*\",\"\",LogData!H692)","v":""},{"$f":"IF(LEFT($C699,1)=\"*\",\"\",LogData!T692*100)","v":""}]
[{"$f":"IF($C700=\"*EOL*\",\"\",INT(LogData!V693))","v":""},{"$f":"IF($C700=\"*EOL*\",\"\",LogData!V693-A700)","v":""},{"$f":"LogData!E693","v":"*EOL*"},{"$f":"IF(LEFT($C700,1)=\"*\",\"\",LogData!C693)","v":""},{"$f":"IF(LEFT($C700,1)=\"*\",\"\",LogData!F693)","v":""},{"$f":"IF(LEFT($C700,1)=\"*\",\"\",LogData!D693)","v":""},{"$f":"IF(LEFT($C700,1)=\"*\",\"\",LogData!H693)","v":""},{"$f":"IF(LEFT($C700,1)=\"*\",\"\",LogData!T693*100)","v":""}]
[{"$f":"IF($C701=\"*EOL*\",\"\",INT(LogData!V694))","v":""},{"$f":"IF($C701=\"*EOL*\",\"\",LogData!V694-A701)","v":""},{"$f":"LogData!E694","v":"*EOL*"},{"$f":"IF(LEFT($C701,1)=\"*\",\"\",LogData!C694)","v":""},{"$f":"IF(LEFT($C701,1)=\"*\",\"\",LogData!F694)","v":""},{"$f":"IF(LEFT($C701,1)=\"*\",\"\",LogData!D694)","v":""},{"$f":"IF(LEFT($C701,1)=\"*\",\"\",LogData!H694)","v":""},{"$f":"IF(LEFT($C701,1)=\"*\",\"\",LogData!T694*100)","v":""}]
[{"$f":"IF($C702=\"*EOL*\",\"\",INT(LogData!V695))","v":""},{"$f":"IF($C702=\"*EOL*\",\"\",LogData!V695-A702)","v":""},{"$f":"LogData!E695","v":"*EOL*"},{"$f":"IF(LEFT($C702,1)=\"*\",\"\",LogData!C695)","v":""},{"$f":"IF(LEFT($C702,1)=\"*\",\"\",LogData!F695)","v":""},{"$f":"IF(LEFT($C702,1)=\"*\",\"\",LogData!D695)","v":""},{"$f":"IF(LEFT($C702,1)=\"*\",\"\",LogData!H695)","v":""},{"$f":"IF(LEFT($C702,1)=\"*\",\"\",LogData!T695*100)","v":""}]
[{"$f":"IF($C703=\"*EOL*\",\"\",INT(LogData!V696))","v":""},{"$f":"IF($C703=\"*EOL*\",\"\",LogData!V696-A703)","v":""},{"$f":"LogData!E696","v":"*EOL*"},{"$f":"IF(LEFT($C703,1)=\"*\",\"\",LogData!C696)","v":""},{"$f":"IF(LEFT($C703,1)=\"*\",\"\",LogData!F696)","v":""},{"$f":"IF(LEFT($C703,1)=\"*\",\"\",LogData!D696)","v":""},{"$f":"IF(LEFT($C703,1)=\"*\",\"\",LogData!H696)","v":""},{"$f":"IF(LEFT($C703,1)=\"*\",\"\",LogData!T696*100)","v":""}]
[{"$f":"IF($C704=\"*EOL*\",\"\",INT(LogData!V697))","v":""},{"$f":"IF($C704=\"*EOL*\",\"\",LogData!V697-A704)","v":""},{"$f":"LogData!E697","v":"*EOL*"},{"$f":"IF(LEFT($C704,1)=\"*\",\"\",LogData!C697)","v":""},{"$f":"IF(LEFT($C704,1)=\"*\",\"\",LogData!F697)","v":""},{"$f":"IF(LEFT($C704,1)=\"*\",\"\",LogData!D697)","v":""},{"$f":"IF(LEFT($C704,1)=\"*\",\"\",LogData!H697)","v":""},{"$f":"IF(LEFT($C704,1)=\"*\",\"\",LogData!T697*100)","v":""}]
[{"$f":"IF($C705=\"*EOL*\",\"\",INT(LogData!V698))","v":""},{"$f":"IF($C705=\"*EOL*\",\"\",LogData!V698-A705)","v":""},{"$f":"LogData!E698","v":"*EOL*"},{"$f":"IF(LEFT($C705,1)=\"*\",\"\",LogData!C698)","v":""},{"$f":"IF(LEFT($C705,1)=\"*\",\"\",LogData!F698)","v":""},{"$f":"IF(LEFT($C705,1)=\"*\",\"\",LogData!D698)","v":""},{"$f":"IF(LEFT($C705,1)=\"*\",\"\",LogData!H698)","v":""},{"$f":"IF(LEFT($C705,1)=\"*\",\"\",LogData!T698*100)","v":""}]
[{"$f":"IF($C706=\"*EOL*\",\"\",INT(LogData!V699))","v":""},{"$f":"IF($C706=\"*EOL*\",\"\",LogData!V699-A706)","v":""},{"$f":"LogData!E699","v":"*EOL*"},{"$f":"IF(LEFT($C706,1)=\"*\",\"\",LogData!C699)","v":""},{"$f":"IF(LEFT($C706,1)=\"*\",\"\",LogData!F699)","v":""},{"$f":"IF(LEFT($C706,1)=\"*\",\"\",LogData!D699)","v":""},{"$f":"IF(LEFT($C706,1)=\"*\",\"\",LogData!H699)","v":""},{"$f":"IF(LEFT($C706,1)=\"*\",\"\",LogData!T699*100)","v":""}]
[{"$f":"IF($C707=\"*EOL*\",\"\",INT(LogData!V700))","v":""},{"$f":"IF($C707=\"*EOL*\",\"\",LogData!V700-A707)","v":""},{"$f":"LogData!E700","v":"*EOL*"},{"$f":"IF(LEFT($C707,1)=\"*\",\"\",LogData!C700)","v":""},{"$f":"IF(LEFT($C707,1)=\"*\",\"\",LogData!F700)","v":""},{"$f":"IF(LEFT($C707,1)=\"*\",\"\",LogData!D700)","v":""},{"$f":"IF(LEFT($C707,1)=\"*\",\"\",LogData!H700)","v":""},{"$f":"IF(LEFT($C707,1)=\"*\",\"\",LogData!T700*100)","v":""}]
[{"$f":"IF($C708=\"*EOL*\",\"\",INT(LogData!V701))","v":""},{"$f":"IF($C708=\"*EOL*\",\"\",LogData!V701-A708)","v":""},{"$f":"LogData!E701","v":"*EOL*"},{"$f":"IF(LEFT($C708,1)=\"*\",\"\",LogData!C701)","v":""},{"$f":"IF(LEFT($C708,1)=\"*\",\"\",LogData!F701)","v":""},{"$f":"IF(LEFT($C708,1)=\"*\",\"\",LogData!D701)","v":""},{"$f":"IF(LEFT($C708,1)=\"*\",\"\",LogData!H701)","v":""},{"$f":"IF(LEFT($C708,1)=\"*\",\"\",LogData!T701*100)","v":""}]
[{"$f":"IF($C709=\"*EOL*\",\"\",INT(LogData!V702))","v":""},{"$f":"IF($C709=\"*EOL*\",\"\",LogData!V702-A709)","v":""},{"$f":"LogData!E702","v":"*EOL*"},{"$f":"IF(LEFT($C709,1)=\"*\",\"\",LogData!C702)","v":""},{"$f":"IF(LEFT($C709,1)=\"*\",\"\",LogData!F702)","v":""},{"$f":"IF(LEFT($C709,1)=\"*\",\"\",LogData!D702)","v":""},{"$f":"IF(LEFT($C709,1)=\"*\",\"\",LogData!H702)","v":""},{"$f":"IF(LEFT($C709,1)=\"*\",\"\",LogData!T702*100)","v":""}]
[{"$f":"IF($C710=\"*EOL*\",\"\",INT(LogData!V703))","v":""},{"$f":"IF($C710=\"*EOL*\",\"\",LogData!V703-A710)","v":""},{"$f":"LogData!E703","v":"*EOL*"},{"$f":"IF(LEFT($C710,1)=\"*\",\"\",LogData!C703)","v":""},{"$f":"IF(LEFT($C710,1)=\"*\",\"\",LogData!F703)","v":""},{"$f":"IF(LEFT($C710,1)=\"*\",\"\",LogData!D703)","v":""},{"$f":"IF(LEFT($C710,1)=\"*\",\"\",LogData!H703)","v":""},{"$f":"IF(LEFT($C710,1)=\"*\",\"\",LogData!T703*100)","v":""}]
[{"$f":"IF($C711=\"*EOL*\",\"\",INT(LogData!V704))","v":""},{"$f":"IF($C711=\"*EOL*\",\"\",LogData!V704-A711)","v":""},{"$f":"LogData!E704","v":"*EOL*"},{"$f":"IF(LEFT($C711,1)=\"*\",\"\",LogData!C704)","v":""},{"$f":"IF(LEFT($C711,1)=\"*\",\"\",LogData!F704)","v":""},{"$f":"IF(LEFT($C711,1)=\"*\",\"\",LogData!D704)","v":""},{"$f":"IF(LEFT($C711,1)=\"*\",\"\",LogData!H704)","v":""},{"$f":"IF(LEFT($C711,1)=\"*\",\"\",LogData!T704*100)","v":""}]
[{"$f":"IF($C712=\"*EOL*\",\"\",INT(LogData!V705))","v":""},{"$f":"IF($C712=\"*EOL*\",\"\",LogData!V705-A712)","v":""},{"$f":"LogData!E705","v":"*EOL*"},{"$f":"IF(LEFT($C712,1)=\"*\",\"\",LogData!C705)","v":""},{"$f":"IF(LEFT($C712,1)=\"*\",\"\",LogData!F705)","v":""},{"$f":"IF(LEFT($C712,1)=\"*\",\"\",LogData!D705)","v":""},{"$f":"IF(LEFT($C712,1)=\"*\",\"\",LogData!H705)","v":""},{"$f":"IF(LEFT($C712,1)=\"*\",\"\",LogData!T705*100)","v":""}]
[{"$f":"IF($C713=\"*EOL*\",\"\",INT(LogData!V706))","v":""},{"$f":"IF($C713=\"*EOL*\",\"\",LogData!V706-A713)","v":""},{"$f":"LogData!E706","v":"*EOL*"},{"$f":"IF(LEFT($C713,1)=\"*\",\"\",LogData!C706)","v":""},{"$f":"IF(LEFT($C713,1)=\"*\",\"\",LogData!F706)","v":""},{"$f":"IF(LEFT($C713,1)=\"*\",\"\",LogData!D706)","v":""},{"$f":"IF(LEFT($C713,1)=\"*\",\"\",LogData!H706)","v":""},{"$f":"IF(LEFT($C713,1)=\"*\",\"\",LogData!T706*100)","v":""}]
[{"$f":"IF($C714=\"*EOL*\",\"\",INT(LogData!V707))","v":""},{"$f":"IF($C714=\"*EOL*\",\"\",LogData!V707-A714)","v":""},{"$f":"LogData!E707","v":"*EOL*"},{"$f":"IF(LEFT($C714,1)=\"*\",\"\",LogData!C707)","v":""},{"$f":"IF(LEFT($C714,1)=\"*\",\"\",LogData!F707)","v":""},{"$f":"IF(LEFT($C714,1)=\"*\",\"\",LogData!D707)","v":""},{"$f":"IF(LEFT($C714,1)=\"*\",\"\",LogData!H707)","v":""},{"$f":"IF(LEFT($C714,1)=\"*\",\"\",LogData!T707*100)","v":""}]
[{"$f":"IF($C715=\"*EOL*\",\"\",INT(LogData!V708))","v":""},{"$f":"IF($C715=\"*EOL*\",\"\",LogData!V708-A715)","v":""},{"$f":"LogData!E708","v":"*EOL*"},{"$f":"IF(LEFT($C715,1)=\"*\",\"\",LogData!C708)","v":""},{"$f":"IF(LEFT($C715,1)=\"*\",\"\",LogData!F708)","v":""},{"$f":"IF(LEFT($C715,1)=\"*\",\"\",LogData!D708)","v":""},{"$f":"IF(LEFT($C715,1)=\"*\",\"\",LogData!H708)","v":""},{"$f":"IF(LEFT($C715,1)=\"*\",\"\",LogData!T708*100)","v":""}]
[{"$f":"IF($C716=\"*EOL*\",\"\",INT(LogData!V709))","v":""},{"$f":"IF($C716=\"*EOL*\",\"\",LogData!V709-A716)","v":""},{"$f":"LogData!E709","v":"*EOL*"},{"$f":"IF(LEFT($C716,1)=\"*\",\"\",LogData!C709)","v":""},{"$f":"IF(LEFT($C716,1)=\"*\",\"\",LogData!F709)","v":""},{"$f":"IF(LEFT($C716,1)=\"*\",\"\",LogData!D709)","v":""},{"$f":"IF(LEFT($C716,1)=\"*\",\"\",LogData!H709)","v":""},{"$f":"IF(LEFT($C716,1)=\"*\",\"\",LogData!T709*100)","v":""}]
[{"$f":"IF($C717=\"*EOL*\",\"\",INT(LogData!V710))","v":""},{"$f":"IF($C717=\"*EOL*\",\"\",LogData!V710-A717)","v":""},{"$f":"LogData!E710","v":"*EOL*"},{"$f":"IF(LEFT($C717,1)=\"*\",\"\",LogData!C710)","v":""},{"$f":"IF(LEFT($C717,1)=\"*\",\"\",LogData!F710)","v":""},{"$f":"IF(LEFT($C717,1)=\"*\",\"\",LogData!D710)","v":""},{"$f":"IF(LEFT($C717,1)=\"*\",\"\",LogData!H710)","v":""},{"$f":"IF(LEFT($C717,1)=\"*\",\"\",LogData!T710*100)","v":""}]
[{"$f":"IF($C718=\"*EOL*\",\"\",INT(LogData!V711))","v":""},{"$f":"IF($C718=\"*EOL*\",\"\",LogData!V711-A718)","v":""},{"$f":"LogData!E711","v":"*EOL*"},{"$f":"IF(LEFT($C718,1)=\"*\",\"\",LogData!C711)","v":""},{"$f":"IF(LEFT($C718,1)=\"*\",\"\",LogData!F711)","v":""},{"$f":"IF(LEFT($C718,1)=\"*\",\"\",LogData!D711)","v":""},{"$f":"IF(LEFT($C718,1)=\"*\",\"\",LogData!H711)","v":""},{"$f":"IF(LEFT($C718,1)=\"*\",\"\",LogData!T711*100)","v":""}]
[{"$f":"IF($C719=\"*EOL*\",\"\",INT(LogData!V712))","v":""},{"$f":"IF($C719=\"*EOL*\",\"\",LogData!V712-A719)","v":""},{"$f":"LogData!E712","v":"*EOL*"},{"$f":"IF(LEFT($C719,1)=\"*\",\"\",LogData!C712)","v":""},{"$f":"IF(LEFT($C719,1)=\"*\",\"\",LogData!F712)","v":""},{"$f":"IF(LEFT($C719,1)=\"*\",\"\",LogData!D712)","v":""},{"$f":"IF(LEFT($C719,1)=\"*\",\"\",LogData!H712)","v":""},{"$f":"IF(LEFT($C719,1)=\"*\",\"\",LogData!T712*100)","v":""}]
[{"$f":"IF($C720=\"*EOL*\",\"\",INT(LogData!V713))","v":""},{"$f":"IF($C720=\"*EOL*\",\"\",LogData!V713-A720)","v":""},{"$f":"LogData!E713","v":"*EOL*"},{"$f":"IF(LEFT($C720,1)=\"*\",\"\",LogData!C713)","v":""},{"$f":"IF(LEFT($C720,1)=\"*\",\"\",LogData!F713)","v":""},{"$f":"IF(LEFT($C720,1)=\"*\",\"\",LogData!D713)","v":""},{"$f":"IF(LEFT($C720,1)=\"*\",\"\",LogData!H713)","v":""},{"$f":"IF(LEFT($C720,1)=\"*\",\"\",LogData!T713*100)","v":""}]
[{"$f":"IF($C721=\"*EOL*\",\"\",INT(LogData!V714))","v":""},{"$f":"IF($C721=\"*EOL*\",\"\",LogData!V714-A721)","v":""},{"$f":"LogData!E714","v":"*EOL*"},{"$f":"IF(LEFT($C721,1)=\"*\",\"\",LogData!C714)","v":""},{"$f":"IF(LEFT($C721,1)=\"*\",\"\",LogData!F714)","v":""},{"$f":"IF(LEFT($C721,1)=\"*\",\"\",LogData!D714)","v":""},{"$f":"IF(LEFT($C721,1)=\"*\",\"\",LogData!H714)","v":""},{"$f":"IF(LEFT($C721,1)=\"*\",\"\",LogData!T714*100)","v":""}]
[{"$f":"IF($C722=\"*EOL*\",\"\",INT(LogData!V715))","v":""},{"$f":"IF($C722=\"*EOL*\",\"\",LogData!V715-A722)","v":""},{"$f":"LogData!E715","v":"*EOL*"},{"$f":"IF(LEFT($C722,1)=\"*\",\"\",LogData!C715)","v":""},{"$f":"IF(LEFT($C722,1)=\"*\",\"\",LogData!F715)","v":""},{"$f":"IF(LEFT($C722,1)=\"*\",\"\",LogData!D715)","v":""},{"$f":"IF(LEFT($C722,1)=\"*\",\"\",LogData!H715)","v":""},{"$f":"IF(LEFT($C722,1)=\"*\",\"\",LogData!T715*100)","v":""}]
[{"$f":"IF($C723=\"*EOL*\",\"\",INT(LogData!V716))","v":""},{"$f":"IF($C723=\"*EOL*\",\"\",LogData!V716-A723)","v":""},{"$f":"LogData!E716","v":"*EOL*"},{"$f":"IF(LEFT($C723,1)=\"*\",\"\",LogData!C716)","v":""},{"$f":"IF(LEFT($C723,1)=\"*\",\"\",LogData!F716)","v":""},{"$f":"IF(LEFT($C723,1)=\"*\",\"\",LogData!D716)","v":""},{"$f":"IF(LEFT($C723,1)=\"*\",\"\",LogData!H716)","v":""},{"$f":"IF(LEFT($C723,1)=\"*\",\"\",LogData!T716*100)","v":""}]
[{"$f":"IF($C724=\"*EOL*\",\"\",INT(LogData!V717))","v":""},{"$f":"IF($C724=\"*EOL*\",\"\",LogData!V717-A724)","v":""},{"$f":"LogData!E717","v":"*EOL*"},{"$f":"IF(LEFT($C724,1)=\"*\",\"\",LogData!C717)","v":""},{"$f":"IF(LEFT($C724,1)=\"*\",\"\",LogData!F717)","v":""},{"$f":"IF(LEFT($C724,1)=\"*\",\"\",LogData!D717)","v":""},{"$f":"IF(LEFT($C724,1)=\"*\",\"\",LogData!H717)","v":""},{"$f":"IF(LEFT($C724,1)=\"*\",\"\",LogData!T717*100)","v":""}]
[{"$f":"IF($C725=\"*EOL*\",\"\",INT(LogData!V718))","v":""},{"$f":"IF($C725=\"*EOL*\",\"\",LogData!V718-A725)","v":""},{"$f":"LogData!E718","v":"*EOL*"},{"$f":"IF(LEFT($C725,1)=\"*\",\"\",LogData!C718)","v":""},{"$f":"IF(LEFT($C725,1)=\"*\",\"\",LogData!F718)","v":""},{"$f":"IF(LEFT($C725,1)=\"*\",\"\",LogData!D718)","v":""},{"$f":"IF(LEFT($C725,1)=\"*\",\"\",LogData!H718)","v":""},{"$f":"IF(LEFT($C725,1)=\"*\",\"\",LogData!T718*100)","v":""}]
[{"$f":"IF($C726=\"*EOL*\",\"\",INT(LogData!V719))","v":""},{"$f":"IF($C726=\"*EOL*\",\"\",LogData!V719-A726)","v":""},{"$f":"LogData!E719","v":"*EOL*"},{"$f":"IF(LEFT($C726,1)=\"*\",\"\",LogData!C719)","v":""},{"$f":"IF(LEFT($C726,1)=\"*\",\"\",LogData!F719)","v":""},{"$f":"IF(LEFT($C726,1)=\"*\",\"\",LogData!D719)","v":""},{"$f":"IF(LEFT($C726,1)=\"*\",\"\",LogData!H719)","v":""},{"$f":"IF(LEFT($C726,1)=\"*\",\"\",LogData!T719*100)","v":""}]
[{"$f":"IF($C727=\"*EOL*\",\"\",INT(LogData!V720))","v":""},{"$f":"IF($C727=\"*EOL*\",\"\",LogData!V720-A727)","v":""},{"$f":"LogData!E720","v":"*EOL*"},{"$f":"IF(LEFT($C727,1)=\"*\",\"\",LogData!C720)","v":""},{"$f":"IF(LEFT($C727,1)=\"*\",\"\",LogData!F720)","v":""},{"$f":"IF(LEFT($C727,1)=\"*\",\"\",LogData!D720)","v":""},{"$f":"IF(LEFT($C727,1)=\"*\",\"\",LogData!H720)","v":""},{"$f":"IF(LEFT($C727,1)=\"*\",\"\",LogData!T720*100)","v":""}]
[{"$f":"IF($C728=\"*EOL*\",\"\",INT(LogData!V721))","v":""},{"$f":"IF($C728=\"*EOL*\",\"\",LogData!V721-A728)","v":""},{"$f":"LogData!E721","v":"*EOL*"},{"$f":"IF(LEFT($C728,1)=\"*\",\"\",LogData!C721)","v":""},{"$f":"IF(LEFT($C728,1)=\"*\",\"\",LogData!F721)","v":""},{"$f":"IF(LEFT($C728,1)=\"*\",\"\",LogData!D721)","v":""},{"$f":"IF(LEFT($C728,1)=\"*\",\"\",LogData!H721)","v":""},{"$f":"IF(LEFT($C728,1)=\"*\",\"\",LogData!T721*100)","v":""}]
[{"$f":"IF($C729=\"*EOL*\",\"\",INT(LogData!V722))","v":""},{"$f":"IF($C729=\"*EOL*\",\"\",LogData!V722-A729)","v":""},{"$f":"LogData!E722","v":"*EOL*"},{"$f":"IF(LEFT($C729,1)=\"*\",\"\",LogData!C722)","v":""},{"$f":"IF(LEFT($C729,1)=\"*\",\"\",LogData!F722)","v":""},{"$f":"IF(LEFT($C729,1)=\"*\",\"\",LogData!D722)","v":""},{"$f":"IF(LEFT($C729,1)=\"*\",\"\",LogData!H722)","v":""},{"$f":"IF(LEFT($C729,1)=\"*\",\"\",LogData!T722*100)","v":""}]
[{"$f":"IF($C730=\"*EOL*\",\"\",INT(LogData!V723))","v":""},{"$f":"IF($C730=\"*EOL*\",\"\",LogData!V723-A730)","v":""},{"$f":"LogData!E723","v":"*EOL*"},{"$f":"IF(LEFT($C730,1)=\"*\",\"\",LogData!C723)","v":""},{"$f":"IF(LEFT($C730,1)=\"*\",\"\",LogData!F723)","v":""},{"$f":"IF(LEFT($C730,1)=\"*\",\"\",LogData!D723)","v":""},{"$f":"IF(LEFT($C730,1)=\"*\",\"\",LogData!H723)","v":""},{"$f":"IF(LEFT($C730,1)=\"*\",\"\",LogData!T723*100)","v":""}]
[{"$f":"IF($C731=\"*EOL*\",\"\",INT(LogData!V724))","v":""},{"$f":"IF($C731=\"*EOL*\",\"\",LogData!V724-A731)","v":""},{"$f":"LogData!E724","v":"*EOL*"},{"$f":"IF(LEFT($C731,1)=\"*\",\"\",LogData!C724)","v":""},{"$f":"IF(LEFT($C731,1)=\"*\",\"\",LogData!F724)","v":""},{"$f":"IF(LEFT($C731,1)=\"*\",\"\",LogData!D724)","v":""},{"$f":"IF(LEFT($C731,1)=\"*\",\"\",LogData!H724)","v":""},{"$f":"IF(LEFT($C731,1)=\"*\",\"\",LogData!T724*100)","v":""}]
[{"$f":"IF($C732=\"*EOL*\",\"\",INT(LogData!V725))","v":""},{"$f":"IF($C732=\"*EOL*\",\"\",LogData!V725-A732)","v":""},{"$f":"LogData!E725","v":"*EOL*"},{"$f":"IF(LEFT($C732,1)=\"*\",\"\",LogData!C725)","v":""},{"$f":"IF(LEFT($C732,1)=\"*\",\"\",LogData!F725)","v":""},{"$f":"IF(LEFT($C732,1)=\"*\",\"\",LogData!D725)","v":""},{"$f":"IF(LEFT($C732,1)=\"*\",\"\",LogData!H725)","v":""},{"$f":"IF(LEFT($C732,1)=\"*\",\"\",LogData!T725*100)","v":""}]
[{"$f":"IF($C733=\"*EOL*\",\"\",INT(LogData!V726))","v":""},{"$f":"IF($C733=\"*EOL*\",\"\",LogData!V726-A733)","v":""},{"$f":"LogData!E726","v":"*EOL*"},{"$f":"IF(LEFT($C733,1)=\"*\",\"\",LogData!C726)","v":""},{"$f":"IF(LEFT($C733,1)=\"*\",\"\",LogData!F726)","v":""},{"$f":"IF(LEFT($C733,1)=\"*\",\"\",LogData!D726)","v":""},{"$f":"IF(LEFT($C733,1)=\"*\",\"\",LogData!H726)","v":""},{"$f":"IF(LEFT($C733,1)=\"*\",\"\",LogData!T726*100)","v":""}]
[{"$f":"IF($C734=\"*EOL*\",\"\",INT(LogData!V727))","v":""},{"$f":"IF($C734=\"*EOL*\",\"\",LogData!V727-A734)","v":""},{"$f":"LogData!E727","v":"*EOL*"},{"$f":"IF(LEFT($C734,1)=\"*\",\"\",LogData!C727)","v":""},{"$f":"IF(LEFT($C734,1)=\"*\",\"\",LogData!F727)","v":""},{"$f":"IF(LEFT($C734,1)=\"*\",\"\",LogData!D727)","v":""},{"$f":"IF(LEFT($C734,1)=\"*\",\"\",LogData!H727)","v":""},{"$f":"IF(LEFT($C734,1)=\"*\",\"\",LogData!T727*100)","v":""}]
[{"$f":"IF($C735=\"*EOL*\",\"\",INT(LogData!V728))","v":""},{"$f":"IF($C735=\"*EOL*\",\"\",LogData!V728-A735)","v":""},{"$f":"LogData!E728","v":"*EOL*"},{"$f":"IF(LEFT($C735,1)=\"*\",\"\",LogData!C728)","v":""},{"$f":"IF(LEFT($C735,1)=\"*\",\"\",LogData!F728)","v":""},{"$f":"IF(LEFT($C735,1)=\"*\",\"\",LogData!D728)","v":""},{"$f":"IF(LEFT($C735,1)=\"*\",\"\",LogData!H728)","v":""},{"$f":"IF(LEFT($C735,1)=\"*\",\"\",LogData!T728*100)","v":""}]
[{"$f":"IF($C736=\"*EOL*\",\"\",INT(LogData!V729))","v":""},{"$f":"IF($C736=\"*EOL*\",\"\",LogData!V729-A736)","v":""},{"$f":"LogData!E729","v":"*EOL*"},{"$f":"IF(LEFT($C736,1)=\"*\",\"\",LogData!C729)","v":""},{"$f":"IF(LEFT($C736,1)=\"*\",\"\",LogData!F729)","v":""},{"$f":"IF(LEFT($C736,1)=\"*\",\"\",LogData!D729)","v":""},{"$f":"IF(LEFT($C736,1)=\"*\",\"\",LogData!H729)","v":""},{"$f":"IF(LEFT($C736,1)=\"*\",\"\",LogData!T729*100)","v":""}]
[{"$f":"IF($C737=\"*EOL*\",\"\",INT(LogData!V730))","v":""},{"$f":"IF($C737=\"*EOL*\",\"\",LogData!V730-A737)","v":""},{"$f":"LogData!E730","v":"*EOL*"},{"$f":"IF(LEFT($C737,1)=\"*\",\"\",LogData!C730)","v":""},{"$f":"IF(LEFT($C737,1)=\"*\",\"\",LogData!F730)","v":""},{"$f":"IF(LEFT($C737,1)=\"*\",\"\",LogData!D730)","v":""},{"$f":"IF(LEFT($C737,1)=\"*\",\"\",LogData!H730)","v":""},{"$f":"IF(LEFT($C737,1)=\"*\",\"\",LogData!T730*100)","v":""}]
[{"$f":"IF($C738=\"*EOL*\",\"\",INT(LogData!V731))","v":""},{"$f":"IF($C738=\"*EOL*\",\"\",LogData!V731-A738)","v":""},{"$f":"LogData!E731","v":"*EOL*"},{"$f":"IF(LEFT($C738,1)=\"*\",\"\",LogData!C731)","v":""},{"$f":"IF(LEFT($C738,1)=\"*\",\"\",LogData!F731)","v":""},{"$f":"IF(LEFT($C738,1)=\"*\",\"\",LogData!D731)","v":""},{"$f":"IF(LEFT($C738,1)=\"*\",\"\",LogData!H731)","v":""},{"$f":"IF(LEFT($C738,1)=\"*\",\"\",LogData!T731*100)","v":""}]
[{"$f":"IF($C739=\"*EOL*\",\"\",INT(LogData!V732))","v":""},{"$f":"IF($C739=\"*EOL*\",\"\",LogData!V732-A739)","v":""},{"$f":"LogData!E732","v":"*EOL*"},{"$f":"IF(LEFT($C739,1)=\"*\",\"\",LogData!C732)","v":""},{"$f":"IF(LEFT($C739,1)=\"*\",\"\",LogData!F732)","v":""},{"$f":"IF(LEFT($C739,1)=\"*\",\"\",LogData!D732)","v":""},{"$f":"IF(LEFT($C739,1)=\"*\",\"\",LogData!H732)","v":""},{"$f":"IF(LEFT($C739,1)=\"*\",\"\",LogData!T732*100)","v":""}]
[{"$f":"IF($C740=\"*EOL*\",\"\",INT(LogData!V733))","v":""},{"$f":"IF($C740=\"*EOL*\",\"\",LogData!V733-A740)","v":""},{"$f":"LogData!E733","v":"*EOL*"},{"$f":"IF(LEFT($C740,1)=\"*\",\"\",LogData!C733)","v":""},{"$f":"IF(LEFT($C740,1)=\"*\",\"\",LogData!F733)","v":""},{"$f":"IF(LEFT($C740,1)=\"*\",\"\",LogData!D733)","v":""},{"$f":"IF(LEFT($C740,1)=\"*\",\"\",LogData!H733)","v":""},{"$f":"IF(LEFT($C740,1)=\"*\",\"\",LogData!T733*100)","v":""}]
[{"$f":"IF($C741=\"*EOL*\",\"\",INT(LogData!V734))","v":""},{"$f":"IF($C741=\"*EOL*\",\"\",LogData!V734-A741)","v":""},{"$f":"LogData!E734","v":"*EOL*"},{"$f":"IF(LEFT($C741,1)=\"*\",\"\",LogData!C734)","v":""},{"$f":"IF(LEFT($C741,1)=\"*\",\"\",LogData!F734)","v":""},{"$f":"IF(LEFT($C741,1)=\"*\",\"\",LogData!D734)","v":""},{"$f":"IF(LEFT($C741,1)=\"*\",\"\",LogData!H734)","v":""},{"$f":"IF(LEFT($C741,1)=\"*\",\"\",LogData!T734*100)","v":""}]
[{"$f":"IF($C742=\"*EOL*\",\"\",INT(LogData!V735))","v":""},{"$f":"IF($C742=\"*EOL*\",\"\",LogData!V735-A742)","v":""},{"$f":"LogData!E735","v":"*EOL*"},{"$f":"IF(LEFT($C742,1)=\"*\",\"\",LogData!C735)","v":""},{"$f":"IF(LEFT($C742,1)=\"*\",\"\",LogData!F735)","v":""},{"$f":"IF(LEFT($C742,1)=\"*\",\"\",LogData!D735)","v":""},{"$f":"IF(LEFT($C742,1)=\"*\",\"\",LogData!H735)","v":""},{"$f":"IF(LEFT($C742,1)=\"*\",\"\",LogData!T735*100)","v":""}]
[{"$f":"IF($C743=\"*EOL*\",\"\",INT(LogData!V736))","v":""},{"$f":"IF($C743=\"*EOL*\",\"\",LogData!V736-A743)","v":""},{"$f":"LogData!E736","v":"*EOL*"},{"$f":"IF(LEFT($C743,1)=\"*\",\"\",LogData!C736)","v":""},{"$f":"IF(LEFT($C743,1)=\"*\",\"\",LogData!F736)","v":""},{"$f":"IF(LEFT($C743,1)=\"*\",\"\",LogData!D736)","v":""},{"$f":"IF(LEFT($C743,1)=\"*\",\"\",LogData!H736)","v":""},{"$f":"IF(LEFT($C743,1)=\"*\",\"\",LogData!T736*100)","v":""}]
[{"$f":"IF($C744=\"*EOL*\",\"\",INT(LogData!V737))","v":""},{"$f":"IF($C744=\"*EOL*\",\"\",LogData!V737-A744)","v":""},{"$f":"LogData!E737","v":"*EOL*"},{"$f":"IF(LEFT($C744,1)=\"*\",\"\",LogData!C737)","v":""},{"$f":"IF(LEFT($C744,1)=\"*\",\"\",LogData!F737)","v":""},{"$f":"IF(LEFT($C744,1)=\"*\",\"\",LogData!D737)","v":""},{"$f":"IF(LEFT($C744,1)=\"*\",\"\",LogData!H737)","v":""},{"$f":"IF(LEFT($C744,1)=\"*\",\"\",LogData!T737*100)","v":""}]
[{"$f":"IF($C745=\"*EOL*\",\"\",INT(LogData!V738))","v":""},{"$f":"IF($C745=\"*EOL*\",\"\",LogData!V738-A745)","v":""},{"$f":"LogData!E738","v":"*EOL*"},{"$f":"IF(LEFT($C745,1)=\"*\",\"\",LogData!C738)","v":""},{"$f":"IF(LEFT($C745,1)=\"*\",\"\",LogData!F738)","v":""},{"$f":"IF(LEFT($C745,1)=\"*\",\"\",LogData!D738)","v":""},{"$f":"IF(LEFT($C745,1)=\"*\",\"\",LogData!H738)","v":""},{"$f":"IF(LEFT($C745,1)=\"*\",\"\",LogData!T738*100)","v":""}]
[{"$f":"IF($C746=\"*EOL*\",\"\",INT(LogData!V739))","v":""},{"$f":"IF($C746=\"*EOL*\",\"\",LogData!V739-A746)","v":""},{"$f":"LogData!E739","v":"*EOL*"},{"$f":"IF(LEFT($C746,1)=\"*\",\"\",LogData!C739)","v":""},{"$f":"IF(LEFT($C746,1)=\"*\",\"\",LogData!F739)","v":""},{"$f":"IF(LEFT($C746,1)=\"*\",\"\",LogData!D739)","v":""},{"$f":"IF(LEFT($C746,1)=\"*\",\"\",LogData!H739)","v":""},{"$f":"IF(LEFT($C746,1)=\"*\",\"\",LogData!T739*100)","v":""}]
[{"$f":"IF($C747=\"*EOL*\",\"\",INT(LogData!V740))","v":""},{"$f":"IF($C747=\"*EOL*\",\"\",LogData!V740-A747)","v":""},{"$f":"LogData!E740","v":"*EOL*"},{"$f":"IF(LEFT($C747,1)=\"*\",\"\",LogData!C740)","v":""},{"$f":"IF(LEFT($C747,1)=\"*\",\"\",LogData!F740)","v":""},{"$f":"IF(LEFT($C747,1)=\"*\",\"\",LogData!D740)","v":""},{"$f":"IF(LEFT($C747,1)=\"*\",\"\",LogData!H740)","v":""},{"$f":"IF(LEFT($C747,1)=\"*\",\"\",LogData!T740*100)","v":""}]
[{"$f":"IF($C748=\"*EOL*\",\"\",INT(LogData!V741))","v":""},{"$f":"IF($C748=\"*EOL*\",\"\",LogData!V741-A748)","v":""},{"$f":"LogData!E741","v":"*EOL*"},{"$f":"IF(LEFT($C748,1)=\"*\",\"\",LogData!C741)","v":""},{"$f":"IF(LEFT($C748,1)=\"*\",\"\",LogData!F741)","v":""},{"$f":"IF(LEFT($C748,1)=\"*\",\"\",LogData!D741)","v":""},{"$f":"IF(LEFT($C748,1)=\"*\",\"\",LogData!H741)","v":""},{"$f":"IF(LEFT($C748,1)=\"*\",\"\",LogData!T741*100)","v":""}]
[{"$f":"IF($C749=\"*EOL*\",\"\",INT(LogData!V742))","v":""},{"$f":"IF($C749=\"*EOL*\",\"\",LogData!V742-A749)","v":""},{"$f":"LogData!E742","v":"*EOL*"},{"$f":"IF(LEFT($C749,1)=\"*\",\"\",LogData!C742)","v":""},{"$f":"IF(LEFT($C749,1)=\"*\",\"\",LogData!F742)","v":""},{"$f":"IF(LEFT($C749,1)=\"*\",\"\",LogData!D742)","v":""},{"$f":"IF(LEFT($C749,1)=\"*\",\"\",LogData!H742)","v":""},{"$f":"IF(LEFT($C749,1)=\"*\",\"\",LogData!T742*100)","v":""}]
[{"$f":"IF($C750=\"*EOL*\",\"\",INT(LogData!V743))","v":""},{"$f":"IF($C750=\"*EOL*\",\"\",LogData!V743-A750)","v":""},{"$f":"LogData!E743","v":"*EOL*"},{"$f":"IF(LEFT($C750,1)=\"*\",\"\",LogData!C743)","v":""},{"$f":"IF(LEFT($C750,1)=\"*\",\"\",LogData!F743)","v":""},{"$f":"IF(LEFT($C750,1)=\"*\",\"\",LogData!D743)","v":""},{"$f":"IF(LEFT($C750,1)=\"*\",\"\",LogData!H743)","v":""},{"$f":"IF(LEFT($C750,1)=\"*\",\"\",LogData!T743*100)","v":""}]
[{"$f":"IF($C751=\"*EOL*\",\"\",INT(LogData!V744))","v":""},{"$f":"IF($C751=\"*EOL*\",\"\",LogData!V744-A751)","v":""},{"$f":"LogData!E744","v":"*EOL*"},{"$f":"IF(LEFT($C751,1)=\"*\",\"\",LogData!C744)","v":""},{"$f":"IF(LEFT($C751,1)=\"*\",\"\",LogData!F744)","v":""},{"$f":"IF(LEFT($C751,1)=\"*\",\"\",LogData!D744)","v":""},{"$f":"IF(LEFT($C751,1)=\"*\",\"\",LogData!H744)","v":""},{"$f":"IF(LEFT($C751,1)=\"*\",\"\",LogData!T744*100)","v":""}]
[{"$f":"IF($C752=\"*EOL*\",\"\",INT(LogData!V745))","v":""},{"$f":"IF($C752=\"*EOL*\",\"\",LogData!V745-A752)","v":""},{"$f":"LogData!E745","v":"*EOL*"},{"$f":"IF(LEFT($C752,1)=\"*\",\"\",LogData!C745)","v":""},{"$f":"IF(LEFT($C752,1)=\"*\",\"\",LogData!F745)","v":""},{"$f":"IF(LEFT($C752,1)=\"*\",\"\",LogData!D745)","v":""},{"$f":"IF(LEFT($C752,1)=\"*\",\"\",LogData!H745)","v":""},{"$f":"IF(LEFT($C752,1)=\"*\",\"\",LogData!T745*100)","v":""}]
[{"$f":"IF($C753=\"*EOL*\",\"\",INT(LogData!V746))","v":""},{"$f":"IF($C753=\"*EOL*\",\"\",LogData!V746-A753)","v":""},{"$f":"LogData!E746","v":"*EOL*"},{"$f":"IF(LEFT($C753,1)=\"*\",\"\",LogData!C746)","v":""},{"$f":"IF(LEFT($C753,1)=\"*\",\"\",LogData!F746)","v":""},{"$f":"IF(LEFT($C753,1)=\"*\",\"\",LogData!D746)","v":""},{"$f":"IF(LEFT($C753,1)=\"*\",\"\",LogData!H746)","v":""},{"$f":"IF(LEFT($C753,1)=\"*\",\"\",LogData!T746*100)","v":""}]
[{"$f":"IF($C754=\"*EOL*\",\"\",INT(LogData!V747))","v":""},{"$f":"IF($C754=\"*EOL*\",\"\",LogData!V747-A754)","v":""},{"$f":"LogData!E747","v":"*EOL*"},{"$f":"IF(LEFT($C754,1)=\"*\",\"\",LogData!C747)","v":""},{"$f":"IF(LEFT($C754,1)=\"*\",\"\",LogData!F747)","v":""},{"$f":"IF(LEFT($C754,1)=\"*\",\"\",LogData!D747)","v":""},{"$f":"IF(LEFT($C754,1)=\"*\",\"\",LogData!H747)","v":""},{"$f":"IF(LEFT($C754,1)=\"*\",\"\",LogData!T747*100)","v":""}]
[{"$f":"IF($C755=\"*EOL*\",\"\",INT(LogData!V748))","v":""},{"$f":"IF($C755=\"*EOL*\",\"\",LogData!V748-A755)","v":""},{"$f":"LogData!E748","v":"*EOL*"},{"$f":"IF(LEFT($C755,1)=\"*\",\"\",LogData!C748)","v":""},{"$f":"IF(LEFT($C755,1)=\"*\",\"\",LogData!F748)","v":""},{"$f":"IF(LEFT($C755,1)=\"*\",\"\",LogData!D748)","v":""},{"$f":"IF(LEFT($C755,1)=\"*\",\"\",LogData!H748)","v":""},{"$f":"IF(LEFT($C755,1)=\"*\",\"\",LogData!T748*100)","v":""}]
[{"$f":"IF($C756=\"*EOL*\",\"\",INT(LogData!V749))","v":""},{"$f":"IF($C756=\"*EOL*\",\"\",LogData!V749-A756)","v":""},{"$f":"LogData!E749","v":"*EOL*"},{"$f":"IF(LEFT($C756,1)=\"*\",\"\",LogData!C749)","v":""},{"$f":"IF(LEFT($C756,1)=\"*\",\"\",LogData!F749)","v":""},{"$f":"IF(LEFT($C756,1)=\"*\",\"\",LogData!D749)","v":""},{"$f":"IF(LEFT($C756,1)=\"*\",\"\",LogData!H749)","v":""},{"$f":"IF(LEFT($C756,1)=\"*\",\"\",LogData!T749*100)","v":""}]
[{"$f":"IF($C757=\"*EOL*\",\"\",INT(LogData!V750))","v":""},{"$f":"IF($C757=\"*EOL*\",\"\",LogData!V750-A757)","v":""},{"$f":"LogData!E750","v":"*EOL*"},{"$f":"IF(LEFT($C757,1)=\"*\",\"\",LogData!C750)","v":""},{"$f":"IF(LEFT($C757,1)=\"*\",\"\",LogData!F750)","v":""},{"$f":"IF(LEFT($C757,1)=\"*\",\"\",LogData!D750)","v":""},{"$f":"IF(LEFT($C757,1)=\"*\",\"\",LogData!H750)","v":""},{"$f":"IF(LEFT($C757,1)=\"*\",\"\",LogData!T750*100)","v":""}]
[{"$f":"IF($C758=\"*EOL*\",\"\",INT(LogData!V751))","v":""},{"$f":"IF($C758=\"*EOL*\",\"\",LogData!V751-A758)","v":""},{"$f":"LogData!E751","v":"*EOL*"},{"$f":"IF(LEFT($C758,1)=\"*\",\"\",LogData!C751)","v":""},{"$f":"IF(LEFT($C758,1)=\"*\",\"\",LogData!F751)","v":""},{"$f":"IF(LEFT($C758,1)=\"*\",\"\",LogData!D751)","v":""},{"$f":"IF(LEFT($C758,1)=\"*\",\"\",LogData!H751)","v":""},{"$f":"IF(LEFT($C758,1)=\"*\",\"\",LogData!T751*100)","v":""}]
[{"$f":"IF($C759=\"*EOL*\",\"\",INT(LogData!V752))","v":""},{"$f":"IF($C759=\"*EOL*\",\"\",LogData!V752-A759)","v":""},{"$f":"LogData!E752","v":"*EOL*"},{"$f":"IF(LEFT($C759,1)=\"*\",\"\",LogData!C752)","v":""},{"$f":"IF(LEFT($C759,1)=\"*\",\"\",LogData!F752)","v":""},{"$f":"IF(LEFT($C759,1)=\"*\",\"\",LogData!D752)","v":""},{"$f":"IF(LEFT($C759,1)=\"*\",\"\",LogData!H752)","v":""},{"$f":"IF(LEFT($C759,1)=\"*\",\"\",LogData!T752*100)","v":""}]
[{"$f":"IF($C760=\"*EOL*\",\"\",INT(LogData!V753))","v":""},{"$f":"IF($C760=\"*EOL*\",\"\",LogData!V753-A760)","v":""},{"$f":"LogData!E753","v":"*EOL*"},{"$f":"IF(LEFT($C760,1)=\"*\",\"\",LogData!C753)","v":""},{"$f":"IF(LEFT($C760,1)=\"*\",\"\",LogData!F753)","v":""},{"$f":"IF(LEFT($C760,1)=\"*\",\"\",LogData!D753)","v":""},{"$f":"IF(LEFT($C760,1)=\"*\",\"\",LogData!H753)","v":""},{"$f":"IF(LEFT($C760,1)=\"*\",\"\",LogData!T753*100)","v":""}]
[{"$f":"IF($C761=\"*EOL*\",\"\",INT(LogData!V754))","v":""},{"$f":"IF($C761=\"*EOL*\",\"\",LogData!V754-A761)","v":""},{"$f":"LogData!E754","v":"*EOL*"},{"$f":"IF(LEFT($C761,1)=\"*\",\"\",LogData!C754)","v":""},{"$f":"IF(LEFT($C761,1)=\"*\",\"\",LogData!F754)","v":""},{"$f":"IF(LEFT($C761,1)=\"*\",\"\",LogData!D754)","v":""},{"$f":"IF(LEFT($C761,1)=\"*\",\"\",LogData!H754)","v":""},{"$f":"IF(LEFT($C761,1)=\"*\",\"\",LogData!T754*100)","v":""}]
[{"$f":"IF($C762=\"*EOL*\",\"\",INT(LogData!V755))","v":""},{"$f":"IF($C762=\"*EOL*\",\"\",LogData!V755-A762)","v":""},{"$f":"LogData!E755","v":"*EOL*"},{"$f":"IF(LEFT($C762,1)=\"*\",\"\",LogData!C755)","v":""},{"$f":"IF(LEFT($C762,1)=\"*\",\"\",LogData!F755)","v":""},{"$f":"IF(LEFT($C762,1)=\"*\",\"\",LogData!D755)","v":""},{"$f":"IF(LEFT($C762,1)=\"*\",\"\",LogData!H755)","v":""},{"$f":"IF(LEFT($C762,1)=\"*\",\"\",LogData!T755*100)","v":""}]
[{"$f":"IF($C763=\"*EOL*\",\"\",INT(LogData!V756))","v":""},{"$f":"IF($C763=\"*EOL*\",\"\",LogData!V756-A763)","v":""},{"$f":"LogData!E756","v":"*EOL*"},{"$f":"IF(LEFT($C763,1)=\"*\",\"\",LogData!C756)","v":""},{"$f":"IF(LEFT($C763,1)=\"*\",\"\",LogData!F756)","v":""},{"$f":"IF(LEFT($C763,1)=\"*\",\"\",LogData!D756)","v":""},{"$f":"IF(LEFT($C763,1)=\"*\",\"\",LogData!H756)","v":""},{"$f":"IF(LEFT($C763,1)=\"*\",\"\",LogData!T756*100)","v":""}]
[{"$f":"IF($C764=\"*EOL*\",\"\",INT(LogData!V757))","v":""},{"$f":"IF($C764=\"*EOL*\",\"\",LogData!V757-A764)","v":""},{"$f":"LogData!E757","v":"*EOL*"},{"$f":"IF(LEFT($C764,1)=\"*\",\"\",LogData!C757)","v":""},{"$f":"IF(LEFT($C764,1)=\"*\",\"\",LogData!F757)","v":""},{"$f":"IF(LEFT($C764,1)=\"*\",\"\",LogData!D757)","v":""},{"$f":"IF(LEFT($C764,1)=\"*\",\"\",LogData!H757)","v":""},{"$f":"IF(LEFT($C764,1)=\"*\",\"\",LogData!T757*100)","v":""}]
[{"$f":"IF($C765=\"*EOL*\",\"\",INT(LogData!V758))","v":""},{"$f":"IF($C765=\"*EOL*\",\"\",LogData!V758-A765)","v":""},{"$f":"LogData!E758","v":"*EOL*"},{"$f":"IF(LEFT($C765,1)=\"*\",\"\",LogData!C758)","v":""},{"$f":"IF(LEFT($C765,1)=\"*\",\"\",LogData!F758)","v":""},{"$f":"IF(LEFT($C765,1)=\"*\",\"\",LogData!D758)","v":""},{"$f":"IF(LEFT($C765,1)=\"*\",\"\",LogData!H758)","v":""},{"$f":"IF(LEFT($C765,1)=\"*\",\"\",LogData!T758*100)","v":""}]
[{"$f":"IF($C766=\"*EOL*\",\"\",INT(LogData!V759))","v":""},{"$f":"IF($C766=\"*EOL*\",\"\",LogData!V759-A766)","v":""},{"$f":"LogData!E759","v":"*EOL*"},{"$f":"IF(LEFT($C766,1)=\"*\",\"\",LogData!C759)","v":""},{"$f":"IF(LEFT($C766,1)=\"*\",\"\",LogData!F759)","v":""},{"$f":"IF(LEFT($C766,1)=\"*\",\"\",LogData!D759)","v":""},{"$f":"IF(LEFT($C766,1)=\"*\",\"\",LogData!H759)","v":""},{"$f":"IF(LEFT($C766,1)=\"*\",\"\",LogData!T759*100)","v":""}]
[{"$f":"IF($C767=\"*EOL*\",\"\",INT(LogData!V760))","v":""},{"$f":"IF($C767=\"*EOL*\",\"\",LogData!V760-A767)","v":""},{"$f":"LogData!E760","v":"*EOL*"},{"$f":"IF(LEFT($C767,1)=\"*\",\"\",LogData!C760)","v":""},{"$f":"IF(LEFT($C767,1)=\"*\",\"\",LogData!F760)","v":""},{"$f":"IF(LEFT($C767,1)=\"*\",\"\",LogData!D760)","v":""},{"$f":"IF(LEFT($C767,1)=\"*\",\"\",LogData!H760)","v":""},{"$f":"IF(LEFT($C767,1)=\"*\",\"\",LogData!T760*100)","v":""}]
[{"$f":"IF($C768=\"*EOL*\",\"\",INT(LogData!V761))","v":""},{"$f":"IF($C768=\"*EOL*\",\"\",LogData!V761-A768)","v":""},{"$f":"LogData!E761","v":"*EOL*"},{"$f":"IF(LEFT($C768,1)=\"*\",\"\",LogData!C761)","v":""},{"$f":"IF(LEFT($C768,1)=\"*\",\"\",LogData!F761)","v":""},{"$f":"IF(LEFT($C768,1)=\"*\",\"\",LogData!D761)","v":""},{"$f":"IF(LEFT($C768,1)=\"*\",\"\",LogData!H761)","v":""},{"$f":"IF(LEFT($C768,1)=\"*\",\"\",LogData!T761*100)","v":""}]
[{"$f":"IF($C769=\"*EOL*\",\"\",INT(LogData!V762))","v":""},{"$f":"IF($C769=\"*EOL*\",\"\",LogData!V762-A769)","v":""},{"$f":"LogData!E762","v":"*EOL*"},{"$f":"IF(LEFT($C769,1)=\"*\",\"\",LogData!C762)","v":""},{"$f":"IF(LEFT($C769,1)=\"*\",\"\",LogData!F762)","v":""},{"$f":"IF(LEFT($C769,1)=\"*\",\"\",LogData!D762)","v":""},{"$f":"IF(LEFT($C769,1)=\"*\",\"\",LogData!H762)","v":""},{"$f":"IF(LEFT($C769,1)=\"*\",\"\",LogData!T762*100)","v":""}]
[{"$f":"IF($C770=\"*EOL*\",\"\",INT(LogData!V763))","v":""},{"$f":"IF($C770=\"*EOL*\",\"\",LogData!V763-A770)","v":""},{"$f":"LogData!E763","v":"*EOL*"},{"$f":"IF(LEFT($C770,1)=\"*\",\"\",LogData!C763)","v":""},{"$f":"IF(LEFT($C770,1)=\"*\",\"\",LogData!F763)","v":""},{"$f":"IF(LEFT($C770,1)=\"*\",\"\",LogData!D763)","v":""},{"$f":"IF(LEFT($C770,1)=\"*\",\"\",LogData!H763)","v":""},{"$f":"IF(LEFT($C770,1)=\"*\",\"\",LogData!T763*100)","v":""}]
[{"$f":"IF($C771=\"*EOL*\",\"\",INT(LogData!V764))","v":""},{"$f":"IF($C771=\"*EOL*\",\"\",LogData!V764-A771)","v":""},{"$f":"LogData!E764","v":"*EOL*"},{"$f":"IF(LEFT($C771,1)=\"*\",\"\",LogData!C764)","v":""},{"$f":"IF(LEFT($C771,1)=\"*\",\"\",LogData!F764)","v":""},{"$f":"IF(LEFT($C771,1)=\"*\",\"\",LogData!D764)","v":""},{"$f":"IF(LEFT($C771,1)=\"*\",\"\",LogData!H764)","v":""},{"$f":"IF(LEFT($C771,1)=\"*\",\"\",LogData!T764*100)","v":""}]
[{"$f":"IF($C772=\"*EOL*\",\"\",INT(LogData!V765))","v":""},{"$f":"IF($C772=\"*EOL*\",\"\",LogData!V765-A772)","v":""},{"$f":"LogData!E765","v":"*EOL*"},{"$f":"IF(LEFT($C772,1)=\"*\",\"\",LogData!C765)","v":""},{"$f":"IF(LEFT($C772,1)=\"*\",\"\",LogData!F765)","v":""},{"$f":"IF(LEFT($C772,1)=\"*\",\"\",LogData!D765)","v":""},{"$f":"IF(LEFT($C772,1)=\"*\",\"\",LogData!H765)","v":""},{"$f":"IF(LEFT($C772,1)=\"*\",\"\",LogData!T765*100)","v":""}]
[{"$f":"IF($C773=\"*EOL*\",\"\",INT(LogData!V766))","v":""},{"$f":"IF($C773=\"*EOL*\",\"\",LogData!V766-A773)","v":""},{"$f":"LogData!E766","v":"*EOL*"},{"$f":"IF(LEFT($C773,1)=\"*\",\"\",LogData!C766)","v":""},{"$f":"IF(LEFT($C773,1)=\"*\",\"\",LogData!F766)","v":""},{"$f":"IF(LEFT($C773,1)=\"*\",\"\",LogData!D766)","v":""},{"$f":"IF(LEFT($C773,1)=\"*\",\"\",LogData!H766)","v":""},{"$f":"IF(LEFT($C773,1)=\"*\",\"\",LogData!T766*100)","v":""}]
[{"$f":"IF($C774=\"*EOL*\",\"\",INT(LogData!V767))","v":""},{"$f":"IF($C774=\"*EOL*\",\"\",LogData!V767-A774)","v":""},{"$f":"LogData!E767","v":"*EOL*"},{"$f":"IF(LEFT($C774,1)=\"*\",\"\",LogData!C767)","v":""},{"$f":"IF(LEFT($C774,1)=\"*\",\"\",LogData!F767)","v":""},{"$f":"IF(LEFT($C774,1)=\"*\",\"\",LogData!D767)","v":""},{"$f":"IF(LEFT($C774,1)=\"*\",\"\",LogData!H767)","v":""},{"$f":"IF(LEFT($C774,1)=\"*\",\"\",LogData!T767*100)","v":""}]
[{"$f":"IF($C775=\"*EOL*\",\"\",INT(LogData!V768))","v":""},{"$f":"IF($C775=\"*EOL*\",\"\",LogData!V768-A775)","v":""},{"$f":"LogData!E768","v":"*EOL*"},{"$f":"IF(LEFT($C775,1)=\"*\",\"\",LogData!C768)","v":""},{"$f":"IF(LEFT($C775,1)=\"*\",\"\",LogData!F768)","v":""},{"$f":"IF(LEFT($C775,1)=\"*\",\"\",LogData!D768)","v":""},{"$f":"IF(LEFT($C775,1)=\"*\",\"\",LogData!H768)","v":""},{"$f":"IF(LEFT($C775,1)=\"*\",\"\",LogData!T768*100)","v":""}]
[{"$f":"IF($C776=\"*EOL*\",\"\",INT(LogData!V769))","v":""},{"$f":"IF($C776=\"*EOL*\",\"\",LogData!V769-A776)","v":""},{"$f":"LogData!E769","v":"*EOL*"},{"$f":"IF(LEFT($C776,1)=\"*\",\"\",LogData!C769)","v":""},{"$f":"IF(LEFT($C776,1)=\"*\",\"\",LogData!F769)","v":""},{"$f":"IF(LEFT($C776,1)=\"*\",\"\",LogData!D769)","v":""},{"$f":"IF(LEFT($C776,1)=\"*\",\"\",LogData!H769)","v":""},{"$f":"IF(LEFT($C776,1)=\"*\",\"\",LogData!T769*100)","v":""}]
[{"$f":"IF($C777=\"*EOL*\",\"\",INT(LogData!V770))","v":""},{"$f":"IF($C777=\"*EOL*\",\"\",LogData!V770-A777)","v":""},{"$f":"LogData!E770","v":"*EOL*"},{"$f":"IF(LEFT($C777,1)=\"*\",\"\",LogData!C770)","v":""},{"$f":"IF(LEFT($C777,1)=\"*\",\"\",LogData!F770)","v":""},{"$f":"IF(LEFT($C777,1)=\"*\",\"\",LogData!D770)","v":""},{"$f":"IF(LEFT($C777,1)=\"*\",\"\",LogData!H770)","v":""},{"$f":"IF(LEFT($C777,1)=\"*\",\"\",LogData!T770*100)","v":""}]
[{"$f":"IF($C778=\"*EOL*\",\"\",INT(LogData!V771))","v":""},{"$f":"IF($C778=\"*EOL*\",\"\",LogData!V771-A778)","v":""},{"$f":"LogData!E771","v":"*EOL*"},{"$f":"IF(LEFT($C778,1)=\"*\",\"\",LogData!C771)","v":""},{"$f":"IF(LEFT($C778,1)=\"*\",\"\",LogData!F771)","v":""},{"$f":"IF(LEFT($C778,1)=\"*\",\"\",LogData!D771)","v":""},{"$f":"IF(LEFT($C778,1)=\"*\",\"\",LogData!H771)","v":""},{"$f":"IF(LEFT($C778,1)=\"*\",\"\",LogData!T771*100)","v":""}]
[{"$f":"IF($C779=\"*EOL*\",\"\",INT(LogData!V772))","v":""},{"$f":"IF($C779=\"*EOL*\",\"\",LogData!V772-A779)","v":""},{"$f":"LogData!E772","v":"*EOL*"},{"$f":"IF(LEFT($C779,1)=\"*\",\"\",LogData!C772)","v":""},{"$f":"IF(LEFT($C779,1)=\"*\",\"\",LogData!F772)","v":""},{"$f":"IF(LEFT($C779,1)=\"*\",\"\",LogData!D772)","v":""},{"$f":"IF(LEFT($C779,1)=\"*\",\"\",LogData!H772)","v":""},{"$f":"IF(LEFT($C779,1)=\"*\",\"\",LogData!T772*100)","v":""}]
[{"$f":"IF($C780=\"*EOL*\",\"\",INT(LogData!V773))","v":""},{"$f":"IF($C780=\"*EOL*\",\"\",LogData!V773-A780)","v":""},{"$f":"LogData!E773","v":"*EOL*"},{"$f":"IF(LEFT($C780,1)=\"*\",\"\",LogData!C773)","v":""},{"$f":"IF(LEFT($C780,1)=\"*\",\"\",LogData!F773)","v":""},{"$f":"IF(LEFT($C780,1)=\"*\",\"\",LogData!D773)","v":""},{"$f":"IF(LEFT($C780,1)=\"*\",\"\",LogData!H773)","v":""},{"$f":"IF(LEFT($C780,1)=\"*\",\"\",LogData!T773*100)","v":""}]
[{"$f":"IF($C781=\"*EOL*\",\"\",INT(LogData!V774))","v":""},{"$f":"IF($C781=\"*EOL*\",\"\",LogData!V774-A781)","v":""},{"$f":"LogData!E774","v":"*EOL*"},{"$f":"IF(LEFT($C781,1)=\"*\",\"\",LogData!C774)","v":""},{"$f":"IF(LEFT($C781,1)=\"*\",\"\",LogData!F774)","v":""},{"$f":"IF(LEFT($C781,1)=\"*\",\"\",LogData!D774)","v":""},{"$f":"IF(LEFT($C781,1)=\"*\",\"\",LogData!H774)","v":""},{"$f":"IF(LEFT($C781,1)=\"*\",\"\",LogData!T774*100)","v":""}]
[{"$f":"IF($C782=\"*EOL*\",\"\",INT(LogData!V775))","v":""},{"$f":"IF($C782=\"*EOL*\",\"\",LogData!V775-A782)","v":""},{"$f":"LogData!E775","v":"*EOL*"},{"$f":"IF(LEFT($C782,1)=\"*\",\"\",LogData!C775)","v":""},{"$f":"IF(LEFT($C782,1)=\"*\",\"\",LogData!F775)","v":""},{"$f":"IF(LEFT($C782,1)=\"*\",\"\",LogData!D775)","v":""},{"$f":"IF(LEFT($C782,1)=\"*\",\"\",LogData!H775)","v":""},{"$f":"IF(LEFT($C782,1)=\"*\",\"\",LogData!T775*100)","v":""}]
[{"$f":"IF($C783=\"*EOL*\",\"\",INT(LogData!V776))","v":""},{"$f":"IF($C783=\"*EOL*\",\"\",LogData!V776-A783)","v":""},{"$f":"LogData!E776","v":"*EOL*"},{"$f":"IF(LEFT($C783,1)=\"*\",\"\",LogData!C776)","v":""},{"$f":"IF(LEFT($C783,1)=\"*\",\"\",LogData!F776)","v":""},{"$f":"IF(LEFT($C783,1)=\"*\",\"\",LogData!D776)","v":""},{"$f":"IF(LEFT($C783,1)=\"*\",\"\",LogData!H776)","v":""},{"$f":"IF(LEFT($C783,1)=\"*\",\"\",LogData!T776*100)","v":""}]
[{"$f":"IF($C784=\"*EOL*\",\"\",INT(LogData!V777))","v":""},{"$f":"IF($C784=\"*EOL*\",\"\",LogData!V777-A784)","v":""},{"$f":"LogData!E777","v":"*EOL*"},{"$f":"IF(LEFT($C784,1)=\"*\",\"\",LogData!C777)","v":""},{"$f":"IF(LEFT($C784,1)=\"*\",\"\",LogData!F777)","v":""},{"$f":"IF(LEFT($C784,1)=\"*\",\"\",LogData!D777)","v":""},{"$f":"IF(LEFT($C784,1)=\"*\",\"\",LogData!H777)","v":""},{"$f":"IF(LEFT($C784,1)=\"*\",\"\",LogData!T777*100)","v":""}]
[{"$f":"IF($C785=\"*EOL*\",\"\",INT(LogData!V778))","v":""},{"$f":"IF($C785=\"*EOL*\",\"\",LogData!V778-A785)","v":""},{"$f":"LogData!E778","v":"*EOL*"},{"$f":"IF(LEFT($C785,1)=\"*\",\"\",LogData!C778)","v":""},{"$f":"IF(LEFT($C785,1)=\"*\",\"\",LogData!F778)","v":""},{"$f":"IF(LEFT($C785,1)=\"*\",\"\",LogData!D778)","v":""},{"$f":"IF(LEFT($C785,1)=\"*\",\"\",LogData!H778)","v":""},{"$f":"IF(LEFT($C785,1)=\"*\",\"\",LogData!T778*100)","v":""}]
[{"$f":"IF($C786=\"*EOL*\",\"\",INT(LogData!V779))","v":""},{"$f":"IF($C786=\"*EOL*\",\"\",LogData!V779-A786)","v":""},{"$f":"LogData!E779","v":"*EOL*"},{"$f":"IF(LEFT($C786,1)=\"*\",\"\",LogData!C779)","v":""},{"$f":"IF(LEFT($C786,1)=\"*\",\"\",LogData!F779)","v":""},{"$f":"IF(LEFT($C786,1)=\"*\",\"\",LogData!D779)","v":""},{"$f":"IF(LEFT($C786,1)=\"*\",\"\",LogData!H779)","v":""},{"$f":"IF(LEFT($C786,1)=\"*\",\"\",LogData!T779*100)","v":""}]
[{"$f":"IF($C787=\"*EOL*\",\"\",INT(LogData!V780))","v":""},{"$f":"IF($C787=\"*EOL*\",\"\",LogData!V780-A787)","v":""},{"$f":"LogData!E780","v":"*EOL*"},{"$f":"IF(LEFT($C787,1)=\"*\",\"\",LogData!C780)","v":""},{"$f":"IF(LEFT($C787,1)=\"*\",\"\",LogData!F780)","v":""},{"$f":"IF(LEFT($C787,1)=\"*\",\"\",LogData!D780)","v":""},{"$f":"IF(LEFT($C787,1)=\"*\",\"\",LogData!H780)","v":""},{"$f":"IF(LEFT($C787,1)=\"*\",\"\",LogData!T780*100)","v":""}]
[{"$f":"IF($C788=\"*EOL*\",\"\",INT(LogData!V781))","v":""},{"$f":"IF($C788=\"*EOL*\",\"\",LogData!V781-A788)","v":""},{"$f":"LogData!E781","v":"*EOL*"},{"$f":"IF(LEFT($C788,1)=\"*\",\"\",LogData!C781)","v":""},{"$f":"IF(LEFT($C788,1)=\"*\",\"\",LogData!F781)","v":""},{"$f":"IF(LEFT($C788,1)=\"*\",\"\",LogData!D781)","v":""},{"$f":"IF(LEFT($C788,1)=\"*\",\"\",LogData!H781)","v":""},{"$f":"IF(LEFT($C788,1)=\"*\",\"\",LogData!T781*100)","v":""}]
[{"$f":"IF($C789=\"*EOL*\",\"\",INT(LogData!V782))","v":""},{"$f":"IF($C789=\"*EOL*\",\"\",LogData!V782-A789)","v":""},{"$f":"LogData!E782","v":"*EOL*"},{"$f":"IF(LEFT($C789,1)=\"*\",\"\",LogData!C782)","v":""},{"$f":"IF(LEFT($C789,1)=\"*\",\"\",LogData!F782)","v":""},{"$f":"IF(LEFT($C789,1)=\"*\",\"\",LogData!D782)","v":""},{"$f":"IF(LEFT($C789,1)=\"*\",\"\",LogData!H782)","v":""},{"$f":"IF(LEFT($C789,1)=\"*\",\"\",LogData!T782*100)","v":""}]
[{"$f":"IF($C790=\"*EOL*\",\"\",INT(LogData!V783))","v":""},{"$f":"IF($C790=\"*EOL*\",\"\",LogData!V783-A790)","v":""},{"$f":"LogData!E783","v":"*EOL*"},{"$f":"IF(LEFT($C790,1)=\"*\",\"\",LogData!C783)","v":""},{"$f":"IF(LEFT($C790,1)=\"*\",\"\",LogData!F783)","v":""},{"$f":"IF(LEFT($C790,1)=\"*\",\"\",LogData!D783)","v":""},{"$f":"IF(LEFT($C790,1)=\"*\",\"\",LogData!H783)","v":""},{"$f":"IF(LEFT($C790,1)=\"*\",\"\",LogData!T783*100)","v":""}]
[{"$f":"IF($C791=\"*EOL*\",\"\",INT(LogData!V784))","v":""},{"$f":"IF($C791=\"*EOL*\",\"\",LogData!V784-A791)","v":""},{"$f":"LogData!E784","v":"*EOL*"},{"$f":"IF(LEFT($C791,1)=\"*\",\"\",LogData!C784)","v":""},{"$f":"IF(LEFT($C791,1)=\"*\",\"\",LogData!F784)","v":""},{"$f":"IF(LEFT($C791,1)=\"*\",\"\",LogData!D784)","v":""},{"$f":"IF(LEFT($C791,1)=\"*\",\"\",LogData!H784)","v":""},{"$f":"IF(LEFT($C791,1)=\"*\",\"\",LogData!T784*100)","v":""}]
[{"$f":"IF($C792=\"*EOL*\",\"\",INT(LogData!V785))","v":""},{"$f":"IF($C792=\"*EOL*\",\"\",LogData!V785-A792)","v":""},{"$f":"LogData!E785","v":"*EOL*"},{"$f":"IF(LEFT($C792,1)=\"*\",\"\",LogData!C785)","v":""},{"$f":"IF(LEFT($C792,1)=\"*\",\"\",LogData!F785)","v":""},{"$f":"IF(LEFT($C792,1)=\"*\",\"\",LogData!D785)","v":""},{"$f":"IF(LEFT($C792,1)=\"*\",\"\",LogData!H785)","v":""},{"$f":"IF(LEFT($C792,1)=\"*\",\"\",LogData!T785*100)","v":""}]
[{"$f":"IF($C793=\"*EOL*\",\"\",INT(LogData!V786))","v":""},{"$f":"IF($C793=\"*EOL*\",\"\",LogData!V786-A793)","v":""},{"$f":"LogData!E786","v":"*EOL*"},{"$f":"IF(LEFT($C793,1)=\"*\",\"\",LogData!C786)","v":""},{"$f":"IF(LEFT($C793,1)=\"*\",\"\",LogData!F786)","v":""},{"$f":"IF(LEFT($C793,1)=\"*\",\"\",LogData!D786)","v":""},{"$f":"IF(LEFT($C793,1)=\"*\",\"\",LogData!H786)","v":""},{"$f":"IF(LEFT($C793,1)=\"*\",\"\",LogData!T786*100)","v":""}]
[{"$f":"IF($C794=\"*EOL*\",\"\",INT(LogData!V787))","v":""},{"$f":"IF($C794=\"*EOL*\",\"\",LogData!V787-A794)","v":""},{"$f":"LogData!E787","v":"*EOL*"},{"$f":"IF(LEFT($C794,1)=\"*\",\"\",LogData!C787)","v":""},{"$f":"IF(LEFT($C794,1)=\"*\",\"\",LogData!F787)","v":""},{"$f":"IF(LEFT($C794,1)=\"*\",\"\",LogData!D787)","v":""},{"$f":"IF(LEFT($C794,1)=\"*\",\"\",LogData!H787)","v":""},{"$f":"IF(LEFT($C794,1)=\"*\",\"\",LogData!T787*100)","v":""}]
[{"$f":"IF($C795=\"*EOL*\",\"\",INT(LogData!V788))","v":""},{"$f":"IF($C795=\"*EOL*\",\"\",LogData!V788-A795)","v":""},{"$f":"LogData!E788","v":"*EOL*"},{"$f":"IF(LEFT($C795,1)=\"*\",\"\",LogData!C788)","v":""},{"$f":"IF(LEFT($C795,1)=\"*\",\"\",LogData!F788)","v":""},{"$f":"IF(LEFT($C795,1)=\"*\",\"\",LogData!D788)","v":""},{"$f":"IF(LEFT($C795,1)=\"*\",\"\",LogData!H788)","v":""},{"$f":"IF(LEFT($C795,1)=\"*\",\"\",LogData!T788*100)","v":""}]
[{"$f":"IF($C796=\"*EOL*\",\"\",INT(LogData!V789))","v":""},{"$f":"IF($C796=\"*EOL*\",\"\",LogData!V789-A796)","v":""},{"$f":"LogData!E789","v":"*EOL*"},{"$f":"IF(LEFT($C796,1)=\"*\",\"\",LogData!C789)","v":""},{"$f":"IF(LEFT($C796,1)=\"*\",\"\",LogData!F789)","v":""},{"$f":"IF(LEFT($C796,1)=\"*\",\"\",LogData!D789)","v":""},{"$f":"IF(LEFT($C796,1)=\"*\",\"\",LogData!H789)","v":""},{"$f":"IF(LEFT($C796,1)=\"*\",\"\",LogData!T789*100)","v":""}]
[{"$f":"IF($C797=\"*EOL*\",\"\",INT(LogData!V790))","v":""},{"$f":"IF($C797=\"*EOL*\",\"\",LogData!V790-A797)","v":""},{"$f":"LogData!E790","v":"*EOL*"},{"$f":"IF(LEFT($C797,1)=\"*\",\"\",LogData!C790)","v":""},{"$f":"IF(LEFT($C797,1)=\"*\",\"\",LogData!F790)","v":""},{"$f":"IF(LEFT($C797,1)=\"*\",\"\",LogData!D790)","v":""},{"$f":"IF(LEFT($C797,1)=\"*\",\"\",LogData!H790)","v":""},{"$f":"IF(LEFT($C797,1)=\"*\",\"\",LogData!T790*100)","v":""}]
[{"$f":"IF($C798=\"*EOL*\",\"\",INT(LogData!V791))","v":""},{"$f":"IF($C798=\"*EOL*\",\"\",LogData!V791-A798)","v":""},{"$f":"LogData!E791","v":"*EOL*"},{"$f":"IF(LEFT($C798,1)=\"*\",\"\",LogData!C791)","v":""},{"$f":"IF(LEFT($C798,1)=\"*\",\"\",LogData!F791)","v":""},{"$f":"IF(LEFT($C798,1)=\"*\",\"\",LogData!D791)","v":""},{"$f":"IF(LEFT($C798,1)=\"*\",\"\",LogData!H791)","v":""},{"$f":"IF(LEFT($C798,1)=\"*\",\"\",LogData!T791*100)","v":""}]
[{"$f":"IF($C799=\"*EOL*\",\"\",INT(LogData!V792))","v":""},{"$f":"IF($C799=\"*EOL*\",\"\",LogData!V792-A799)","v":""},{"$f":"LogData!E792","v":"*EOL*"},{"$f":"IF(LEFT($C799,1)=\"*\",\"\",LogData!C792)","v":""},{"$f":"IF(LEFT($C799,1)=\"*\",\"\",LogData!F792)","v":""},{"$f":"IF(LEFT($C799,1)=\"*\",\"\",LogData!D792)","v":""},{"$f":"IF(LEFT($C799,1)=\"*\",\"\",LogData!H792)","v":""},{"$f":"IF(LEFT($C799,1)=\"*\",\"\",LogData!T792*100)","v":""}]
[{"$f":"IF($C800=\"*EOL*\",\"\",INT(LogData!V793))","v":""},{"$f":"IF($C800=\"*EOL*\",\"\",LogData!V793-A800)","v":""},{"$f":"LogData!E793","v":"*EOL*"},{"$f":"IF(LEFT($C800,1)=\"*\",\"\",LogData!C793)","v":""},{"$f":"IF(LEFT($C800,1)=\"*\",\"\",LogData!F793)","v":""},{"$f":"IF(LEFT($C800,1)=\"*\",\"\",LogData!D793)","v":""},{"$f":"IF(LEFT($C800,1)=\"*\",\"\",LogData!H793)","v":""},{"$f":"IF(LEFT($C800,1)=\"*\",\"\",LogData!T793*100)","v":""}]
[{"$f":"IF($C801=\"*EOL*\",\"\",INT(LogData!V794))","v":""},{"$f":"IF($C801=\"*EOL*\",\"\",LogData!V794-A801)","v":""},{"$f":"LogData!E794","v":"*EOL*"},{"$f":"IF(LEFT($C801,1)=\"*\",\"\",LogData!C794)","v":""},{"$f":"IF(LEFT($C801,1)=\"*\",\"\",LogData!F794)","v":""},{"$f":"IF(LEFT($C801,1)=\"*\",\"\",LogData!D794)","v":""},{"$f":"IF(LEFT($C801,1)=\"*\",\"\",LogData!H794)","v":""},{"$f":"IF(LEFT($C801,1)=\"*\",\"\",LogData!T794*100)","v":""}]
[{"$f":"IF($C802=\"*EOL*\",\"\",INT(LogData!V795))","v":""},{"$f":"IF($C802=\"*EOL*\",\"\",LogData!V795-A802)","v":""},{"$f":"LogData!E795","v":"*EOL*"},{"$f":"IF(LEFT($C802,1)=\"*\",\"\",LogData!C795)","v":""},{"$f":"IF(LEFT($C802,1)=\"*\",\"\",LogData!F795)","v":""},{"$f":"IF(LEFT($C802,1)=\"*\",\"\",LogData!D795)","v":""},{"$f":"IF(LEFT($C802,1)=\"*\",\"\",LogData!H795)","v":""},{"$f":"IF(LEFT($C802,1)=\"*\",\"\",LogData!T795*100)","v":""}]
[{"$f":"IF($C803=\"*EOL*\",\"\",INT(LogData!V796))","v":""},{"$f":"IF($C803=\"*EOL*\",\"\",LogData!V796-A803)","v":""},{"$f":"LogData!E796","v":"*EOL*"},{"$f":"IF(LEFT($C803,1)=\"*\",\"\",LogData!C796)","v":""},{"$f":"IF(LEFT($C803,1)=\"*\",\"\",LogData!F796)","v":""},{"$f":"IF(LEFT($C803,1)=\"*\",\"\",LogData!D796)","v":""},{"$f":"IF(LEFT($C803,1)=\"*\",\"\",LogData!H796)","v":""},{"$f":"IF(LEFT($C803,1)=\"*\",\"\",LogData!T796*100)","v":""}]
[{"$f":"IF($C804=\"*EOL*\",\"\",INT(LogData!V797))","v":""},{"$f":"IF($C804=\"*EOL*\",\"\",LogData!V797-A804)","v":""},{"$f":"LogData!E797","v":"*EOL*"},{"$f":"IF(LEFT($C804,1)=\"*\",\"\",LogData!C797)","v":""},{"$f":"IF(LEFT($C804,1)=\"*\",\"\",LogData!F797)","v":""},{"$f":"IF(LEFT($C804,1)=\"*\",\"\",LogData!D797)","v":""},{"$f":"IF(LEFT($C804,1)=\"*\",\"\",LogData!H797)","v":""},{"$f":"IF(LEFT($C804,1)=\"*\",\"\",LogData!T797*100)","v":""}]
[{"$f":"IF($C805=\"*EOL*\",\"\",INT(LogData!V798))","v":""},{"$f":"IF($C805=\"*EOL*\",\"\",LogData!V798-A805)","v":""},{"$f":"LogData!E798","v":"*EOL*"},{"$f":"IF(LEFT($C805,1)=\"*\",\"\",LogData!C798)","v":""},{"$f":"IF(LEFT($C805,1)=\"*\",\"\",LogData!F798)","v":""},{"$f":"IF(LEFT($C805,1)=\"*\",\"\",LogData!D798)","v":""},{"$f":"IF(LEFT($C805,1)=\"*\",\"\",LogData!H798)","v":""},{"$f":"IF(LEFT($C805,1)=\"*\",\"\",LogData!T798*100)","v":""}]
[{"$f":"IF($C806=\"*EOL*\",\"\",INT(LogData!V799))","v":""},{"$f":"IF($C806=\"*EOL*\",\"\",LogData!V799-A806)","v":""},{"$f":"LogData!E799","v":"*EOL*"},{"$f":"IF(LEFT($C806,1)=\"*\",\"\",LogData!C799)","v":""},{"$f":"IF(LEFT($C806,1)=\"*\",\"\",LogData!F799)","v":""},{"$f":"IF(LEFT($C806,1)=\"*\",\"\",LogData!D799)","v":""},{"$f":"IF(LEFT($C806,1)=\"*\",\"\",LogData!H799)","v":""},{"$f":"IF(LEFT($C806,1)=\"*\",\"\",LogData!T799*100)","v":""}]
[{"$f":"IF($C807=\"*EOL*\",\"\",INT(LogData!V800))","v":""},{"$f":"IF($C807=\"*EOL*\",\"\",LogData!V800-A807)","v":""},{"$f":"LogData!E800","v":"*EOL*"},{"$f":"IF(LEFT($C807,1)=\"*\",\"\",LogData!C800)","v":""},{"$f":"IF(LEFT($C807,1)=\"*\",\"\",LogData!F800)","v":""},{"$f":"IF(LEFT($C807,1)=\"*\",\"\",LogData!D800)","v":""},{"$f":"IF(LEFT($C807,1)=\"*\",\"\",LogData!H800)","v":""},{"$f":"IF(LEFT($C807,1)=\"*\",\"\",LogData!T800*100)","v":""}]
[{"$f":"IF($C808=\"*EOL*\",\"\",INT(LogData!V801))","v":""},{"$f":"IF($C808=\"*EOL*\",\"\",LogData!V801-A808)","v":""},{"$f":"LogData!E801","v":"*EOL*"},{"$f":"IF(LEFT($C808,1)=\"*\",\"\",LogData!C801)","v":""},{"$f":"IF(LEFT($C808,1)=\"*\",\"\",LogData!F801)","v":""},{"$f":"IF(LEFT($C808,1)=\"*\",\"\",LogData!D801)","v":""},{"$f":"IF(LEFT($C808,1)=\"*\",\"\",LogData!H801)","v":""},{"$f":"IF(LEFT($C808,1)=\"*\",\"\",LogData!T801*100)","v":""}]
[{"$f":"IF($C809=\"*EOL*\",\"\",INT(LogData!V802))","v":""},{"$f":"IF($C809=\"*EOL*\",\"\",LogData!V802-A809)","v":""},{"$f":"LogData!E802","v":"*EOL*"},{"$f":"IF(LEFT($C809,1)=\"*\",\"\",LogData!C802)","v":""},{"$f":"IF(LEFT($C809,1)=\"*\",\"\",LogData!F802)","v":""},{"$f":"IF(LEFT($C809,1)=\"*\",\"\",LogData!D802)","v":""},{"$f":"IF(LEFT($C809,1)=\"*\",\"\",LogData!H802)","v":""},{"$f":"IF(LEFT($C809,1)=\"*\",\"\",LogData!T802*100)","v":""}]
[{"$f":"IF($C810=\"*EOL*\",\"\",INT(LogData!V803))","v":""},{"$f":"IF($C810=\"*EOL*\",\"\",LogData!V803-A810)","v":""},{"$f":"LogData!E803","v":"*EOL*"},{"$f":"IF(LEFT($C810,1)=\"*\",\"\",LogData!C803)","v":""},{"$f":"IF(LEFT($C810,1)=\"*\",\"\",LogData!F803)","v":""},{"$f":"IF(LEFT($C810,1)=\"*\",\"\",LogData!D803)","v":""},{"$f":"IF(LEFT($C810,1)=\"*\",\"\",LogData!H803)","v":""},{"$f":"IF(LEFT($C810,1)=\"*\",\"\",LogData!T803*100)","v":""}]
[{"$f":"IF($C811=\"*EOL*\",\"\",INT(LogData!V804))","v":""},{"$f":"IF($C811=\"*EOL*\",\"\",LogData!V804-A811)","v":""},{"$f":"LogData!E804","v":"*EOL*"},{"$f":"IF(LEFT($C811,1)=\"*\",\"\",LogData!C804)","v":""},{"$f":"IF(LEFT($C811,1)=\"*\",\"\",LogData!F804)","v":""},{"$f":"IF(LEFT($C811,1)=\"*\",\"\",LogData!D804)","v":""},{"$f":"IF(LEFT($C811,1)=\"*\",\"\",LogData!H804)","v":""},{"$f":"IF(LEFT($C811,1)=\"*\",\"\",LogData!T804*100)","v":""}]
[{"$f":"IF($C812=\"*EOL*\",\"\",INT(LogData!V805))","v":""},{"$f":"IF($C812=\"*EOL*\",\"\",LogData!V805-A812)","v":""},{"$f":"LogData!E805","v":"*EOL*"},{"$f":"IF(LEFT($C812,1)=\"*\",\"\",LogData!C805)","v":""},{"$f":"IF(LEFT($C812,1)=\"*\",\"\",LogData!F805)","v":""},{"$f":"IF(LEFT($C812,1)=\"*\",\"\",LogData!D805)","v":""},{"$f":"IF(LEFT($C812,1)=\"*\",\"\",LogData!H805)","v":""},{"$f":"IF(LEFT($C812,1)=\"*\",\"\",LogData!T805*100)","v":""}]
[{"$f":"IF($C813=\"*EOL*\",\"\",INT(LogData!V806))","v":""},{"$f":"IF($C813=\"*EOL*\",\"\",LogData!V806-A813)","v":""},{"$f":"LogData!E806","v":"*EOL*"},{"$f":"IF(LEFT($C813,1)=\"*\",\"\",LogData!C806)","v":""},{"$f":"IF(LEFT($C813,1)=\"*\",\"\",LogData!F806)","v":""},{"$f":"IF(LEFT($C813,1)=\"*\",\"\",LogData!D806)","v":""},{"$f":"IF(LEFT($C813,1)=\"*\",\"\",LogData!H806)","v":""},{"$f":"IF(LEFT($C813,1)=\"*\",\"\",LogData!T806*100)","v":""}]
[{"$f":"IF($C814=\"*EOL*\",\"\",INT(LogData!V807))","v":""},{"$f":"IF($C814=\"*EOL*\",\"\",LogData!V807-A814)","v":""},{"$f":"LogData!E807","v":"*EOL*"},{"$f":"IF(LEFT($C814,1)=\"*\",\"\",LogData!C807)","v":""},{"$f":"IF(LEFT($C814,1)=\"*\",\"\",LogData!F807)","v":""},{"$f":"IF(LEFT($C814,1)=\"*\",\"\",LogData!D807)","v":""},{"$f":"IF(LEFT($C814,1)=\"*\",\"\",LogData!H807)","v":""},{"$f":"IF(LEFT($C814,1)=\"*\",\"\",LogData!T807*100)","v":""}]
[{"$f":"IF($C815=\"*EOL*\",\"\",INT(LogData!V808))","v":""},{"$f":"IF($C815=\"*EOL*\",\"\",LogData!V808-A815)","v":""},{"$f":"LogData!E808","v":"*EOL*"},{"$f":"IF(LEFT($C815,1)=\"*\",\"\",LogData!C808)","v":""},{"$f":"IF(LEFT($C815,1)=\"*\",\"\",LogData!F808)","v":""},{"$f":"IF(LEFT($C815,1)=\"*\",\"\",LogData!D808)","v":""},{"$f":"IF(LEFT($C815,1)=\"*\",\"\",LogData!H808)","v":""},{"$f":"IF(LEFT($C815,1)=\"*\",\"\",LogData!T808*100)","v":""}]
[{"$f":"IF($C816=\"*EOL*\",\"\",INT(LogData!V809))","v":""},{"$f":"IF($C816=\"*EOL*\",\"\",LogData!V809-A816)","v":""},{"$f":"LogData!E809","v":"*EOL*"},{"$f":"IF(LEFT($C816,1)=\"*\",\"\",LogData!C809)","v":""},{"$f":"IF(LEFT($C816,1)=\"*\",\"\",LogData!F809)","v":""},{"$f":"IF(LEFT($C816,1)=\"*\",\"\",LogData!D809)","v":""},{"$f":"IF(LEFT($C816,1)=\"*\",\"\",LogData!H809)","v":""},{"$f":"IF(LEFT($C816,1)=\"*\",\"\",LogData!T809*100)","v":""}]
[{"$f":"IF($C817=\"*EOL*\",\"\",INT(LogData!V810))","v":""},{"$f":"IF($C817=\"*EOL*\",\"\",LogData!V810-A817)","v":""},{"$f":"LogData!E810","v":"*EOL*"},{"$f":"IF(LEFT($C817,1)=\"*\",\"\",LogData!C810)","v":""},{"$f":"IF(LEFT($C817,1)=\"*\",\"\",LogData!F810)","v":""},{"$f":"IF(LEFT($C817,1)=\"*\",\"\",LogData!D810)","v":""},{"$f":"IF(LEFT($C817,1)=\"*\",\"\",LogData!H810)","v":""},{"$f":"IF(LEFT($C817,1)=\"*\",\"\",LogData!T810*100)","v":""}]
[{"$f":"IF($C818=\"*EOL*\",\"\",INT(LogData!V811))","v":""},{"$f":"IF($C818=\"*EOL*\",\"\",LogData!V811-A818)","v":""},{"$f":"LogData!E811","v":"*EOL*"},{"$f":"IF(LEFT($C818,1)=\"*\",\"\",LogData!C811)","v":""},{"$f":"IF(LEFT($C818,1)=\"*\",\"\",LogData!F811)","v":""},{"$f":"IF(LEFT($C818,1)=\"*\",\"\",LogData!D811)","v":""},{"$f":"IF(LEFT($C818,1)=\"*\",\"\",LogData!H811)","v":""},{"$f":"IF(LEFT($C818,1)=\"*\",\"\",LogData!T811*100)","v":""}]
[{"$f":"IF($C819=\"*EOL*\",\"\",INT(LogData!V812))","v":""},{"$f":"IF($C819=\"*EOL*\",\"\",LogData!V812-A819)","v":""},{"$f":"LogData!E812","v":"*EOL*"},{"$f":"IF(LEFT($C819,1)=\"*\",\"\",LogData!C812)","v":""},{"$f":"IF(LEFT($C819,1)=\"*\",\"\",LogData!F812)","v":""},{"$f":"IF(LEFT($C819,1)=\"*\",\"\",LogData!D812)","v":""},{"$f":"IF(LEFT($C819,1)=\"*\",\"\",LogData!H812)","v":""},{"$f":"IF(LEFT($C819,1)=\"*\",\"\",LogData!T812*100)","v":""}]
[{"$f":"IF($C820=\"*EOL*\",\"\",INT(LogData!V813))","v":""},{"$f":"IF($C820=\"*EOL*\",\"\",LogData!V813-A820)","v":""},{"$f":"LogData!E813","v":"*EOL*"},{"$f":"IF(LEFT($C820,1)=\"*\",\"\",LogData!C813)","v":""},{"$f":"IF(LEFT($C820,1)=\"*\",\"\",LogData!F813)","v":""},{"$f":"IF(LEFT($C820,1)=\"*\",\"\",LogData!D813)","v":""},{"$f":"IF(LEFT($C820,1)=\"*\",\"\",LogData!H813)","v":""},{"$f":"IF(LEFT($C820,1)=\"*\",\"\",LogData!T813*100)","v":""}]
[{"$f":"IF($C821=\"*EOL*\",\"\",INT(LogData!V814))","v":""},{"$f":"IF($C821=\"*EOL*\",\"\",LogData!V814-A821)","v":""},{"$f":"LogData!E814","v":"*EOL*"},{"$f":"IF(LEFT($C821,1)=\"*\",\"\",LogData!C814)","v":""},{"$f":"IF(LEFT($C821,1)=\"*\",\"\",LogData!F814)","v":""},{"$f":"IF(LEFT($C821,1)=\"*\",\"\",LogData!D814)","v":""},{"$f":"IF(LEFT($C821,1)=\"*\",\"\",LogData!H814)","v":""},{"$f":"IF(LEFT($C821,1)=\"*\",\"\",LogData!T814*100)","v":""}]
[{"$f":"IF($C822=\"*EOL*\",\"\",INT(LogData!V815))","v":""},{"$f":"IF($C822=\"*EOL*\",\"\",LogData!V815-A822)","v":""},{"$f":"LogData!E815","v":"*EOL*"},{"$f":"IF(LEFT($C822,1)=\"*\",\"\",LogData!C815)","v":""},{"$f":"IF(LEFT($C822,1)=\"*\",\"\",LogData!F815)","v":""},{"$f":"IF(LEFT($C822,1)=\"*\",\"\",LogData!D815)","v":""},{"$f":"IF(LEFT($C822,1)=\"*\",\"\",LogData!H815)","v":""},{"$f":"IF(LEFT($C822,1)=\"*\",\"\",LogData!T815*100)","v":""}]
[{"$f":"IF($C823=\"*EOL*\",\"\",INT(LogData!V816))","v":""},{"$f":"IF($C823=\"*EOL*\",\"\",LogData!V816-A823)","v":""},{"$f":"LogData!E816","v":"*EOL*"},{"$f":"IF(LEFT($C823,1)=\"*\",\"\",LogData!C816)","v":""},{"$f":"IF(LEFT($C823,1)=\"*\",\"\",LogData!F816)","v":""},{"$f":"IF(LEFT($C823,1)=\"*\",\"\",LogData!D816)","v":""},{"$f":"IF(LEFT($C823,1)=\"*\",\"\",LogData!H816)","v":""},{"$f":"IF(LEFT($C823,1)=\"*\",\"\",LogData!T816*100)","v":""}]
[{"$f":"IF($C824=\"*EOL*\",\"\",INT(LogData!V817))","v":""},{"$f":"IF($C824=\"*EOL*\",\"\",LogData!V817-A824)","v":""},{"$f":"LogData!E817","v":"*EOL*"},{"$f":"IF(LEFT($C824,1)=\"*\",\"\",LogData!C817)","v":""},{"$f":"IF(LEFT($C824,1)=\"*\",\"\",LogData!F817)","v":""},{"$f":"IF(LEFT($C824,1)=\"*\",\"\",LogData!D817)","v":""},{"$f":"IF(LEFT($C824,1)=\"*\",\"\",LogData!H817)","v":""},{"$f":"IF(LEFT($C824,1)=\"*\",\"\",LogData!T817*100)","v":""}]
[{"$f":"IF($C825=\"*EOL*\",\"\",INT(LogData!V818))","v":""},{"$f":"IF($C825=\"*EOL*\",\"\",LogData!V818-A825)","v":""},{"$f":"LogData!E818","v":"*EOL*"},{"$f":"IF(LEFT($C825,1)=\"*\",\"\",LogData!C818)","v":""},{"$f":"IF(LEFT($C825,1)=\"*\",\"\",LogData!F818)","v":""},{"$f":"IF(LEFT($C825,1)=\"*\",\"\",LogData!D818)","v":""},{"$f":"IF(LEFT($C825,1)=\"*\",\"\",LogData!H818)","v":""},{"$f":"IF(LEFT($C825,1)=\"*\",\"\",LogData!T818*100)","v":""}]
[{"$f":"IF($C826=\"*EOL*\",\"\",INT(LogData!V819))","v":""},{"$f":"IF($C826=\"*EOL*\",\"\",LogData!V819-A826)","v":""},{"$f":"LogData!E819","v":"*EOL*"},{"$f":"IF(LEFT($C826,1)=\"*\",\"\",LogData!C819)","v":""},{"$f":"IF(LEFT($C826,1)=\"*\",\"\",LogData!F819)","v":""},{"$f":"IF(LEFT($C826,1)=\"*\",\"\",LogData!D819)","v":""},{"$f":"IF(LEFT($C826,1)=\"*\",\"\",LogData!H819)","v":""},{"$f":"IF(LEFT($C826,1)=\"*\",\"\",LogData!T819*100)","v":""}]
[{"$f":"IF($C827=\"*EOL*\",\"\",INT(LogData!V820))","v":""},{"$f":"IF($C827=\"*EOL*\",\"\",LogData!V820-A827)","v":""},{"$f":"LogData!E820","v":"*EOL*"},{"$f":"IF(LEFT($C827,1)=\"*\",\"\",LogData!C820)","v":""},{"$f":"IF(LEFT($C827,1)=\"*\",\"\",LogData!F820)","v":""},{"$f":"IF(LEFT($C827,1)=\"*\",\"\",LogData!D820)","v":""},{"$f":"IF(LEFT($C827,1)=\"*\",\"\",LogData!H820)","v":""},{"$f":"IF(LEFT($C827,1)=\"*\",\"\",LogData!T820*100)","v":""}]
[{"$f":"IF($C828=\"*EOL*\",\"\",INT(LogData!V821))","v":""},{"$f":"IF($C828=\"*EOL*\",\"\",LogData!V821-A828)","v":""},{"$f":"LogData!E821","v":"*EOL*"},{"$f":"IF(LEFT($C828,1)=\"*\",\"\",LogData!C821)","v":""},{"$f":"IF(LEFT($C828,1)=\"*\",\"\",LogData!F821)","v":""},{"$f":"IF(LEFT($C828,1)=\"*\",\"\",LogData!D821)","v":""},{"$f":"IF(LEFT($C828,1)=\"*\",\"\",LogData!H821)","v":""},{"$f":"IF(LEFT($C828,1)=\"*\",\"\",LogData!T821*100)","v":""}]
[{"$f":"IF($C829=\"*EOL*\",\"\",INT(LogData!V822))","v":""},{"$f":"IF($C829=\"*EOL*\",\"\",LogData!V822-A829)","v":""},{"$f":"LogData!E822","v":"*EOL*"},{"$f":"IF(LEFT($C829,1)=\"*\",\"\",LogData!C822)","v":""},{"$f":"IF(LEFT($C829,1)=\"*\",\"\",LogData!F822)","v":""},{"$f":"IF(LEFT($C829,1)=\"*\",\"\",LogData!D822)","v":""},{"$f":"IF(LEFT($C829,1)=\"*\",\"\",LogData!H822)","v":""},{"$f":"IF(LEFT($C829,1)=\"*\",\"\",LogData!T822*100)","v":""}]
[{"$f":"IF($C830=\"*EOL*\",\"\",INT(LogData!V823))","v":""},{"$f":"IF($C830=\"*EOL*\",\"\",LogData!V823-A830)","v":""},{"$f":"LogData!E823","v":"*EOL*"},{"$f":"IF(LEFT($C830,1)=\"*\",\"\",LogData!C823)","v":""},{"$f":"IF(LEFT($C830,1)=\"*\",\"\",LogData!F823)","v":""},{"$f":"IF(LEFT($C830,1)=\"*\",\"\",LogData!D823)","v":""},{"$f":"IF(LEFT($C830,1)=\"*\",\"\",LogData!H823)","v":""},{"$f":"IF(LEFT($C830,1)=\"*\",\"\",LogData!T823*100)","v":""}]
[{"$f":"IF($C831=\"*EOL*\",\"\",INT(LogData!V824))","v":""},{"$f":"IF($C831=\"*EOL*\",\"\",LogData!V824-A831)","v":""},{"$f":"LogData!E824","v":"*EOL*"},{"$f":"IF(LEFT($C831,1)=\"*\",\"\",LogData!C824)","v":""},{"$f":"IF(LEFT($C831,1)=\"*\",\"\",LogData!F824)","v":""},{"$f":"IF(LEFT($C831,1)=\"*\",\"\",LogData!D824)","v":""},{"$f":"IF(LEFT($C831,1)=\"*\",\"\",LogData!H824)","v":""},{"$f":"IF(LEFT($C831,1)=\"*\",\"\",LogData!T824*100)","v":""}]
[{"$f":"IF($C832=\"*EOL*\",\"\",INT(LogData!V825))","v":""},{"$f":"IF($C832=\"*EOL*\",\"\",LogData!V825-A832)","v":""},{"$f":"LogData!E825","v":"*EOL*"},{"$f":"IF(LEFT($C832,1)=\"*\",\"\",LogData!C825)","v":""},{"$f":"IF(LEFT($C832,1)=\"*\",\"\",LogData!F825)","v":""},{"$f":"IF(LEFT($C832,1)=\"*\",\"\",LogData!D825)","v":""},{"$f":"IF(LEFT($C832,1)=\"*\",\"\",LogData!H825)","v":""},{"$f":"IF(LEFT($C832,1)=\"*\",\"\",LogData!T825*100)","v":""}]
[{"$f":"IF($C833=\"*EOL*\",\"\",INT(LogData!V826))","v":""},{"$f":"IF($C833=\"*EOL*\",\"\",LogData!V826-A833)","v":""},{"$f":"LogData!E826","v":"*EOL*"},{"$f":"IF(LEFT($C833,1)=\"*\",\"\",LogData!C826)","v":""},{"$f":"IF(LEFT($C833,1)=\"*\",\"\",LogData!F826)","v":""},{"$f":"IF(LEFT($C833,1)=\"*\",\"\",LogData!D826)","v":""},{"$f":"IF(LEFT($C833,1)=\"*\",\"\",LogData!H826)","v":""},{"$f":"IF(LEFT($C833,1)=\"*\",\"\",LogData!T826*100)","v":""}]
[{"$f":"IF($C834=\"*EOL*\",\"\",INT(LogData!V827))","v":""},{"$f":"IF($C834=\"*EOL*\",\"\",LogData!V827-A834)","v":""},{"$f":"LogData!E827","v":"*EOL*"},{"$f":"IF(LEFT($C834,1)=\"*\",\"\",LogData!C827)","v":""},{"$f":"IF(LEFT($C834,1)=\"*\",\"\",LogData!F827)","v":""},{"$f":"IF(LEFT($C834,1)=\"*\",\"\",LogData!D827)","v":""},{"$f":"IF(LEFT($C834,1)=\"*\",\"\",LogData!H827)","v":""},{"$f":"IF(LEFT($C834,1)=\"*\",\"\",LogData!T827*100)","v":""}]
[{"$f":"IF($C835=\"*EOL*\",\"\",INT(LogData!V828))","v":""},{"$f":"IF($C835=\"*EOL*\",\"\",LogData!V828-A835)","v":""},{"$f":"LogData!E828","v":"*EOL*"},{"$f":"IF(LEFT($C835,1)=\"*\",\"\",LogData!C828)","v":""},{"$f":"IF(LEFT($C835,1)=\"*\",\"\",LogData!F828)","v":""},{"$f":"IF(LEFT($C835,1)=\"*\",\"\",LogData!D828)","v":""},{"$f":"IF(LEFT($C835,1)=\"*\",\"\",LogData!H828)","v":""},{"$f":"IF(LEFT($C835,1)=\"*\",\"\",LogData!T828*100)","v":""}]
[{"$f":"IF($C836=\"*EOL*\",\"\",INT(LogData!V829))","v":""},{"$f":"IF($C836=\"*EOL*\",\"\",LogData!V829-A836)","v":""},{"$f":"LogData!E829","v":"*EOL*"},{"$f":"IF(LEFT($C836,1)=\"*\",\"\",LogData!C829)","v":""},{"$f":"IF(LEFT($C836,1)=\"*\",\"\",LogData!F829)","v":""},{"$f":"IF(LEFT($C836,1)=\"*\",\"\",LogData!D829)","v":""},{"$f":"IF(LEFT($C836,1)=\"*\",\"\",LogData!H829)","v":""},{"$f":"IF(LEFT($C836,1)=\"*\",\"\",LogData!T829*100)","v":""}]
[{"$f":"IF($C837=\"*EOL*\",\"\",INT(LogData!V830))","v":""},{"$f":"IF($C837=\"*EOL*\",\"\",LogData!V830-A837)","v":""},{"$f":"LogData!E830","v":"*EOL*"},{"$f":"IF(LEFT($C837,1)=\"*\",\"\",LogData!C830)","v":""},{"$f":"IF(LEFT($C837,1)=\"*\",\"\",LogData!F830)","v":""},{"$f":"IF(LEFT($C837,1)=\"*\",\"\",LogData!D830)","v":""},{"$f":"IF(LEFT($C837,1)=\"*\",\"\",LogData!H830)","v":""},{"$f":"IF(LEFT($C837,1)=\"*\",\"\",LogData!T830*100)","v":""}]
[{"$f":"IF($C838=\"*EOL*\",\"\",INT(LogData!V831))","v":""},{"$f":"IF($C838=\"*EOL*\",\"\",LogData!V831-A838)","v":""},{"$f":"LogData!E831","v":"*EOL*"},{"$f":"IF(LEFT($C838,1)=\"*\",\"\",LogData!C831)","v":""},{"$f":"IF(LEFT($C838,1)=\"*\",\"\",LogData!F831)","v":""},{"$f":"IF(LEFT($C838,1)=\"*\",\"\",LogData!D831)","v":""},{"$f":"IF(LEFT($C838,1)=\"*\",\"\",LogData!H831)","v":""},{"$f":"IF(LEFT($C838,1)=\"*\",\"\",LogData!T831*100)","v":""}]
[{"$f":"IF($C839=\"*EOL*\",\"\",INT(LogData!V832))","v":""},{"$f":"IF($C839=\"*EOL*\",\"\",LogData!V832-A839)","v":""},{"$f":"LogData!E832","v":"*EOL*"},{"$f":"IF(LEFT($C839,1)=\"*\",\"\",LogData!C832)","v":""},{"$f":"IF(LEFT($C839,1)=\"*\",\"\",LogData!F832)","v":""},{"$f":"IF(LEFT($C839,1)=\"*\",\"\",LogData!D832)","v":""},{"$f":"IF(LEFT($C839,1)=\"*\",\"\",LogData!H832)","v":""},{"$f":"IF(LEFT($C839,1)=\"*\",\"\",LogData!T832*100)","v":""}]
[{"$f":"IF($C840=\"*EOL*\",\"\",INT(LogData!V833))","v":""},{"$f":"IF($C840=\"*EOL*\",\"\",LogData!V833-A840)","v":""},{"$f":"LogData!E833","v":"*EOL*"},{"$f":"IF(LEFT($C840,1)=\"*\",\"\",LogData!C833)","v":""},{"$f":"IF(LEFT($C840,1)=\"*\",\"\",LogData!F833)","v":""},{"$f":"IF(LEFT($C840,1)=\"*\",\"\",LogData!D833)","v":""},{"$f":"IF(LEFT($C840,1)=\"*\",\"\",LogData!H833)","v":""},{"$f":"IF(LEFT($C840,1)=\"*\",\"\",LogData!T833*100)","v":""}]
[{"$f":"IF($C841=\"*EOL*\",\"\",INT(LogData!V834))","v":""},{"$f":"IF($C841=\"*EOL*\",\"\",LogData!V834-A841)","v":""},{"$f":"LogData!E834","v":"*EOL*"},{"$f":"IF(LEFT($C841,1)=\"*\",\"\",LogData!C834)","v":""},{"$f":"IF(LEFT($C841,1)=\"*\",\"\",LogData!F834)","v":""},{"$f":"IF(LEFT($C841,1)=\"*\",\"\",LogData!D834)","v":""},{"$f":"IF(LEFT($C841,1)=\"*\",\"\",LogData!H834)","v":""},{"$f":"IF(LEFT($C841,1)=\"*\",\"\",LogData!T834*100)","v":""}]
[{"$f":"IF($C842=\"*EOL*\",\"\",INT(LogData!V835))","v":""},{"$f":"IF($C842=\"*EOL*\",\"\",LogData!V835-A842)","v":""},{"$f":"LogData!E835","v":"*EOL*"},{"$f":"IF(LEFT($C842,1)=\"*\",\"\",LogData!C835)","v":""},{"$f":"IF(LEFT($C842,1)=\"*\",\"\",LogData!F835)","v":""},{"$f":"IF(LEFT($C842,1)=\"*\",\"\",LogData!D835)","v":""},{"$f":"IF(LEFT($C842,1)=\"*\",\"\",LogData!H835)","v":""},{"$f":"IF(LEFT($C842,1)=\"*\",\"\",LogData!T835*100)","v":""}]
[{"$f":"IF($C843=\"*EOL*\",\"\",INT(LogData!V836))","v":""},{"$f":"IF($C843=\"*EOL*\",\"\",LogData!V836-A843)","v":""},{"$f":"LogData!E836","v":"*EOL*"},{"$f":"IF(LEFT($C843,1)=\"*\",\"\",LogData!C836)","v":""},{"$f":"IF(LEFT($C843,1)=\"*\",\"\",LogData!F836)","v":""},{"$f":"IF(LEFT($C843,1)=\"*\",\"\",LogData!D836)","v":""},{"$f":"IF(LEFT($C843,1)=\"*\",\"\",LogData!H836)","v":""},{"$f":"IF(LEFT($C843,1)=\"*\",\"\",LogData!T836*100)","v":""}]
[{"$f":"IF($C844=\"*EOL*\",\"\",INT(LogData!V837))","v":""},{"$f":"IF($C844=\"*EOL*\",\"\",LogData!V837-A844)","v":""},{"$f":"LogData!E837","v":"*EOL*"},{"$f":"IF(LEFT($C844,1)=\"*\",\"\",LogData!C837)","v":""},{"$f":"IF(LEFT($C844,1)=\"*\",\"\",LogData!F837)","v":""},{"$f":"IF(LEFT($C844,1)=\"*\",\"\",LogData!D837)","v":""},{"$f":"IF(LEFT($C844,1)=\"*\",\"\",LogData!H837)","v":""},{"$f":"IF(LEFT($C844,1)=\"*\",\"\",LogData!T837*100)","v":""}]
[{"$f":"IF($C845=\"*EOL*\",\"\",INT(LogData!V838))","v":""},{"$f":"IF($C845=\"*EOL*\",\"\",LogData!V838-A845)","v":""},{"$f":"LogData!E838","v":"*EOL*"},{"$f":"IF(LEFT($C845,1)=\"*\",\"\",LogData!C838)","v":""},{"$f":"IF(LEFT($C845,1)=\"*\",\"\",LogData!F838)","v":""},{"$f":"IF(LEFT($C845,1)=\"*\",\"\",LogData!D838)","v":""},{"$f":"IF(LEFT($C845,1)=\"*\",\"\",LogData!H838)","v":""},{"$f":"IF(LEFT($C845,1)=\"*\",\"\",LogData!T838*100)","v":""}]
[{"$f":"IF($C846=\"*EOL*\",\"\",INT(LogData!V839))","v":""},{"$f":"IF($C846=\"*EOL*\",\"\",LogData!V839-A846)","v":""},{"$f":"LogData!E839","v":"*EOL*"},{"$f":"IF(LEFT($C846,1)=\"*\",\"\",LogData!C839)","v":""},{"$f":"IF(LEFT($C846,1)=\"*\",\"\",LogData!F839)","v":""},{"$f":"IF(LEFT($C846,1)=\"*\",\"\",LogData!D839)","v":""},{"$f":"IF(LEFT($C846,1)=\"*\",\"\",LogData!H839)","v":""},{"$f":"IF(LEFT($C846,1)=\"*\",\"\",LogData!T839*100)","v":""}]
[{"$f":"IF($C847=\"*EOL*\",\"\",INT(LogData!V840))","v":""},{"$f":"IF($C847=\"*EOL*\",\"\",LogData!V840-A847)","v":""},{"$f":"LogData!E840","v":"*EOL*"},{"$f":"IF(LEFT($C847,1)=\"*\",\"\",LogData!C840)","v":""},{"$f":"IF(LEFT($C847,1)=\"*\",\"\",LogData!F840)","v":""},{"$f":"IF(LEFT($C847,1)=\"*\",\"\",LogData!D840)","v":""},{"$f":"IF(LEFT($C847,1)=\"*\",\"\",LogData!H840)","v":""},{"$f":"IF(LEFT($C847,1)=\"*\",\"\",LogData!T840*100)","v":""}]
[{"$f":"IF($C848=\"*EOL*\",\"\",INT(LogData!V841))","v":""},{"$f":"IF($C848=\"*EOL*\",\"\",LogData!V841-A848)","v":""},{"$f":"LogData!E841","v":"*EOL*"},{"$f":"IF(LEFT($C848,1)=\"*\",\"\",LogData!C841)","v":""},{"$f":"IF(LEFT($C848,1)=\"*\",\"\",LogData!F841)","v":""},{"$f":"IF(LEFT($C848,1)=\"*\",\"\",LogData!D841)","v":""},{"$f":"IF(LEFT($C848,1)=\"*\",\"\",LogData!H841)","v":""},{"$f":"IF(LEFT($C848,1)=\"*\",\"\",LogData!T841*100)","v":""}]
[{"$f":"IF($C849=\"*EOL*\",\"\",INT(LogData!V842))","v":""},{"$f":"IF($C849=\"*EOL*\",\"\",LogData!V842-A849)","v":""},{"$f":"LogData!E842","v":"*EOL*"},{"$f":"IF(LEFT($C849,1)=\"*\",\"\",LogData!C842)","v":""},{"$f":"IF(LEFT($C849,1)=\"*\",\"\",LogData!F842)","v":""},{"$f":"IF(LEFT($C849,1)=\"*\",\"\",LogData!D842)","v":""},{"$f":"IF(LEFT($C849,1)=\"*\",\"\",LogData!H842)","v":""},{"$f":"IF(LEFT($C849,1)=\"*\",\"\",LogData!T842*100)","v":""}]
[{"$f":"IF($C850=\"*EOL*\",\"\",INT(LogData!V843))","v":""},{"$f":"IF($C850=\"*EOL*\",\"\",LogData!V843-A850)","v":""},{"$f":"LogData!E843","v":"*EOL*"},{"$f":"IF(LEFT($C850,1)=\"*\",\"\",LogData!C843)","v":""},{"$f":"IF(LEFT($C850,1)=\"*\",\"\",LogData!F843)","v":""},{"$f":"IF(LEFT($C850,1)=\"*\",\"\",LogData!D843)","v":""},{"$f":"IF(LEFT($C850,1)=\"*\",\"\",LogData!H843)","v":""},{"$f":"IF(LEFT($C850,1)=\"*\",\"\",LogData!T843*100)","v":""}]
[{"$f":"IF($C851=\"*EOL*\",\"\",INT(LogData!V844))","v":""},{"$f":"IF($C851=\"*EOL*\",\"\",LogData!V844-A851)","v":""},{"$f":"LogData!E844","v":"*EOL*"},{"$f":"IF(LEFT($C851,1)=\"*\",\"\",LogData!C844)","v":""},{"$f":"IF(LEFT($C851,1)=\"*\",\"\",LogData!F844)","v":""},{"$f":"IF(LEFT($C851,1)=\"*\",\"\",LogData!D844)","v":""},{"$f":"IF(LEFT($C851,1)=\"*\",\"\",LogData!H844)","v":""},{"$f":"IF(LEFT($C851,1)=\"*\",\"\",LogData!T844*100)","v":""}]
[{"$f":"IF($C852=\"*EOL*\",\"\",INT(LogData!V845))","v":""},{"$f":"IF($C852=\"*EOL*\",\"\",LogData!V845-A852)","v":""},{"$f":"LogData!E845","v":"*EOL*"},{"$f":"IF(LEFT($C852,1)=\"*\",\"\",LogData!C845)","v":""},{"$f":"IF(LEFT($C852,1)=\"*\",\"\",LogData!F845)","v":""},{"$f":"IF(LEFT($C852,1)=\"*\",\"\",LogData!D845)","v":""},{"$f":"IF(LEFT($C852,1)=\"*\",\"\",LogData!H845)","v":""},{"$f":"IF(LEFT($C852,1)=\"*\",\"\",LogData!T845*100)","v":""}]
[{"$f":"IF($C853=\"*EOL*\",\"\",INT(LogData!V846))","v":""},{"$f":"IF($C853=\"*EOL*\",\"\",LogData!V846-A853)","v":""},{"$f":"LogData!E846","v":"*EOL*"},{"$f":"IF(LEFT($C853,1)=\"*\",\"\",LogData!C846)","v":""},{"$f":"IF(LEFT($C853,1)=\"*\",\"\",LogData!F846)","v":""},{"$f":"IF(LEFT($C853,1)=\"*\",\"\",LogData!D846)","v":""},{"$f":"IF(LEFT($C853,1)=\"*\",\"\",LogData!H846)","v":""},{"$f":"IF(LEFT($C853,1)=\"*\",\"\",LogData!T846*100)","v":""}]
[{"$f":"IF($C854=\"*EOL*\",\"\",INT(LogData!V847))","v":""},{"$f":"IF($C854=\"*EOL*\",\"\",LogData!V847-A854)","v":""},{"$f":"LogData!E847","v":"*EOL*"},{"$f":"IF(LEFT($C854,1)=\"*\",\"\",LogData!C847)","v":""},{"$f":"IF(LEFT($C854,1)=\"*\",\"\",LogData!F847)","v":""},{"$f":"IF(LEFT($C854,1)=\"*\",\"\",LogData!D847)","v":""},{"$f":"IF(LEFT($C854,1)=\"*\",\"\",LogData!H847)","v":""},{"$f":"IF(LEFT($C854,1)=\"*\",\"\",LogData!T847*100)","v":""}]
[{"$f":"IF($C855=\"*EOL*\",\"\",INT(LogData!V848))","v":""},{"$f":"IF($C855=\"*EOL*\",\"\",LogData!V848-A855)","v":""},{"$f":"LogData!E848","v":"*EOL*"},{"$f":"IF(LEFT($C855,1)=\"*\",\"\",LogData!C848)","v":""},{"$f":"IF(LEFT($C855,1)=\"*\",\"\",LogData!F848)","v":""},{"$f":"IF(LEFT($C855,1)=\"*\",\"\",LogData!D848)","v":""},{"$f":"IF(LEFT($C855,1)=\"*\",\"\",LogData!H848)","v":""},{"$f":"IF(LEFT($C855,1)=\"*\",\"\",LogData!T848*100)","v":""}]
[{"$f":"IF($C856=\"*EOL*\",\"\",INT(LogData!V849))","v":""},{"$f":"IF($C856=\"*EOL*\",\"\",LogData!V849-A856)","v":""},{"$f":"LogData!E849","v":"*EOL*"},{"$f":"IF(LEFT($C856,1)=\"*\",\"\",LogData!C849)","v":""},{"$f":"IF(LEFT($C856,1)=\"*\",\"\",LogData!F849)","v":""},{"$f":"IF(LEFT($C856,1)=\"*\",\"\",LogData!D849)","v":""},{"$f":"IF(LEFT($C856,1)=\"*\",\"\",LogData!H849)","v":""},{"$f":"IF(LEFT($C856,1)=\"*\",\"\",LogData!T849*100)","v":""}]
[{"$f":"IF($C857=\"*EOL*\",\"\",INT(LogData!V850))","v":""},{"$f":"IF($C857=\"*EOL*\",\"\",LogData!V850-A857)","v":""},{"$f":"LogData!E850","v":"*EOL*"},{"$f":"IF(LEFT($C857,1)=\"*\",\"\",LogData!C850)","v":""},{"$f":"IF(LEFT($C857,1)=\"*\",\"\",LogData!F850)","v":""},{"$f":"IF(LEFT($C857,1)=\"*\",\"\",LogData!D850)","v":""},{"$f":"IF(LEFT($C857,1)=\"*\",\"\",LogData!H850)","v":""},{"$f":"IF(LEFT($C857,1)=\"*\",\"\",LogData!T850*100)","v":""}]
[{"$f":"IF($C858=\"*EOL*\",\"\",INT(LogData!V851))","v":""},{"$f":"IF($C858=\"*EOL*\",\"\",LogData!V851-A858)","v":""},{"$f":"LogData!E851","v":"*EOL*"},{"$f":"IF(LEFT($C858,1)=\"*\",\"\",LogData!C851)","v":""},{"$f":"IF(LEFT($C858,1)=\"*\",\"\",LogData!F851)","v":""},{"$f":"IF(LEFT($C858,1)=\"*\",\"\",LogData!D851)","v":""},{"$f":"IF(LEFT($C858,1)=\"*\",\"\",LogData!H851)","v":""},{"$f":"IF(LEFT($C858,1)=\"*\",\"\",LogData!T851*100)","v":""}]
[{"$f":"IF($C859=\"*EOL*\",\"\",INT(LogData!V852))","v":""},{"$f":"IF($C859=\"*EOL*\",\"\",LogData!V852-A859)","v":""},{"$f":"LogData!E852","v":"*EOL*"},{"$f":"IF(LEFT($C859,1)=\"*\",\"\",LogData!C852)","v":""},{"$f":"IF(LEFT($C859,1)=\"*\",\"\",LogData!F852)","v":""},{"$f":"IF(LEFT($C859,1)=\"*\",\"\",LogData!D852)","v":""},{"$f":"IF(LEFT($C859,1)=\"*\",\"\",LogData!H852)","v":""},{"$f":"IF(LEFT($C859,1)=\"*\",\"\",LogData!T852*100)","v":""}]
[{"$f":"IF($C860=\"*EOL*\",\"\",INT(LogData!V853))","v":""},{"$f":"IF($C860=\"*EOL*\",\"\",LogData!V853-A860)","v":""},{"$f":"LogData!E853","v":"*EOL*"},{"$f":"IF(LEFT($C860,1)=\"*\",\"\",LogData!C853)","v":""},{"$f":"IF(LEFT($C860,1)=\"*\",\"\",LogData!F853)","v":""},{"$f":"IF(LEFT($C860,1)=\"*\",\"\",LogData!D853)","v":""},{"$f":"IF(LEFT($C860,1)=\"*\",\"\",LogData!H853)","v":""},{"$f":"IF(LEFT($C860,1)=\"*\",\"\",LogData!T853*100)","v":""}]
[{"$f":"IF($C861=\"*EOL*\",\"\",INT(LogData!V854))","v":""},{"$f":"IF($C861=\"*EOL*\",\"\",LogData!V854-A861)","v":""},{"$f":"LogData!E854","v":"*EOL*"},{"$f":"IF(LEFT($C861,1)=\"*\",\"\",LogData!C854)","v":""},{"$f":"IF(LEFT($C861,1)=\"*\",\"\",LogData!F854)","v":""},{"$f":"IF(LEFT($C861,1)=\"*\",\"\",LogData!D854)","v":""},{"$f":"IF(LEFT($C861,1)=\"*\",\"\",LogData!H854)","v":""},{"$f":"IF(LEFT($C861,1)=\"*\",\"\",LogData!T854*100)","v":""}]
[{"$f":"IF($C862=\"*EOL*\",\"\",INT(LogData!V855))","v":""},{"$f":"IF($C862=\"*EOL*\",\"\",LogData!V855-A862)","v":""},{"$f":"LogData!E855","v":"*EOL*"},{"$f":"IF(LEFT($C862,1)=\"*\",\"\",LogData!C855)","v":""},{"$f":"IF(LEFT($C862,1)=\"*\",\"\",LogData!F855)","v":""},{"$f":"IF(LEFT($C862,1)=\"*\",\"\",LogData!D855)","v":""},{"$f":"IF(LEFT($C862,1)=\"*\",\"\",LogData!H855)","v":""},{"$f":"IF(LEFT($C862,1)=\"*\",\"\",LogData!T855*100)","v":""}]
[{"$f":"IF($C863=\"*EOL*\",\"\",INT(LogData!V856))","v":""},{"$f":"IF($C863=\"*EOL*\",\"\",LogData!V856-A863)","v":""},{"$f":"LogData!E856","v":"*EOL*"},{"$f":"IF(LEFT($C863,1)=\"*\",\"\",LogData!C856)","v":""},{"$f":"IF(LEFT($C863,1)=\"*\",\"\",LogData!F856)","v":""},{"$f":"IF(LEFT($C863,1)=\"*\",\"\",LogData!D856)","v":""},{"$f":"IF(LEFT($C863,1)=\"*\",\"\",LogData!H856)","v":""},{"$f":"IF(LEFT($C863,1)=\"*\",\"\",LogData!T856*100)","v":""}]
[{"$f":"IF($C864=\"*EOL*\",\"\",INT(LogData!V857))","v":""},{"$f":"IF($C864=\"*EOL*\",\"\",LogData!V857-A864)","v":""},{"$f":"LogData!E857","v":"*EOL*"},{"$f":"IF(LEFT($C864,1)=\"*\",\"\",LogData!C857)","v":""},{"$f":"IF(LEFT($C864,1)=\"*\",\"\",LogData!F857)","v":""},{"$f":"IF(LEFT($C864,1)=\"*\",\"\",LogData!D857)","v":""},{"$f":"IF(LEFT($C864,1)=\"*\",\"\",LogData!H857)","v":""},{"$f":"IF(LEFT($C864,1)=\"*\",\"\",LogData!T857*100)","v":""}]
[{"$f":"IF($C865=\"*EOL*\",\"\",INT(LogData!V858))","v":""},{"$f":"IF($C865=\"*EOL*\",\"\",LogData!V858-A865)","v":""},{"$f":"LogData!E858","v":"*EOL*"},{"$f":"IF(LEFT($C865,1)=\"*\",\"\",LogData!C858)","v":""},{"$f":"IF(LEFT($C865,1)=\"*\",\"\",LogData!F858)","v":""},{"$f":"IF(LEFT($C865,1)=\"*\",\"\",LogData!D858)","v":""},{"$f":"IF(LEFT($C865,1)=\"*\",\"\",LogData!H858)","v":""},{"$f":"IF(LEFT($C865,1)=\"*\",\"\",LogData!T858*100)","v":""}]
[{"$f":"IF($C866=\"*EOL*\",\"\",INT(LogData!V859))","v":""},{"$f":"IF($C866=\"*EOL*\",\"\",LogData!V859-A866)","v":""},{"$f":"LogData!E859","v":"*EOL*"},{"$f":"IF(LEFT($C866,1)=\"*\",\"\",LogData!C859)","v":""},{"$f":"IF(LEFT($C866,1)=\"*\",\"\",LogData!F859)","v":""},{"$f":"IF(LEFT($C866,1)=\"*\",\"\",LogData!D859)","v":""},{"$f":"IF(LEFT($C866,1)=\"*\",\"\",LogData!H859)","v":""},{"$f":"IF(LEFT($C866,1)=\"*\",\"\",LogData!T859*100)","v":""}]
[{"$f":"IF($C867=\"*EOL*\",\"\",INT(LogData!V860))","v":""},{"$f":"IF($C867=\"*EOL*\",\"\",LogData!V860-A867)","v":""},{"$f":"LogData!E860","v":"*EOL*"},{"$f":"IF(LEFT($C867,1)=\"*\",\"\",LogData!C860)","v":""},{"$f":"IF(LEFT($C867,1)=\"*\",\"\",LogData!F860)","v":""},{"$f":"IF(LEFT($C867,1)=\"*\",\"\",LogData!D860)","v":""},{"$f":"IF(LEFT($C867,1)=\"*\",\"\",LogData!H860)","v":""},{"$f":"IF(LEFT($C867,1)=\"*\",\"\",LogData!T860*100)","v":""}]
[{"$f":"IF($C868=\"*EOL*\",\"\",INT(LogData!V861))","v":""},{"$f":"IF($C868=\"*EOL*\",\"\",LogData!V861-A868)","v":""},{"$f":"LogData!E861","v":"*EOL*"},{"$f":"IF(LEFT($C868,1)=\"*\",\"\",LogData!C861)","v":""},{"$f":"IF(LEFT($C868,1)=\"*\",\"\",LogData!F861)","v":""},{"$f":"IF(LEFT($C868,1)=\"*\",\"\",LogData!D861)","v":""},{"$f":"IF(LEFT($C868,1)=\"*\",\"\",LogData!H861)","v":""},{"$f":"IF(LEFT($C868,1)=\"*\",\"\",LogData!T861*100)","v":""}]
[{"$f":"IF($C869=\"*EOL*\",\"\",INT(LogData!V862))","v":""},{"$f":"IF($C869=\"*EOL*\",\"\",LogData!V862-A869)","v":""},{"$f":"LogData!E862","v":"*EOL*"},{"$f":"IF(LEFT($C869,1)=\"*\",\"\",LogData!C862)","v":""},{"$f":"IF(LEFT($C869,1)=\"*\",\"\",LogData!F862)","v":""},{"$f":"IF(LEFT($C869,1)=\"*\",\"\",LogData!D862)","v":""},{"$f":"IF(LEFT($C869,1)=\"*\",\"\",LogData!H862)","v":""},{"$f":"IF(LEFT($C869,1)=\"*\",\"\",LogData!T862*100)","v":""}]
[{"$f":"IF($C870=\"*EOL*\",\"\",INT(LogData!V863))","v":""},{"$f":"IF($C870=\"*EOL*\",\"\",LogData!V863-A870)","v":""},{"$f":"LogData!E863","v":"*EOL*"},{"$f":"IF(LEFT($C870,1)=\"*\",\"\",LogData!C863)","v":""},{"$f":"IF(LEFT($C870,1)=\"*\",\"\",LogData!F863)","v":""},{"$f":"IF(LEFT($C870,1)=\"*\",\"\",LogData!D863)","v":""},{"$f":"IF(LEFT($C870,1)=\"*\",\"\",LogData!H863)","v":""},{"$f":"IF(LEFT($C870,1)=\"*\",\"\",LogData!T863*100)","v":""}]
[{"$f":"IF($C871=\"*EOL*\",\"\",INT(LogData!V864))","v":""},{"$f":"IF($C871=\"*EOL*\",\"\",LogData!V864-A871)","v":""},{"$f":"LogData!E864","v":"*EOL*"},{"$f":"IF(LEFT($C871,1)=\"*\",\"\",LogData!C864)","v":""},{"$f":"IF(LEFT($C871,1)=\"*\",\"\",LogData!F864)","v":""},{"$f":"IF(LEFT($C871,1)=\"*\",\"\",LogData!D864)","v":""},{"$f":"IF(LEFT($C871,1)=\"*\",\"\",LogData!H864)","v":""},{"$f":"IF(LEFT($C871,1)=\"*\",\"\",LogData!T864*100)","v":""}]
[{"$f":"IF($C872=\"*EOL*\",\"\",INT(LogData!V865))","v":""},{"$f":"IF($C872=\"*EOL*\",\"\",LogData!V865-A872)","v":""},{"$f":"LogData!E865","v":"*EOL*"},{"$f":"IF(LEFT($C872,1)=\"*\",\"\",LogData!C865)","v":""},{"$f":"IF(LEFT($C872,1)=\"*\",\"\",LogData!F865)","v":""},{"$f":"IF(LEFT($C872,1)=\"*\",\"\",LogData!D865)","v":""},{"$f":"IF(LEFT($C872,1)=\"*\",\"\",LogData!H865)","v":""},{"$f":"IF(LEFT($C872,1)=\"*\",\"\",LogData!T865*100)","v":""}]
[{"$f":"IF($C873=\"*EOL*\",\"\",INT(LogData!V866))","v":""},{"$f":"IF($C873=\"*EOL*\",\"\",LogData!V866-A873)","v":""},{"$f":"LogData!E866","v":"*EOL*"},{"$f":"IF(LEFT($C873,1)=\"*\",\"\",LogData!C866)","v":""},{"$f":"IF(LEFT($C873,1)=\"*\",\"\",LogData!F866)","v":""},{"$f":"IF(LEFT($C873,1)=\"*\",\"\",LogData!D866)","v":""},{"$f":"IF(LEFT($C873,1)=\"*\",\"\",LogData!H866)","v":""},{"$f":"IF(LEFT($C873,1)=\"*\",\"\",LogData!T866*100)","v":""}]
[{"$f":"IF($C874=\"*EOL*\",\"\",INT(LogData!V867))","v":""},{"$f":"IF($C874=\"*EOL*\",\"\",LogData!V867-A874)","v":""},{"$f":"LogData!E867","v":"*EOL*"},{"$f":"IF(LEFT($C874,1)=\"*\",\"\",LogData!C867)","v":""},{"$f":"IF(LEFT($C874,1)=\"*\",\"\",LogData!F867)","v":""},{"$f":"IF(LEFT($C874,1)=\"*\",\"\",LogData!D867)","v":""},{"$f":"IF(LEFT($C874,1)=\"*\",\"\",LogData!H867)","v":""},{"$f":"IF(LEFT($C874,1)=\"*\",\"\",LogData!T867*100)","v":""}]
[{"$f":"IF($C875=\"*EOL*\",\"\",INT(LogData!V868))","v":""},{"$f":"IF($C875=\"*EOL*\",\"\",LogData!V868-A875)","v":""},{"$f":"LogData!E868","v":"*EOL*"},{"$f":"IF(LEFT($C875,1)=\"*\",\"\",LogData!C868)","v":""},{"$f":"IF(LEFT($C875,1)=\"*\",\"\",LogData!F868)","v":""},{"$f":"IF(LEFT($C875,1)=\"*\",\"\",LogData!D868)","v":""},{"$f":"IF(LEFT($C875,1)=\"*\",\"\",LogData!H868)","v":""},{"$f":"IF(LEFT($C875,1)=\"*\",\"\",LogData!T868*100)","v":""}]
[{"$f":"IF($C876=\"*EOL*\",\"\",INT(LogData!V869))","v":""},{"$f":"IF($C876=\"*EOL*\",\"\",LogData!V869-A876)","v":""},{"$f":"LogData!E869","v":"*EOL*"},{"$f":"IF(LEFT($C876,1)=\"*\",\"\",LogData!C869)","v":""},{"$f":"IF(LEFT($C876,1)=\"*\",\"\",LogData!F869)","v":""},{"$f":"IF(LEFT($C876,1)=\"*\",\"\",LogData!D869)","v":""},{"$f":"IF(LEFT($C876,1)=\"*\",\"\",LogData!H869)","v":""},{"$f":"IF(LEFT($C876,1)=\"*\",\"\",LogData!T869*100)","v":""}]
[{"$f":"IF($C877=\"*EOL*\",\"\",INT(LogData!V870))","v":""},{"$f":"IF($C877=\"*EOL*\",\"\",LogData!V870-A877)","v":""},{"$f":"LogData!E870","v":"*EOL*"},{"$f":"IF(LEFT($C877,1)=\"*\",\"\",LogData!C870)","v":""},{"$f":"IF(LEFT($C877,1)=\"*\",\"\",LogData!F870)","v":""},{"$f":"IF(LEFT($C877,1)=\"*\",\"\",LogData!D870)","v":""},{"$f":"IF(LEFT($C877,1)=\"*\",\"\",LogData!H870)","v":""},{"$f":"IF(LEFT($C877,1)=\"*\",\"\",LogData!T870*100)","v":""}]
[{"$f":"IF($C878=\"*EOL*\",\"\",INT(LogData!V871))","v":""},{"$f":"IF($C878=\"*EOL*\",\"\",LogData!V871-A878)","v":""},{"$f":"LogData!E871","v":"*EOL*"},{"$f":"IF(LEFT($C878,1)=\"*\",\"\",LogData!C871)","v":""},{"$f":"IF(LEFT($C878,1)=\"*\",\"\",LogData!F871)","v":""},{"$f":"IF(LEFT($C878,1)=\"*\",\"\",LogData!D871)","v":""},{"$f":"IF(LEFT($C878,1)=\"*\",\"\",LogData!H871)","v":""},{"$f":"IF(LEFT($C878,1)=\"*\",\"\",LogData!T871*100)","v":""}]
[{"$f":"IF($C879=\"*EOL*\",\"\",INT(LogData!V872))","v":""},{"$f":"IF($C879=\"*EOL*\",\"\",LogData!V872-A879)","v":""},{"$f":"LogData!E872","v":"*EOL*"},{"$f":"IF(LEFT($C879,1)=\"*\",\"\",LogData!C872)","v":""},{"$f":"IF(LEFT($C879,1)=\"*\",\"\",LogData!F872)","v":""},{"$f":"IF(LEFT($C879,1)=\"*\",\"\",LogData!D872)","v":""},{"$f":"IF(LEFT($C879,1)=\"*\",\"\",LogData!H872)","v":""},{"$f":"IF(LEFT($C879,1)=\"*\",\"\",LogData!T872*100)","v":""}]
[{"$f":"IF($C880=\"*EOL*\",\"\",INT(LogData!V873))","v":""},{"$f":"IF($C880=\"*EOL*\",\"\",LogData!V873-A880)","v":""},{"$f":"LogData!E873","v":"*EOL*"},{"$f":"IF(LEFT($C880,1)=\"*\",\"\",LogData!C873)","v":""},{"$f":"IF(LEFT($C880,1)=\"*\",\"\",LogData!F873)","v":""},{"$f":"IF(LEFT($C880,1)=\"*\",\"\",LogData!D873)","v":""},{"$f":"IF(LEFT($C880,1)=\"*\",\"\",LogData!H873)","v":""},{"$f":"IF(LEFT($C880,1)=\"*\",\"\",LogData!T873*100)","v":""}]
[{"$f":"IF($C881=\"*EOL*\",\"\",INT(LogData!V874))","v":""},{"$f":"IF($C881=\"*EOL*\",\"\",LogData!V874-A881)","v":""},{"$f":"LogData!E874","v":"*EOL*"},{"$f":"IF(LEFT($C881,1)=\"*\",\"\",LogData!C874)","v":""},{"$f":"IF(LEFT($C881,1)=\"*\",\"\",LogData!F874)","v":""},{"$f":"IF(LEFT($C881,1)=\"*\",\"\",LogData!D874)","v":""},{"$f":"IF(LEFT($C881,1)=\"*\",\"\",LogData!H874)","v":""},{"$f":"IF(LEFT($C881,1)=\"*\",\"\",LogData!T874*100)","v":""}]
[{"$f":"IF($C882=\"*EOL*\",\"\",INT(LogData!V875))","v":""},{"$f":"IF($C882=\"*EOL*\",\"\",LogData!V875-A882)","v":""},{"$f":"LogData!E875","v":"*EOL*"},{"$f":"IF(LEFT($C882,1)=\"*\",\"\",LogData!C875)","v":""},{"$f":"IF(LEFT($C882,1)=\"*\",\"\",LogData!F875)","v":""},{"$f":"IF(LEFT($C882,1)=\"*\",\"\",LogData!D875)","v":""},{"$f":"IF(LEFT($C882,1)=\"*\",\"\",LogData!H875)","v":""},{"$f":"IF(LEFT($C882,1)=\"*\",\"\",LogData!T875*100)","v":""}]
[{"$f":"IF($C883=\"*EOL*\",\"\",INT(LogData!V876))","v":""},{"$f":"IF($C883=\"*EOL*\",\"\",LogData!V876-A883)","v":""},{"$f":"LogData!E876","v":"*EOL*"},{"$f":"IF(LEFT($C883,1)=\"*\",\"\",LogData!C876)","v":""},{"$f":"IF(LEFT($C883,1)=\"*\",\"\",LogData!F876)","v":""},{"$f":"IF(LEFT($C883,1)=\"*\",\"\",LogData!D876)","v":""},{"$f":"IF(LEFT($C883,1)=\"*\",\"\",LogData!H876)","v":""},{"$f":"IF(LEFT($C883,1)=\"*\",\"\",LogData!T876*100)","v":""}]
[{"$f":"IF($C884=\"*EOL*\",\"\",INT(LogData!V877))","v":""},{"$f":"IF($C884=\"*EOL*\",\"\",LogData!V877-A884)","v":""},{"$f":"LogData!E877","v":"*EOL*"},{"$f":"IF(LEFT($C884,1)=\"*\",\"\",LogData!C877)","v":""},{"$f":"IF(LEFT($C884,1)=\"*\",\"\",LogData!F877)","v":""},{"$f":"IF(LEFT($C884,1)=\"*\",\"\",LogData!D877)","v":""},{"$f":"IF(LEFT($C884,1)=\"*\",\"\",LogData!H877)","v":""},{"$f":"IF(LEFT($C884,1)=\"*\",\"\",LogData!T877*100)","v":""}]
[{"$f":"IF($C885=\"*EOL*\",\"\",INT(LogData!V878))","v":""},{"$f":"IF($C885=\"*EOL*\",\"\",LogData!V878-A885)","v":""},{"$f":"LogData!E878","v":"*EOL*"},{"$f":"IF(LEFT($C885,1)=\"*\",\"\",LogData!C878)","v":""},{"$f":"IF(LEFT($C885,1)=\"*\",\"\",LogData!F878)","v":""},{"$f":"IF(LEFT($C885,1)=\"*\",\"\",LogData!D878)","v":""},{"$f":"IF(LEFT($C885,1)=\"*\",\"\",LogData!H878)","v":""},{"$f":"IF(LEFT($C885,1)=\"*\",\"\",LogData!T878*100)","v":""}]
[{"$f":"IF($C886=\"*EOL*\",\"\",INT(LogData!V879))","v":""},{"$f":"IF($C886=\"*EOL*\",\"\",LogData!V879-A886)","v":""},{"$f":"LogData!E879","v":"*EOL*"},{"$f":"IF(LEFT($C886,1)=\"*\",\"\",LogData!C879)","v":""},{"$f":"IF(LEFT($C886,1)=\"*\",\"\",LogData!F879)","v":""},{"$f":"IF(LEFT($C886,1)=\"*\",\"\",LogData!D879)","v":""},{"$f":"IF(LEFT($C886,1)=\"*\",\"\",LogData!H879)","v":""},{"$f":"IF(LEFT($C886,1)=\"*\",\"\",LogData!T879*100)","v":""}]
[{"$f":"IF($C887=\"*EOL*\",\"\",INT(LogData!V880))","v":""},{"$f":"IF($C887=\"*EOL*\",\"\",LogData!V880-A887)","v":""},{"$f":"LogData!E880","v":"*EOL*"},{"$f":"IF(LEFT($C887,1)=\"*\",\"\",LogData!C880)","v":""},{"$f":"IF(LEFT($C887,1)=\"*\",\"\",LogData!F880)","v":""},{"$f":"IF(LEFT($C887,1)=\"*\",\"\",LogData!D880)","v":""},{"$f":"IF(LEFT($C887,1)=\"*\",\"\",LogData!H880)","v":""},{"$f":"IF(LEFT($C887,1)=\"*\",\"\",LogData!T880*100)","v":""}]
[{"$f":"IF($C888=\"*EOL*\",\"\",INT(LogData!V881))","v":""},{"$f":"IF($C888=\"*EOL*\",\"\",LogData!V881-A888)","v":""},{"$f":"LogData!E881","v":"*EOL*"},{"$f":"IF(LEFT($C888,1)=\"*\",\"\",LogData!C881)","v":""},{"$f":"IF(LEFT($C888,1)=\"*\",\"\",LogData!F881)","v":""},{"$f":"IF(LEFT($C888,1)=\"*\",\"\",LogData!D881)","v":""},{"$f":"IF(LEFT($C888,1)=\"*\",\"\",LogData!H881)","v":""},{"$f":"IF(LEFT($C888,1)=\"*\",\"\",LogData!T881*100)","v":""}]
[{"$f":"IF($C889=\"*EOL*\",\"\",INT(LogData!V882))","v":""},{"$f":"IF($C889=\"*EOL*\",\"\",LogData!V882-A889)","v":""},{"$f":"LogData!E882","v":"*EOL*"},{"$f":"IF(LEFT($C889,1)=\"*\",\"\",LogData!C882)","v":""},{"$f":"IF(LEFT($C889,1)=\"*\",\"\",LogData!F882)","v":""},{"$f":"IF(LEFT($C889,1)=\"*\",\"\",LogData!D882)","v":""},{"$f":"IF(LEFT($C889,1)=\"*\",\"\",LogData!H882)","v":""},{"$f":"IF(LEFT($C889,1)=\"*\",\"\",LogData!T882*100)","v":""}]
[{"$f":"IF($C890=\"*EOL*\",\"\",INT(LogData!V883))","v":""},{"$f":"IF($C890=\"*EOL*\",\"\",LogData!V883-A890)","v":""},{"$f":"LogData!E883","v":"*EOL*"},{"$f":"IF(LEFT($C890,1)=\"*\",\"\",LogData!C883)","v":""},{"$f":"IF(LEFT($C890,1)=\"*\",\"\",LogData!F883)","v":""},{"$f":"IF(LEFT($C890,1)=\"*\",\"\",LogData!D883)","v":""},{"$f":"IF(LEFT($C890,1)=\"*\",\"\",LogData!H883)","v":""},{"$f":"IF(LEFT($C890,1)=\"*\",\"\",LogData!T883*100)","v":""}]
[{"$f":"IF($C891=\"*EOL*\",\"\",INT(LogData!V884))","v":""},{"$f":"IF($C891=\"*EOL*\",\"\",LogData!V884-A891)","v":""},{"$f":"LogData!E884","v":"*EOL*"},{"$f":"IF(LEFT($C891,1)=\"*\",\"\",LogData!C884)","v":""},{"$f":"IF(LEFT($C891,1)=\"*\",\"\",LogData!F884)","v":""},{"$f":"IF(LEFT($C891,1)=\"*\",\"\",LogData!D884)","v":""},{"$f":"IF(LEFT($C891,1)=\"*\",\"\",LogData!H884)","v":""},{"$f":"IF(LEFT($C891,1)=\"*\",\"\",LogData!T884*100)","v":""}]
[{"$f":"IF($C892=\"*EOL*\",\"\",INT(LogData!V885))","v":""},{"$f":"IF($C892=\"*EOL*\",\"\",LogData!V885-A892)","v":""},{"$f":"LogData!E885","v":"*EOL*"},{"$f":"IF(LEFT($C892,1)=\"*\",\"\",LogData!C885)","v":""},{"$f":"IF(LEFT($C892,1)=\"*\",\"\",LogData!F885)","v":""},{"$f":"IF(LEFT($C892,1)=\"*\",\"\",LogData!D885)","v":""},{"$f":"IF(LEFT($C892,1)=\"*\",\"\",LogData!H885)","v":""},{"$f":"IF(LEFT($C892,1)=\"*\",\"\",LogData!T885*100)","v":""}]
[{"$f":"IF($C893=\"*EOL*\",\"\",INT(LogData!V886))","v":""},{"$f":"IF($C893=\"*EOL*\",\"\",LogData!V886-A893)","v":""},{"$f":"LogData!E886","v":"*EOL*"},{"$f":"IF(LEFT($C893,1)=\"*\",\"\",LogData!C886)","v":""},{"$f":"IF(LEFT($C893,1)=\"*\",\"\",LogData!F886)","v":""},{"$f":"IF(LEFT($C893,1)=\"*\",\"\",LogData!D886)","v":""},{"$f":"IF(LEFT($C893,1)=\"*\",\"\",LogData!H886)","v":""},{"$f":"IF(LEFT($C893,1)=\"*\",\"\",LogData!T886*100)","v":""}]
[{"$f":"IF($C894=\"*EOL*\",\"\",INT(LogData!V887))","v":""},{"$f":"IF($C894=\"*EOL*\",\"\",LogData!V887-A894)","v":""},{"$f":"LogData!E887","v":"*EOL*"},{"$f":"IF(LEFT($C894,1)=\"*\",\"\",LogData!C887)","v":""},{"$f":"IF(LEFT($C894,1)=\"*\",\"\",LogData!F887)","v":""},{"$f":"IF(LEFT($C894,1)=\"*\",\"\",LogData!D887)","v":""},{"$f":"IF(LEFT($C894,1)=\"*\",\"\",LogData!H887)","v":""},{"$f":"IF(LEFT($C894,1)=\"*\",\"\",LogData!T887*100)","v":""}]
[{"$f":"IF($C895=\"*EOL*\",\"\",INT(LogData!V888))","v":""},{"$f":"IF($C895=\"*EOL*\",\"\",LogData!V888-A895)","v":""},{"$f":"LogData!E888","v":"*EOL*"},{"$f":"IF(LEFT($C895,1)=\"*\",\"\",LogData!C888)","v":""},{"$f":"IF(LEFT($C895,1)=\"*\",\"\",LogData!F888)","v":""},{"$f":"IF(LEFT($C895,1)=\"*\",\"\",LogData!D888)","v":""},{"$f":"IF(LEFT($C895,1)=\"*\",\"\",LogData!H888)","v":""},{"$f":"IF(LEFT($C895,1)=\"*\",\"\",LogData!T888*100)","v":""}]
[{"$f":"IF($C896=\"*EOL*\",\"\",INT(LogData!V889))","v":""},{"$f":"IF($C896=\"*EOL*\",\"\",LogData!V889-A896)","v":""},{"$f":"LogData!E889","v":"*EOL*"},{"$f":"IF(LEFT($C896,1)=\"*\",\"\",LogData!C889)","v":""},{"$f":"IF(LEFT($C896,1)=\"*\",\"\",LogData!F889)","v":""},{"$f":"IF(LEFT($C896,1)=\"*\",\"\",LogData!D889)","v":""},{"$f":"IF(LEFT($C896,1)=\"*\",\"\",LogData!H889)","v":""},{"$f":"IF(LEFT($C896,1)=\"*\",\"\",LogData!T889*100)","v":""}]
[{"$f":"IF($C897=\"*EOL*\",\"\",INT(LogData!V890))","v":""},{"$f":"IF($C897=\"*EOL*\",\"\",LogData!V890-A897)","v":""},{"$f":"LogData!E890","v":"*EOL*"},{"$f":"IF(LEFT($C897,1)=\"*\",\"\",LogData!C890)","v":""},{"$f":"IF(LEFT($C897,1)=\"*\",\"\",LogData!F890)","v":""},{"$f":"IF(LEFT($C897,1)=\"*\",\"\",LogData!D890)","v":""},{"$f":"IF(LEFT($C897,1)=\"*\",\"\",LogData!H890)","v":""},{"$f":"IF(LEFT($C897,1)=\"*\",\"\",LogData!T890*100)","v":""}]
[{"$f":"IF($C898=\"*EOL*\",\"\",INT(LogData!V891))","v":""},{"$f":"IF($C898=\"*EOL*\",\"\",LogData!V891-A898)","v":""},{"$f":"LogData!E891","v":"*EOL*"},{"$f":"IF(LEFT($C898,1)=\"*\",\"\",LogData!C891)","v":""},{"$f":"IF(LEFT($C898,1)=\"*\",\"\",LogData!F891)","v":""},{"$f":"IF(LEFT($C898,1)=\"*\",\"\",LogData!D891)","v":""},{"$f":"IF(LEFT($C898,1)=\"*\",\"\",LogData!H891)","v":""},{"$f":"IF(LEFT($C898,1)=\"*\",\"\",LogData!T891*100)","v":""}]
[{"$f":"IF($C899=\"*EOL*\",\"\",INT(LogData!V892))","v":""},{"$f":"IF($C899=\"*EOL*\",\"\",LogData!V892-A899)","v":""},{"$f":"LogData!E892","v":"*EOL*"},{"$f":"IF(LEFT($C899,1)=\"*\",\"\",LogData!C892)","v":""},{"$f":"IF(LEFT($C899,1)=\"*\",\"\",LogData!F892)","v":""},{"$f":"IF(LEFT($C899,1)=\"*\",\"\",LogData!D892)","v":""},{"$f":"IF(LEFT($C899,1)=\"*\",\"\",LogData!H892)","v":""},{"$f":"IF(LEFT($C899,1)=\"*\",\"\",LogData!T892*100)","v":""}]
[{"$f":"IF($C900=\"*EOL*\",\"\",INT(LogData!V893))","v":""},{"$f":"IF($C900=\"*EOL*\",\"\",LogData!V893-A900)","v":""},{"$f":"LogData!E893","v":"*EOL*"},{"$f":"IF(LEFT($C900,1)=\"*\",\"\",LogData!C893)","v":""},{"$f":"IF(LEFT($C900,1)=\"*\",\"\",LogData!F893)","v":""},{"$f":"IF(LEFT($C900,1)=\"*\",\"\",LogData!D893)","v":""},{"$f":"IF(LEFT($C900,1)=\"*\",\"\",LogData!H893)","v":""},{"$f":"IF(LEFT($C900,1)=\"*\",\"\",LogData!T893*100)","v":""}]
[{"$f":"IF($C901=\"*EOL*\",\"\",INT(LogData!V894))","v":""},{"$f":"IF($C901=\"*EOL*\",\"\",LogData!V894-A901)","v":""},{"$f":"LogData!E894","v":"*EOL*"},{"$f":"IF(LEFT($C901,1)=\"*\",\"\",LogData!C894)","v":""},{"$f":"IF(LEFT($C901,1)=\"*\",\"\",LogData!F894)","v":""},{"$f":"IF(LEFT($C901,1)=\"*\",\"\",LogData!D894)","v":""},{"$f":"IF(LEFT($C901,1)=\"*\",\"\",LogData!H894)","v":""},{"$f":"IF(LEFT($C901,1)=\"*\",\"\",LogData!T894*100)","v":""}]
[{"$f":"IF($C902=\"*EOL*\",\"\",INT(LogData!V895))","v":""},{"$f":"IF($C902=\"*EOL*\",\"\",LogData!V895-A902)","v":""},{"$f":"LogData!E895","v":"*EOL*"},{"$f":"IF(LEFT($C902,1)=\"*\",\"\",LogData!C895)","v":""},{"$f":"IF(LEFT($C902,1)=\"*\",\"\",LogData!F895)","v":""},{"$f":"IF(LEFT($C902,1)=\"*\",\"\",LogData!D895)","v":""},{"$f":"IF(LEFT($C902,1)=\"*\",\"\",LogData!H895)","v":""},{"$f":"IF(LEFT($C902,1)=\"*\",\"\",LogData!T895*100)","v":""}]
[{"$f":"IF($C903=\"*EOL*\",\"\",INT(LogData!V896))","v":""},{"$f":"IF($C903=\"*EOL*\",\"\",LogData!V896-A903)","v":""},{"$f":"LogData!E896","v":"*EOL*"},{"$f":"IF(LEFT($C903,1)=\"*\",\"\",LogData!C896)","v":""},{"$f":"IF(LEFT($C903,1)=\"*\",\"\",LogData!F896)","v":""},{"$f":"IF(LEFT($C903,1)=\"*\",\"\",LogData!D896)","v":""},{"$f":"IF(LEFT($C903,1)=\"*\",\"\",LogData!H896)","v":""},{"$f":"IF(LEFT($C903,1)=\"*\",\"\",LogData!T896*100)","v":""}]
[{"$f":"IF($C904=\"*EOL*\",\"\",INT(LogData!V897))","v":""},{"$f":"IF($C904=\"*EOL*\",\"\",LogData!V897-A904)","v":""},{"$f":"LogData!E897","v":"*EOL*"},{"$f":"IF(LEFT($C904,1)=\"*\",\"\",LogData!C897)","v":""},{"$f":"IF(LEFT($C904,1)=\"*\",\"\",LogData!F897)","v":""},{"$f":"IF(LEFT($C904,1)=\"*\",\"\",LogData!D897)","v":""},{"$f":"IF(LEFT($C904,1)=\"*\",\"\",LogData!H897)","v":""},{"$f":"IF(LEFT($C904,1)=\"*\",\"\",LogData!T897*100)","v":""}]
[{"$f":"IF($C905=\"*EOL*\",\"\",INT(LogData!V898))","v":""},{"$f":"IF($C905=\"*EOL*\",\"\",LogData!V898-A905)","v":""},{"$f":"LogData!E898","v":"*EOL*"},{"$f":"IF(LEFT($C905,1)=\"*\",\"\",LogData!C898)","v":""},{"$f":"IF(LEFT($C905,1)=\"*\",\"\",LogData!F898)","v":""},{"$f":"IF(LEFT($C905,1)=\"*\",\"\",LogData!D898)","v":""},{"$f":"IF(LEFT($C905,1)=\"*\",\"\",LogData!H898)","v":""},{"$f":"IF(LEFT($C905,1)=\"*\",\"\",LogData!T898*100)","v":""}]
[{"$f":"IF($C906=\"*EOL*\",\"\",INT(LogData!V899))","v":""},{"$f":"IF($C906=\"*EOL*\",\"\",LogData!V899-A906)","v":""},{"$f":"LogData!E899","v":"*EOL*"},{"$f":"IF(LEFT($C906,1)=\"*\",\"\",LogData!C899)","v":""},{"$f":"IF(LEFT($C906,1)=\"*\",\"\",LogData!F899)","v":""},{"$f":"IF(LEFT($C906,1)=\"*\",\"\",LogData!D899)","v":""},{"$f":"IF(LEFT($C906,1)=\"*\",\"\",LogData!H899)","v":""},{"$f":"IF(LEFT($C906,1)=\"*\",\"\",LogData!T899*100)","v":""}]
[{"$f":"IF($C907=\"*EOL*\",\"\",INT(LogData!V900))","v":""},{"$f":"IF($C907=\"*EOL*\",\"\",LogData!V900-A907)","v":""},{"$f":"LogData!E900","v":"*EOL*"},{"$f":"IF(LEFT($C907,1)=\"*\",\"\",LogData!C900)","v":""},{"$f":"IF(LEFT($C907,1)=\"*\",\"\",LogData!F900)","v":""},{"$f":"IF(LEFT($C907,1)=\"*\",\"\",LogData!D900)","v":""},{"$f":"IF(LEFT($C907,1)=\"*\",\"\",LogData!H900)","v":""},{"$f":"IF(LEFT($C907,1)=\"*\",\"\",LogData!T900*100)","v":""}]
[{"$f":"IF($C908=\"*EOL*\",\"\",INT(LogData!V901))","v":""},{"$f":"IF($C908=\"*EOL*\",\"\",LogData!V901-A908)","v":""},{"$f":"LogData!E901","v":"*EOL*"},{"$f":"IF(LEFT($C908,1)=\"*\",\"\",LogData!C901)","v":""},{"$f":"IF(LEFT($C908,1)=\"*\",\"\",LogData!F901)","v":""},{"$f":"IF(LEFT($C908,1)=\"*\",\"\",LogData!D901)","v":""},{"$f":"IF(LEFT($C908,1)=\"*\",\"\",LogData!H901)","v":""},{"$f":"IF(LEFT($C908,1)=\"*\",\"\",LogData!T901*100)","v":""}]
[{"$f":"IF($C909=\"*EOL*\",\"\",INT(LogData!V902))","v":""},{"$f":"IF($C909=\"*EOL*\",\"\",LogData!V902-A909)","v":""},{"$f":"LogData!E902","v":"*EOL*"},{"$f":"IF(LEFT($C909,1)=\"*\",\"\",LogData!C902)","v":""},{"$f":"IF(LEFT($C909,1)=\"*\",\"\",LogData!F902)","v":""},{"$f":"IF(LEFT($C909,1)=\"*\",\"\",LogData!D902)","v":""},{"$f":"IF(LEFT($C909,1)=\"*\",\"\",LogData!H902)","v":""},{"$f":"IF(LEFT($C909,1)=\"*\",\"\",LogData!T902*100)","v":""}]
[{"$f":"IF($C910=\"*EOL*\",\"\",INT(LogData!V903))","v":""},{"$f":"IF($C910=\"*EOL*\",\"\",LogData!V903-A910)","v":""},{"$f":"LogData!E903","v":"*EOL*"},{"$f":"IF(LEFT($C910,1)=\"*\",\"\",LogData!C903)","v":""},{"$f":"IF(LEFT($C910,1)=\"*\",\"\",LogData!F903)","v":""},{"$f":"IF(LEFT($C910,1)=\"*\",\"\",LogData!D903)","v":""},{"$f":"IF(LEFT($C910,1)=\"*\",\"\",LogData!H903)","v":""},{"$f":"IF(LEFT($C910,1)=\"*\",\"\",LogData!T903*100)","v":""}]
[{"$f":"IF($C911=\"*EOL*\",\"\",INT(LogData!V904))","v":""},{"$f":"IF($C911=\"*EOL*\",\"\",LogData!V904-A911)","v":""},{"$f":"LogData!E904","v":"*EOL*"},{"$f":"IF(LEFT($C911,1)=\"*\",\"\",LogData!C904)","v":""},{"$f":"IF(LEFT($C911,1)=\"*\",\"\",LogData!F904)","v":""},{"$f":"IF(LEFT($C911,1)=\"*\",\"\",LogData!D904)","v":""},{"$f":"IF(LEFT($C911,1)=\"*\",\"\",LogData!H904)","v":""},{"$f":"IF(LEFT($C911,1)=\"*\",\"\",LogData!T904*100)","v":""}]
[{"$f":"IF($C912=\"*EOL*\",\"\",INT(LogData!V905))","v":""},{"$f":"IF($C912=\"*EOL*\",\"\",LogData!V905-A912)","v":""},{"$f":"LogData!E905","v":"*EOL*"},{"$f":"IF(LEFT($C912,1)=\"*\",\"\",LogData!C905)","v":""},{"$f":"IF(LEFT($C912,1)=\"*\",\"\",LogData!F905)","v":""},{"$f":"IF(LEFT($C912,1)=\"*\",\"\",LogData!D905)","v":""},{"$f":"IF(LEFT($C912,1)=\"*\",\"\",LogData!H905)","v":""},{"$f":"IF(LEFT($C912,1)=\"*\",\"\",LogData!T905*100)","v":""}]
[{"$f":"IF($C913=\"*EOL*\",\"\",INT(LogData!V906))","v":""},{"$f":"IF($C913=\"*EOL*\",\"\",LogData!V906-A913)","v":""},{"$f":"LogData!E906","v":"*EOL*"},{"$f":"IF(LEFT($C913,1)=\"*\",\"\",LogData!C906)","v":""},{"$f":"IF(LEFT($C913,1)=\"*\",\"\",LogData!F906)","v":""},{"$f":"IF(LEFT($C913,1)=\"*\",\"\",LogData!D906)","v":""},{"$f":"IF(LEFT($C913,1)=\"*\",\"\",LogData!H906)","v":""},{"$f":"IF(LEFT($C913,1)=\"*\",\"\",LogData!T906*100)","v":""}]
[{"$f":"IF($C914=\"*EOL*\",\"\",INT(LogData!V907))","v":""},{"$f":"IF($C914=\"*EOL*\",\"\",LogData!V907-A914)","v":""},{"$f":"LogData!E907","v":"*EOL*"},{"$f":"IF(LEFT($C914,1)=\"*\",\"\",LogData!C907)","v":""},{"$f":"IF(LEFT($C914,1)=\"*\",\"\",LogData!F907)","v":""},{"$f":"IF(LEFT($C914,1)=\"*\",\"\",LogData!D907)","v":""},{"$f":"IF(LEFT($C914,1)=\"*\",\"\",LogData!H907)","v":""},{"$f":"IF(LEFT($C914,1)=\"*\",\"\",LogData!T907*100)","v":""}]
[{"$f":"IF($C915=\"*EOL*\",\"\",INT(LogData!V908))","v":""},{"$f":"IF($C915=\"*EOL*\",\"\",LogData!V908-A915)","v":""},{"$f":"LogData!E908","v":"*EOL*"},{"$f":"IF(LEFT($C915,1)=\"*\",\"\",LogData!C908)","v":""},{"$f":"IF(LEFT($C915,1)=\"*\",\"\",LogData!F908)","v":""},{"$f":"IF(LEFT($C915,1)=\"*\",\"\",LogData!D908)","v":""},{"$f":"IF(LEFT($C915,1)=\"*\",\"\",LogData!H908)","v":""},{"$f":"IF(LEFT($C915,1)=\"*\",\"\",LogData!T908*100)","v":""}]
[{"$f":"IF($C916=\"*EOL*\",\"\",INT(LogData!V909))","v":""},{"$f":"IF($C916=\"*EOL*\",\"\",LogData!V909-A916)","v":""},{"$f":"LogData!E909","v":"*EOL*"},{"$f":"IF(LEFT($C916,1)=\"*\",\"\",LogData!C909)","v":""},{"$f":"IF(LEFT($C916,1)=\"*\",\"\",LogData!F909)","v":""},{"$f":"IF(LEFT($C916,1)=\"*\",\"\",LogData!D909)","v":""},{"$f":"IF(LEFT($C916,1)=\"*\",\"\",LogData!H909)","v":""},{"$f":"IF(LEFT($C916,1)=\"*\",\"\",LogData!T909*100)","v":""}]
[{"$f":"IF($C917=\"*EOL*\",\"\",INT(LogData!V910))","v":""},{"$f":"IF($C917=\"*EOL*\",\"\",LogData!V910-A917)","v":""},{"$f":"LogData!E910","v":"*EOL*"},{"$f":"IF(LEFT($C917,1)=\"*\",\"\",LogData!C910)","v":""},{"$f":"IF(LEFT($C917,1)=\"*\",\"\",LogData!F910)","v":""},{"$f":"IF(LEFT($C917,1)=\"*\",\"\",LogData!D910)","v":""},{"$f":"IF(LEFT($C917,1)=\"*\",\"\",LogData!H910)","v":""},{"$f":"IF(LEFT($C917,1)=\"*\",\"\",LogData!T910*100)","v":""}]
[{"$f":"IF($C918=\"*EOL*\",\"\",INT(LogData!V911))","v":""},{"$f":"IF($C918=\"*EOL*\",\"\",LogData!V911-A918)","v":""},{"$f":"LogData!E911","v":"*EOL*"},{"$f":"IF(LEFT($C918,1)=\"*\",\"\",LogData!C911)","v":""},{"$f":"IF(LEFT($C918,1)=\"*\",\"\",LogData!F911)","v":""},{"$f":"IF(LEFT($C918,1)=\"*\",\"\",LogData!D911)","v":""},{"$f":"IF(LEFT($C918,1)=\"*\",\"\",LogData!H911)","v":""},{"$f":"IF(LEFT($C918,1)=\"*\",\"\",LogData!T911*100)","v":""}]
[{"$f":"IF($C919=\"*EOL*\",\"\",INT(LogData!V912))","v":""},{"$f":"IF($C919=\"*EOL*\",\"\",LogData!V912-A919)","v":""},{"$f":"LogData!E912","v":"*EOL*"},{"$f":"IF(LEFT($C919,1)=\"*\",\"\",LogData!C912)","v":""},{"$f":"IF(LEFT($C919,1)=\"*\",\"\",LogData!F912)","v":""},{"$f":"IF(LEFT($C919,1)=\"*\",\"\",LogData!D912)","v":""},{"$f":"IF(LEFT($C919,1)=\"*\",\"\",LogData!H912)","v":""},{"$f":"IF(LEFT($C919,1)=\"*\",\"\",LogData!T912*100)","v":""}]
[{"$f":"IF($C920=\"*EOL*\",\"\",INT(LogData!V913))","v":""},{"$f":"IF($C920=\"*EOL*\",\"\",LogData!V913-A920)","v":""},{"$f":"LogData!E913","v":"*EOL*"},{"$f":"IF(LEFT($C920,1)=\"*\",\"\",LogData!C913)","v":""},{"$f":"IF(LEFT($C920,1)=\"*\",\"\",LogData!F913)","v":""},{"$f":"IF(LEFT($C920,1)=\"*\",\"\",LogData!D913)","v":""},{"$f":"IF(LEFT($C920,1)=\"*\",\"\",LogData!H913)","v":""},{"$f":"IF(LEFT($C920,1)=\"*\",\"\",LogData!T913*100)","v":""}]
[{"$f":"IF($C921=\"*EOL*\",\"\",INT(LogData!V914))","v":""},{"$f":"IF($C921=\"*EOL*\",\"\",LogData!V914-A921)","v":""},{"$f":"LogData!E914","v":"*EOL*"},{"$f":"IF(LEFT($C921,1)=\"*\",\"\",LogData!C914)","v":""},{"$f":"IF(LEFT($C921,1)=\"*\",\"\",LogData!F914)","v":""},{"$f":"IF(LEFT($C921,1)=\"*\",\"\",LogData!D914)","v":""},{"$f":"IF(LEFT($C921,1)=\"*\",\"\",LogData!H914)","v":""},{"$f":"IF(LEFT($C921,1)=\"*\",\"\",LogData!T914*100)","v":""}]
[{"$f":"IF($C922=\"*EOL*\",\"\",INT(LogData!V915))","v":""},{"$f":"IF($C922=\"*EOL*\",\"\",LogData!V915-A922)","v":""},{"$f":"LogData!E915","v":"*EOL*"},{"$f":"IF(LEFT($C922,1)=\"*\",\"\",LogData!C915)","v":""},{"$f":"IF(LEFT($C922,1)=\"*\",\"\",LogData!F915)","v":""},{"$f":"IF(LEFT($C922,1)=\"*\",\"\",LogData!D915)","v":""},{"$f":"IF(LEFT($C922,1)=\"*\",\"\",LogData!H915)","v":""},{"$f":"IF(LEFT($C922,1)=\"*\",\"\",LogData!T915*100)","v":""}]
[{"$f":"IF($C923=\"*EOL*\",\"\",INT(LogData!V916))","v":""},{"$f":"IF($C923=\"*EOL*\",\"\",LogData!V916-A923)","v":""},{"$f":"LogData!E916","v":"*EOL*"},{"$f":"IF(LEFT($C923,1)=\"*\",\"\",LogData!C916)","v":""},{"$f":"IF(LEFT($C923,1)=\"*\",\"\",LogData!F916)","v":""},{"$f":"IF(LEFT($C923,1)=\"*\",\"\",LogData!D916)","v":""},{"$f":"IF(LEFT($C923,1)=\"*\",\"\",LogData!H916)","v":""},{"$f":"IF(LEFT($C923,1)=\"*\",\"\",LogData!T916*100)","v":""}]
[{"$f":"IF($C924=\"*EOL*\",\"\",INT(LogData!V917))","v":""},{"$f":"IF($C924=\"*EOL*\",\"\",LogData!V917-A924)","v":""},{"$f":"LogData!E917","v":"*EOL*"},{"$f":"IF(LEFT($C924,1)=\"*\",\"\",LogData!C917)","v":""},{"$f":"IF(LEFT($C924,1)=\"*\",\"\",LogData!F917)","v":""},{"$f":"IF(LEFT($C924,1)=\"*\",\"\",LogData!D917)","v":""},{"$f":"IF(LEFT($C924,1)=\"*\",\"\",LogData!H917)","v":""},{"$f":"IF(LEFT($C924,1)=\"*\",\"\",LogData!T917*100)","v":""}]
[{"$f":"IF($C925=\"*EOL*\",\"\",INT(LogData!V918))","v":""},{"$f":"IF($C925=\"*EOL*\",\"\",LogData!V918-A925)","v":""},{"$f":"LogData!E918","v":"*EOL*"},{"$f":"IF(LEFT($C925,1)=\"*\",\"\",LogData!C918)","v":""},{"$f":"IF(LEFT($C925,1)=\"*\",\"\",LogData!F918)","v":""},{"$f":"IF(LEFT($C925,1)=\"*\",\"\",LogData!D918)","v":""},{"$f":"IF(LEFT($C925,1)=\"*\",\"\",LogData!H918)","v":""},{"$f":"IF(LEFT($C925,1)=\"*\",\"\",LogData!T918*100)","v":""}]
[{"$f":"IF($C926=\"*EOL*\",\"\",INT(LogData!V919))","v":""},{"$f":"IF($C926=\"*EOL*\",\"\",LogData!V919-A926)","v":""},{"$f":"LogData!E919","v":"*EOL*"},{"$f":"IF(LEFT($C926,1)=\"*\",\"\",LogData!C919)","v":""},{"$f":"IF(LEFT($C926,1)=\"*\",\"\",LogData!F919)","v":""},{"$f":"IF(LEFT($C926,1)=\"*\",\"\",LogData!D919)","v":""},{"$f":"IF(LEFT($C926,1)=\"*\",\"\",LogData!H919)","v":""},{"$f":"IF(LEFT($C926,1)=\"*\",\"\",LogData!T919*100)","v":""}]
[{"$f":"IF($C927=\"*EOL*\",\"\",INT(LogData!V920))","v":""},{"$f":"IF($C927=\"*EOL*\",\"\",LogData!V920-A927)","v":""},{"$f":"LogData!E920","v":"*EOL*"},{"$f":"IF(LEFT($C927,1)=\"*\",\"\",LogData!C920)","v":""},{"$f":"IF(LEFT($C927,1)=\"*\",\"\",LogData!F920)","v":""},{"$f":"IF(LEFT($C927,1)=\"*\",\"\",LogData!D920)","v":""},{"$f":"IF(LEFT($C927,1)=\"*\",\"\",LogData!H920)","v":""},{"$f":"IF(LEFT($C927,1)=\"*\",\"\",LogData!T920*100)","v":""}]
[{"$f":"IF($C928=\"*EOL*\",\"\",INT(LogData!V921))","v":""},{"$f":"IF($C928=\"*EOL*\",\"\",LogData!V921-A928)","v":""},{"$f":"LogData!E921","v":"*EOL*"},{"$f":"IF(LEFT($C928,1)=\"*\",\"\",LogData!C921)","v":""},{"$f":"IF(LEFT($C928,1)=\"*\",\"\",LogData!F921)","v":""},{"$f":"IF(LEFT($C928,1)=\"*\",\"\",LogData!D921)","v":""},{"$f":"IF(LEFT($C928,1)=\"*\",\"\",LogData!H921)","v":""},{"$f":"IF(LEFT($C928,1)=\"*\",\"\",LogData!T921*100)","v":""}]
[{"$f":"IF($C929=\"*EOL*\",\"\",INT(LogData!V922))","v":""},{"$f":"IF($C929=\"*EOL*\",\"\",LogData!V922-A929)","v":""},{"$f":"LogData!E922","v":"*EOL*"},{"$f":"IF(LEFT($C929,1)=\"*\",\"\",LogData!C922)","v":""},{"$f":"IF(LEFT($C929,1)=\"*\",\"\",LogData!F922)","v":""},{"$f":"IF(LEFT($C929,1)=\"*\",\"\",LogData!D922)","v":""},{"$f":"IF(LEFT($C929,1)=\"*\",\"\",LogData!H922)","v":""},{"$f":"IF(LEFT($C929,1)=\"*\",\"\",LogData!T922*100)","v":""}]
[{"$f":"IF($C930=\"*EOL*\",\"\",INT(LogData!V923))","v":""},{"$f":"IF($C930=\"*EOL*\",\"\",LogData!V923-A930)","v":""},{"$f":"LogData!E923","v":"*EOL*"},{"$f":"IF(LEFT($C930,1)=\"*\",\"\",LogData!C923)","v":""},{"$f":"IF(LEFT($C930,1)=\"*\",\"\",LogData!F923)","v":""},{"$f":"IF(LEFT($C930,1)=\"*\",\"\",LogData!D923)","v":""},{"$f":"IF(LEFT($C930,1)=\"*\",\"\",LogData!H923)","v":""},{"$f":"IF(LEFT($C930,1)=\"*\",\"\",LogData!T923*100)","v":""}]
[{"$f":"IF($C931=\"*EOL*\",\"\",INT(LogData!V924))","v":""},{"$f":"IF($C931=\"*EOL*\",\"\",LogData!V924-A931)","v":""},{"$f":"LogData!E924","v":"*EOL*"},{"$f":"IF(LEFT($C931,1)=\"*\",\"\",LogData!C924)","v":""},{"$f":"IF(LEFT($C931,1)=\"*\",\"\",LogData!F924)","v":""},{"$f":"IF(LEFT($C931,1)=\"*\",\"\",LogData!D924)","v":""},{"$f":"IF(LEFT($C931,1)=\"*\",\"\",LogData!H924)","v":""},{"$f":"IF(LEFT($C931,1)=\"*\",\"\",LogData!T924*100)","v":""}]
[{"$f":"IF($C932=\"*EOL*\",\"\",INT(LogData!V925))","v":""},{"$f":"IF($C932=\"*EOL*\",\"\",LogData!V925-A932)","v":""},{"$f":"LogData!E925","v":"*EOL*"},{"$f":"IF(LEFT($C932,1)=\"*\",\"\",LogData!C925)","v":""},{"$f":"IF(LEFT($C932,1)=\"*\",\"\",LogData!F925)","v":""},{"$f":"IF(LEFT($C932,1)=\"*\",\"\",LogData!D925)","v":""},{"$f":"IF(LEFT($C932,1)=\"*\",\"\",LogData!H925)","v":""},{"$f":"IF(LEFT($C932,1)=\"*\",\"\",LogData!T925*100)","v":""}]
[{"$f":"IF($C933=\"*EOL*\",\"\",INT(LogData!V926))","v":""},{"$f":"IF($C933=\"*EOL*\",\"\",LogData!V926-A933)","v":""},{"$f":"LogData!E926","v":"*EOL*"},{"$f":"IF(LEFT($C933,1)=\"*\",\"\",LogData!C926)","v":""},{"$f":"IF(LEFT($C933,1)=\"*\",\"\",LogData!F926)","v":""},{"$f":"IF(LEFT($C933,1)=\"*\",\"\",LogData!D926)","v":""},{"$f":"IF(LEFT($C933,1)=\"*\",\"\",LogData!H926)","v":""},{"$f":"IF(LEFT($C933,1)=\"*\",\"\",LogData!T926*100)","v":""}]
[{"$f":"IF($C934=\"*EOL*\",\"\",INT(LogData!V927))","v":""},{"$f":"IF($C934=\"*EOL*\",\"\",LogData!V927-A934)","v":""},{"$f":"LogData!E927","v":"*EOL*"},{"$f":"IF(LEFT($C934,1)=\"*\",\"\",LogData!C927)","v":""},{"$f":"IF(LEFT($C934,1)=\"*\",\"\",LogData!F927)","v":""},{"$f":"IF(LEFT($C934,1)=\"*\",\"\",LogData!D927)","v":""},{"$f":"IF(LEFT($C934,1)=\"*\",\"\",LogData!H927)","v":""},{"$f":"IF(LEFT($C934,1)=\"*\",\"\",LogData!T927*100)","v":""}]
[{"$f":"IF($C935=\"*EOL*\",\"\",INT(LogData!V928))","v":""},{"$f":"IF($C935=\"*EOL*\",\"\",LogData!V928-A935)","v":""},{"$f":"LogData!E928","v":"*EOL*"},{"$f":"IF(LEFT($C935,1)=\"*\",\"\",LogData!C928)","v":""},{"$f":"IF(LEFT($C935,1)=\"*\",\"\",LogData!F928)","v":""},{"$f":"IF(LEFT($C935,1)=\"*\",\"\",LogData!D928)","v":""},{"$f":"IF(LEFT($C935,1)=\"*\",\"\",LogData!H928)","v":""},{"$f":"IF(LEFT($C935,1)=\"*\",\"\",LogData!T928*100)","v":""}]
[{"$f":"IF($C936=\"*EOL*\",\"\",INT(LogData!V929))","v":""},{"$f":"IF($C936=\"*EOL*\",\"\",LogData!V929-A936)","v":""},{"$f":"LogData!E929","v":"*EOL*"},{"$f":"IF(LEFT($C936,1)=\"*\",\"\",LogData!C929)","v":""},{"$f":"IF(LEFT($C936,1)=\"*\",\"\",LogData!F929)","v":""},{"$f":"IF(LEFT($C936,1)=\"*\",\"\",LogData!D929)","v":""},{"$f":"IF(LEFT($C936,1)=\"*\",\"\",LogData!H929)","v":""},{"$f":"IF(LEFT($C936,1)=\"*\",\"\",LogData!T929*100)","v":""}]
[{"$f":"IF($C937=\"*EOL*\",\"\",INT(LogData!V930))","v":""},{"$f":"IF($C937=\"*EOL*\",\"\",LogData!V930-A937)","v":""},{"$f":"LogData!E930","v":"*EOL*"},{"$f":"IF(LEFT($C937,1)=\"*\",\"\",LogData!C930)","v":""},{"$f":"IF(LEFT($C937,1)=\"*\",\"\",LogData!F930)","v":""},{"$f":"IF(LEFT($C937,1)=\"*\",\"\",LogData!D930)","v":""},{"$f":"IF(LEFT($C937,1)=\"*\",\"\",LogData!H930)","v":""},{"$f":"IF(LEFT($C937,1)=\"*\",\"\",LogData!T930*100)","v":""}]
[{"$f":"IF($C938=\"*EOL*\",\"\",INT(LogData!V931))","v":""},{"$f":"IF($C938=\"*EOL*\",\"\",LogData!V931-A938)","v":""},{"$f":"LogData!E931","v":"*EOL*"},{"$f":"IF(LEFT($C938,1)=\"*\",\"\",LogData!C931)","v":""},{"$f":"IF(LEFT($C938,1)=\"*\",\"\",LogData!F931)","v":""},{"$f":"IF(LEFT($C938,1)=\"*\",\"\",LogData!D931)","v":""},{"$f":"IF(LEFT($C938,1)=\"*\",\"\",LogData!H931)","v":""},{"$f":"IF(LEFT($C938,1)=\"*\",\"\",LogData!T931*100)","v":""}]
[{"$f":"IF($C939=\"*EOL*\",\"\",INT(LogData!V932))","v":""},{"$f":"IF($C939=\"*EOL*\",\"\",LogData!V932-A939)","v":""},{"$f":"LogData!E932","v":"*EOL*"},{"$f":"IF(LEFT($C939,1)=\"*\",\"\",LogData!C932)","v":""},{"$f":"IF(LEFT($C939,1)=\"*\",\"\",LogData!F932)","v":""},{"$f":"IF(LEFT($C939,1)=\"*\",\"\",LogData!D932)","v":""},{"$f":"IF(LEFT($C939,1)=\"*\",\"\",LogData!H932)","v":""},{"$f":"IF(LEFT($C939,1)=\"*\",\"\",LogData!T932*100)","v":""}]
[{"$f":"IF($C940=\"*EOL*\",\"\",INT(LogData!V933))","v":""},{"$f":"IF($C940=\"*EOL*\",\"\",LogData!V933-A940)","v":""},{"$f":"LogData!E933","v":"*EOL*"},{"$f":"IF(LEFT($C940,1)=\"*\",\"\",LogData!C933)","v":""},{"$f":"IF(LEFT($C940,1)=\"*\",\"\",LogData!F933)","v":""},{"$f":"IF(LEFT($C940,1)=\"*\",\"\",LogData!D933)","v":""},{"$f":"IF(LEFT($C940,1)=\"*\",\"\",LogData!H933)","v":""},{"$f":"IF(LEFT($C940,1)=\"*\",\"\",LogData!T933*100)","v":""}]
[{"$f":"IF($C941=\"*EOL*\",\"\",INT(LogData!V934))","v":""},{"$f":"IF($C941=\"*EOL*\",\"\",LogData!V934-A941)","v":""},{"$f":"LogData!E934","v":"*EOL*"},{"$f":"IF(LEFT($C941,1)=\"*\",\"\",LogData!C934)","v":""},{"$f":"IF(LEFT($C941,1)=\"*\",\"\",LogData!F934)","v":""},{"$f":"IF(LEFT($C941,1)=\"*\",\"\",LogData!D934)","v":""},{"$f":"IF(LEFT($C941,1)=\"*\",\"\",LogData!H934)","v":""},{"$f":"IF(LEFT($C941,1)=\"*\",\"\",LogData!T934*100)","v":""}]
[{"$f":"IF($C942=\"*EOL*\",\"\",INT(LogData!V935))","v":""},{"$f":"IF($C942=\"*EOL*\",\"\",LogData!V935-A942)","v":""},{"$f":"LogData!E935","v":"*EOL*"},{"$f":"IF(LEFT($C942,1)=\"*\",\"\",LogData!C935)","v":""},{"$f":"IF(LEFT($C942,1)=\"*\",\"\",LogData!F935)","v":""},{"$f":"IF(LEFT($C942,1)=\"*\",\"\",LogData!D935)","v":""},{"$f":"IF(LEFT($C942,1)=\"*\",\"\",LogData!H935)","v":""},{"$f":"IF(LEFT($C942,1)=\"*\",\"\",LogData!T935*100)","v":""}]
[{"$f":"IF($C943=\"*EOL*\",\"\",INT(LogData!V936))","v":""},{"$f":"IF($C943=\"*EOL*\",\"\",LogData!V936-A943)","v":""},{"$f":"LogData!E936","v":"*EOL*"},{"$f":"IF(LEFT($C943,1)=\"*\",\"\",LogData!C936)","v":""},{"$f":"IF(LEFT($C943,1)=\"*\",\"\",LogData!F936)","v":""},{"$f":"IF(LEFT($C943,1)=\"*\",\"\",LogData!D936)","v":""},{"$f":"IF(LEFT($C943,1)=\"*\",\"\",LogData!H936)","v":""},{"$f":"IF(LEFT($C943,1)=\"*\",\"\",LogData!T936*100)","v":""}]
[{"$f":"IF($C944=\"*EOL*\",\"\",INT(LogData!V937))","v":""},{"$f":"IF($C944=\"*EOL*\",\"\",LogData!V937-A944)","v":""},{"$f":"LogData!E937","v":"*EOL*"},{"$f":"IF(LEFT($C944,1)=\"*\",\"\",LogData!C937)","v":""},{"$f":"IF(LEFT($C944,1)=\"*\",\"\",LogData!F937)","v":""},{"$f":"IF(LEFT($C944,1)=\"*\",\"\",LogData!D937)","v":""},{"$f":"IF(LEFT($C944,1)=\"*\",\"\",LogData!H937)","v":""},{"$f":"IF(LEFT($C944,1)=\"*\",\"\",LogData!T937*100)","v":""}]
[{"$f":"IF($C945=\"*EOL*\",\"\",INT(LogData!V938))","v":""},{"$f":"IF($C945=\"*EOL*\",\"\",LogData!V938-A945)","v":""},{"$f":"LogData!E938","v":"*EOL*"},{"$f":"IF(LEFT($C945,1)=\"*\",\"\",LogData!C938)","v":""},{"$f":"IF(LEFT($C945,1)=\"*\",\"\",LogData!F938)","v":""},{"$f":"IF(LEFT($C945,1)=\"*\",\"\",LogData!D938)","v":""},{"$f":"IF(LEFT($C945,1)=\"*\",\"\",LogData!H938)","v":""},{"$f":"IF(LEFT($C945,1)=\"*\",\"\",LogData!T938*100)","v":""}]
[{"$f":"IF($C946=\"*EOL*\",\"\",INT(LogData!V939))","v":""},{"$f":"IF($C946=\"*EOL*\",\"\",LogData!V939-A946)","v":""},{"$f":"LogData!E939","v":"*EOL*"},{"$f":"IF(LEFT($C946,1)=\"*\",\"\",LogData!C939)","v":""},{"$f":"IF(LEFT($C946,1)=\"*\",\"\",LogData!F939)","v":""},{"$f":"IF(LEFT($C946,1)=\"*\",\"\",LogData!D939)","v":""},{"$f":"IF(LEFT($C946,1)=\"*\",\"\",LogData!H939)","v":""},{"$f":"IF(LEFT($C946,1)=\"*\",\"\",LogData!T939*100)","v":""}]
[{"$f":"IF($C947=\"*EOL*\",\"\",INT(LogData!V940))","v":""},{"$f":"IF($C947=\"*EOL*\",\"\",LogData!V940-A947)","v":""},{"$f":"LogData!E940","v":"*EOL*"},{"$f":"IF(LEFT($C947,1)=\"*\",\"\",LogData!C940)","v":""},{"$f":"IF(LEFT($C947,1)=\"*\",\"\",LogData!F940)","v":""},{"$f":"IF(LEFT($C947,1)=\"*\",\"\",LogData!D940)","v":""},{"$f":"IF(LEFT($C947,1)=\"*\",\"\",LogData!H940)","v":""},{"$f":"IF(LEFT($C947,1)=\"*\",\"\",LogData!T940*100)","v":""}]
[{"$f":"IF($C948=\"*EOL*\",\"\",INT(LogData!V941))","v":""},{"$f":"IF($C948=\"*EOL*\",\"\",LogData!V941-A948)","v":""},{"$f":"LogData!E941","v":"*EOL*"},{"$f":"IF(LEFT($C948,1)=\"*\",\"\",LogData!C941)","v":""},{"$f":"IF(LEFT($C948,1)=\"*\",\"\",LogData!F941)","v":""},{"$f":"IF(LEFT($C948,1)=\"*\",\"\",LogData!D941)","v":""},{"$f":"IF(LEFT($C948,1)=\"*\",\"\",LogData!H941)","v":""},{"$f":"IF(LEFT($C948,1)=\"*\",\"\",LogData!T941*100)","v":""}]
[{"$f":"IF($C949=\"*EOL*\",\"\",INT(LogData!V942))","v":""},{"$f":"IF($C949=\"*EOL*\",\"\",LogData!V942-A949)","v":""},{"$f":"LogData!E942","v":"*EOL*"},{"$f":"IF(LEFT($C949,1)=\"*\",\"\",LogData!C942)","v":""},{"$f":"IF(LEFT($C949,1)=\"*\",\"\",LogData!F942)","v":""},{"$f":"IF(LEFT($C949,1)=\"*\",\"\",LogData!D942)","v":""},{"$f":"IF(LEFT($C949,1)=\"*\",\"\",LogData!H942)","v":""},{"$f":"IF(LEFT($C949,1)=\"*\",\"\",LogData!T942*100)","v":""}]
[{"$f":"IF($C950=\"*EOL*\",\"\",INT(LogData!V943))","v":""},{"$f":"IF($C950=\"*EOL*\",\"\",LogData!V943-A950)","v":""},{"$f":"LogData!E943","v":"*EOL*"},{"$f":"IF(LEFT($C950,1)=\"*\",\"\",LogData!C943)","v":""},{"$f":"IF(LEFT($C950,1)=\"*\",\"\",LogData!F943)","v":""},{"$f":"IF(LEFT($C950,1)=\"*\",\"\",LogData!D943)","v":""},{"$f":"IF(LEFT($C950,1)=\"*\",\"\",LogData!H943)","v":""},{"$f":"IF(LEFT($C950,1)=\"*\",\"\",LogData!T943*100)","v":""}]
[{"$f":"IF($C951=\"*EOL*\",\"\",INT(LogData!V944))","v":""},{"$f":"IF($C951=\"*EOL*\",\"\",LogData!V944-A951)","v":""},{"$f":"LogData!E944","v":"*EOL*"},{"$f":"IF(LEFT($C951,1)=\"*\",\"\",LogData!C944)","v":""},{"$f":"IF(LEFT($C951,1)=\"*\",\"\",LogData!F944)","v":""},{"$f":"IF(LEFT($C951,1)=\"*\",\"\",LogData!D944)","v":""},{"$f":"IF(LEFT($C951,1)=\"*\",\"\",LogData!H944)","v":""},{"$f":"IF(LEFT($C951,1)=\"*\",\"\",LogData!T944*100)","v":""}]
[{"$f":"IF($C952=\"*EOL*\",\"\",INT(LogData!V945))","v":""},{"$f":"IF($C952=\"*EOL*\",\"\",LogData!V945-A952)","v":""},{"$f":"LogData!E945","v":"*EOL*"},{"$f":"IF(LEFT($C952,1)=\"*\",\"\",LogData!C945)","v":""},{"$f":"IF(LEFT($C952,1)=\"*\",\"\",LogData!F945)","v":""},{"$f":"IF(LEFT($C952,1)=\"*\",\"\",LogData!D945)","v":""},{"$f":"IF(LEFT($C952,1)=\"*\",\"\",LogData!H945)","v":""},{"$f":"IF(LEFT($C952,1)=\"*\",\"\",LogData!T945*100)","v":""}]
[{"$f":"IF($C953=\"*EOL*\",\"\",INT(LogData!V946))","v":""},{"$f":"IF($C953=\"*EOL*\",\"\",LogData!V946-A953)","v":""},{"$f":"LogData!E946","v":"*EOL*"},{"$f":"IF(LEFT($C953,1)=\"*\",\"\",LogData!C946)","v":""},{"$f":"IF(LEFT($C953,1)=\"*\",\"\",LogData!F946)","v":""},{"$f":"IF(LEFT($C953,1)=\"*\",\"\",LogData!D946)","v":""},{"$f":"IF(LEFT($C953,1)=\"*\",\"\",LogData!H946)","v":""},{"$f":"IF(LEFT($C953,1)=\"*\",\"\",LogData!T946*100)","v":""}]
[{"$f":"IF($C954=\"*EOL*\",\"\",INT(LogData!V947))","v":""},{"$f":"IF($C954=\"*EOL*\",\"\",LogData!V947-A954)","v":""},{"$f":"LogData!E947","v":"*EOL*"},{"$f":"IF(LEFT($C954,1)=\"*\",\"\",LogData!C947)","v":""},{"$f":"IF(LEFT($C954,1)=\"*\",\"\",LogData!F947)","v":""},{"$f":"IF(LEFT($C954,1)=\"*\",\"\",LogData!D947)","v":""},{"$f":"IF(LEFT($C954,1)=\"*\",\"\",LogData!H947)","v":""},{"$f":"IF(LEFT($C954,1)=\"*\",\"\",LogData!T947*100)","v":""}]
[{"$f":"IF($C955=\"*EOL*\",\"\",INT(LogData!V948))","v":""},{"$f":"IF($C955=\"*EOL*\",\"\",LogData!V948-A955)","v":""},{"$f":"LogData!E948","v":"*EOL*"},{"$f":"IF(LEFT($C955,1)=\"*\",\"\",LogData!C948)","v":""},{"$f":"IF(LEFT($C955,1)=\"*\",\"\",LogData!F948)","v":""},{"$f":"IF(LEFT($C955,1)=\"*\",\"\",LogData!D948)","v":""},{"$f":"IF(LEFT($C955,1)=\"*\",\"\",LogData!H948)","v":""},{"$f":"IF(LEFT($C955,1)=\"*\",\"\",LogData!T948*100)","v":""}]
[{"$f":"IF($C956=\"*EOL*\",\"\",INT(LogData!V949))","v":""},{"$f":"IF($C956=\"*EOL*\",\"\",LogData!V949-A956)","v":""},{"$f":"LogData!E949","v":"*EOL*"},{"$f":"IF(LEFT($C956,1)=\"*\",\"\",LogData!C949)","v":""},{"$f":"IF(LEFT($C956,1)=\"*\",\"\",LogData!F949)","v":""},{"$f":"IF(LEFT($C956,1)=\"*\",\"\",LogData!D949)","v":""},{"$f":"IF(LEFT($C956,1)=\"*\",\"\",LogData!H949)","v":""},{"$f":"IF(LEFT($C956,1)=\"*\",\"\",LogData!T949*100)","v":""}]
[{"$f":"IF($C957=\"*EOL*\",\"\",INT(LogData!V950))","v":""},{"$f":"IF($C957=\"*EOL*\",\"\",LogData!V950-A957)","v":""},{"$f":"LogData!E950","v":"*EOL*"},{"$f":"IF(LEFT($C957,1)=\"*\",\"\",LogData!C950)","v":""},{"$f":"IF(LEFT($C957,1)=\"*\",\"\",LogData!F950)","v":""},{"$f":"IF(LEFT($C957,1)=\"*\",\"\",LogData!D950)","v":""},{"$f":"IF(LEFT($C957,1)=\"*\",\"\",LogData!H950)","v":""},{"$f":"IF(LEFT($C957,1)=\"*\",\"\",LogData!T950*100)","v":""}]
[{"$f":"IF($C958=\"*EOL*\",\"\",INT(LogData!V951))","v":""},{"$f":"IF($C958=\"*EOL*\",\"\",LogData!V951-A958)","v":""},{"$f":"LogData!E951","v":"*EOL*"},{"$f":"IF(LEFT($C958,1)=\"*\",\"\",LogData!C951)","v":""},{"$f":"IF(LEFT($C958,1)=\"*\",\"\",LogData!F951)","v":""},{"$f":"IF(LEFT($C958,1)=\"*\",\"\",LogData!D951)","v":""},{"$f":"IF(LEFT($C958,1)=\"*\",\"\",LogData!H951)","v":""},{"$f":"IF(LEFT($C958,1)=\"*\",\"\",LogData!T951*100)","v":""}]
[{"$f":"IF($C959=\"*EOL*\",\"\",INT(LogData!V952))","v":""},{"$f":"IF($C959=\"*EOL*\",\"\",LogData!V952-A959)","v":""},{"$f":"LogData!E952","v":"*EOL*"},{"$f":"IF(LEFT($C959,1)=\"*\",\"\",LogData!C952)","v":""},{"$f":"IF(LEFT($C959,1)=\"*\",\"\",LogData!F952)","v":""},{"$f":"IF(LEFT($C959,1)=\"*\",\"\",LogData!D952)","v":""},{"$f":"IF(LEFT($C959,1)=\"*\",\"\",LogData!H952)","v":""},{"$f":"IF(LEFT($C959,1)=\"*\",\"\",LogData!T952*100)","v":""}]
[{"$f":"IF($C960=\"*EOL*\",\"\",INT(LogData!V953))","v":""},{"$f":"IF($C960=\"*EOL*\",\"\",LogData!V953-A960)","v":""},{"$f":"LogData!E953","v":"*EOL*"},{"$f":"IF(LEFT($C960,1)=\"*\",\"\",LogData!C953)","v":""},{"$f":"IF(LEFT($C960,1)=\"*\",\"\",LogData!F953)","v":""},{"$f":"IF(LEFT($C960,1)=\"*\",\"\",LogData!D953)","v":""},{"$f":"IF(LEFT($C960,1)=\"*\",\"\",LogData!H953)","v":""},{"$f":"IF(LEFT($C960,1)=\"*\",\"\",LogData!T953*100)","v":""}]
[{"$f":"IF($C961=\"*EOL*\",\"\",INT(LogData!V954))","v":""},{"$f":"IF($C961=\"*EOL*\",\"\",LogData!V954-A961)","v":""},{"$f":"LogData!E954","v":"*EOL*"},{"$f":"IF(LEFT($C961,1)=\"*\",\"\",LogData!C954)","v":""},{"$f":"IF(LEFT($C961,1)=\"*\",\"\",LogData!F954)","v":""},{"$f":"IF(LEFT($C961,1)=\"*\",\"\",LogData!D954)","v":""},{"$f":"IF(LEFT($C961,1)=\"*\",\"\",LogData!H954)","v":""},{"$f":"IF(LEFT($C961,1)=\"*\",\"\",LogData!T954*100)","v":""}]
[{"$f":"IF($C962=\"*EOL*\",\"\",INT(LogData!V955))","v":""},{"$f":"IF($C962=\"*EOL*\",\"\",LogData!V955-A962)","v":""},{"$f":"LogData!E955","v":"*EOL*"},{"$f":"IF(LEFT($C962,1)=\"*\",\"\",LogData!C955)","v":""},{"$f":"IF(LEFT($C962,1)=\"*\",\"\",LogData!F955)","v":""},{"$f":"IF(LEFT($C962,1)=\"*\",\"\",LogData!D955)","v":""},{"$f":"IF(LEFT($C962,1)=\"*\",\"\",LogData!H955)","v":""},{"$f":"IF(LEFT($C962,1)=\"*\",\"\",LogData!T955*100)","v":""}]
[{"$f":"IF($C963=\"*EOL*\",\"\",INT(LogData!V956))","v":""},{"$f":"IF($C963=\"*EOL*\",\"\",LogData!V956-A963)","v":""},{"$f":"LogData!E956","v":"*EOL*"},{"$f":"IF(LEFT($C963,1)=\"*\",\"\",LogData!C956)","v":""},{"$f":"IF(LEFT($C963,1)=\"*\",\"\",LogData!F956)","v":""},{"$f":"IF(LEFT($C963,1)=\"*\",\"\",LogData!D956)","v":""},{"$f":"IF(LEFT($C963,1)=\"*\",\"\",LogData!H956)","v":""},{"$f":"IF(LEFT($C963,1)=\"*\",\"\",LogData!T956*100)","v":""}]
[{"$f":"IF($C964=\"*EOL*\",\"\",INT(LogData!V957))","v":""},{"$f":"IF($C964=\"*EOL*\",\"\",LogData!V957-A964)","v":""},{"$f":"LogData!E957","v":"*EOL*"},{"$f":"IF(LEFT($C964,1)=\"*\",\"\",LogData!C957)","v":""},{"$f":"IF(LEFT($C964,1)=\"*\",\"\",LogData!F957)","v":""},{"$f":"IF(LEFT($C964,1)=\"*\",\"\",LogData!D957)","v":""},{"$f":"IF(LEFT($C964,1)=\"*\",\"\",LogData!H957)","v":""},{"$f":"IF(LEFT($C964,1)=\"*\",\"\",LogData!T957*100)","v":""}]
[{"$f":"IF($C965=\"*EOL*\",\"\",INT(LogData!V958))","v":""},{"$f":"IF($C965=\"*EOL*\",\"\",LogData!V958-A965)","v":""},{"$f":"LogData!E958","v":"*EOL*"},{"$f":"IF(LEFT($C965,1)=\"*\",\"\",LogData!C958)","v":""},{"$f":"IF(LEFT($C965,1)=\"*\",\"\",LogData!F958)","v":""},{"$f":"IF(LEFT($C965,1)=\"*\",\"\",LogData!D958)","v":""},{"$f":"IF(LEFT($C965,1)=\"*\",\"\",LogData!H958)","v":""},{"$f":"IF(LEFT($C965,1)=\"*\",\"\",LogData!T958*100)","v":""}]
[{"$f":"IF($C966=\"*EOL*\",\"\",INT(LogData!V959))","v":""},{"$f":"IF($C966=\"*EOL*\",\"\",LogData!V959-A966)","v":""},{"$f":"LogData!E959","v":"*EOL*"},{"$f":"IF(LEFT($C966,1)=\"*\",\"\",LogData!C959)","v":""},{"$f":"IF(LEFT($C966,1)=\"*\",\"\",LogData!F959)","v":""},{"$f":"IF(LEFT($C966,1)=\"*\",\"\",LogData!D959)","v":""},{"$f":"IF(LEFT($C966,1)=\"*\",\"\",LogData!H959)","v":""},{"$f":"IF(LEFT($C966,1)=\"*\",\"\",LogData!T959*100)","v":""}]
[{"$f":"IF($C967=\"*EOL*\",\"\",INT(LogData!V960))","v":""},{"$f":"IF($C967=\"*EOL*\",\"\",LogData!V960-A967)","v":""},{"$f":"LogData!E960","v":"*EOL*"},{"$f":"IF(LEFT($C967,1)=\"*\",\"\",LogData!C960)","v":""},{"$f":"IF(LEFT($C967,1)=\"*\",\"\",LogData!F960)","v":""},{"$f":"IF(LEFT($C967,1)=\"*\",\"\",LogData!D960)","v":""},{"$f":"IF(LEFT($C967,1)=\"*\",\"\",LogData!H960)","v":""},{"$f":"IF(LEFT($C967,1)=\"*\",\"\",LogData!T960*100)","v":""}]
[{"$f":"IF($C968=\"*EOL*\",\"\",INT(LogData!V961))","v":""},{"$f":"IF($C968=\"*EOL*\",\"\",LogData!V961-A968)","v":""},{"$f":"LogData!E961","v":"*EOL*"},{"$f":"IF(LEFT($C968,1)=\"*\",\"\",LogData!C961)","v":""},{"$f":"IF(LEFT($C968,1)=\"*\",\"\",LogData!F961)","v":""},{"$f":"IF(LEFT($C968,1)=\"*\",\"\",LogData!D961)","v":""},{"$f":"IF(LEFT($C968,1)=\"*\",\"\",LogData!H961)","v":""},{"$f":"IF(LEFT($C968,1)=\"*\",\"\",LogData!T961*100)","v":""}]
[{"$f":"IF($C969=\"*EOL*\",\"\",INT(LogData!V962))","v":""},{"$f":"IF($C969=\"*EOL*\",\"\",LogData!V962-A969)","v":""},{"$f":"LogData!E962","v":"*EOL*"},{"$f":"IF(LEFT($C969,1)=\"*\",\"\",LogData!C962)","v":""},{"$f":"IF(LEFT($C969,1)=\"*\",\"\",LogData!F962)","v":""},{"$f":"IF(LEFT($C969,1)=\"*\",\"\",LogData!D962)","v":""},{"$f":"IF(LEFT($C969,1)=\"*\",\"\",LogData!H962)","v":""},{"$f":"IF(LEFT($C969,1)=\"*\",\"\",LogData!T962*100)","v":""}]
[{"$f":"IF($C970=\"*EOL*\",\"\",INT(LogData!V963))","v":""},{"$f":"IF($C970=\"*EOL*\",\"\",LogData!V963-A970)","v":""},{"$f":"LogData!E963","v":"*EOL*"},{"$f":"IF(LEFT($C970,1)=\"*\",\"\",LogData!C963)","v":""},{"$f":"IF(LEFT($C970,1)=\"*\",\"\",LogData!F963)","v":""},{"$f":"IF(LEFT($C970,1)=\"*\",\"\",LogData!D963)","v":""},{"$f":"IF(LEFT($C970,1)=\"*\",\"\",LogData!H963)","v":""},{"$f":"IF(LEFT($C970,1)=\"*\",\"\",LogData!T963*100)","v":""}]
[{"$f":"IF($C971=\"*EOL*\",\"\",INT(LogData!V964))","v":""},{"$f":"IF($C971=\"*EOL*\",\"\",LogData!V964-A971)","v":""},{"$f":"LogData!E964","v":"*EOL*"},{"$f":"IF(LEFT($C971,1)=\"*\",\"\",LogData!C964)","v":""},{"$f":"IF(LEFT($C971,1)=\"*\",\"\",LogData!F964)","v":""},{"$f":"IF(LEFT($C971,1)=\"*\",\"\",LogData!D964)","v":""},{"$f":"IF(LEFT($C971,1)=\"*\",\"\",LogData!H964)","v":""},{"$f":"IF(LEFT($C971,1)=\"*\",\"\",LogData!T964*100)","v":""}]
[{"$f":"IF($C972=\"*EOL*\",\"\",INT(LogData!V965))","v":""},{"$f":"IF($C972=\"*EOL*\",\"\",LogData!V965-A972)","v":""},{"$f":"LogData!E965","v":"*EOL*"},{"$f":"IF(LEFT($C972,1)=\"*\",\"\",LogData!C965)","v":""},{"$f":"IF(LEFT($C972,1)=\"*\",\"\",LogData!F965)","v":""},{"$f":"IF(LEFT($C972,1)=\"*\",\"\",LogData!D965)","v":""},{"$f":"IF(LEFT($C972,1)=\"*\",\"\",LogData!H965)","v":""},{"$f":"IF(LEFT($C972,1)=\"*\",\"\",LogData!T965*100)","v":""}]
[{"$f":"IF($C973=\"*EOL*\",\"\",INT(LogData!V966))","v":""},{"$f":"IF($C973=\"*EOL*\",\"\",LogData!V966-A973)","v":""},{"$f":"LogData!E966","v":"*EOL*"},{"$f":"IF(LEFT($C973,1)=\"*\",\"\",LogData!C966)","v":""},{"$f":"IF(LEFT($C973,1)=\"*\",\"\",LogData!F966)","v":""},{"$f":"IF(LEFT($C973,1)=\"*\",\"\",LogData!D966)","v":""},{"$f":"IF(LEFT($C973,1)=\"*\",\"\",LogData!H966)","v":""},{"$f":"IF(LEFT($C973,1)=\"*\",\"\",LogData!T966*100)","v":""}]
[{"$f":"IF($C974=\"*EOL*\",\"\",INT(LogData!V967))","v":""},{"$f":"IF($C974=\"*EOL*\",\"\",LogData!V967-A974)","v":""},{"$f":"LogData!E967","v":"*EOL*"},{"$f":"IF(LEFT($C974,1)=\"*\",\"\",LogData!C967)","v":""},{"$f":"IF(LEFT($C974,1)=\"*\",\"\",LogData!F967)","v":""},{"$f":"IF(LEFT($C974,1)=\"*\",\"\",LogData!D967)","v":""},{"$f":"IF(LEFT($C974,1)=\"*\",\"\",LogData!H967)","v":""},{"$f":"IF(LEFT($C974,1)=\"*\",\"\",LogData!T967*100)","v":""}]
[{"$f":"IF($C975=\"*EOL*\",\"\",INT(LogData!V968))","v":""},{"$f":"IF($C975=\"*EOL*\",\"\",LogData!V968-A975)","v":""},{"$f":"LogData!E968","v":"*EOL*"},{"$f":"IF(LEFT($C975,1)=\"*\",\"\",LogData!C968)","v":""},{"$f":"IF(LEFT($C975,1)=\"*\",\"\",LogData!F968)","v":""},{"$f":"IF(LEFT($C975,1)=\"*\",\"\",LogData!D968)","v":""},{"$f":"IF(LEFT($C975,1)=\"*\",\"\",LogData!H968)","v":""},{"$f":"IF(LEFT($C975,1)=\"*\",\"\",LogData!T968*100)","v":""}]
[{"$f":"IF($C976=\"*EOL*\",\"\",INT(LogData!V969))","v":""},{"$f":"IF($C976=\"*EOL*\",\"\",LogData!V969-A976)","v":""},{"$f":"LogData!E969","v":"*EOL*"},{"$f":"IF(LEFT($C976,1)=\"*\",\"\",LogData!C969)","v":""},{"$f":"IF(LEFT($C976,1)=\"*\",\"\",LogData!F969)","v":""},{"$f":"IF(LEFT($C976,1)=\"*\",\"\",LogData!D969)","v":""},{"$f":"IF(LEFT($C976,1)=\"*\",\"\",LogData!H969)","v":""},{"$f":"IF(LEFT($C976,1)=\"*\",\"\",LogData!T969*100)","v":""}]
[{"$f":"IF($C977=\"*EOL*\",\"\",INT(LogData!V970))","v":""},{"$f":"IF($C977=\"*EOL*\",\"\",LogData!V970-A977)","v":""},{"$f":"LogData!E970","v":"*EOL*"},{"$f":"IF(LEFT($C977,1)=\"*\",\"\",LogData!C970)","v":""},{"$f":"IF(LEFT($C977,1)=\"*\",\"\",LogData!F970)","v":""},{"$f":"IF(LEFT($C977,1)=\"*\",\"\",LogData!D970)","v":""},{"$f":"IF(LEFT($C977,1)=\"*\",\"\",LogData!H970)","v":""},{"$f":"IF(LEFT($C977,1)=\"*\",\"\",LogData!T970*100)","v":""}]
[{"$f":"IF($C978=\"*EOL*\",\"\",INT(LogData!V971))","v":""},{"$f":"IF($C978=\"*EOL*\",\"\",LogData!V971-A978)","v":""},{"$f":"LogData!E971","v":"*EOL*"},{"$f":"IF(LEFT($C978,1)=\"*\",\"\",LogData!C971)","v":""},{"$f":"IF(LEFT($C978,1)=\"*\",\"\",LogData!F971)","v":""},{"$f":"IF(LEFT($C978,1)=\"*\",\"\",LogData!D971)","v":""},{"$f":"IF(LEFT($C978,1)=\"*\",\"\",LogData!H971)","v":""},{"$f":"IF(LEFT($C978,1)=\"*\",\"\",LogData!T971*100)","v":""}]
[{"$f":"IF($C979=\"*EOL*\",\"\",INT(LogData!V972))","v":""},{"$f":"IF($C979=\"*EOL*\",\"\",LogData!V972-A979)","v":""},{"$f":"LogData!E972","v":"*EOL*"},{"$f":"IF(LEFT($C979,1)=\"*\",\"\",LogData!C972)","v":""},{"$f":"IF(LEFT($C979,1)=\"*\",\"\",LogData!F972)","v":""},{"$f":"IF(LEFT($C979,1)=\"*\",\"\",LogData!D972)","v":""},{"$f":"IF(LEFT($C979,1)=\"*\",\"\",LogData!H972)","v":""},{"$f":"IF(LEFT($C979,1)=\"*\",\"\",LogData!T972*100)","v":""}]
[{"$f":"IF($C980=\"*EOL*\",\"\",INT(LogData!V973))","v":""},{"$f":"IF($C980=\"*EOL*\",\"\",LogData!V973-A980)","v":""},{"$f":"LogData!E973","v":"*EOL*"},{"$f":"IF(LEFT($C980,1)=\"*\",\"\",LogData!C973)","v":""},{"$f":"IF(LEFT($C980,1)=\"*\",\"\",LogData!F973)","v":""},{"$f":"IF(LEFT($C980,1)=\"*\",\"\",LogData!D973)","v":""},{"$f":"IF(LEFT($C980,1)=\"*\",\"\",LogData!H973)","v":""},{"$f":"IF(LEFT($C980,1)=\"*\",\"\",LogData!T973*100)","v":""}]
[{"$f":"IF($C981=\"*EOL*\",\"\",INT(LogData!V974))","v":""},{"$f":"IF($C981=\"*EOL*\",\"\",LogData!V974-A981)","v":""},{"$f":"LogData!E974","v":"*EOL*"},{"$f":"IF(LEFT($C981,1)=\"*\",\"\",LogData!C974)","v":""},{"$f":"IF(LEFT($C981,1)=\"*\",\"\",LogData!F974)","v":""},{"$f":"IF(LEFT($C981,1)=\"*\",\"\",LogData!D974)","v":""},{"$f":"IF(LEFT($C981,1)=\"*\",\"\",LogData!H974)","v":""},{"$f":"IF(LEFT($C981,1)=\"*\",\"\",LogData!T974*100)","v":""}]
[{"$f":"IF($C982=\"*EOL*\",\"\",INT(LogData!V975))","v":""},{"$f":"IF($C982=\"*EOL*\",\"\",LogData!V975-A982)","v":""},{"$f":"LogData!E975","v":"*EOL*"},{"$f":"IF(LEFT($C982,1)=\"*\",\"\",LogData!C975)","v":""},{"$f":"IF(LEFT($C982,1)=\"*\",\"\",LogData!F975)","v":""},{"$f":"IF(LEFT($C982,1)=\"*\",\"\",LogData!D975)","v":""},{"$f":"IF(LEFT($C982,1)=\"*\",\"\",LogData!H975)","v":""},{"$f":"IF(LEFT($C982,1)=\"*\",\"\",LogData!T975*100)","v":""}]
[{"$f":"IF($C983=\"*EOL*\",\"\",INT(LogData!V976))","v":""},{"$f":"IF($C983=\"*EOL*\",\"\",LogData!V976-A983)","v":""},{"$f":"LogData!E976","v":"*EOL*"},{"$f":"IF(LEFT($C983,1)=\"*\",\"\",LogData!C976)","v":""},{"$f":"IF(LEFT($C983,1)=\"*\",\"\",LogData!F976)","v":""},{"$f":"IF(LEFT($C983,1)=\"*\",\"\",LogData!D976)","v":""},{"$f":"IF(LEFT($C983,1)=\"*\",\"\",LogData!H976)","v":""},{"$f":"IF(LEFT($C983,1)=\"*\",\"\",LogData!T976*100)","v":""}]
[{"$f":"IF($C984=\"*EOL*\",\"\",INT(LogData!V977))","v":""},{"$f":"IF($C984=\"*EOL*\",\"\",LogData!V977-A984)","v":""},{"$f":"LogData!E977","v":"*EOL*"},{"$f":"IF(LEFT($C984,1)=\"*\",\"\",LogData!C977)","v":""},{"$f":"IF(LEFT($C984,1)=\"*\",\"\",LogData!F977)","v":""},{"$f":"IF(LEFT($C984,1)=\"*\",\"\",LogData!D977)","v":""},{"$f":"IF(LEFT($C984,1)=\"*\",\"\",LogData!H977)","v":""},{"$f":"IF(LEFT($C984,1)=\"*\",\"\",LogData!T977*100)","v":""}]
[{"$f":"IF($C985=\"*EOL*\",\"\",INT(LogData!V978))","v":""},{"$f":"IF($C985=\"*EOL*\",\"\",LogData!V978-A985)","v":""},{"$f":"LogData!E978","v":"*EOL*"},{"$f":"IF(LEFT($C985,1)=\"*\",\"\",LogData!C978)","v":""},{"$f":"IF(LEFT($C985,1)=\"*\",\"\",LogData!F978)","v":""},{"$f":"IF(LEFT($C985,1)=\"*\",\"\",LogData!D978)","v":""},{"$f":"IF(LEFT($C985,1)=\"*\",\"\",LogData!H978)","v":""},{"$f":"IF(LEFT($C985,1)=\"*\",\"\",LogData!T978*100)","v":""}]
[{"$f":"IF($C986=\"*EOL*\",\"\",INT(LogData!V979))","v":""},{"$f":"IF($C986=\"*EOL*\",\"\",LogData!V979-A986)","v":""},{"$f":"LogData!E979","v":"*EOL*"},{"$f":"IF(LEFT($C986,1)=\"*\",\"\",LogData!C979)","v":""},{"$f":"IF(LEFT($C986,1)=\"*\",\"\",LogData!F979)","v":""},{"$f":"IF(LEFT($C986,1)=\"*\",\"\",LogData!D979)","v":""},{"$f":"IF(LEFT($C986,1)=\"*\",\"\",LogData!H979)","v":""},{"$f":"IF(LEFT($C986,1)=\"*\",\"\",LogData!T979*100)","v":""}]
[{"$f":"IF($C987=\"*EOL*\",\"\",INT(LogData!V980))","v":""},{"$f":"IF($C987=\"*EOL*\",\"\",LogData!V980-A987)","v":""},{"$f":"LogData!E980","v":"*EOL*"},{"$f":"IF(LEFT($C987,1)=\"*\",\"\",LogData!C980)","v":""},{"$f":"IF(LEFT($C987,1)=\"*\",\"\",LogData!F980)","v":""},{"$f":"IF(LEFT($C987,1)=\"*\",\"\",LogData!D980)","v":""},{"$f":"IF(LEFT($C987,1)=\"*\",\"\",LogData!H980)","v":""},{"$f":"IF(LEFT($C987,1)=\"*\",\"\",LogData!T980*100)","v":""}]
[{"$f":"IF($C988=\"*EOL*\",\"\",INT(LogData!V981))","v":""},{"$f":"IF($C988=\"*EOL*\",\"\",LogData!V981-A988)","v":""},{"$f":"LogData!E981","v":"*EOL*"},{"$f":"IF(LEFT($C988,1)=\"*\",\"\",LogData!C981)","v":""},{"$f":"IF(LEFT($C988,1)=\"*\",\"\",LogData!F981)","v":""},{"$f":"IF(LEFT($C988,1)=\"*\",\"\",LogData!D981)","v":""},{"$f":"IF(LEFT($C988,1)=\"*\",\"\",LogData!H981)","v":""},{"$f":"IF(LEFT($C988,1)=\"*\",\"\",LogData!T981*100)","v":""}]
[{"$f":"IF($C989=\"*EOL*\",\"\",INT(LogData!V982))","v":""},{"$f":"IF($C989=\"*EOL*\",\"\",LogData!V982-A989)","v":""},{"$f":"LogData!E982","v":"*EOL*"},{"$f":"IF(LEFT($C989,1)=\"*\",\"\",LogData!C982)","v":""},{"$f":"IF(LEFT($C989,1)=\"*\",\"\",LogData!F982)","v":""},{"$f":"IF(LEFT($C989,1)=\"*\",\"\",LogData!D982)","v":""},{"$f":"IF(LEFT($C989,1)=\"*\",\"\",LogData!H982)","v":""},{"$f":"IF(LEFT($C989,1)=\"*\",\"\",LogData!T982*100)","v":""}]
[{"$f":"IF($C990=\"*EOL*\",\"\",INT(LogData!V983))","v":""},{"$f":"IF($C990=\"*EOL*\",\"\",LogData!V983-A990)","v":""},{"$f":"LogData!E983","v":"*EOL*"},{"$f":"IF(LEFT($C990,1)=\"*\",\"\",LogData!C983)","v":""},{"$f":"IF(LEFT($C990,1)=\"*\",\"\",LogData!F983)","v":""},{"$f":"IF(LEFT($C990,1)=\"*\",\"\",LogData!D983)","v":""},{"$f":"IF(LEFT($C990,1)=\"*\",\"\",LogData!H983)","v":""},{"$f":"IF(LEFT($C990,1)=\"*\",\"\",LogData!T983*100)","v":""}]
[{"$f":"IF($C991=\"*EOL*\",\"\",INT(LogData!V984))","v":""},{"$f":"IF($C991=\"*EOL*\",\"\",LogData!V984-A991)","v":""},{"$f":"LogData!E984","v":"*EOL*"},{"$f":"IF(LEFT($C991,1)=\"*\",\"\",LogData!C984)","v":""},{"$f":"IF(LEFT($C991,1)=\"*\",\"\",LogData!F984)","v":""},{"$f":"IF(LEFT($C991,1)=\"*\",\"\",LogData!D984)","v":""},{"$f":"IF(LEFT($C991,1)=\"*\",\"\",LogData!H984)","v":""},{"$f":"IF(LEFT($C991,1)=\"*\",\"\",LogData!T984*100)","v":""}]
[{"$f":"IF($C992=\"*EOL*\",\"\",INT(LogData!V985))","v":""},{"$f":"IF($C992=\"*EOL*\",\"\",LogData!V985-A992)","v":""},{"$f":"LogData!E985","v":"*EOL*"},{"$f":"IF(LEFT($C992,1)=\"*\",\"\",LogData!C985)","v":""},{"$f":"IF(LEFT($C992,1)=\"*\",\"\",LogData!F985)","v":""},{"$f":"IF(LEFT($C992,1)=\"*\",\"\",LogData!D985)","v":""},{"$f":"IF(LEFT($C992,1)=\"*\",\"\",LogData!H985)","v":""},{"$f":"IF(LEFT($C992,1)=\"*\",\"\",LogData!T985*100)","v":""}]
[{"$f":"IF($C993=\"*EOL*\",\"\",INT(LogData!V986))","v":""},{"$f":"IF($C993=\"*EOL*\",\"\",LogData!V986-A993)","v":""},{"$f":"LogData!E986","v":"*EOL*"},{"$f":"IF(LEFT($C993,1)=\"*\",\"\",LogData!C986)","v":""},{"$f":"IF(LEFT($C993,1)=\"*\",\"\",LogData!F986)","v":""},{"$f":"IF(LEFT($C993,1)=\"*\",\"\",LogData!D986)","v":""},{"$f":"IF(LEFT($C993,1)=\"*\",\"\",LogData!H986)","v":""},{"$f":"IF(LEFT($C993,1)=\"*\",\"\",LogData!T986*100)","v":""}]
[{"$f":"IF($C994=\"*EOL*\",\"\",INT(LogData!V987))","v":""},{"$f":"IF($C994=\"*EOL*\",\"\",LogData!V987-A994)","v":""},{"$f":"LogData!E987","v":"*EOL*"},{"$f":"IF(LEFT($C994,1)=\"*\",\"\",LogData!C987)","v":""},{"$f":"IF(LEFT($C994,1)=\"*\",\"\",LogData!F987)","v":""},{"$f":"IF(LEFT($C994,1)=\"*\",\"\",LogData!D987)","v":""},{"$f":"IF(LEFT($C994,1)=\"*\",\"\",LogData!H987)","v":""},{"$f":"IF(LEFT($C994,1)=\"*\",\"\",LogData!T987*100)","v":""}]
[{"$f":"IF($C995=\"*EOL*\",\"\",INT(LogData!V988))","v":""},{"$f":"IF($C995=\"*EOL*\",\"\",LogData!V988-A995)","v":""},{"$f":"LogData!E988","v":"*EOL*"},{"$f":"IF(LEFT($C995,1)=\"*\",\"\",LogData!C988)","v":""},{"$f":"IF(LEFT($C995,1)=\"*\",\"\",LogData!F988)","v":""},{"$f":"IF(LEFT($C995,1)=\"*\",\"\",LogData!D988)","v":""},{"$f":"IF(LEFT($C995,1)=\"*\",\"\",LogData!H988)","v":""},{"$f":"IF(LEFT($C995,1)=\"*\",\"\",LogData!T988*100)","v":""}]
[{"$f":"IF($C996=\"*EOL*\",\"\",INT(LogData!V989))","v":""},{"$f":"IF($C996=\"*EOL*\",\"\",LogData!V989-A996)","v":""},{"$f":"LogData!E989","v":"*EOL*"},{"$f":"IF(LEFT($C996,1)=\"*\",\"\",LogData!C989)","v":""},{"$f":"IF(LEFT($C996,1)=\"*\",\"\",LogData!F989)","v":""},{"$f":"IF(LEFT($C996,1)=\"*\",\"\",LogData!D989)","v":""},{"$f":"IF(LEFT($C996,1)=\"*\",\"\",LogData!H989)","v":""},{"$f":"IF(LEFT($C996,1)=\"*\",\"\",LogData!T989*100)","v":""}]
[{"$f":"IF($C997=\"*EOL*\",\"\",INT(LogData!V990))","v":""},{"$f":"IF($C997=\"*EOL*\",\"\",LogData!V990-A997)","v":""},{"$f":"LogData!E990","v":"*EOL*"},{"$f":"IF(LEFT($C997,1)=\"*\",\"\",LogData!C990)","v":""},{"$f":"IF(LEFT($C997,1)=\"*\",\"\",LogData!F990)","v":""},{"$f":"IF(LEFT($C997,1)=\"*\",\"\",LogData!D990)","v":""},{"$f":"IF(LEFT($C997,1)=\"*\",\"\",LogData!H990)","v":""},{"$f":"IF(LEFT($C997,1)=\"*\",\"\",LogData!T990*100)","v":""}]
[{"$f":"IF($C998=\"*EOL*\",\"\",INT(LogData!V991))","v":""},{"$f":"IF($C998=\"*EOL*\",\"\",LogData!V991-A998)","v":""},{"$f":"LogData!E991","v":"*EOL*"},{"$f":"IF(LEFT($C998,1)=\"*\",\"\",LogData!C991)","v":""},{"$f":"IF(LEFT($C998,1)=\"*\",\"\",LogData!F991)","v":""},{"$f":"IF(LEFT($C998,1)=\"*\",\"\",LogData!D991)","v":""},{"$f":"IF(LEFT($C998,1)=\"*\",\"\",LogData!H991)","v":""},{"$f":"IF(LEFT($C998,1)=\"*\",\"\",LogData!T991*100)","v":""}]
[{"$f":"IF($C999=\"*EOL*\",\"\",INT(LogData!V992))","v":""},{"$f":"IF($C999=\"*EOL*\",\"\",LogData!V992-A999)","v":""},{"$f":"LogData!E992","v":"*EOL*"},{"$f":"IF(LEFT($C999,1)=\"*\",\"\",LogData!C992)","v":""},{"$f":"IF(LEFT($C999,1)=\"*\",\"\",LogData!F992)","v":""},{"$f":"IF(LEFT($C999,1)=\"*\",\"\",LogData!D992)","v":""},{"$f":"IF(LEFT($C999,1)=\"*\",\"\",LogData!H992)","v":""},{"$f":"IF(LEFT($C999,1)=\"*\",\"\",LogData!T992*100)","v":""}]
[{"$f":"IF($C1000=\"*EOL*\",\"\",INT(LogData!V993))","v":""},{"$f":"IF($C1000=\"*EOL*\",\"\",LogData!V993-A1000)","v":""},{"$f":"LogData!E993","v":"*EOL*"},{"$f":"IF(LEFT($C1000,1)=\"*\",\"\",LogData!C993)","v":""},{"$f":"IF(LEFT($C1000,1)=\"*\",\"\",LogData!F993)","v":""},{"$f":"IF(LEFT($C1000,1)=\"*\",\"\",LogData!D993)","v":""},{"$f":"IF(LEFT($C1000,1)=\"*\",\"\",LogData!H993)","v":""},{"$f":"IF(LEFT($C1000,1)=\"*\",\"\",LogData!T993*100)","v":""}]
[{"$f":"IF($C1001=\"*EOL*\",\"\",INT(LogData!V994))","v":""},{"$f":"IF($C1001=\"*EOL*\",\"\",LogData!V994-A1001)","v":""},{"$f":"LogData!E994","v":"*EOL*"},{"$f":"IF(LEFT($C1001,1)=\"*\",\"\",LogData!C994)","v":""},{"$f":"IF(LEFT($C1001,1)=\"*\",\"\",LogData!F994)","v":""},{"$f":"IF(LEFT($C1001,1)=\"*\",\"\",LogData!D994)","v":""},{"$f":"IF(LEFT($C1001,1)=\"*\",\"\",LogData!H994)","v":""},{"$f":"IF(LEFT($C1001,1)=\"*\",\"\",LogData!T994*100)","v":""}]
[{"$f":"IF($C1002=\"*EOL*\",\"\",INT(LogData!V995))","v":""},{"$f":"IF($C1002=\"*EOL*\",\"\",LogData!V995-A1002)","v":""},{"$f":"LogData!E995","v":"*EOL*"},{"$f":"IF(LEFT($C1002,1)=\"*\",\"\",LogData!C995)","v":""},{"$f":"IF(LEFT($C1002,1)=\"*\",\"\",LogData!F995)","v":""},{"$f":"IF(LEFT($C1002,1)=\"*\",\"\",LogData!D995)","v":""},{"$f":"IF(LEFT($C1002,1)=\"*\",\"\",LogData!H995)","v":""},{"$f":"IF(LEFT($C1002,1)=\"*\",\"\",LogData!T995*100)","v":""}]
[{"$f":"IF($C1003=\"*EOL*\",\"\",INT(LogData!V996))","v":""},{"$f":"IF($C1003=\"*EOL*\",\"\",LogData!V996-A1003)","v":""},{"$f":"LogData!E996","v":"*EOL*"},{"$f":"IF(LEFT($C1003,1)=\"*\",\"\",LogData!C996)","v":""},{"$f":"IF(LEFT($C1003,1)=\"*\",\"\",LogData!F996)","v":""},{"$f":"IF(LEFT($C1003,1)=\"*\",\"\",LogData!D996)","v":""},{"$f":"IF(LEFT($C1003,1)=\"*\",\"\",LogData!H996)","v":""},{"$f":"IF(LEFT($C1003,1)=\"*\",\"\",LogData!T996*100)","v":""}]
[{"$f":"IF($C1004=\"*EOL*\",\"\",INT(LogData!V997))","v":""},{"$f":"IF($C1004=\"*EOL*\",\"\",LogData!V997-A1004)","v":""},{"$f":"LogData!E997","v":"*EOL*"},{"$f":"IF(LEFT($C1004,1)=\"*\",\"\",LogData!C997)","v":""},{"$f":"IF(LEFT($C1004,1)=\"*\",\"\",LogData!F997)","v":""},{"$f":"IF(LEFT($C1004,1)=\"*\",\"\",LogData!D997)","v":""},{"$f":"IF(LEFT($C1004,1)=\"*\",\"\",LogData!H997)","v":""},{"$f":"IF(LEFT($C1004,1)=\"*\",\"\",LogData!T997*100)","v":""}]
[{"$f":"IF($C1005=\"*EOL*\",\"\",INT(LogData!V998))","v":""},{"$f":"IF($C1005=\"*EOL*\",\"\",LogData!V998-A1005)","v":""},{"$f":"LogData!E998","v":"*EOL*"},{"$f":"IF(LEFT($C1005,1)=\"*\",\"\",LogData!C998)","v":""},{"$f":"IF(LEFT($C1005,1)=\"*\",\"\",LogData!F998)","v":""},{"$f":"IF(LEFT($C1005,1)=\"*\",\"\",LogData!D998)","v":""},{"$f":"IF(LEFT($C1005,1)=\"*\",\"\",LogData!H998)","v":""},{"$f":"IF(LEFT($C1005,1)=\"*\",\"\",LogData!T998*100)","v":""}]
[{"$f":"IF($C1006=\"*EOL*\",\"\",INT(LogData!V999))","v":""},{"$f":"IF($C1006=\"*EOL*\",\"\",LogData!V999-A1006)","v":""},{"$f":"LogData!E999","v":"*EOL*"},{"$f":"IF(LEFT($C1006,1)=\"*\",\"\",LogData!C999)","v":""},{"$f":"IF(LEFT($C1006,1)=\"*\",\"\",LogData!F999)","v":""},{"$f":"IF(LEFT($C1006,1)=\"*\",\"\",LogData!D999)","v":""},{"$f":"IF(LEFT($C1006,1)=\"*\",\"\",LogData!H999)","v":""},{"$f":"IF(LEFT($C1006,1)=\"*\",\"\",LogData!T999*100)","v":""}]
[{"$f":"IF($C1007=\"*EOL*\",\"\",INT(LogData!V1000))","v":""},{"$f":"IF($C1007=\"*EOL*\",\"\",LogData!V1000-A1007)","v":""},{"$f":"LogData!E1000","v":"*EOL*"},{"$f":"IF(LEFT($C1007,1)=\"*\",\"\",LogData!C1000)","v":""},{"$f":"IF(LEFT($C1007,1)=\"*\",\"\",LogData!F1000)","v":""},{"$f":"IF(LEFT($C1007,1)=\"*\",\"\",LogData!D1000)","v":""},{"$f":"IF(LEFT($C1007,1)=\"*\",\"\",LogData!H1000)","v":""},{"$f":"IF(LEFT($C1007,1)=\"*\",\"\",LogData!T1000*100)","v":""}]
[{"$f":"IF($C1008=\"*EOL*\",\"\",INT(LogData!V1001))","v":""},{"$f":"IF($C1008=\"*EOL*\",\"\",LogData!V1001-A1008)","v":""},{"$f":"LogData!E1001","v":"*EOL*"},{"$f":"IF(LEFT($C1008,1)=\"*\",\"\",LogData!C1001)","v":""},{"$f":"IF(LEFT($C1008,1)=\"*\",\"\",LogData!F1001)","v":""},{"$f":"IF(LEFT($C1008,1)=\"*\",\"\",LogData!D1001)","v":""},{"$f":"IF(LEFT($C1008,1)=\"*\",\"\",LogData!H1001)","v":""},{"$f":"IF(LEFT($C1008,1)=\"*\",\"\",LogData!T1001*100)","v":""}]
[{"$f":"IF($C1009=\"*EOL*\",\"\",INT(LogData!V1002))","v":""},{"$f":"IF($C1009=\"*EOL*\",\"\",LogData!V1002-A1009)","v":""},{"$f":"LogData!E1002","v":"*EOL*"},{"$f":"IF(LEFT($C1009,1)=\"*\",\"\",LogData!C1002)","v":""},{"$f":"IF(LEFT($C1009,1)=\"*\",\"\",LogData!F1002)","v":""},{"$f":"IF(LEFT($C1009,1)=\"*\",\"\",LogData!D1002)","v":""},{"$f":"IF(LEFT($C1009,1)=\"*\",\"\",LogData!H1002)","v":""},{"$f":"IF(LEFT($C1009,1)=\"*\",\"\",LogData!T1002*100)","v":""}]
[{"$f":"IF($C1010=\"*EOL*\",\"\",INT(LogData!V1003))","v":""},{"$f":"IF($C1010=\"*EOL*\",\"\",LogData!V1003-A1010)","v":""},{"$f":"LogData!E1003","v":"*EOL*"},{"$f":"IF(LEFT($C1010,1)=\"*\",\"\",LogData!C1003)","v":""},{"$f":"IF(LEFT($C1010,1)=\"*\",\"\",LogData!F1003)","v":""},{"$f":"IF(LEFT($C1010,1)=\"*\",\"\",LogData!D1003)","v":""},{"$f":"IF(LEFT($C1010,1)=\"*\",\"\",LogData!H1003)","v":""},{"$f":"IF(LEFT($C1010,1)=\"*\",\"\",LogData!T1003*100)","v":""}]

{"sheet":"DupeSheetInstructions","index":5,"n_rows":20,"n_cols":2,"rows_kept":20,"cut":false,"hidden":false,"merged":[[0,0,0,1],[1,0,1,1]]}
["Instructions for Creating the Dupe Sheet"]
["Note:  Failure to follow these instructions exactly can ruin your file!"]
[]
[{"$f":"\"1.\"","v":"1."},"Finish EVERYTHING ELSE in the log first!  This process is NEITHER REPEATABLE nor REVERSIBLE!  If you try to create the dupe sheet and then enter more data in the log, the dupe sheet will be wrong and you will not be able to fix it!  You HAVE been warned!"]
[]
[{"$f":"\"2.\"","v":"2."},"SAVE your work in a backup file, so you have something to use in the event that you muck things up badly!  (See above.)"]
[]
[{"$f":"\"3.\"","v":"3."},"Place the cursor in Cell A6."]
[]
[{"$f":"\"4.\"","v":"4."},"HOLD DOWN the SHIFT key, while doing the following: Press the END key, then the DOWN ARROW key, then tap the RIGHT ARROW key 7 times, or tap the END key once and then the RIGHT ARROW key once.  If you have done this all correctly, you will have selected cells A6:H1006, which is your goal at this point.  You may now release the SHIFT key."]
[]
[{"$f":"\"5.\"","v":"5."},"(Here comes the Point of No Return!)  Using the mouse, click on Edit, then on Copy.  Then click on Edit, then Paste Special.  A dialog box will pop up, and on this screen, you must click on the radio button for VALUES, which is the third option down in the left column of options, then click on the OK button.  At this point, all of the formulas on the Dupe Sheet page have been removed, and any changes that you might make elsewhere in the LogData or elsewhere will be ignored.  You DID make a backup first, right?"]
[]
[{"$f":"\"6.\"","v":"6."},"Place the cursor in Cell A6, if it is not already there.  Using the mouse, click on Data, then on Sort.  You will be asked to pick (up to) three fields to sort on.  At this point, sort on Band only, and select DESCENDING mode."]
[]
[{"$f":"\"7.\"","v":"7."},"This will move all of the *ON*, *OFF*, and blank rows to the bottom of the table, and all of the data needed for the dupe sheet to the top of the table.  Once this has been done, select all of the un-needed rows at the bottom of the table and delete them."]
[]
[{"$f":"\"8.\"","v":"8."},"Place the cursor in Cell A6, if it is not already there.  Using the mouse, click on Data, then on Sort.  You will be asked to pick (up to) three fields to sort on.  At this point, sort on Sort_Key only, and select ASCENDING mode."]
[]
[{"$f":"\"9.\"","v":"9."},"The Dupe Sheet is now ready for printing.  You should FIRST do a print preview, and see how many pages of non-blank data you have, and then in the print dialogue, tell Excel to print only pages 1 through nnn where nnn is the number of non-blank pages you found with the print preview.  If you don't do that, you will get about 24 pages, many of which will be mostly (but not completely) blank, wasting a lot of ink and paper."]

{"sheet":"DupeSheet","index":6,"n_rows":1006,"n_cols":8,"rows_kept":1006,"cut":false,"hidden":false,"merged":[[0,0,0,6],[1,0,1,6],[0,7,2,7]]}
["10-GHz and Up Cumulative Contest",null,null,null,null,null,null,"This sheet is not protected, so be very careful to follow the instructions on the prior page exactly!  As instructed there, be sure you have entered ALL of your data before attempting to generate the Dupe Sheet, and make a backup file first!"]
["Dupe Sheet"]
["Call Used: ",{"$f":"Settings!B9","v":"KA9VVQ"},"Year:",{"$f":"Settings!B7","v":2016},{"$f":"\"        \"&SubmissionPage!A11","v":"        [X] 10-GHz Only  [  ] 10-GHz And Up"}]
[]
[]
["Callsign","Sent","Received","Band","UTC_Date","UTC_Time","Dupe?","Sort_Key"]
[{"$f":"IF(LEFT($D7,1)=\"*\",\"\",LogData!C4)","v":""},{"$f":"IF(LEFT($D7,1)=\"*\",\"\",LogData!F4)","v":""},{"$f":"IF(LEFT($D7,1)=\"*\",\"\",LogData!D4)","v":""},{"$f":"LogData!E4","v":"*ON*"},{"$f":"IF($D7=\"*EOL*\",\"\",INT(LogData!V4))","v":{"$error":"#VALUE!"}},{"$f":"IF($D7=\"*EOL*\",\"\",LogData!V4-E7)","v":{"$error":"#VALUE!"}},{"$f":"IF(LEFT($D7,1)=\"*\",\"\",IF(LogData!S4,\"DUPE\",\"\"))","v":""},{"$f":"IF(LEFT($D7,1)=\"*\",\"\",LogData!R4)","v":""}]
[{"$f":"IF(LEFT($D8,1)=\"*\",\"\",LogData!C5)","v":0},{"$f":"IF(LEFT($D8,1)=\"*\",\"\",LogData!F5)","v":0},{"$f":"IF(LEFT($D8,1)=\"*\",\"\",LogData!D5)","v":0},{"$f":"LogData!E5","v":0},{"$f":"IF($D8=\"*EOL*\",\"\",INT(LogData!V5))","v":{"$error":"#VALUE!"}},{"$f":"IF($D8=\"*EOL*\",\"\",LogData!V5-E8)","v":{"$error":"#VALUE!"}},{"$f":"IF(LEFT($D8,1)=\"*\",\"\",IF(LogData!S5,\"DUPE\",\"\"))","v":""},{"$f":"IF(LEFT($D8,1)=\"*\",\"\",LogData!R5)","v":"::"}]
[{"$f":"IF(LEFT($D9,1)=\"*\",\"\",LogData!C6)","v":0},{"$f":"IF(LEFT($D9,1)=\"*\",\"\",LogData!F6)","v":0},{"$f":"IF(LEFT($D9,1)=\"*\",\"\",LogData!D6)","v":0},{"$f":"LogData!E6","v":0},{"$f":"IF($D9=\"*EOL*\",\"\",INT(LogData!V6))","v":{"$error":"#VALUE!"}},{"$f":"IF($D9=\"*EOL*\",\"\",LogData!V6-E9)","v":{"$error":"#VALUE!"}},{"$f":"IF(LEFT($D9,1)=\"*\",\"\",IF(LogData!S6,\"DUPE\",\"\"))","v":""},{"$f":"IF(LEFT($D9,1)=\"*\",\"\",LogData!R6)","v":"::"}]
[{"$f":"IF(LEFT($D10,1)=\"*\",\"\",LogData!C7)","v":0},{"$f":"IF(LEFT($D10,1)=\"*\",\"\",LogData!F7)","v":0},{"$f":"IF(LEFT($D10,1)=\"*\",\"\",LogData!D7)","v":0},{"$f":"LogData!E7","v":0},{"$f":"IF($D10=\"*EOL*\",\"\",INT(LogData!V7))","v":{"$error":"#VALUE!"}},{"$f":"IF($D10=\"*EOL*\",\"\",LogData!V7-E10)","v":{"$error":"#VALUE!"}},{"$f":"IF(LEFT($D10,1)=\"*\",\"\",IF(LogData!S7,\"DUPE\",\"\"))","v":""},{"$f":"IF(LEFT($D10,1)=\"*\",\"\",LogData!R7)","v":"::"}]
[{"$f":"IF(LEFT($D11,1)=\"*\",\"\",LogData!C8)","v":0},{"$f":"IF(LEFT($D11,1)=\"*\",\"\",LogData!F8)","v":0},{"$f":"IF(LEFT($D11,1)=\"*\",\"\",LogData!D8)","v":0},{"$f":"LogData!E8","v":0},{"$f":"IF($D11=\"*EOL*\",\"\",INT(LogData!V8))","v":{"$error":"#VALUE!"}},{"$f":"IF($D11=\"*EOL*\",\"\",LogData!V8-E11)","v":{"$error":"#VALUE!"}},{"$f":"IF(LEFT($D11,1)=\"*\",\"\",IF(LogData!S8,\"DUPE\",\"\"))","v":""},{"$f":"IF(LEFT($D11,1)=\"*\",\"\",LogData!R8)","v":"::"}]
[{"$f":"IF(LEFT($D12,1)=\"*\",\"\",LogData!C9)","v":0},{"$f":"IF(LEFT($D12,1)=\"*\",\"\",LogData!F9)","v":0},{"$f":"IF(LEFT($D12,1)=\"*\",\"\",LogData!D9)","v":0},{"$f":"LogData!E9","v":0},{"$f":"IF($D12=\"*EOL*\",\"\",INT(LogData!V9))","v":{"$error":"#VALUE!"}},{"$f":"IF($D12=\"*EOL*\",\"\",LogData!V9-E12)","v":{"$error":"#VALUE!"}},{"$f":"IF(LEFT($D12,1)=\"*\",\"\",IF(LogData!S9,\"DUPE\",\"\"))","v":""},{"$f":"IF(LEFT($D12,1)=\"*\",\"\",LogData!R9)","v":"::"}]
[{"$f":"IF(LEFT($D13,1)=\"*\",\"\",LogData!C10)","v":0},{"$f":"IF(LEFT($D13,1)=\"*\",\"\",LogData!F10)","v":0},{"$f":"IF(LEFT($D13,1)=\"*\",\"\",LogData!D10)","v":0},{"$f":"LogData!E10","v":0},{"$f":"IF($D13=\"*EOL*\",\"\",INT(LogData!V10))","v":{"$error":"#VALUE!"}},{"$f":"IF($D13=\"*EOL*\",\"\",LogData!V10-E13)","v":{"$error":"#VALUE!"}},{"$f":"IF(LEFT($D13,1)=\"*\",\"\",IF(LogData!S10,\"DUPE\",\"\"))","v":""},{"$f":"IF(LEFT($D13,1)=\"*\",\"\",LogData!R10)","v":"::"}]
[{"$f":"IF(LEFT($D14,1)=\"*\",\"\",LogData!C11)","v":0},{"$f":"IF(LEFT($D14,1)=\"*\",\"\",LogData!F11)","v":0},{"$f":"IF(LEFT($D14,1)=\"*\",\"\",LogData!D11)","v":0},{"$f":"LogData!E11","v":0},{"$f":"IF($D14=\"*EOL*\",\"\",INT(LogData!V11))","v":{"$error":"#VALUE!"}},{"$f":"IF($D14=\"*EOL*\",\"\",LogData!V11-E14)","v":{"$error":"#VALUE!"}},{"$f":"IF(LEFT($D14,1)=\"*\",\"\",IF(LogData!S11,\"DUPE\",\"\"))","v":""},{"$f":"IF(LEFT($D14,1)=\"*\",\"\",LogData!R11)","v":"::"}]
[{"$f":"IF(LEFT($D15,1)=\"*\",\"\",LogData!C12)","v":0},{"$f":"IF(LEFT($D15,1)=\"*\",\"\",LogData!F12)","v":0},{"$f":"IF(LEFT($D15,1)=\"*\",\"\",LogData!D12)","v":0},{"$f":"LogData!E12","v":0},{"$f":"IF($D15=\"*EOL*\",\"\",INT(LogData!V12))","v":{"$error":"#VALUE!"}},{"$f":"IF($D15=\"*EOL*\",\"\",LogData!V12-E15)","v":{"$error":"#VALUE!"}},{"$f":"IF(LEFT($D15,1)=\"*\",\"\",IF(LogData!S12,\"DUPE\",\"\"))","v":""},{"$f":"IF(LEFT($D15,1)=\"*\",\"\",LogData!R12)","v":"::"}]
[{"$f":"IF(LEFT($D16,1)=\"*\",\"\",LogData!C13)","v":0},{"$f":"IF(LEFT($D16,1)=\"*\",\"\",LogData!F13)","v":0},{"$f":"IF(LEFT($D16,1)=\"*\",\"\",LogData!D13)","v":0},{"$f":"LogData!E13","v":0},{"$f":"IF($D16=\"*EOL*\",\"\",INT(LogData!V13))","v":{"$error":"#VALUE!"}},{"$f":"IF($D16=\"*EOL*\",\"\",LogData!V13-E16)","v":{"$error":"#VALUE!"}},{"$f":"IF(LEFT($D16,1)=\"*\",\"\",IF(LogData!S13,\"DUPE\",\"\"))","v":""},{"$f":"IF(LEFT($D16,1)=\"*\",\"\",LogData!R13)","v":"::"}]
[{"$f":"IF(LEFT($D17,1)=\"*\",\"\",LogData!C14)","v":0},{"$f":"IF(LEFT($D17,1)=\"*\",\"\",LogData!F14)","v":0},{"$f":"IF(LEFT($D17,1)=\"*\",\"\",LogData!D14)","v":0},{"$f":"LogData!E14","v":0},{"$f":"IF($D17=\"*EOL*\",\"\",INT(LogData!V14))","v":{"$error":"#VALUE!"}},{"$f":"IF($D17=\"*EOL*\",\"\",LogData!V14-E17)","v":{"$error":"#VALUE!"}},{"$f":"IF(LEFT($D17,1)=\"*\",\"\",IF(LogData!S14,\"DUPE\",\"\"))","v":""},{"$f":"IF(LEFT($D17,1)=\"*\",\"\",LogData!R14)","v":"::"}]
[{"$f":"IF(LEFT($D18,1)=\"*\",\"\",LogData!C15)","v":0},{"$f":"IF(LEFT($D18,1)=\"*\",\"\",LogData!F15)","v":0},{"$f":"IF(LEFT($D18,1)=\"*\",\"\",LogData!D15)","v":0},{"$f":"LogData!E15","v":0},{"$f":"IF($D18=\"*EOL*\",\"\",INT(LogData!V15))","v":{"$error":"#VALUE!"}},{"$f":"IF($D18=\"*EOL*\",\"\",LogData!V15-E18)","v":{"$error":"#VALUE!"}},{"$f":"IF(LEFT($D18,1)=\"*\",\"\",IF(LogData!S15,\"DUPE\",\"\"))","v":""},{"$f":"IF(LEFT($D18,1)=\"*\",\"\",LogData!R15)","v":"::"}]
[{"$f":"IF(LEFT($D19,1)=\"*\",\"\",LogData!C16)","v":0},{"$f":"IF(LEFT($D19,1)=\"*\",\"\",LogData!F16)","v":0},{"$f":"IF(LEFT($D19,1)=\"*\",\"\",LogData!D16)","v":0},{"$f":"LogData!E16","v":0},{"$f":"IF($D19=\"*EOL*\",\"\",INT(LogData!V16))","v":{"$error":"#VALUE!"}},{"$f":"IF($D19=\"*EOL*\",\"\",LogData!V16-E19)","v":{"$error":"#VALUE!"}},{"$f":"IF(LEFT($D19,1)=\"*\",\"\",IF(LogData!S16,\"DUPE\",\"\"))","v":""},{"$f":"IF(LEFT($D19,1)=\"*\",\"\",LogData!R16)","v":"::"}]
[{"$f":"IF(LEFT($D20,1)=\"*\",\"\",LogData!C17)","v":0},{"$f":"IF(LEFT($D20,1)=\"*\",\"\",LogData!F17)","v":0},{"$f":"IF(LEFT($D20,1)=\"*\",\"\",LogData!D17)","v":0},{"$f":"LogData!E17","v":0},{"$f":"IF($D20=\"*EOL*\",\"\",INT(LogData!V17))","v":{"$error":"#VALUE!"}},{"$f":"IF($D20=\"*EOL*\",\"\",LogData!V17-E20)","v":{"$error":"#VALUE!"}},{"$f":"IF(LEFT($D20,1)=\"*\",\"\",IF(LogData!S17,\"DUPE\",\"\"))","v":""},{"$f":"IF(LEFT($D20,1)=\"*\",\"\",LogData!R17)","v":"::"}]
[{"$f":"IF(LEFT($D21,1)=\"*\",\"\",LogData!C18)","v":0},{"$f":"IF(LEFT($D21,1)=\"*\",\"\",LogData!F18)","v":0},{"$f":"IF(LEFT($D21,1)=\"*\",\"\",LogData!D18)","v":0},{"$f":"LogData!E18","v":0},{"$f":"IF($D21=\"*EOL*\",\"\",INT(LogData!V18))","v":{"$error":"#VALUE!"}},{"$f":"IF($D21=\"*EOL*\",\"\",LogData!V18-E21)","v":{"$error":"#VALUE!"}},{"$f":"IF(LEFT($D21,1)=\"*\",\"\",IF(LogData!S18,\"DUPE\",\"\"))","v":""},{"$f":"IF(LEFT($D21,1)=\"*\",\"\",LogData!R18)","v":"::"}]
[{"$f":"IF(LEFT($D22,1)=\"*\",\"\",LogData!C19)","v":0},{"$f":"IF(LEFT($D22,1)=\"*\",\"\",LogData!F19)","v":0},{"$f":"IF(LEFT($D22,1)=\"*\",\"\",LogData!D19)","v":0},{"$f":"LogData!E19","v":0},{"$f":"IF($D22=\"*EOL*\",\"\",INT(LogData!V19))","v":{"$error":"#VALUE!"}},{"$f":"IF($D22=\"*EOL*\",\"\",LogData!V19-E22)","v":{"$error":"#VALUE!"}},{"$f":"IF(LEFT($D22,1)=\"*\",\"\",IF(LogData!S19,\"DUPE\",\"\"))","v":""},{"$f":"IF(LEFT($D22,1)=\"*\",\"\",LogData!R19)","v":"::"}]
[{"$f":"IF(LEFT($D23,1)=\"*\",\"\",LogData!C20)","v":0},{"$f":"IF(LEFT($D23,1)=\"*\",\"\",LogData!F20)","v":0},{"$f":"IF(LEFT($D23,1)=\"*\",\"\",LogData!D20)","v":0},{"$f":"LogData!E20","v":0},{"$f":"IF($D23=\"*EOL*\",\"\",INT(LogData!V20))","v":{"$error":"#VALUE!"}},{"$f":"IF($D23=\"*EOL*\",\"\",LogData!V20-E23)","v":{"$error":"#VALUE!"}},{"$f":"IF(LEFT($D23,1)=\"*\",\"\",IF(LogData!S20,\"DUPE\",\"\"))","v":""},{"$f":"IF(LEFT($D23,1)=\"*\",\"\",LogData!R20)","v":"::"}]
[{"$f":"IF(LEFT($D24,1)=\"*\",\"\",LogData!C21)","v":0},{"$f":"IF(LEFT($D24,1)=\"*\",\"\",LogData!F21)","v":0},{"$f":"IF(LEFT($D24,1)=\"*\",\"\",LogData!D21)","v":0},{"$f":"LogData!E21","v":0},{"$f":"IF($D24=\"*EOL*\",\"\",INT(LogData!V21))","v":{"$error":"#VALUE!"}},{"$f":"IF($D24=\"*EOL*\",\"\",LogData!V21-E24)","v":{"$error":"#VALUE!"}},{"$f":"IF(LEFT($D24,1)=\"*\",\"\",IF(LogData!S21,\"DUPE\",\"\"))","v":""},{"$f":"IF(LEFT($D24,1)=\"*\",\"\",LogData!R21)","v":"::"}]
[{"$f":"IF(LEFT($D25,1)=\"*\",\"\",LogData!C22)","v":0},{"$f":"IF(LEFT($D25,1)=\"*\",\"\",LogData!F22)","v":0},{"$f":"IF(LEFT($D25,1)=\"*\",\"\",LogData!D22)","v":0},{"$f":"LogData!E22","v":0},{"$f":"IF($D25=\"*EOL*\",\"\",INT(LogData!V22))","v":{"$error":"#VALUE!"}},{"$f":"IF($D25=\"*EOL*\",\"\",LogData!V22-E25)","v":{"$error":"#VALUE!"}},{"$f":"IF(LEFT($D25,1)=\"*\",\"\",IF(LogData!S22,\"DUPE\",\"\"))","v":""},{"$f":"IF(LEFT($D25,1)=\"*\",\"\",LogData!R22)","v":"::"}]
[{"$f":"IF(LEFT($D26,1)=\"*\",\"\",LogData!C23)","v":0},{"$f":"IF(LEFT($D26,1)=\"*\",\"\",LogData!F23)","v":0},{"$f":"IF(LEFT($D26,1)=\"*\",\"\",LogData!D23)","v":0},{"$f":"LogData!E23","v":0},{"$f":"IF($D26=\"*EOL*\",\"\",INT(LogData!V23))","v":{"$error":"#VALUE!"}},{"$f":"IF($D26=\"*EOL*\",\"\",LogData!V23-E26)","v":{"$error":"#VALUE!"}},{"$f":"IF(LEFT($D26,1)=\"*\",\"\",IF(LogData!S23,\"DUPE\",\"\"))","v":""},{"$f":"IF(LEFT($D26,1)=\"*\",\"\",LogData!R23)","v":"::"}]
[{"$f":"IF(LEFT($D27,1)=\"*\",\"\",LogData!C24)","v":0},{"$f":"IF(LEFT($D27,1)=\"*\",\"\",LogData!F24)","v":0},{"$f":"IF(LEFT($D27,1)=\"*\",\"\",LogData!D24)","v":0},{"$f":"LogData!E24","v":0},{"$f":"IF($D27=\"*EOL*\",\"\",INT(LogData!V24))","v":{"$error":"#VALUE!"}},{"$f":"IF($D27=\"*EOL*\",\"\",LogData!V24-E27)","v":{"$error":"#VALUE!"}},{"$f":"IF(LEFT($D27,1)=\"*\",\"\",IF(LogData!S24,\"DUPE\",\"\"))","v":""},{"$f":"IF(LEFT($D27,1)=\"*\",\"\",LogData!R24)","v":"::"}]
[{"$f":"IF(LEFT($D28,1)=\"*\",\"\",LogData!C25)","v":0},{"$f":"IF(LEFT($D28,1)=\"*\",\"\",LogData!F25)","v":0},{"$f":"IF(LEFT($D28,1)=\"*\",\"\",LogData!D25)","v":0},{"$f":"LogData!E25","v":0},{"$f":"IF($D28=\"*EOL*\",\"\",INT(LogData!V25))","v":{"$error":"#VALUE!"}},{"$f":"IF($D28=\"*EOL*\",\"\",LogData!V25-E28)","v":{"$error":"#VALUE!"}},{"$f":"IF(LEFT($D28,1)=\"*\",\"\",IF(LogData!S25,\"DUPE\",\"\"))","v":""},{"$f":"IF(LEFT($D28,1)=\"*\",\"\",LogData!R25)","v":"::"}]
[{"$f":"IF(LEFT($D29,1)=\"*\",\"\",LogData!C26)","v":0},{"$f":"IF(LEFT($D29,1)=\"*\",\"\",LogData!F26)","v":0},{"$f":"IF(LEFT($D29,1)=\"*\",\"\",LogData!D26)","v":0},{"$f":"LogData!E26","v":0},{"$f":"IF($D29=\"*EOL*\",\"\",INT(LogData!V26))","v":{"$error":"#VALUE!"}},{"$f":"IF($D29=\"*EOL*\",\"\",LogData!V26-E29)","v":{"$error":"#VALUE!"}},{"$f":"IF(LEFT($D29,1)=\"*\",\"\",IF(LogData!S26,\"DUPE\",\"\"))","v":""},{"$f":"IF(LEFT($D29,1)=\"*\",\"\",LogData!R26)","v":"::"}]
[{"$f":"IF(LEFT($D30,1)=\"*\",\"\",LogData!C27)","v":0},{"$f":"IF(LEFT($D30,1)=\"*\",\"\",LogData!F27)","v":0},{"$f":"IF(LEFT($D30,1)=\"*\",\"\",LogData!D27)","v":0},{"$f":"LogData!E27","v":0},{"$f":"IF($D30=\"*EOL*\",\"\",INT(LogData!V27))","v":{"$error":"#VALUE!"}},{"$f":"IF($D30=\"*EOL*\",\"\",LogData!V27-E30)","v":{"$error":"#VALUE!"}},{"$f":"IF(LEFT($D30,1)=\"*\",\"\",IF(LogData!S27,\"DUPE\",\"\"))","v":""},{"$f":"IF(LEFT($D30,1)=\"*\",\"\",LogData!R27)","v":"::"}]
[{"$f":"IF(LEFT($D31,1)=\"*\",\"\",LogData!C28)","v":0},{"$f":"IF(LEFT($D31,1)=\"*\",\"\",LogData!F28)","v":0},{"$f":"IF(LEFT($D31,1)=\"*\",\"\",LogData!D28)","v":0},{"$f":"LogData!E28","v":0},{"$f":"IF($D31=\"*EOL*\",\"\",INT(LogData!V28))","v":{"$error":"#VALUE!"}},{"$f":"IF($D31=\"*EOL*\",\"\",LogData!V28-E31)","v":{"$error":"#VALUE!"}},{"$f":"IF(LEFT($D31,1)=\"*\",\"\",IF(LogData!S28,\"DUPE\",\"\"))","v":""},{"$f":"IF(LEFT($D31,1)=\"*\",\"\",LogData!R28)","v":"::"}]
[{"$f":"IF(LEFT($D32,1)=\"*\",\"\",LogData!C29)","v":0},{"$f":"IF(LEFT($D32,1)=\"*\",\"\",LogData!F29)","v":0},{"$f":"IF(LEFT($D32,1)=\"*\",\"\",LogData!D29)","v":0},{"$f":"LogData!E29","v":0},{"$f":"IF($D32=\"*EOL*\",\"\",INT(LogData!V29))","v":{"$error":"#VALUE!"}},{"$f":"IF($D32=\"*EOL*\",\"\",LogData!V29-E32)","v":{"$error":"#VALUE!"}},{"$f":"IF(LEFT($D32,1)=\"*\",\"\",IF(LogData!S29,\"DUPE\",\"\"))","v":""},{"$f":"IF(LEFT($D32,1)=\"*\",\"\",LogData!R29)","v":"::"}]
[{"$f":"IF(LEFT($D33,1)=\"*\",\"\",LogData!C30)","v":0},{"$f":"IF(LEFT($D33,1)=\"*\",\"\",LogData!F30)","v":0},{"$f":"IF(LEFT($D33,1)=\"*\",\"\",LogData!D30)","v":0},{"$f":"LogData!E30","v":0},{"$f":"IF($D33=\"*EOL*\",\"\",INT(LogData!V30))","v":{"$error":"#VALUE!"}},{"$f":"IF($D33=\"*EOL*\",\"\",LogData!V30-E33)","v":{"$error":"#VALUE!"}},{"$f":"IF(LEFT($D33,1)=\"*\",\"\",IF(LogData!S30,\"DUPE\",\"\"))","v":""},{"$f":"IF(LEFT($D33,1)=\"*\",\"\",LogData!R30)","v":"::"}]
[{"$f":"IF(LEFT($D34,1)=\"*\",\"\",LogData!C31)","v":0},{"$f":"IF(LEFT($D34,1)=\"*\",\"\",LogData!F31)","v":0},{"$f":"IF(LEFT($D34,1)=\"*\",\"\",LogData!D31)","v":0},{"$f":"LogData!E31","v":0},{"$f":"IF($D34=\"*EOL*\",\"\",INT(LogData!V31))","v":{"$error":"#VALUE!"}},{"$f":"IF($D34=\"*EOL*\",\"\",LogData!V31-E34)","v":{"$error":"#VALUE!"}},{"$f":"IF(LEFT($D34,1)=\"*\",\"\",IF(LogData!S31,\"DUPE\",\"\"))","v":""},{"$f":"IF(LEFT($D34,1)=\"*\",\"\",LogData!R31)","v":"::"}]
[{"$f":"IF(LEFT($D35,1)=\"*\",\"\",LogData!C32)","v":0},{"$f":"IF(LEFT($D35,1)=\"*\",\"\",LogData!F32)","v":0},{"$f":"IF(LEFT($D35,1)=\"*\",\"\",LogData!D32)","v":0},{"$f":"LogData!E32","v":0},{"$f":"IF($D35=\"*EOL*\",\"\",INT(LogData!V32))","v":{"$error":"#VALUE!"}},{"$f":"IF($D35=\"*EOL*\",\"\",LogData!V32-E35)","v":{"$error":"#VALUE!"}},{"$f":"IF(LEFT($D35,1)=\"*\",\"\",IF(LogData!S32,\"DUPE\",\"\"))","v":""},{"$f":"IF(LEFT($D35,1)=\"*\",\"\",LogData!R32)","v":"::"}]
[{"$f":"IF(LEFT($D36,1)=\"*\",\"\",LogData!C33)","v":0},{"$f":"IF(LEFT($D36,1)=\"*\",\"\",LogData!F33)","v":0},{"$f":"IF(LEFT($D36,1)=\"*\",\"\",LogData!D33)","v":0},{"$f":"LogData!E33","v":0},{"$f":"IF($D36=\"*EOL*\",\"\",INT(LogData!V33))","v":{"$error":"#VALUE!"}},{"$f":"IF($D36=\"*EOL*\",\"\",LogData!V33-E36)","v":{"$error":"#VALUE!"}},{"$f":"IF(LEFT($D36,1)=\"*\",\"\",IF(LogData!S33,\"DUPE\",\"\"))","v":""},{"$f":"IF(LEFT($D36,1)=\"*\",\"\",LogData!R33)","v":"::"}]
[{"$f":"IF(LEFT($D37,1)=\"*\",\"\",LogData!C34)","v":0},{"$f":"IF(LEFT($D37,1)=\"*\",\"\",LogData!F34)","v":0},{"$f":"IF(LEFT($D37,1)=\"*\",\"\",LogData!D34)","v":0},{"$f":"LogData!E34","v":0},{"$f":"IF($D37=\"*EOL*\",\"\",INT(LogData!V34))","v":{"$error":"#VALUE!"}},{"$f":"IF($D37=\"*EOL*\",\"\",LogData!V34-E37)","v":{"$error":"#VALUE!"}},{"$f":"IF(LEFT($D37,1)=\"*\",\"\",IF(LogData!S34,\"DUPE\",\"\"))","v":""},{"$f":"IF(LEFT($D37,1)=\"*\",\"\",LogData!R34)","v":"::"}]
[{"$f":"IF(LEFT($D38,1)=\"*\",\"\",LogData!C35)","v":0},{"$f":"IF(LEFT($D38,1)=\"*\",\"\",LogData!F35)","v":0},{"$f":"IF(LEFT($D38,1)=\"*\",\"\",LogData!D35)","v":0},{"$f":"LogData!E35","v":0},{"$f":"IF($D38=\"*EOL*\",\"\",INT(LogData!V35))","v":{"$error":"#VALUE!"}},{"$f":"IF($D38=\"*EOL*\",\"\",LogData!V35-E38)","v":{"$error":"#VALUE!"}},{"$f":"IF(LEFT($D38,1)=\"*\",\"\",IF(LogData!S35,\"DUPE\",\"\"))","v":""},{"$f":"IF(LEFT($D38,1)=\"*\",\"\",LogData!R35)","v":"::"}]
[{"$f":"IF(LEFT($D39,1)=\"*\",\"\",LogData!C36)","v":0},{"$f":"IF(LEFT($D39,1)=\"*\",\"\",LogData!F36)","v":0},{"$f":"IF(LEFT($D39,1)=\"*\",\"\",LogData!D36)","v":0},{"$f":"LogData!E36","v":0},{"$f":"IF($D39=\"*EOL*\",\"\",INT(LogData!V36))","v":{"$error":"#VALUE!"}},{"$f":"IF($D39=\"*EOL*\",\"\",LogData!V36-E39)","v":{"$error":"#VALUE!"}},{"$f":"IF(LEFT($D39,1)=\"*\",\"\",IF(LogData!S36,\"DUPE\",\"\"))","v":""},{"$f":"IF(LEFT($D39,1)=\"*\",\"\",LogData!R36)","v":"::"}]
[{"$f":"IF(LEFT($D40,1)=\"*\",\"\",LogData!C37)","v":0},{"$f":"IF(LEFT($D40,1)=\"*\",\"\",LogData!F37)","v":0},{"$f":"IF(LEFT($D40,1)=\"*\",\"\",LogData!D37)","v":0},{"$f":"LogData!E37","v":0},{"$f":"IF($D40=\"*EOL*\",\"\",INT(LogData!V37))","v":{"$error":"#VALUE!"}},{"$f":"IF($D40=\"*EOL*\",\"\",LogData!V37-E40)","v":{"$error":"#VALUE!"}},{"$f":"IF(LEFT($D40,1)=\"*\",\"\",IF(LogData!S37,\"DUPE\",\"\"))","v":""},{"$f":"IF(LEFT($D40,1)=\"*\",\"\",LogData!R37)","v":"::"}]
[{"$f":"IF(LEFT($D41,1)=\"*\",\"\",LogData!C38)","v":0},{"$f":"IF(LEFT($D41,1)=\"*\",\"\",LogData!F38)","v":0},{"$f":"IF(LEFT($D41,1)=\"*\",\"\",LogData!D38)","v":0},{"$f":"LogData!E38","v":0},{"$f":"IF($D41=\"*EOL*\",\"\",INT(LogData!V38))","v":{"$error":"#VALUE!"}},{"$f":"IF($D41=\"*EOL*\",\"\",LogData!V38-E41)","v":{"$error":"#VALUE!"}},{"$f":"IF(LEFT($D41,1)=\"*\",\"\",IF(LogData!S38,\"DUPE\",\"\"))","v":""},{"$f":"IF(LEFT($D41,1)=\"*\",\"\",LogData!R38)","v":"::"}]
[{"$f":"IF(LEFT($D42,1)=\"*\",\"\",LogData!C39)","v":0},{"$f":"IF(LEFT($D42,1)=\"*\",\"\",LogData!F39)","v":0},{"$f":"IF(LEFT($D42,1)=\"*\",\"\",LogData!D39)","v":0},{"$f":"LogData!E39","v":0},{"$f":"IF($D42=\"*EOL*\",\"\",INT(LogData!V39))","v":{"$error":"#VALUE!"}},{"$f":"IF($D42=\"*EOL*\",\"\",LogData!V39-E42)","v":{"$error":"#VALUE!"}},{"$f":"IF(LEFT($D42,1)=\"*\",\"\",IF(LogData!S39,\"DUPE\",\"\"))","v":""},{"$f":"IF(LEFT($D42,1)=\"*\",\"\",LogData!R39)","v":"::"}]
[{"$f":"IF(LEFT($D43,1)=\"*\",\"\",LogData!C40)","v":0},{"$f":"IF(LEFT($D43,1)=\"*\",\"\",LogData!F40)","v":0},{"$f":"IF(LEFT($D43,1)=\"*\",\"\",LogData!D40)","v":0},{"$f":"LogData!E40","v":0},{"$f":"IF($D43=\"*EOL*\",\"\",INT(LogData!V40))","v":{"$error":"#VALUE!"}},{"$f":"IF($D43=\"*EOL*\",\"\",LogData!V40-E43)","v":{"$error":"#VALUE!"}},{"$f":"IF(LEFT($D43,1)=\"*\",\"\",IF(LogData!S40,\"DUPE\",\"\"))","v":""},{"$f":"IF(LEFT($D43,1)=\"*\",\"\",LogData!R40)","v":"::"}]
[{"$f":"IF(LEFT($D44,1)=\"*\",\"\",LogData!C41)","v":0},{"$f":"IF(LEFT($D44,1)=\"*\",\"\",LogData!F41)","v":0},{"$f":"IF(LEFT($D44,1)=\"*\",\"\",LogData!D41)","v":0},{"$f":"LogData!E41","v":0},{"$f":"IF($D44=\"*EOL*\",\"\",INT(LogData!V41))","v":{"$error":"#VALUE!"}},{"$f":"IF($D44=\"*EOL*\",\"\",LogData!V41-E44)","v":{"$error":"#VALUE!"}},{"$f":"IF(LEFT($D44,1)=\"*\",\"\",IF(LogData!S41,\"DUPE\",\"\"))","v":""},{"$f":"IF(LEFT($D44,1)=\"*\",\"\",LogData!R41)","v":"::"}]
[{"$f":"IF(LEFT($D45,1)=\"*\",\"\",LogData!C42)","v":0},{"$f":"IF(LEFT($D45,1)=\"*\",\"\",LogData!F42)","v":0},{"$f":"IF(LEFT($D45,1)=\"*\",\"\",LogData!D42)","v":0},{"$f":"LogData!E42","v":0},{"$f":"IF($D45=\"*EOL*\",\"\",INT(LogData!V42))","v":{"$error":"#VALUE!"}},{"$f":"IF($D45=\"*EOL*\",\"\",LogData!V42-E45)","v":{"$error":"#VALUE!"}},{"$f":"IF(LEFT($D45,1)=\"*\",\"\",IF(LogData!S42,\"DUPE\",\"\"))","v":""},{"$f":"IF(LEFT($D45,1)=\"*\",\"\",LogData!R42)","v":"::"}]
[{"$f":"IF(LEFT($D46,1)=\"*\",\"\",LogData!C43)","v":0},{"$f":"IF(LEFT($D46,1)=\"*\",\"\",LogData!F43)","v":0},{"$f":"IF(LEFT($D46,1)=\"*\",\"\",LogData!D43)","v":0},{"$f":"LogData!E43","v":0},{"$f":"IF($D46=\"*EOL*\",\"\",INT(LogData!V43))","v":{"$error":"#VALUE!"}},{"$f":"IF($D46=\"*EOL*\",\"\",LogData!V43-E46)","v":{"$error":"#VALUE!"}},{"$f":"IF(LEFT($D46,1)=\"*\",\"\",IF(LogData!S43,\"DUPE\",\"\"))","v":""},{"$f":"IF(LEFT($D46,1)=\"*\",\"\",LogData!R43)","v":"::"}]
[{"$f":"IF(LEFT($D47,1)=\"*\",\"\",LogData!C44)","v":0},{"$f":"IF(LEFT($D47,1)=\"*\",\"\",LogData!F44)","v":0},{"$f":"IF(LEFT($D47,1)=\"*\",\"\",LogData!D44)","v":0},{"$f":"LogData!E44","v":0},{"$f":"IF($D47=\"*EOL*\",\"\",INT(LogData!V44))","v":{"$error":"#VALUE!"}},{"$f":"IF($D47=\"*EOL*\",\"\",LogData!V44-E47)","v":{"$error":"#VALUE!"}},{"$f":"IF(LEFT($D47,1)=\"*\",\"\",IF(LogData!S44,\"DUPE\",\"\"))","v":""},{"$f":"IF(LEFT($D47,1)=\"*\",\"\",LogData!R44)","v":"::"}]
[{"$f":"IF(LEFT($D48,1)=\"*\",\"\",LogData!C45)","v":0},{"$f":"IF(LEFT($D48,1)=\"*\",\"\",LogData!F45)","v":0},{"$f":"IF(LEFT($D48,1)=\"*\",\"\",LogData!D45)","v":0},{"$f":"LogData!E45","v":0},{"$f":"IF($D48=\"*EOL*\",\"\",INT(LogData!V45))","v":{"$error":"#VALUE!"}},{"$f":"IF($D48=\"*EOL*\",\"\",LogData!V45-E48)","v":{"$error":"#VALUE!"}},{"$f":"IF(LEFT($D48,1)=\"*\",\"\",IF(LogData!S45,\"DUPE\",\"\"))","v":""},{"$f":"IF(LEFT($D48,1)=\"*\",\"\",LogData!R45)","v":"::"}]
[{"$f":"IF(LEFT($D49,1)=\"*\",\"\",LogData!C46)","v":0},{"$f":"IF(LEFT($D49,1)=\"*\",\"\",LogData!F46)","v":0},{"$f":"IF(LEFT($D49,1)=\"*\",\"\",LogData!D46)","v":0},{"$f":"LogData!E46","v":0},{"$f":"IF($D49=\"*EOL*\",\"\",INT(LogData!V46))","v":{"$error":"#VALUE!"}},{"$f":"IF($D49=\"*EOL*\",\"\",LogData!V46-E49)","v":{"$error":"#VALUE!"}},{"$f":"IF(LEFT($D49,1)=\"*\",\"\",IF(LogData!S46,\"DUPE\",\"\"))","v":""},{"$f":"IF(LEFT($D49,1)=\"*\",\"\",LogData!R46)","v":"::"}]
[{"$f":"IF(LEFT($D50,1)=\"*\",\"\",LogData!C47)","v":0},{"$f":"IF(LEFT($D50,1)=\"*\",\"\",LogData!F47)","v":0},{"$f":"IF(LEFT($D50,1)=\"*\",\"\",LogData!D47)","v":0},{"$f":"LogData!E47","v":0},{"$f":"IF($D50=\"*EOL*\",\"\",INT(LogData!V47))","v":{"$error":"#VALUE!"}},{"$f":"IF($D50=\"*EOL*\",\"\",LogData!V47-E50)","v":{"$error":"#VALUE!"}},{"$f":"IF(LEFT($D50,1)=\"*\",\"\",IF(LogData!S47,\"DUPE\",\"\"))","v":""},{"$f":"IF(LEFT($D50,1)=\"*\",\"\",LogData!R47)","v":"::"}]
[{"$f":"IF(LEFT($D51,1)=\"*\",\"\",LogData!C48)","v":0},{"$f":"IF(LEFT($D51,1)=\"*\",\"\",LogData!F48)","v":0},{"$f":"IF(LEFT($D51,1)=\"*\",\"\",LogData!D48)","v":0},{"$f":"LogData!E48","v":0},{"$f":"IF($D51=\"*EOL*\",\"\",INT(LogData!V48))","v":{"$error":"#VALUE!"}},{"$f":"IF($D51=\"*EOL*\",\"\",LogData!V48-E51)","v":{"$error":"#VALUE!"}},{"$f":"IF(LEFT($D51,1)=\"*\",\"\",IF(LogData!S48,\"DUPE\",\"\"))","v":""},{"$f":"IF(LEFT($D51,1)=\"*\",\"\",LogData!R48)","v":"::"}]
[{"$f":"IF(LEFT($D52,1)=\"*\",\"\",LogData!C49)","v":0},{"$f":"IF(LEFT($D52,1)=\"*\",\"\",LogData!F49)","v":0},{"$f":"IF(LEFT($D52,1)=\"*\",\"\",LogData!D49)","v":0},{"$f":"LogData!E49","v":0},{"$f":"IF($D52=\"*EOL*\",\"\",INT(LogData!V49))","v":{"$error":"#VALUE!"}},{"$f":"IF($D52=\"*EOL*\",\"\",LogData!V49-E52)","v":{"$error":"#VALUE!"}},{"$f":"IF(LEFT($D52,1)=\"*\",\"\",IF(LogData!S49,\"DUPE\",\"\"))","v":""},{"$f":"IF(LEFT($D52,1)=\"*\",\"\",LogData!R49)","v":"::"}]
[{"$f":"IF(LEFT($D53,1)=\"*\",\"\",LogData!C50)","v":0},{"$f":"IF(LEFT($D53,1)=\"*\",\"\",LogData!F50)","v":0},{"$f":"IF(LEFT($D53,1)=\"*\",\"\",LogData!D50)","v":0},{"$f":"LogData!E50","v":0},{"$f":"IF($D53=\"*EOL*\",\"\",INT(LogData!V50))","v":{"$error":"#VALUE!"}},{"$f":"IF($D53=\"*EOL*\",\"\",LogData!V50-E53)","v":{"$error":"#VALUE!"}},{"$f":"IF(LEFT($D53,1)=\"*\",\"\",IF(LogData!S50,\"DUPE\",\"\"))","v":""},{"$f":"IF(LEFT($D53,1)=\"*\",\"\",LogData!R50)","v":"::"}]
[{"$f":"IF(LEFT($D54,1)=\"*\",\"\",LogData!C51)","v":0},{"$f":"IF(LEFT($D54,1)=\"*\",\"\",LogData!F51)","v":0},{"$f":"IF(LEFT($D54,1)=\"*\",\"\",LogData!D51)","v":0},{"$f":"LogData!E51","v":0},{"$f":"IF($D54=\"*EOL*\",\"\",INT(LogData!V51))","v":{"$error":"#VALUE!"}},{"$f":"IF($D54=\"*EOL*\",\"\",LogData!V51-E54)","v":{"$error":"#VALUE!"}},{"$f":"IF(LEFT($D54,1)=\"*\",\"\",IF(LogData!S51,\"DUPE\",\"\"))","v":""},{"$f":"IF(LEFT($D54,1)=\"*\",\"\",LogData!R51)","v":"::"}]
[{"$f":"IF(LEFT($D55,1)=\"*\",\"\",LogData!C52)","v":0},{"$f":"IF(LEFT($D55,1)=\"*\",\"\",LogData!F52)","v":0},{"$f":"IF(LEFT($D55,1)=\"*\",\"\",LogData!D52)","v":0},{"$f":"LogData!E52","v":0},{"$f":"IF($D55=\"*EOL*\",\"\",INT(LogData!V52))","v":{"$error":"#VALUE!"}},{"$f":"IF($D55=\"*EOL*\",\"\",LogData!V52-E55)","v":{"$error":"#VALUE!"}},{"$f":"IF(LEFT($D55,1)=\"*\",\"\",IF(LogData!S52,\"DUPE\",\"\"))","v":""},{"$f":"IF(LEFT($D55,1)=\"*\",\"\",LogData!R52)","v":"::"}]
[{"$f":"IF(LEFT($D56,1)=\"*\",\"\",LogData!C53)","v":0},{"$f":"IF(LEFT($D56,1)=\"*\",\"\",LogData!F53)","v":0},{"$f":"IF(LEFT($D56,1)=\"*\",\"\",LogData!D53)","v":0},{"$f":"LogData!E53","v":0},{"$f":"IF($D56=\"*EOL*\",\"\",INT(LogData!V53))","v":{"$error":"#VALUE!"}},{"$f":"IF($D56=\"*EOL*\",\"\",LogData!V53-E56)","v":{"$error":"#VALUE!"}},{"$f":"IF(LEFT($D56,1)=\"*\",\"\",IF(LogData!S53,\"DUPE\",\"\"))","v":""},{"$f":"IF(LEFT($D56,1)=\"*\",\"\",LogData!R53)","v":"::"}]
[{"$f":"IF(LEFT($D57,1)=\"*\",\"\",LogData!C54)","v":0},{"$f":"IF(LEFT($D57,1)=\"*\",\"\",LogData!F54)","v":0},{"$f":"IF(LEFT($D57,1)=\"*\",\"\",LogData!D54)","v":0},{"$f":"LogData!E54","v":0},{"$f":"IF($D57=\"*EOL*\",\"\",INT(LogData!V54))","v":{"$error":"#VALUE!"}},{"$f":"IF($D57=\"*EOL*\",\"\",LogData!V54-E57)","v":{"$error":"#VALUE!"}},{"$f":"IF(LEFT($D57,1)=\"*\",\"\",IF(LogData!S54,\"DUPE\",\"\"))","v":""},{"$f":"IF(LEFT($D57,1)=\"*\",\"\",LogData!R54)","v":"::"}]
[{"$f":"IF(LEFT($D58,1)=\"*\",\"\",LogData!C55)","v":0},{"$f":"IF(LEFT($D58,1)=\"*\",\"\",LogData!F55)","v":0},{"$f":"IF(LEFT($D58,1)=\"*\",\"\",LogData!D55)","v":0},{"$f":"LogData!E55","v":0},{"$f":"IF($D58=\"*EOL*\",\"\",INT(LogData!V55))","v":{"$error":"#VALUE!"}},{"$f":"IF($D58=\"*EOL*\",\"\",LogData!V55-E58)","v":{"$error":"#VALUE!"}},{"$f":"IF(LEFT($D58,1)=\"*\",\"\",IF(LogData!S55,\"DUPE\",\"\"))","v":""},{"$f":"IF(LEFT($D58,1)=\"*\",\"\",LogData!R55)","v":"::"}]
[{"$f":"IF(LEFT($D59,1)=\"*\",\"\",LogData!C56)","v":0},{"$f":"IF(LEFT($D59,1)=\"*\",\"\",LogData!F56)","v":0},{"$f":"IF(LEFT($D59,1)=\"*\",\"\",LogData!D56)","v":0},{"$f":"LogData!E56","v":0},{"$f":"IF($D59=\"*EOL*\",\"\",INT(LogData!V56))","v":{"$error":"#VALUE!"}},{"$f":"IF($D59=\"*EOL*\",\"\",LogData!V56-E59)","v":{"$error":"#VALUE!"}},{"$f":"IF(LEFT($D59,1)=\"*\",\"\",IF(LogData!S56,\"DUPE\",\"\"))","v":""},{"$f":"IF(LEFT($D59,1)=\"*\",\"\",LogData!R56)","v":"::"}]
[{"$f":"IF(LEFT($D60,1)=\"*\",\"\",LogData!C57)","v":0},{"$f":"IF(LEFT($D60,1)=\"*\",\"\",LogData!F57)","v":0},{"$f":"IF(LEFT($D60,1)=\"*\",\"\",LogData!D57)","v":0},{"$f":"LogData!E57","v":0},{"$f":"IF($D60=\"*EOL*\",\"\",INT(LogData!V57))","v":{"$error":"#VALUE!"}},{"$f":"IF($D60=\"*EOL*\",\"\",LogData!V57-E60)","v":{"$error":"#VALUE!"}},{"$f":"IF(LEFT($D60,1)=\"*\",\"\",IF(LogData!S57,\"DUPE\",\"\"))","v":""},{"$f":"IF(LEFT($D60,1)=\"*\",\"\",LogData!R57)","v":"::"}]
[{"$f":"IF(LEFT($D61,1)=\"*\",\"\",LogData!C58)","v":0},{"$f":"IF(LEFT($D61,1)=\"*\",\"\",LogData!F58)","v":0},{"$f":"IF(LEFT($D61,1)=\"*\",\"\",LogData!D58)","v":0},{"$f":"LogData!E58","v":0},{"$f":"IF($D61=\"*EOL*\",\"\",INT(LogData!V58))","v":{"$error":"#VALUE!"}},{"$f":"IF($D61=\"*EOL*\",\"\",LogData!V58-E61)","v":{"$error":"#VALUE!"}},{"$f":"IF(LEFT($D61,1)=\"*\",\"\",IF(LogData!S58,\"DUPE\",\"\"))","v":""},{"$f":"IF(LEFT($D61,1)=\"*\",\"\",LogData!R58)","v":"::"}]
[{"$f":"IF(LEFT($D62,1)=\"*\",\"\",LogData!C59)","v":0},{"$f":"IF(LEFT($D62,1)=\"*\",\"\",LogData!F59)","v":0},{"$f":"IF(LEFT($D62,1)=\"*\",\"\",LogData!D59)","v":0},{"$f":"LogData!E59","v":0},{"$f":"IF($D62=\"*EOL*\",\"\",INT(LogData!V59))","v":{"$error":"#VALUE!"}},{"$f":"IF($D62=\"*EOL*\",\"\",LogData!V59-E62)","v":{"$error":"#VALUE!"}},{"$f":"IF(LEFT($D62,1)=\"*\",\"\",IF(LogData!S59,\"DUPE\",\"\"))","v":""},{"$f":"IF(LEFT($D62,1)=\"*\",\"\",LogData!R59)","v":"::"}]
[{"$f":"IF(LEFT($D63,1)=\"*\",\"\",LogData!C60)","v":0},{"$f":"IF(LEFT($D63,1)=\"*\",\"\",LogData!F60)","v":0},{"$f":"IF(LEFT($D63,1)=\"*\",\"\",LogData!D60)","v":0},{"$f":"LogData!E60","v":0},{"$f":"IF($D63=\"*EOL*\",\"\",INT(LogData!V60))","v":{"$error":"#VALUE!"}},{"$f":"IF($D63=\"*EOL*\",\"\",LogData!V60-E63)","v":{"$error":"#VALUE!"}},{"$f":"IF(LEFT($D63,1)=\"*\",\"\",IF(LogData!S60,\"DUPE\",\"\"))","v":""},{"$f":"IF(LEFT($D63,1)=\"*\",\"\",LogData!R60)","v":"::"}]
[{"$f":"IF(LEFT($D64,1)=\"*\",\"\",LogData!C61)","v":0},{"$f":"IF(LEFT($D64,1)=\"*\",\"\",LogData!F61)","v":0},{"$f":"IF(LEFT($D64,1)=\"*\",\"\",LogData!D61)","v":0},{"$f":"LogData!E61","v":0},{"$f":"IF($D64=\"*EOL*\",\"\",INT(LogData!V61))","v":{"$error":"#VALUE!"}},{"$f":"IF($D64=\"*EOL*\",\"\",LogData!V61-E64)","v":{"$error":"#VALUE!"}},{"$f":"IF(LEFT($D64,1)=\"*\",\"\",IF(LogData!S61,\"DUPE\",\"\"))","v":""},{"$f":"IF(LEFT($D64,1)=\"*\",\"\",LogData!R61)","v":"::"}]
[{"$f":"IF(LEFT($D65,1)=\"*\",\"\",LogData!C62)","v":0},{"$f":"IF(LEFT($D65,1)=\"*\",\"\",LogData!F62)","v":0},{"$f":"IF(LEFT($D65,1)=\"*\",\"\",LogData!D62)","v":0},{"$f":"LogData!E62","v":0},{"$f":"IF($D65=\"*EOL*\",\"\",INT(LogData!V62))","v":{"$error":"#VALUE!"}},{"$f":"IF($D65=\"*EOL*\",\"\",LogData!V62-E65)","v":{"$error":"#VALUE!"}},{"$f":"IF(LEFT($D65,1)=\"*\",\"\",IF(LogData!S62,\"DUPE\",\"\"))","v":""},{"$f":"IF(LEFT($D65,1)=\"*\",\"\",LogData!R62)","v":"::"}]
[{"$f":"IF(LEFT($D66,1)=\"*\",\"\",LogData!C63)","v":0},{"$f":"IF(LEFT($D66,1)=\"*\",\"\",LogData!F63)","v":0},{"$f":"IF(LEFT($D66,1)=\"*\",\"\",LogData!D63)","v":0},{"$f":"LogData!E63","v":0},{"$f":"IF($D66=\"*EOL*\",\"\",INT(LogData!V63))","v":{"$error":"#VALUE!"}},{"$f":"IF($D66=\"*EOL*\",\"\",LogData!V63-E66)","v":{"$error":"#VALUE!"}},{"$f":"IF(LEFT($D66,1)=\"*\",\"\",IF(LogData!S63,\"DUPE\",\"\"))","v":""},{"$f":"IF(LEFT($D66,1)=\"*\",\"\",LogData!R63)","v":"::"}]
[{"$f":"IF(LEFT($D67,1)=\"*\",\"\",LogData!C64)","v":0},{"$f":"IF(LEFT($D67,1)=\"*\",\"\",LogData!F64)","v":0},{"$f":"IF(LEFT($D67,1)=\"*\",\"\",LogData!D64)","v":0},{"$f":"LogData!E64","v":0},{"$f":"IF($D67=\"*EOL*\",\"\",INT(LogData!V64))","v":{"$error":"#VALUE!"}},{"$f":"IF($D67=\"*EOL*\",\"\",LogData!V64-E67)","v":{"$error":"#VALUE!"}},{"$f":"IF(LEFT($D67,1)=\"*\",\"\",IF(LogData!S64,\"DUPE\",\"\"))","v":""},{"$f":"IF(LEFT($D67,1)=\"*\",\"\",LogData!R64)","v":"::"}]
[{"$f":"IF(LEFT($D68,1)=\"*\",\"\",LogData!C65)","v":0},{"$f":"IF(LEFT($D68,1)=\"*\",\"\",LogData!F65)","v":0},{"$f":"IF(LEFT($D68,1)=\"*\",\"\",LogData!D65)","v":0},{"$f":"LogData!E65","v":0},{"$f":"IF($D68=\"*EOL*\",\"\",INT(LogData!V65))","v":{"$error":"#VALUE!"}},{"$f":"IF($D68=\"*EOL*\",\"\",LogData!V65-E68)","v":{"$error":"#VALUE!"}},{"$f":"IF(LEFT($D68,1)=\"*\",\"\",IF(LogData!S65,\"DUPE\",\"\"))","v":""},{"$f":"IF(LEFT($D68,1)=\"*\",\"\",LogData!R65)","v":"::"}]
[{"$f":"IF(LEFT($D69,1)=\"*\",\"\",LogData!C66)","v":0},{"$f":"IF(LEFT($D69,1)=\"*\",\"\",LogData!F66)","v":0},{"$f":"IF(LEFT($D69,1)=\"*\",\"\",LogData!D66)","v":0},{"$f":"LogData!E66","v":0},{"$f":"IF($D69=\"*EOL*\",\"\",INT(LogData!V66))","v":{"$error":"#VALUE!"}},{"$f":"IF($D69=\"*EOL*\",\"\",LogData!V66-E69)","v":{"$error":"#VALUE!"}},{"$f":"IF(LEFT($D69,1)=\"*\",\"\",IF(LogData!S66,\"DUPE\",\"\"))","v":""},{"$f":"IF(LEFT($D69,1)=\"*\",\"\",LogData!R66)","v":"::"}]
[{"$f":"IF(LEFT($D70,1)=\"*\",\"\",LogData!C67)","v":0},{"$f":"IF(LEFT($D70,1)=\"*\",\"\",LogData!F67)","v":0},{"$f":"IF(LEFT($D70,1)=\"*\",\"\",LogData!D67)","v":0},{"$f":"LogData!E67","v":0},{"$f":"IF($D70=\"*EOL*\",\"\",INT(LogData!V67))","v":{"$error":"#VALUE!"}},{"$f":"IF($D70=\"*EOL*\",\"\",LogData!V67-E70)","v":{"$error":"#VALUE!"}},{"$f":"IF(LEFT($D70,1)=\"*\",\"\",IF(LogData!S67,\"DUPE\",\"\"))","v":""},{"$f":"IF(LEFT($D70,1)=\"*\",\"\",LogData!R67)","v":"::"}]
[{"$f":"IF(LEFT($D71,1)=\"*\",\"\",LogData!C68)","v":0},{"$f":"IF(LEFT($D71,1)=\"*\",\"\",LogData!F68)","v":0},{"$f":"IF(LEFT($D71,1)=\"*\",\"\",LogData!D68)","v":0},{"$f":"LogData!E68","v":0},{"$f":"IF($D71=\"*EOL*\",\"\",INT(LogData!V68))","v":{"$error":"#VALUE!"}},{"$f":"IF($D71=\"*EOL*\",\"\",LogData!V68-E71)","v":{"$error":"#VALUE!"}},{"$f":"IF(LEFT($D71,1)=\"*\",\"\",IF(LogData!S68,\"DUPE\",\"\"))","v":""},{"$f":"IF(LEFT($D71,1)=\"*\",\"\",LogData!R68)","v":"::"}]
[{"$f":"IF(LEFT($D72,1)=\"*\",\"\",LogData!C69)","v":0},{"$f":"IF(LEFT($D72,1)=\"*\",\"\",LogData!F69)","v":0},{"$f":"IF(LEFT($D72,1)=\"*\",\"\",LogData!D69)","v":0},{"$f":"LogData!E69","v":0},{"$f":"IF($D72=\"*EOL*\",\"\",INT(LogData!V69))","v":{"$error":"#VALUE!"}},{"$f":"IF($D72=\"*EOL*\",\"\",LogData!V69-E72)","v":{"$error":"#VALUE!"}},{"$f":"IF(LEFT($D72,1)=\"*\",\"\",IF(LogData!S69,\"DUPE\",\"\"))","v":""},{"$f":"IF(LEFT($D72,1)=\"*\",\"\",LogData!R69)","v":"::"}]
[{"$f":"IF(LEFT($D73,1)=\"*\",\"\",LogData!C70)","v":0},{"$f":"IF(LEFT($D73,1)=\"*\",\"\",LogData!F70)","v":0},{"$f":"IF(LEFT($D73,1)=\"*\",\"\",LogData!D70)","v":0},{"$f":"LogData!E70","v":0},{"$f":"IF($D73=\"*EOL*\",\"\",INT(LogData!V70))","v":{"$error":"#VALUE!"}},{"$f":"IF($D73=\"*EOL*\",\"\",LogData!V70-E73)","v":{"$error":"#VALUE!"}},{"$f":"IF(LEFT($D73,1)=\"*\",\"\",IF(LogData!S70,\"DUPE\",\"\"))","v":""},{"$f":"IF(LEFT($D73,1)=\"*\",\"\",LogData!R70)","v":"::"}]
[{"$f":"IF(LEFT($D74,1)=\"*\",\"\",LogData!C71)","v":0},{"$f":"IF(LEFT($D74,1)=\"*\",\"\",LogData!F71)","v":0},{"$f":"IF(LEFT($D74,1)=\"*\",\"\",LogData!D71)","v":0},{"$f":"LogData!E71","v":0},{"$f":"IF($D74=\"*EOL*\",\"\",INT(LogData!V71))","v":{"$error":"#VALUE!"}},{"$f":"IF($D74=\"*EOL*\",\"\",LogData!V71-E74)","v":{"$error":"#VALUE!"}},{"$f":"IF(LEFT($D74,1)=\"*\",\"\",IF(LogData!S71,\"DUPE\",\"\"))","v":""},{"$f":"IF(LEFT($D74,1)=\"*\",\"\",LogData!R71)","v":"::"}]
[{"$f":"IF(LEFT($D75,1)=\"*\",\"\",LogData!C72)","v":0},{"$f":"IF(LEFT($D75,1)=\"*\",\"\",LogData!F72)","v":0},{"$f":"IF(LEFT($D75,1)=\"*\",\"\",LogData!D72)","v":0},{"$f":"LogData!E72","v":0},{"$f":"IF($D75=\"*EOL*\",\"\",INT(LogData!V72))","v":{"$error":"#VALUE!"}},{"$f":"IF($D75=\"*EOL*\",\"\",LogData!V72-E75)","v":{"$error":"#VALUE!"}},{"$f":"IF(LEFT($D75,1)=\"*\",\"\",IF(LogData!S72,\"DUPE\",\"\"))","v":""},{"$f":"IF(LEFT($D75,1)=\"*\",\"\",LogData!R72)","v":"::"}]
[{"$f":"IF(LEFT($D76,1)=\"*\",\"\",LogData!C73)","v":0},{"$f":"IF(LEFT($D76,1)=\"*\",\"\",LogData!F73)","v":0},{"$f":"IF(LEFT($D76,1)=\"*\",\"\",LogData!D73)","v":0},{"$f":"LogData!E73","v":0},{"$f":"IF($D76=\"*EOL*\",\"\",INT(LogData!V73))","v":{"$error":"#VALUE!"}},{"$f":"IF($D76=\"*EOL*\",\"\",LogData!V73-E76)","v":{"$error":"#VALUE!"}},{"$f":"IF(LEFT($D76,1)=\"*\",\"\",IF(LogData!S73,\"DUPE\",\"\"))","v":""},{"$f":"IF(LEFT($D76,1)=\"*\",\"\",LogData!R73)","v":"::"}]
[{"$f":"IF(LEFT($D77,1)=\"*\",\"\",LogData!C74)","v":0},{"$f":"IF(LEFT($D77,1)=\"*\",\"\",LogData!F74)","v":0},{"$f":"IF(LEFT($D77,1)=\"*\",\"\",LogData!D74)","v":0},{"$f":"LogData!E74","v":0},{"$f":"IF($D77=\"*EOL*\",\"\",INT(LogData!V74))","v":{"$error":"#VALUE!"}},{"$f":"IF($D77=\"*EOL*\",\"\",LogData!V74-E77)","v":{"$error":"#VALUE!"}},{"$f":"IF(LEFT($D77,1)=\"*\",\"\",IF(LogData!S74,\"DUPE\",\"\"))","v":""},{"$f":"IF(LEFT($D77,1)=\"*\",\"\",LogData!R74)","v":"::"}]
[{"$f":"IF(LEFT($D78,1)=\"*\",\"\",LogData!C75)","v":0},{"$f":"IF(LEFT($D78,1)=\"*\",\"\",LogData!F75)","v":0},{"$f":"IF(LEFT($D78,1)=\"*\",\"\",LogData!D75)","v":0},{"$f":"LogData!E75","v":0},{"$f":"IF($D78=\"*EOL*\",\"\",INT(LogData!V75))","v":{"$error":"#VALUE!"}},{"$f":"IF($D78=\"*EOL*\",\"\",LogData!V75-E78)","v":{"$error":"#VALUE!"}},{"$f":"IF(LEFT($D78,1)=\"*\",\"\",IF(LogData!S75,\"DUPE\",\"\"))","v":""},{"$f":"IF(LEFT($D78,1)=\"*\",\"\",LogData!R75)","v":"::"}]
[{"$f":"IF(LEFT($D79,1)=\"*\",\"\",LogData!C76)","v":0},{"$f":"IF(LEFT($D79,1)=\"*\",\"\",LogData!F76)","v":0},{"$f":"IF(LEFT($D79,1)=\"*\",\"\",LogData!D76)","v":0},{"$f":"LogData!E76","v":0},{"$f":"IF($D79=\"*EOL*\",\"\",INT(LogData!V76))","v":{"$error":"#VALUE!"}},{"$f":"IF($D79=\"*EOL*\",\"\",LogData!V76-E79)","v":{"$error":"#VALUE!"}},{"$f":"IF(LEFT($D79,1)=\"*\",\"\",IF(LogData!S76,\"DUPE\",\"\"))","v":""},{"$f":"IF(LEFT($D79,1)=\"*\",\"\",LogData!R76)","v":"::"}]
[{"$f":"IF(LEFT($D80,1)=\"*\",\"\",LogData!C77)","v":0},{"$f":"IF(LEFT($D80,1)=\"*\",\"\",LogData!F77)","v":0},{"$f":"IF(LEFT($D80,1)=\"*\",\"\",LogData!D77)","v":0},{"$f":"LogData!E77","v":0},{"$f":"IF($D80=\"*EOL*\",\"\",INT(LogData!V77))","v":{"$error":"#VALUE!"}},{"$f":"IF($D80=\"*EOL*\",\"\",LogData!V77-E80)","v":{"$error":"#VALUE!"}},{"$f":"IF(LEFT($D80,1)=\"*\",\"\",IF(LogData!S77,\"DUPE\",\"\"))","v":""},{"$f":"IF(LEFT($D80,1)=\"*\",\"\",LogData!R77)","v":"::"}]
[{"$f":"IF(LEFT($D81,1)=\"*\",\"\",LogData!C78)","v":0},{"$f":"IF(LEFT($D81,1)=\"*\",\"\",LogData!F78)","v":0},{"$f":"IF(LEFT($D81,1)=\"*\",\"\",LogData!D78)","v":0},{"$f":"LogData!E78","v":0},{"$f":"IF($D81=\"*EOL*\",\"\",INT(LogData!V78))","v":{"$error":"#VALUE!"}},{"$f":"IF($D81=\"*EOL*\",\"\",LogData!V78-E81)","v":{"$error":"#VALUE!"}},{"$f":"IF(LEFT($D81,1)=\"*\",\"\",IF(LogData!S78,\"DUPE\",\"\"))","v":""},{"$f":"IF(LEFT($D81,1)=\"*\",\"\",LogData!R78)","v":"::"}]
[{"$f":"IF(LEFT($D82,1)=\"*\",\"\",LogData!C79)","v":0},{"$f":"IF(LEFT($D82,1)=\"*\",\"\",LogData!F79)","v":0},{"$f":"IF(LEFT($D82,1)=\"*\",\"\",LogData!D79)","v":0},{"$f":"LogData!E79","v":0},{"$f":"IF($D82=\"*EOL*\",\"\",INT(LogData!V79))","v":{"$error":"#VALUE!"}},{"$f":"IF($D82=\"*EOL*\",\"\",LogData!V79-E82)","v":{"$error":"#VALUE!"}},{"$f":"IF(LEFT($D82,1)=\"*\",\"\",IF(LogData!S79,\"DUPE\",\"\"))","v":""},{"$f":"IF(LEFT($D82,1)=\"*\",\"\",LogData!R79)","v":"::"}]
[{"$f":"IF(LEFT($D83,1)=\"*\",\"\",LogData!C80)","v":0},{"$f":"IF(LEFT($D83,1)=\"*\",\"\",LogData!F80)","v":0},{"$f":"IF(LEFT($D83,1)=\"*\",\"\",LogData!D80)","v":0},{"$f":"LogData!E80","v":0},{"$f":"IF($D83=\"*EOL*\",\"\",INT(LogData!V80))","v":{"$error":"#VALUE!"}},{"$f":"IF($D83=\"*EOL*\",\"\",LogData!V80-E83)","v":{"$error":"#VALUE!"}},{"$f":"IF(LEFT($D83,1)=\"*\",\"\",IF(LogData!S80,\"DUPE\",\"\"))","v":""},{"$f":"IF(LEFT($D83,1)=\"*\",\"\",LogData!R80)","v":"::"}]
[{"$f":"IF(LEFT($D84,1)=\"*\",\"\",LogData!C81)","v":0},{"$f":"IF(LEFT($D84,1)=\"*\",\"\",LogData!F81)","v":0},{"$f":"IF(LEFT($D84,1)=\"*\",\"\",LogData!D81)","v":0},{"$f":"LogData!E81","v":0},{"$f":"IF($D84=\"*EOL*\",\"\",INT(LogData!V81))","v":{"$error":"#VALUE!"}},{"$f":"IF($D84=\"*EOL*\",\"\",LogData!V81-E84)","v":{"$error":"#VALUE!"}},{"$f":"IF(LEFT($D84,1)=\"*\",\"\",IF(LogData!S81,\"DUPE\",\"\"))","v":""},{"$f":"IF(LEFT($D84,1)=\"*\",\"\",LogData!R81)","v":"::"}]
[{"$f":"IF(LEFT($D85,1)=\"*\",\"\",LogData!C82)","v":0},{"$f":"IF(LEFT($D85,1)=\"*\",\"\",LogData!F82)","v":0},{"$f":"IF(LEFT($D85,1)=\"*\",\"\",LogData!D82)","v":0},{"$f":"LogData!E82","v":0},{"$f":"IF($D85=\"*EOL*\",\"\",INT(LogData!V82))","v":{"$error":"#VALUE!"}},{"$f":"IF($D85=\"*EOL*\",\"\",LogData!V82-E85)","v":{"$error":"#VALUE!"}},{"$f":"IF(LEFT($D85,1)=\"*\",\"\",IF(LogData!S82,\"DUPE\",\"\"))","v":""},{"$f":"IF(LEFT($D85,1)=\"*\",\"\",LogData!R82)","v":"::"}]
[{"$f":"IF(LEFT($D86,1)=\"*\",\"\",LogData!C83)","v":0},{"$f":"IF(LEFT($D86,1)=\"*\",\"\",LogData!F83)","v":0},{"$f":"IF(LEFT($D86,1)=\"*\",\"\",LogData!D83)","v":0},{"$f":"LogData!E83","v":0},{"$f":"IF($D86=\"*EOL*\",\"\",INT(LogData!V83))","v":{"$error":"#VALUE!"}},{"$f":"IF($D86=\"*EOL*\",\"\",LogData!V83-E86)","v":{"$error":"#VALUE!"}},{"$f":"IF(LEFT($D86,1)=\"*\",\"\",IF(LogData!S83,\"DUPE\",\"\"))","v":""},{"$f":"IF(LEFT($D86,1)=\"*\",\"\",LogData!R83)","v":"::"}]
[{"$f":"IF(LEFT($D87,1)=\"*\",\"\",LogData!C84)","v":0},{"$f":"IF(LEFT($D87,1)=\"*\",\"\",LogData!F84)","v":0},{"$f":"IF(LEFT($D87,1)=\"*\",\"\",LogData!D84)","v":0},{"$f":"LogData!E84","v":0},{"$f":"IF($D87=\"*EOL*\",\"\",INT(LogData!V84))","v":{"$error":"#VALUE!"}},{"$f":"IF($D87=\"*EOL*\",\"\",LogData!V84-E87)","v":{"$error":"#VALUE!"}},{"$f":"IF(LEFT($D87,1)=\"*\",\"\",IF(LogData!S84,\"DUPE\",\"\"))","v":""},{"$f":"IF(LEFT($D87,1)=\"*\",\"\",LogData!R84)","v":"::"}]
[{"$f":"IF(LEFT($D88,1)=\"*\",\"\",LogData!C85)","v":0},{"$f":"IF(LEFT($D88,1)=\"*\",\"\",LogData!F85)","v":0},{"$f":"IF(LEFT($D88,1)=\"*\",\"\",LogData!D85)","v":0},{"$f":"LogData!E85","v":0},{"$f":"IF($D88=\"*EOL*\",\"\",INT(LogData!V85))","v":{"$error":"#VALUE!"}},{"$f":"IF($D88=\"*EOL*\",\"\",LogData!V85-E88)","v":{"$error":"#VALUE!"}},{"$f":"IF(LEFT($D88,1)=\"*\",\"\",IF(LogData!S85,\"DUPE\",\"\"))","v":""},{"$f":"IF(LEFT($D88,1)=\"*\",\"\",LogData!R85)","v":"::"}]
[{"$f":"IF(LEFT($D89,1)=\"*\",\"\",LogData!C86)","v":0},{"$f":"IF(LEFT($D89,1)=\"*\",\"\",LogData!F86)","v":0},{"$f":"IF(LEFT($D89,1)=\"*\",\"\",LogData!D86)","v":0},{"$f":"LogData!E86","v":0},{"$f":"IF($D89=\"*EOL*\",\"\",INT(LogData!V86))","v":{"$error":"#VALUE!"}},{"$f":"IF($D89=\"*EOL*\",\"\",LogData!V86-E89)","v":{"$error":"#VALUE!"}},{"$f":"IF(LEFT($D89,1)=\"*\",\"\",IF(LogData!S86,\"DUPE\",\"\"))","v":""},{"$f":"IF(LEFT($D89,1)=\"*\",\"\",LogData!R86)","v":"::"}]
[{"$f":"IF(LEFT($D90,1)=\"*\",\"\",LogData!C87)","v":0},{"$f":"IF(LEFT($D90,1)=\"*\",\"\",LogData!F87)","v":0},{"$f":"IF(LEFT($D90,1)=\"*\",\"\",LogData!D87)","v":0},{"$f":"LogData!E87","v":0},{"$f":"IF($D90=\"*EOL*\",\"\",INT(LogData!V87))","v":{"$error":"#VALUE!"}},{"$f":"IF($D90=\"*EOL*\",\"\",LogData!V87-E90)","v":{"$error":"#VALUE!"}},{"$f":"IF(LEFT($D90,1)=\"*\",\"\",IF(LogData!S87,\"DUPE\",\"\"))","v":""},{"$f":"IF(LEFT($D90,1)=\"*\",\"\",LogData!R87)","v":"::"}]
[{"$f":"IF(LEFT($D91,1)=\"*\",\"\",LogData!C88)","v":0},{"$f":"IF(LEFT($D91,1)=\"*\",\"\",LogData!F88)","v":0},{"$f":"IF(LEFT($D91,1)=\"*\",\"\",LogData!D88)","v":0},{"$f":"LogData!E88","v":0},{"$f":"IF($D91=\"*EOL*\",\"\",INT(LogData!V88))","v":{"$error":"#VALUE!"}},{"$f":"IF($D91=\"*EOL*\",\"\",LogData!V88-E91)","v":{"$error":"#VALUE!"}},{"$f":"IF(LEFT($D91,1)=\"*\",\"\",IF(LogData!S88,\"DUPE\",\"\"))","v":""},{"$f":"IF(LEFT($D91,1)=\"*\",\"\",LogData!R88)","v":"::"}]
[{"$f":"IF(LEFT($D92,1)=\"*\",\"\",LogData!C89)","v":0},{"$f":"IF(LEFT($D92,1)=\"*\",\"\",LogData!F89)","v":0},{"$f":"IF(LEFT($D92,1)=\"*\",\"\",LogData!D89)","v":0},{"$f":"LogData!E89","v":0},{"$f":"IF($D92=\"*EOL*\",\"\",INT(LogData!V89))","v":{"$error":"#VALUE!"}},{"$f":"IF($D92=\"*EOL*\",\"\",LogData!V89-E92)","v":{"$error":"#VALUE!"}},{"$f":"IF(LEFT($D92,1)=\"*\",\"\",IF(LogData!S89,\"DUPE\",\"\"))","v":""},{"$f":"IF(LEFT($D92,1)=\"*\",\"\",LogData!R89)","v":"::"}]
[{"$f":"IF(LEFT($D93,1)=\"*\",\"\",LogData!C90)","v":0},{"$f":"IF(LEFT($D93,1)=\"*\",\"\",LogData!F90)","v":0},{"$f":"IF(LEFT($D93,1)=\"*\",\"\",LogData!D90)","v":0},{"$f":"LogData!E90","v":0},{"$f":"IF($D93=\"*EOL*\",\"\",INT(LogData!V90))","v":{"$error":"#VALUE!"}},{"$f":"IF($D93=\"*EOL*\",\"\",LogData!V90-E93)","v":{"$error":"#VALUE!"}},{"$f":"IF(LEFT($D93,1)=\"*\",\"\",IF(LogData!S90,\"DUPE\",\"\"))","v":""},{"$f":"IF(LEFT($D93,1)=\"*\",\"\",LogData!R90)","v":"::"}]
[{"$f":"IF(LEFT($D94,1)=\"*\",\"\",LogData!C91)","v":0},{"$f":"IF(LEFT($D94,1)=\"*\",\"\",LogData!F91)","v":0},{"$f":"IF(LEFT($D94,1)=\"*\",\"\",LogData!D91)","v":0},{"$f":"LogData!E91","v":0},{"$f":"IF($D94=\"*EOL*\",\"\",INT(LogData!V91))","v":{"$error":"#VALUE!"}},{"$f":"IF($D94=\"*EOL*\",\"\",LogData!V91-E94)","v":{"$error":"#VALUE!"}},{"$f":"IF(LEFT($D94,1)=\"*\",\"\",IF(LogData!S91,\"DUPE\",\"\"))","v":""},{"$f":"IF(LEFT($D94,1)=\"*\",\"\",LogData!R91)","v":"::"}]
[{"$f":"IF(LEFT($D95,1)=\"*\",\"\",LogData!C92)","v":0},{"$f":"IF(LEFT($D95,1)=\"*\",\"\",LogData!F92)","v":0},{"$f":"IF(LEFT($D95,1)=\"*\",\"\",LogData!D92)","v":0},{"$f":"LogData!E92","v":0},{"$f":"IF($D95=\"*EOL*\",\"\",INT(LogData!V92))","v":{"$error":"#VALUE!"}},{"$f":"IF($D95=\"*EOL*\",\"\",LogData!V92-E95)","v":{"$error":"#VALUE!"}},{"$f":"IF(LEFT($D95,1)=\"*\",\"\",IF(LogData!S92,\"DUPE\",\"\"))","v":""},{"$f":"IF(LEFT($D95,1)=\"*\",\"\",LogData!R92)","v":"::"}]
[{"$f":"IF(LEFT($D96,1)=\"*\",\"\",LogData!C93)","v":0},{"$f":"IF(LEFT($D96,1)=\"*\",\"\",LogData!F93)","v":0},{"$f":"IF(LEFT($D96,1)=\"*\",\"\",LogData!D93)","v":0},{"$f":"LogData!E93","v":0},{"$f":"IF($D96=\"*EOL*\",\"\",INT(LogData!V93))","v":{"$error":"#VALUE!"}},{"$f":"IF($D96=\"*EOL*\",\"\",LogData!V93-E96)","v":{"$error":"#VALUE!"}},{"$f":"IF(LEFT($D96,1)=\"*\",\"\",IF(LogData!S93,\"DUPE\",\"\"))","v":""},{"$f":"IF(LEFT($D96,1)=\"*\",\"\",LogData!R93)","v":"::"}]
[{"$f":"IF(LEFT($D97,1)=\"*\",\"\",LogData!C94)","v":0},{"$f":"IF(LEFT($D97,1)=\"*\",\"\",LogData!F94)","v":0},{"$f":"IF(LEFT($D97,1)=\"*\",\"\",LogData!D94)","v":0},{"$f":"LogData!E94","v":0},{"$f":"IF($D97=\"*EOL*\",\"\",INT(LogData!V94))","v":{"$error":"#VALUE!"}},{"$f":"IF($D97=\"*EOL*\",\"\",LogData!V94-E97)","v":{"$error":"#VALUE!"}},{"$f":"IF(LEFT($D97,1)=\"*\",\"\",IF(LogData!S94,\"DUPE\",\"\"))","v":""},{"$f":"IF(LEFT($D97,1)=\"*\",\"\",LogData!R94)","v":"::"}]
[{"$f":"IF(LEFT($D98,1)=\"*\",\"\",LogData!C95)","v":0},{"$f":"IF(LEFT($D98,1)=\"*\",\"\",LogData!F95)","v":0},{"$f":"IF(LEFT($D98,1)=\"*\",\"\",LogData!D95)","v":0},{"$f":"LogData!E95","v":0},{"$f":"IF($D98=\"*EOL*\",\"\",INT(LogData!V95))","v":{"$error":"#VALUE!"}},{"$f":"IF($D98=\"*EOL*\",\"\",LogData!V95-E98)","v":{"$error":"#VALUE!"}},{"$f":"IF(LEFT($D98,1)=\"*\",\"\",IF(LogData!S95,\"DUPE\",\"\"))","v":""},{"$f":"IF(LEFT($D98,1)=\"*\",\"\",LogData!R95)","v":"::"}]
[{"$f":"IF(LEFT($D99,1)=\"*\",\"\",LogData!C96)","v":0},{"$f":"IF(LEFT($D99,1)=\"*\",\"\",LogData!F96)","v":0},{"$f":"IF(LEFT($D99,1)=\"*\",\"\",LogData!D96)","v":0},{"$f":"LogData!E96","v":0},{"$f":"IF($D99=\"*EOL*\",\"\",INT(LogData!V96))","v":{"$error":"#VALUE!"}},{"$f":"IF($D99=\"*EOL*\",\"\",LogData!V96-E99)","v":{"$error":"#VALUE!"}},{"$f":"IF(LEFT($D99,1)=\"*\",\"\",IF(LogData!S96,\"DUPE\",\"\"))","v":""},{"$f":"IF(LEFT($D99,1)=\"*\",\"\",LogData!R96)","v":"::"}]
[{"$f":"IF(LEFT($D100,1)=\"*\",\"\",LogData!C97)","v":0},{"$f":"IF(LEFT($D100,1)=\"*\",\"\",LogData!F97)","v":0},{"$f":"IF(LEFT($D100,1)=\"*\",\"\",LogData!D97)","v":0},{"$f":"LogData!E97","v":0},{"$f":"IF($D100=\"*EOL*\",\"\",INT(LogData!V97))","v":{"$error":"#VALUE!"}},{"$f":"IF($D100=\"*EOL*\",\"\",LogData!V97-E100)","v":{"$error":"#VALUE!"}},{"$f":"IF(LEFT($D100,1)=\"*\",\"\",IF(LogData!S97,\"DUPE\",\"\"))","v":""},{"$f":"IF(LEFT($D100,1)=\"*\",\"\",LogData!R97)","v":"::"}]
[{"$f":"IF(LEFT($D101,1)=\"*\",\"\",LogData!C98)","v":0},{"$f":"IF(LEFT($D101,1)=\"*\",\"\",LogData!F98)","v":0},{"$f":"IF(LEFT($D101,1)=\"*\",\"\",LogData!D98)","v":0},{"$f":"LogData!E98","v":0},{"$f":"IF($D101=\"*EOL*\",\"\",INT(LogData!V98))","v":{"$error":"#VALUE!"}},{"$f":"IF($D101=\"*EOL*\",\"\",LogData!V98-E101)","v":{"$error":"#VALUE!"}},{"$f":"IF(LEFT($D101,1)=\"*\",\"\",IF(LogData!S98,\"DUPE\",\"\"))","v":""},{"$f":"IF(LEFT($D101,1)=\"*\",\"\",LogData!R98)","v":"::"}]
[{"$f":"IF(LEFT($D102,1)=\"*\",\"\",LogData!C99)","v":0},{"$f":"IF(LEFT($D102,1)=\"*\",\"\",LogData!F99)","v":0},{"$f":"IF(LEFT($D102,1)=\"*\",\"\",LogData!D99)","v":0},{"$f":"LogData!E99","v":0},{"$f":"IF($D102=\"*EOL*\",\"\",INT(LogData!V99))","v":{"$error":"#VALUE!"}},{"$f":"IF($D102=\"*EOL*\",\"\",LogData!V99-E102)","v":{"$error":"#VALUE!"}},{"$f":"IF(LEFT($D102,1)=\"*\",\"\",IF(LogData!S99,\"DUPE\",\"\"))","v":""},{"$f":"IF(LEFT($D102,1)=\"*\",\"\",LogData!R99)","v":"::"}]
[{"$f":"IF(LEFT($D103,1)=\"*\",\"\",LogData!C100)","v":0},{"$f":"IF(LEFT($D103,1)=\"*\",\"\",LogData!F100)","v":0},{"$f":"IF(LEFT($D103,1)=\"*\",\"\",LogData!D100)","v":0},{"$f":"LogData!E100","v":0},{"$f":"IF($D103=\"*EOL*\",\"\",INT(LogData!V100))","v":{"$error":"#VALUE!"}},{"$f":"IF($D103=\"*EOL*\",\"\",LogData!V100-E103)","v":{"$error":"#VALUE!"}},{"$f":"IF(LEFT($D103,1)=\"*\",\"\",IF(LogData!S100,\"DUPE\",\"\"))","v":""},{"$f":"IF(LEFT($D103,1)=\"*\",\"\",LogData!R100)","v":"::"}]
[{"$f":"IF(LEFT($D104,1)=\"*\",\"\",LogData!C101)","v":0},{"$f":"IF(LEFT($D104,1)=\"*\",\"\",LogData!F101)","v":0},{"$f":"IF(LEFT($D104,1)=\"*\",\"\",LogData!D101)","v":0},{"$f":"LogData!E101","v":0},{"$f":"IF($D104=\"*EOL*\",\"\",INT(LogData!V101))","v":{"$error":"#VALUE!"}},{"$f":"IF($D104=\"*EOL*\",\"\",LogData!V101-E104)","v":{"$error":"#VALUE!"}},{"$f":"IF(LEFT($D104,1)=\"*\",\"\",IF(LogData!S101,\"DUPE\",\"\"))","v":""},{"$f":"IF(LEFT($D104,1)=\"*\",\"\",LogData!R101)","v":"::"}]
[{"$f":"IF(LEFT($D105,1)=\"*\",\"\",LogData!C102)","v":0},{"$f":"IF(LEFT($D105,1)=\"*\",\"\",LogData!F102)","v":0},{"$f":"IF(LEFT($D105,1)=\"*\",\"\",LogData!D102)","v":0},{"$f":"LogData!E102","v":0},{"$f":"IF($D105=\"*EOL*\",\"\",INT(LogData!V102))","v":{"$error":"#VALUE!"}},{"$f":"IF($D105=\"*EOL*\",\"\",LogData!V102-E105)","v":{"$error":"#VALUE!"}},{"$f":"IF(LEFT($D105,1)=\"*\",\"\",IF(LogData!S102,\"DUPE\",\"\"))","v":""},{"$f":"IF(LEFT($D105,1)=\"*\",\"\",LogData!R102)","v":"::"}]
[{"$f":"IF(LEFT($D106,1)=\"*\",\"\",LogData!C103)","v":0},{"$f":"IF(LEFT($D106,1)=\"*\",\"\",LogData!F103)","v":0},{"$f":"IF(LEFT($D106,1)=\"*\",\"\",LogData!D103)","v":0},{"$f":"LogData!E103","v":0},{"$f":"IF($D106=\"*EOL*\",\"\",INT(LogData!V103))","v":{"$error":"#VALUE!"}},{"$f":"IF($D106=\"*EOL*\",\"\",LogData!V103-E106)","v":{"$error":"#VALUE!"}},{"$f":"IF(LEFT($D106,1)=\"*\",\"\",IF(LogData!S103,\"DUPE\",\"\"))","v":""},{"$f":"IF(LEFT($D106,1)=\"*\",\"\",LogData!R103)","v":"::"}]
[{"$f":"IF(LEFT($D107,1)=\"*\",\"\",LogData!C104)","v":0},{"$f":"IF(LEFT($D107,1)=\"*\",\"\",LogData!F104)","v":0},{"$f":"IF(LEFT($D107,1)=\"*\",\"\",LogData!D104)","v":0},{"$f":"LogData!E104","v":0},{"$f":"IF($D107=\"*EOL*\",\"\",INT(LogData!V104))","v":{"$error":"#VALUE!"}},{"$f":"IF($D107=\"*EOL*\",\"\",LogData!V104-E107)","v":{"$error":"#VALUE!"}},{"$f":"IF(LEFT($D107,1)=\"*\",\"\",IF(LogData!S104,\"DUPE\",\"\"))","v":""},{"$f":"IF(LEFT($D107,1)=\"*\",\"\",LogData!R104)","v":"::"}]
[{"$f":"IF(LEFT($D108,1)=\"*\",\"\",LogData!C105)","v":0},{"$f":"IF(LEFT($D108,1)=\"*\",\"\",LogData!F105)","v":0},{"$f":"IF(LEFT($D108,1)=\"*\",\"\",LogData!D105)","v":0},{"$f":"LogData!E105","v":0},{"$f":"IF($D108=\"*EOL*\",\"\",INT(LogData!V105))","v":{"$error":"#VALUE!"}},{"$f":"IF($D108=\"*EOL*\",\"\",LogData!V105-E108)","v":{"$error":"#VALUE!"}},{"$f":"IF(LEFT($D108,1)=\"*\",\"\",IF(LogData!S105,\"DUPE\",\"\"))","v":""},{"$f":"IF(LEFT($D108,1)=\"*\",\"\",LogData!R105)","v":"::"}]
[{"$f":"IF(LEFT($D109,1)=\"*\",\"\",LogData!C106)","v":0},{"$f":"IF(LEFT($D109,1)=\"*\",\"\",LogData!F106)","v":0},{"$f":"IF(LEFT($D109,1)=\"*\",\"\",LogData!D106)","v":0},{"$f":"LogData!E106","v":0},{"$f":"IF($D109=\"*EOL*\",\"\",INT(LogData!V106))","v":{"$error":"#VALUE!"}},{"$f":"IF($D109=\"*EOL*\",\"\",LogData!V106-E109)","v":{"$error":"#VALUE!"}},{"$f":"IF(LEFT($D109,1)=\"*\",\"\",IF(LogData!S106,\"DUPE\",\"\"))","v":""},{"$f":"IF(LEFT($D109,1)=\"*\",\"\",LogData!R106)","v":"::"}]
[{"$f":"IF(LEFT($D110,1)=\"*\",\"\",LogData!C107)","v":0},{"$f":"IF(LEFT($D110,1)=\"*\",\"\",LogData!F107)","v":0},{"$f":"IF(LEFT($D110,1)=\"*\",\"\",LogData!D107)","v":0},{"$f":"LogData!E107","v":0},{"$f":"IF($D110=\"*EOL*\",\"\",INT(LogData!V107))","v":{"$error":"#VALUE!"}},{"$f":"IF($D110=\"*EOL*\",\"\",LogData!V107-E110)","v":{"$error":"#VALUE!"}},{"$f":"IF(LEFT($D110,1)=\"*\",\"\",IF(LogData!S107,\"DUPE\",\"\"))","v":""},{"$f":"IF(LEFT($D110,1)=\"*\",\"\",LogData!R107)","v":"::"}]
[{"$f":"IF(LEFT($D111,1)=\"*\",\"\",LogData!C108)","v":0},{"$f":"IF(LEFT($D111,1)=\"*\",\"\",LogData!F108)","v":0},{"$f":"IF(LEFT($D111,1)=\"*\",\"\",LogData!D108)","v":0},{"$f":"LogData!E108","v":0},{"$f":"IF($D111=\"*EOL*\",\"\",INT(LogData!V108))","v":{"$error":"#VALUE!"}},{"$f":"IF($D111=\"*EOL*\",\"\",LogData!V108-E111)","v":{"$error":"#VALUE!"}},{"$f":"IF(LEFT($D111,1)=\"*\",\"\",IF(LogData!S108,\"DUPE\",\"\"))","v":""},{"$f":"IF(LEFT($D111,1)=\"*\",\"\",LogData!R108)","v":"::"}]
[{"$f":"IF(LEFT($D112,1)=\"*\",\"\",LogData!C109)","v":0},{"$f":"IF(LEFT($D112,1)=\"*\",\"\",LogData!F109)","v":0},{"$f":"IF(LEFT($D112,1)=\"*\",\"\",LogData!D109)","v":0},{"$f":"LogData!E109","v":0},{"$f":"IF($D112=\"*EOL*\",\"\",INT(LogData!V109))","v":{"$error":"#VALUE!"}},{"$f":"IF($D112=\"*EOL*\",\"\",LogData!V109-E112)","v":{"$error":"#VALUE!"}},{"$f":"IF(LEFT($D112,1)=\"*\",\"\",IF(LogData!S109,\"DUPE\",\"\"))","v":""},{"$f":"IF(LEFT($D112,1)=\"*\",\"\",LogData!R109)","v":"::"}]
[{"$f":"IF(LEFT($D113,1)=\"*\",\"\",LogData!C110)","v":0},{"$f":"IF(LEFT($D113,1)=\"*\",\"\",LogData!F110)","v":0},{"$f":"IF(LEFT($D113,1)=\"*\",\"\",LogData!D110)","v":0},{"$f":"LogData!E110","v":0},{"$f":"IF($D113=\"*EOL*\",\"\",INT(LogData!V110))","v":{"$error":"#VALUE!"}},{"$f":"IF($D113=\"*EOL*\",\"\",LogData!V110-E113)","v":{"$error":"#VALUE!"}},{"$f":"IF(LEFT($D113,1)=\"*\",\"\",IF(LogData!S110,\"DUPE\",\"\"))","v":""},{"$f":"IF(LEFT($D113,1)=\"*\",\"\",LogData!R110)","v":"::"}]
[{"$f":"IF(LEFT($D114,1)=\"*\",\"\",LogData!C111)","v":0},{"$f":"IF(LEFT($D114,1)=\"*\",\"\",LogData!F111)","v":0},{"$f":"IF(LEFT($D114,1)=\"*\",\"\",LogData!D111)","v":0},{"$f":"LogData!E111","v":0},{"$f":"IF($D114=\"*EOL*\",\"\",INT(LogData!V111))","v":{"$error":"#VALUE!"}},{"$f":"IF($D114=\"*EOL*\",\"\",LogData!V111-E114)","v":{"$error":"#VALUE!"}},{"$f":"IF(LEFT($D114,1)=\"*\",\"\",IF(LogData!S111,\"DUPE\",\"\"))","v":""},{"$f":"IF(LEFT($D114,1)=\"*\",\"\",LogData!R111)","v":"::"}]
[{"$f":"IF(LEFT($D115,1)=\"*\",\"\",LogData!C112)","v":0},{"$f":"IF(LEFT($D115,1)=\"*\",\"\",LogData!F112)","v":0},{"$f":"IF(LEFT($D115,1)=\"*\",\"\",LogData!D112)","v":0},{"$f":"LogData!E112","v":0},{"$f":"IF($D115=\"*EOL*\",\"\",INT(LogData!V112))","v":{"$error":"#VALUE!"}},{"$f":"IF($D115=\"*EOL*\",\"\",LogData!V112-E115)","v":{"$error":"#VALUE!"}},{"$f":"IF(LEFT($D115,1)=\"*\",\"\",IF(LogData!S112,\"DUPE\",\"\"))","v":""},{"$f":"IF(LEFT($D115,1)=\"*\",\"\",LogData!R112)","v":"::"}]
[{"$f":"IF(LEFT($D116,1)=\"*\",\"\",LogData!C113)","v":0},{"$f":"IF(LEFT($D116,1)=\"*\",\"\",LogData!F113)","v":0},{"$f":"IF(LEFT($D116,1)=\"*\",\"\",LogData!D113)","v":0},{"$f":"LogData!E113","v":0},{"$f":"IF($D116=\"*EOL*\",\"\",INT(LogData!V113))","v":{"$error":"#VALUE!"}},{"$f":"IF($D116=\"*EOL*\",\"\",LogData!V113-E116)","v":{"$error":"#VALUE!"}},{"$f":"IF(LEFT($D116,1)=\"*\",\"\",IF(LogData!S113,\"DUPE\",\"\"))","v":""},{"$f":"IF(LEFT($D116,1)=\"*\",\"\",LogData!R113)","v":"::"}]
[{"$f":"IF(LEFT($D117,1)=\"*\",\"\",LogData!C114)","v":0},{"$f":"IF(LEFT($D117,1)=\"*\",\"\",LogData!F114)","v":0},{"$f":"IF(LEFT($D117,1)=\"*\",\"\",LogData!D114)","v":0},{"$f":"LogData!E114","v":0},{"$f":"IF($D117=\"*EOL*\",\"\",INT(LogData!V114))","v":{"$error":"#VALUE!"}},{"$f":"IF($D117=\"*EOL*\",\"\",LogData!V114-E117)","v":{"$error":"#VALUE!"}},{"$f":"IF(LEFT($D117,1)=\"*\",\"\",IF(LogData!S114,\"DUPE\",\"\"))","v":""},{"$f":"IF(LEFT($D117,1)=\"*\",\"\",LogData!R114)","v":"::"}]
[{"$f":"IF(LEFT($D118,1)=\"*\",\"\",LogData!C115)","v":0},{"$f":"IF(LEFT($D118,1)=\"*\",\"\",LogData!F115)","v":0},{"$f":"IF(LEFT($D118,1)=\"*\",\"\",LogData!D115)","v":0},{"$f":"LogData!E115","v":0},{"$f":"IF($D118=\"*EOL*\",\"\",INT(LogData!V115))","v":{"$error":"#VALUE!"}},{"$f":"IF($D118=\"*EOL*\",\"\",LogData!V115-E118)","v":{"$error":"#VALUE!"}},{"$f":"IF(LEFT($D118,1)=\"*\",\"\",IF(LogData!S115,\"DUPE\",\"\"))","v":""},{"$f":"IF(LEFT($D118,1)=\"*\",\"\",LogData!R115)","v":"::"}]
[{"$f":"IF(LEFT($D119,1)=\"*\",\"\",LogData!C116)","v":0},{"$f":"IF(LEFT($D119,1)=\"*\",\"\",LogData!F116)","v":0},{"$f":"IF(LEFT($D119,1)=\"*\",\"\",LogData!D116)","v":0},{"$f":"LogData!E116","v":0},{"$f":"IF($D119=\"*EOL*\",\"\",INT(LogData!V116))","v":{"$error":"#VALUE!"}},{"$f":"IF($D119=\"*EOL*\",\"\",LogData!V116-E119)","v":{"$error":"#VALUE!"}},{"$f":"IF(LEFT($D119,1)=\"*\",\"\",IF(LogData!S116,\"DUPE\",\"\"))","v":""},{"$f":"IF(LEFT($D119,1)=\"*\",\"\",LogData!R116)","v":"::"}]
[{"$f":"IF(LEFT($D120,1)=\"*\",\"\",LogData!C117)","v":0},{"$f":"IF(LEFT($D120,1)=\"*\",\"\",LogData!F117)","v":0},{"$f":"IF(LEFT($D120,1)=\"*\",\"\",LogData!D117)","v":0},{"$f":"LogData!E117","v":0},{"$f":"IF($D120=\"*EOL*\",\"\",INT(LogData!V117))","v":{"$error":"#VALUE!"}},{"$f":"IF($D120=\"*EOL*\",\"\",LogData!V117-E120)","v":{"$error":"#VALUE!"}},{"$f":"IF(LEFT($D120,1)=\"*\",\"\",IF(LogData!S117,\"DUPE\",\"\"))","v":""},{"$f":"IF(LEFT($D120,1)=\"*\",\"\",LogData!R117)","v":"::"}]
[{"$f":"IF(LEFT($D121,1)=\"*\",\"\",LogData!C118)","v":0},{"$f":"IF(LEFT($D121,1)=\"*\",\"\",LogData!F118)","v":0},{"$f":"IF(LEFT($D121,1)=\"*\",\"\",LogData!D118)","v":0},{"$f":"LogData!E118","v":0},{"$f":"IF($D121=\"*EOL*\",\"\",INT(LogData!V118))","v":{"$error":"#VALUE!"}},{"$f":"IF($D121=\"*EOL*\",\"\",LogData!V118-E121)","v":{"$error":"#VALUE!"}},{"$f":"IF(LEFT($D121,1)=\"*\",\"\",IF(LogData!S118,\"DUPE\",\"\"))","v":""},{"$f":"IF(LEFT($D121,1)=\"*\",\"\",LogData!R118)","v":"::"}]
[{"$f":"IF(LEFT($D122,1)=\"*\",\"\",LogData!C119)","v":0},{"$f":"IF(LEFT($D122,1)=\"*\",\"\",LogData!F119)","v":0},{"$f":"IF(LEFT($D122,1)=\"*\",\"\",LogData!D119)","v":0},{"$f":"LogData!E119","v":0},{"$f":"IF($D122=\"*EOL*\",\"\",INT(LogData!V119))","v":{"$error":"#VALUE!"}},{"$f":"IF($D122=\"*EOL*\",\"\",LogData!V119-E122)","v":{"$error":"#VALUE!"}},{"$f":"IF(LEFT($D122,1)=\"*\",\"\",IF(LogData!S119,\"DUPE\",\"\"))","v":""},{"$f":"IF(LEFT($D122,1)=\"*\",\"\",LogData!R119)","v":"::"}]
[{"$f":"IF(LEFT($D123,1)=\"*\",\"\",LogData!C120)","v":0},{"$f":"IF(LEFT($D123,1)=\"*\",\"\",LogData!F120)","v":0},{"$f":"IF(LEFT($D123,1)=\"*\",\"\",LogData!D120)","v":0},{"$f":"LogData!E120","v":0},{"$f":"IF($D123=\"*EOL*\",\"\",INT(LogData!V120))","v":{"$error":"#VALUE!"}},{"$f":"IF($D123=\"*EOL*\",\"\",LogData!V120-E123)","v":{"$error":"#VALUE!"}},{"$f":"IF(LEFT($D123,1)=\"*\",\"\",IF(LogData!S120,\"DUPE\",\"\"))","v":""},{"$f":"IF(LEFT($D123,1)=\"*\",\"\",LogData!R120)","v":"::"}]
[{"$f":"IF(LEFT($D124,1)=\"*\",\"\",LogData!C121)","v":0},{"$f":"IF(LEFT($D124,1)=\"*\",\"\",LogData!F121)","v":0},{"$f":"IF(LEFT($D124,1)=\"*\",\"\",LogData!D121)","v":0},{"$f":"LogData!E121","v":0},{"$f":"IF($D124=\"*EOL*\",\"\",INT(LogData!V121))","v":{"$error":"#VALUE!"}},{"$f":"IF($D124=\"*EOL*\",\"\",LogData!V121-E124)","v":{"$error":"#VALUE!"}},{"$f":"IF(LEFT($D124,1)=\"*\",\"\",IF(LogData!S121,\"DUPE\",\"\"))","v":""},{"$f":"IF(LEFT($D124,1)=\"*\",\"\",LogData!R121)","v":"::"}]
[{"$f":"IF(LEFT($D125,1)=\"*\",\"\",LogData!C122)","v":0},{"$f":"IF(LEFT($D125,1)=\"*\",\"\",LogData!F122)","v":0},{"$f":"IF(LEFT($D125,1)=\"*\",\"\",LogData!D122)","v":0},{"$f":"LogData!E122","v":0},{"$f":"IF($D125=\"*EOL*\",\"\",INT(LogData!V122))","v":{"$error":"#VALUE!"}},{"$f":"IF($D125=\"*EOL*\",\"\",LogData!V122-E125)","v":{"$error":"#VALUE!"}},{"$f":"IF(LEFT($D125,1)=\"*\",\"\",IF(LogData!S122,\"DUPE\",\"\"))","v":""},{"$f":"IF(LEFT($D125,1)=\"*\",\"\",LogData!R122)","v":"::"}]
[{"$f":"IF(LEFT($D126,1)=\"*\",\"\",LogData!C123)","v":0},{"$f":"IF(LEFT($D126,1)=\"*\",\"\",LogData!F123)","v":0},{"$f":"IF(LEFT($D126,1)=\"*\",\"\",LogData!D123)","v":0},{"$f":"LogData!E123","v":0},{"$f":"IF($D126=\"*EOL*\",\"\",INT(LogData!V123))","v":{"$error":"#VALUE!"}},{"$f":"IF($D126=\"*EOL*\",\"\",LogData!V123-E126)","v":{"$error":"#VALUE!"}},{"$f":"IF(LEFT($D126,1)=\"*\",\"\",IF(LogData!S123,\"DUPE\",\"\"))","v":""},{"$f":"IF(LEFT($D126,1)=\"*\",\"\",LogData!R123)","v":"::"}]
[{"$f":"IF(LEFT($D127,1)=\"*\",\"\",LogData!C124)","v":0},{"$f":"IF(LEFT($D127,1)=\"*\",\"\",LogData!F124)","v":0},{"$f":"IF(LEFT($D127,1)=\"*\",\"\",LogData!D124)","v":0},{"$f":"LogData!E124","v":0},{"$f":"IF($D127=\"*EOL*\",\"\",INT(LogData!V124))","v":{"$error":"#VALUE!"}},{"$f":"IF($D127=\"*EOL*\",\"\",LogData!V124-E127)","v":{"$error":"#VALUE!"}},{"$f":"IF(LEFT($D127,1)=\"*\",\"\",IF(LogData!S124,\"DUPE\",\"\"))","v":""},{"$f":"IF(LEFT($D127,1)=\"*\",\"\",LogData!R124)","v":"::"}]
[{"$f":"IF(LEFT($D128,1)=\"*\",\"\",LogData!C125)","v":0},{"$f":"IF(LEFT($D128,1)=\"*\",\"\",LogData!F125)","v":0},{"$f":"IF(LEFT($D128,1)=\"*\",\"\",LogData!D125)","v":0},{"$f":"LogData!E125","v":0},{"$f":"IF($D128=\"*EOL*\",\"\",INT(LogData!V125))","v":{"$error":"#VALUE!"}},{"$f":"IF($D128=\"*EOL*\",\"\",LogData!V125-E128)","v":{"$error":"#VALUE!"}},{"$f":"IF(LEFT($D128,1)=\"*\",\"\",IF(LogData!S125,\"DUPE\",\"\"))","v":""},{"$f":"IF(LEFT($D128,1)=\"*\",\"\",LogData!R125)","v":"::"}]
[{"$f":"IF(LEFT($D129,1)=\"*\",\"\",LogData!C126)","v":0},{"$f":"IF(LEFT($D129,1)=\"*\",\"\",LogData!F126)","v":0},{"$f":"IF(LEFT($D129,1)=\"*\",\"\",LogData!D126)","v":0},{"$f":"LogData!E126","v":0},{"$f":"IF($D129=\"*EOL*\",\"\",INT(LogData!V126))","v":{"$error":"#VALUE!"}},{"$f":"IF($D129=\"*EOL*\",\"\",LogData!V126-E129)","v":{"$error":"#VALUE!"}},{"$f":"IF(LEFT($D129,1)=\"*\",\"\",IF(LogData!S126,\"DUPE\",\"\"))","v":""},{"$f":"IF(LEFT($D129,1)=\"*\",\"\",LogData!R126)","v":"::"}]
[{"$f":"IF(LEFT($D130,1)=\"*\",\"\",LogData!C127)","v":0},{"$f":"IF(LEFT($D130,1)=\"*\",\"\",LogData!F127)","v":0},{"$f":"IF(LEFT($D130,1)=\"*\",\"\",LogData!D127)","v":0},{"$f":"LogData!E127","v":0},{"$f":"IF($D130=\"*EOL*\",\"\",INT(LogData!V127))","v":{"$error":"#VALUE!"}},{"$f":"IF($D130=\"*EOL*\",\"\",LogData!V127-E130)","v":{"$error":"#VALUE!"}},{"$f":"IF(LEFT($D130,1)=\"*\",\"\",IF(LogData!S127,\"DUPE\",\"\"))","v":""},{"$f":"IF(LEFT($D130,1)=\"*\",\"\",LogData!R127)","v":"::"}]
[{"$f":"IF(LEFT($D131,1)=\"*\",\"\",LogData!C128)","v":0},{"$f":"IF(LEFT($D131,1)=\"*\",\"\",LogData!F128)","v":0},{"$f":"IF(LEFT($D131,1)=\"*\",\"\",LogData!D128)","v":0},{"$f":"LogData!E128","v":0},{"$f":"IF($D131=\"*EOL*\",\"\",INT(LogData!V128))","v":{"$error":"#VALUE!"}},{"$f":"IF($D131=\"*EOL*\",\"\",LogData!V128-E131)","v":{"$error":"#VALUE!"}},{"$f":"IF(LEFT($D131,1)=\"*\",\"\",IF(LogData!S128,\"DUPE\",\"\"))","v":""},{"$f":"IF(LEFT($D131,1)=\"*\",\"\",LogData!R128)","v":"::"}]
[{"$f":"IF(LEFT($D132,1)=\"*\",\"\",LogData!C129)","v":0},{"$f":"IF(LEFT($D132,1)=\"*\",\"\",LogData!F129)","v":0},{"$f":"IF(LEFT($D132,1)=\"*\",\"\",LogData!D129)","v":0},{"$f":"LogData!E129","v":0},{"$f":"IF($D132=\"*EOL*\",\"\",INT(LogData!V129))","v":{"$error":"#VALUE!"}},{"$f":"IF($D132=\"*EOL*\",\"\",LogData!V129-E132)","v":{"$error":"#VALUE!"}},{"$f":"IF(LEFT($D132,1)=\"*\",\"\",IF(LogData!S129,\"DUPE\",\"\"))","v":""},{"$f":"IF(LEFT($D132,1)=\"*\",\"\",LogData!R129)","v":"::"}]
[{"$f":"IF(LEFT($D133,1)=\"*\",\"\",LogData!C130)","v":0},{"$f":"IF(LEFT($D133,1)=\"*\",\"\",LogData!F130)","v":0},{"$f":"IF(LEFT($D133,1)=\"*\",\"\",LogData!D130)","v":0},{"$f":"LogData!E130","v":0},{"$f":"IF($D133=\"*EOL*\",\"\",INT(LogData!V130))","v":{"$error":"#VALUE!"}},{"$f":"IF($D133=\"*EOL*\",\"\",LogData!V130-E133)","v":{"$error":"#VALUE!"}},{"$f":"IF(LEFT($D133,1)=\"*\",\"\",IF(LogData!S130,\"DUPE\",\"\"))","v":""},{"$f":"IF(LEFT($D133,1)=\"*\",\"\",LogData!R130)","v":"::"}]
[{"$f":"IF(LEFT($D134,1)=\"*\",\"\",LogData!C131)","v":0},{"$f":"IF(LEFT($D134,1)=\"*\",\"\",LogData!F131)","v":0},{"$f":"IF(LEFT($D134,1)=\"*\",\"\",LogData!D131)","v":0},{"$f":"LogData!E131","v":0},{"$f":"IF($D134=\"*EOL*\",\"\",INT(LogData!V131))","v":{"$error":"#VALUE!"}},{"$f":"IF($D134=\"*EOL*\",\"\",LogData!V131-E134)","v":{"$error":"#VALUE!"}},{"$f":"IF(LEFT($D134,1)=\"*\",\"\",IF(LogData!S131,\"DUPE\",\"\"))","v":""},{"$f":"IF(LEFT($D134,1)=\"*\",\"\",LogData!R131)","v":"::"}]
[{"$f":"IF(LEFT($D135,1)=\"*\",\"\",LogData!C132)","v":0},{"$f":"IF(LEFT($D135,1)=\"*\",\"\",LogData!F132)","v":0},{"$f":"IF(LEFT($D135,1)=\"*\",\"\",LogData!D132)","v":0},{"$f":"LogData!E132","v":0},{"$f":"IF($D135=\"*EOL*\",\"\",INT(LogData!V132))","v":{"$error":"#VALUE!"}},{"$f":"IF($D135=\"*EOL*\",\"\",LogData!V132-E135)","v":{"$error":"#VALUE!"}},{"$f":"IF(LEFT($D135,1)=\"*\",\"\",IF(LogData!S132,\"DUPE\",\"\"))","v":""},{"$f":"IF(LEFT($D135,1)=\"*\",\"\",LogData!R132)","v":"::"}]
[{"$f":"IF(LEFT($D136,1)=\"*\",\"\",LogData!C133)","v":0},{"$f":"IF(LEFT($D136,1)=\"*\",\"\",LogData!F133)","v":0},{"$f":"IF(LEFT($D136,1)=\"*\",\"\",LogData!D133)","v":0},{"$f":"LogData!E133","v":0},{"$f":"IF($D136=\"*EOL*\",\"\",INT(LogData!V133))","v":{"$error":"#VALUE!"}},{"$f":"IF($D136=\"*EOL*\",\"\",LogData!V133-E136)","v":{"$error":"#VALUE!"}},{"$f":"IF(LEFT($D136,1)=\"*\",\"\",IF(LogData!S133,\"DUPE\",\"\"))","v":""},{"$f":"IF(LEFT($D136,1)=\"*\",\"\",LogData!R133)","v":"::"}]
[{"$f":"IF(LEFT($D137,1)=\"*\",\"\",LogData!C134)","v":0},{"$f":"IF(LEFT($D137,1)=\"*\",\"\",LogData!F134)","v":0},{"$f":"IF(LEFT($D137,1)=\"*\",\"\",LogData!D134)","v":0},{"$f":"LogData!E134","v":0},{"$f":"IF($D137=\"*EOL*\",\"\",INT(LogData!V134))","v":{"$error":"#VALUE!"}},{"$f":"IF($D137=\"*EOL*\",\"\",LogData!V134-E137)","v":{"$error":"#VALUE!"}},{"$f":"IF(LEFT($D137,1)=\"*\",\"\",IF(LogData!S134,\"DUPE\",\"\"))","v":""},{"$f":"IF(LEFT($D137,1)=\"*\",\"\",LogData!R134)","v":"::"}]
[{"$f":"IF(LEFT($D138,1)=\"*\",\"\",LogData!C135)","v":0},{"$f":"IF(LEFT($D138,1)=\"*\",\"\",LogData!F135)","v":0},{"$f":"IF(LEFT($D138,1)=\"*\",\"\",LogData!D135)","v":0},{"$f":"LogData!E135","v":0},{"$f":"IF($D138=\"*EOL*\",\"\",INT(LogData!V135))","v":{"$error":"#VALUE!"}},{"$f":"IF($D138=\"*EOL*\",\"\",LogData!V135-E138)","v":{"$error":"#VALUE!"}},{"$f":"IF(LEFT($D138,1)=\"*\",\"\",IF(LogData!S135,\"DUPE\",\"\"))","v":""},{"$f":"IF(LEFT($D138,1)=\"*\",\"\",LogData!R135)","v":"::"}]
[{"$f":"IF(LEFT($D139,1)=\"*\",\"\",LogData!C136)","v":0},{"$f":"IF(LEFT($D139,1)=\"*\",\"\",LogData!F136)","v":0},{"$f":"IF(LEFT($D139,1)=\"*\",\"\",LogData!D136)","v":0},{"$f":"LogData!E136","v":0},{"$f":"IF($D139=\"*EOL*\",\"\",INT(LogData!V136))","v":{"$error":"#VALUE!"}},{"$f":"IF($D139=\"*EOL*\",\"\",LogData!V136-E139)","v":{"$error":"#VALUE!"}},{"$f":"IF(LEFT($D139,1)=\"*\",\"\",IF(LogData!S136,\"DUPE\",\"\"))","v":""},{"$f":"IF(LEFT($D139,1)=\"*\",\"\",LogData!R136)","v":"::"}]
[{"$f":"IF(LEFT($D140,1)=\"*\",\"\",LogData!C137)","v":0},{"$f":"IF(LEFT($D140,1)=\"*\",\"\",LogData!F137)","v":0},{"$f":"IF(LEFT($D140,1)=\"*\",\"\",LogData!D137)","v":0},{"$f":"LogData!E137","v":0},{"$f":"IF($D140=\"*EOL*\",\"\",INT(LogData!V137))","v":{"$error":"#VALUE!"}},{"$f":"IF($D140=\"*EOL*\",\"\",LogData!V137-E140)","v":{"$error":"#VALUE!"}},{"$f":"IF(LEFT($D140,1)=\"*\",\"\",IF(LogData!S137,\"DUPE\",\"\"))","v":""},{"$f":"IF(LEFT($D140,1)=\"*\",\"\",LogData!R137)","v":"::"}]
[{"$f":"IF(LEFT($D141,1)=\"*\",\"\",LogData!C138)","v":0},{"$f":"IF(LEFT($D141,1)=\"*\",\"\",LogData!F138)","v":0},{"$f":"IF(LEFT($D141,1)=\"*\",\"\",LogData!D138)","v":0},{"$f":"LogData!E138","v":0},{"$f":"IF($D141=\"*EOL*\",\"\",INT(LogData!V138))","v":{"$error":"#VALUE!"}},{"$f":"IF($D141=\"*EOL*\",\"\",LogData!V138-E141)","v":{"$error":"#VALUE!"}},{"$f":"IF(LEFT($D141,1)=\"*\",\"\",IF(LogData!S138,\"DUPE\",\"\"))","v":""},{"$f":"IF(LEFT($D141,1)=\"*\",\"\",LogData!R138)","v":"::"}]
[{"$f":"IF(LEFT($D142,1)=\"*\",\"\",LogData!C139)","v":0},{"$f":"IF(LEFT($D142,1)=\"*\",\"\",LogData!F139)","v":0},{"$f":"IF(LEFT($D142,1)=\"*\",\"\",LogData!D139)","v":0},{"$f":"LogData!E139","v":0},{"$f":"IF($D142=\"*EOL*\",\"\",INT(LogData!V139))","v":{"$error":"#VALUE!"}},{"$f":"IF($D142=\"*EOL*\",\"\",LogData!V139-E142)","v":{"$error":"#VALUE!"}},{"$f":"IF(LEFT($D142,1)=\"*\",\"\",IF(LogData!S139,\"DUPE\",\"\"))","v":""},{"$f":"IF(LEFT($D142,1)=\"*\",\"\",LogData!R139)","v":"::"}]
[{"$f":"IF(LEFT($D143,1)=\"*\",\"\",LogData!C140)","v":0},{"$f":"IF(LEFT($D143,1)=\"*\",\"\",LogData!F140)","v":0},{"$f":"IF(LEFT($D143,1)=\"*\",\"\",LogData!D140)","v":0},{"$f":"LogData!E140","v":0},{"$f":"IF($D143=\"*EOL*\",\"\",INT(LogData!V140))","v":{"$error":"#VALUE!"}},{"$f":"IF($D143=\"*EOL*\",\"\",LogData!V140-E143)","v":{"$error":"#VALUE!"}},{"$f":"IF(LEFT($D143,1)=\"*\",\"\",IF(LogData!S140,\"DUPE\",\"\"))","v":""},{"$f":"IF(LEFT($D143,1)=\"*\",\"\",LogData!R140)","v":"::"}]
[{"$f":"IF(LEFT($D144,1)=\"*\",\"\",LogData!C141)","v":""},{"$f":"IF(LEFT($D144,1)=\"*\",\"\",LogData!F141)","v":""},{"$f":"IF(LEFT($D144,1)=\"*\",\"\",LogData!D141)","v":""},{"$f":"LogData!E141","v":"*OFF*"},{"$f":"IF($D144=\"*EOL*\",\"\",INT(LogData!V141))","v":{"$error":"#VALUE!"}},{"$f":"IF($D144=\"*EOL*\",\"\",LogData!V141-E144)","v":{"$error":"#VALUE!"}},{"$f":"IF(LEFT($D144,1)=\"*\",\"\",IF(LogData!S141,\"DUPE\",\"\"))","v":""},{"$f":"IF(LEFT($D144,1)=\"*\",\"\",LogData!R141)","v":""}]
[{"$f":"IF(LEFT($D145,1)=\"*\",\"\",LogData!C142)","v":""},{"$f":"IF(LEFT($D145,1)=\"*\",\"\",LogData!F142)","v":""},{"$f":"IF(LEFT($D145,1)=\"*\",\"\",LogData!D142)","v":""},{"$f":"LogData!E142","v":"*EOL*"},{"$f":"IF($D145=\"*EOL*\",\"\",INT(LogData!V142))","v":""},{"$f":"IF($D145=\"*EOL*\",\"\",LogData!V142-E145)","v":""},{"$f":"IF(LEFT($D145,1)=\"*\",\"\",IF(LogData!S142,\"DUPE\",\"\"))","v":""},{"$f":"IF(LEFT($D145,1)=\"*\",\"\",LogData!R142)","v":""}]
[{"$f":"IF(LEFT($D146,1)=\"*\",\"\",LogData!C143)","v":""},{"$f":"IF(LEFT($D146,1)=\"*\",\"\",LogData!F143)","v":""},{"$f":"IF(LEFT($D146,1)=\"*\",\"\",LogData!D143)","v":""},{"$f":"LogData!E143","v":"*EOL*"},{"$f":"IF($D146=\"*EOL*\",\"\",INT(LogData!V143))","v":""},{"$f":"IF($D146=\"*EOL*\",\"\",LogData!V143-E146)","v":""},{"$f":"IF(LEFT($D146,1)=\"*\",\"\",IF(LogData!S143,\"DUPE\",\"\"))","v":""},{"$f":"IF(LEFT($D146,1)=\"*\",\"\",LogData!R143)","v":""}]
[{"$f":"IF(LEFT($D147,1)=\"*\",\"\",LogData!C144)","v":""},{"$f":"IF(LEFT($D147,1)=\"*\",\"\",LogData!F144)","v":""},{"$f":"IF(LEFT($D147,1)=\"*\",\"\",LogData!D144)","v":""},{"$f":"LogData!E144","v":"*EOL*"},{"$f":"IF($D147=\"*EOL*\",\"\",INT(LogData!V144))","v":""},{"$f":"IF($D147=\"*EOL*\",\"\",LogData!V144-E147)","v":""},{"$f":"IF(LEFT($D147,1)=\"*\",\"\",IF(LogData!S144,\"DUPE\",\"\"))","v":""},{"$f":"IF(LEFT($D147,1)=\"*\",\"\",LogData!R144)","v":""}]
[{"$f":"IF(LEFT($D148,1)=\"*\",\"\",LogData!C145)","v":""},{"$f":"IF(LEFT($D148,1)=\"*\",\"\",LogData!F145)","v":""},{"$f":"IF(LEFT($D148,1)=\"*\",\"\",LogData!D145)","v":""},{"$f":"LogData!E145","v":"*EOL*"},{"$f":"IF($D148=\"*EOL*\",\"\",INT(LogData!V145))","v":""},{"$f":"IF($D148=\"*EOL*\",\"\",LogData!V145-E148)","v":""},{"$f":"IF(LEFT($D148,1)=\"*\",\"\",IF(LogData!S145,\"DUPE\",\"\"))","v":""},{"$f":"IF(LEFT($D148,1)=\"*\",\"\",LogData!R145)","v":""}]
[{"$f":"IF(LEFT($D149,1)=\"*\",\"\",LogData!C146)","v":""},{"$f":"IF(LEFT($D149,1)=\"*\",\"\",LogData!F146)","v":""},{"$f":"IF(LEFT($D149,1)=\"*\",\"\",LogData!D146)","v":""},{"$f":"LogData!E146","v":"*EOL*"},{"$f":"IF($D149=\"*EOL*\",\"\",INT(LogData!V146))","v":""},{"$f":"IF($D149=\"*EOL*\",\"\",LogData!V146-E149)","v":""},{"$f":"IF(LEFT($D149,1)=\"*\",\"\",IF(LogData!S146,\"DUPE\",\"\"))","v":""},{"$f":"IF(LEFT($D149,1)=\"*\",\"\",LogData!R146)","v":""}]
[{"$f":"IF(LEFT($D150,1)=\"*\",\"\",LogData!C147)","v":""},{"$f":"IF(LEFT($D150,1)=\"*\",\"\",LogData!F147)","v":""},{"$f":"IF(LEFT($D150,1)=\"*\",\"\",LogData!D147)","v":""},{"$f":"LogData!E147","v":"*EOL*"},{"$f":"IF($D150=\"*EOL*\",\"\",INT(LogData!V147))","v":""},{"$f":"IF($D150=\"*EOL*\",\"\",LogData!V147-E150)","v":""},{"$f":"IF(LEFT($D150,1)=\"*\",\"\",IF(LogData!S147,\"DUPE\",\"\"))","v":""},{"$f":"IF(LEFT($D150,1)=\"*\",\"\",LogData!R147)","v":""}]
[{"$f":"IF(LEFT($D151,1)=\"*\",\"\",LogData!C148)","v":""},{"$f":"IF(LEFT($D151,1)=\"*\",\"\",LogData!F148)","v":""},{"$f":"IF(LEFT($D151,1)=\"*\",\"\",LogData!D148)","v":""},{"$f":"LogData!E148","v":"*EOL*"},{"$f":"IF($D151=\"*EOL*\",\"\",INT(LogData!V148))","v":""},{"$f":"IF($D151=\"*EOL*\",\"\",LogData!V148-E151)","v":""},{"$f":"IF(LEFT($D151,1)=\"*\",\"\",IF(LogData!S148,\"DUPE\",\"\"))","v":""},{"$f":"IF(LEFT($D151,1)=\"*\",\"\",LogData!R148)","v":""}]
[{"$f":"IF(LEFT($D152,1)=\"*\",\"\",LogData!C149)","v":""},{"$f":"IF(LEFT($D152,1)=\"*\",\"\",LogData!F149)","v":""},{"$f":"IF(LEFT($D152,1)=\"*\",\"\",LogData!D149)","v":""},{"$f":"LogData!E149","v":"*EOL*"},{"$f":"IF($D152=\"*EOL*\",\"\",INT(LogData!V149))","v":""},{"$f":"IF($D152=\"*EOL*\",\"\",LogData!V149-E152)","v":""},{"$f":"IF(LEFT($D152,1)=\"*\",\"\",IF(LogData!S149,\"DUPE\",\"\"))","v":""},{"$f":"IF(LEFT($D152,1)=\"*\",\"\",LogData!R149)","v":""}]
[{"$f":"IF(LEFT($D153,1)=\"*\",\"\",LogData!C150)","v":""},{"$f":"IF(LEFT($D153,1)=\"*\",\"\",LogData!F150)","v":""},{"$f":"IF(LEFT($D153,1)=\"*\",\"\",LogData!D150)","v":""},{"$f":"LogData!E150","v":"*EOL*"},{"$f":"IF($D153=\"*EOL*\",\"\",INT(LogData!V150))","v":""},{"$f":"IF($D153=\"*EOL*\",\"\",LogData!V150-E153)","v":""},{"$f":"IF(LEFT($D153,1)=\"*\",\"\",IF(LogData!S150,\"DUPE\",\"\"))","v":""},{"$f":"IF(LEFT($D153,1)=\"*\",\"\",LogData!R150)","v":""}]
[{"$f":"IF(LEFT($D154,1)=\"*\",\"\",LogData!C151)","v":""},{"$f":"IF(LEFT($D154,1)=\"*\",\"\",LogData!F151)","v":""},{"$f":"IF(LEFT($D154,1)=\"*\",\"\",LogData!D151)","v":""},{"$f":"LogData!E151","v":"*EOL*"},{"$f":"IF($D154=\"*EOL*\",\"\",INT(LogData!V151))","v":""},{"$f":"IF($D154=\"*EOL*\",\"\",LogData!V151-E154)","v":""},{"$f":"IF(LEFT($D154,1)=\"*\",\"\",IF(LogData!S151,\"DUPE\",\"\"))","v":""},{"$f":"IF(LEFT($D154,1)=\"*\",\"\",LogData!R151)","v":""}]
[{"$f":"IF(LEFT($D155,1)=\"*\",\"\",LogData!C152)","v":""},{"$f":"IF(LEFT($D155,1)=\"*\",\"\",LogData!F152)","v":""},{"$f":"IF(LEFT($D155,1)=\"*\",\"\",LogData!D152)","v":""},{"$f":"LogData!E152","v":"*EOL*"},{"$f":"IF($D155=\"*EOL*\",\"\",INT(LogData!V152))","v":""},{"$f":"IF($D155=\"*EOL*\",\"\",LogData!V152-E155)","v":""},{"$f":"IF(LEFT($D155,1)=\"*\",\"\",IF(LogData!S152,\"DUPE\",\"\"))","v":""},{"$f":"IF(LEFT($D155,1)=\"*\",\"\",LogData!R152)","v":""}]
[{"$f":"IF(LEFT($D156,1)=\"*\",\"\",LogData!C153)","v":""},{"$f":"IF(LEFT($D156,1)=\"*\",\"\",LogData!F153)","v":""},{"$f":"IF(LEFT($D156,1)=\"*\",\"\",LogData!D153)","v":""},{"$f":"LogData!E153","v":"*EOL*"},{"$f":"IF($D156=\"*EOL*\",\"\",INT(LogData!V153))","v":""},{"$f":"IF($D156=\"*EOL*\",\"\",LogData!V153-E156)","v":""},{"$f":"IF(LEFT($D156,1)=\"*\",\"\",IF(LogData!S153,\"DUPE\",\"\"))","v":""},{"$f":"IF(LEFT($D156,1)=\"*\",\"\",LogData!R153)","v":""}]
[{"$f":"IF(LEFT($D157,1)=\"*\",\"\",LogData!C154)","v":""},{"$f":"IF(LEFT($D157,1)=\"*\",\"\",LogData!F154)","v":""},{"$f":"IF(LEFT($D157,1)=\"*\",\"\",LogData!D154)","v":""},{"$f":"LogData!E154","v":"*EOL*"},{"$f":"IF($D157=\"*EOL*\",\"\",INT(LogData!V154))","v":""},{"$f":"IF($D157=\"*EOL*\",\"\",LogData!V154-E157)","v":""},{"$f":"IF(LEFT($D157,1)=\"*\",\"\",IF(LogData!S154,\"DUPE\",\"\"))","v":""},{"$f":"IF(LEFT($D157,1)=\"*\",\"\",LogData!R154)","v":""}]
[{"$f":"IF(LEFT($D158,1)=\"*\",\"\",LogData!C155)","v":""},{"$f":"IF(LEFT($D158,1)=\"*\",\"\",LogData!F155)","v":""},{"$f":"IF(LEFT($D158,1)=\"*\",\"\",LogData!D155)","v":""},{"$f":"LogData!E155","v":"*EOL*"},{"$f":"IF($D158=\"*EOL*\",\"\",INT(LogData!V155))","v":""},{"$f":"IF($D158=\"*EOL*\",\"\",LogData!V155-E158)","v":""},{"$f":"IF(LEFT($D158,1)=\"*\",\"\",IF(LogData!S155,\"DUPE\",\"\"))","v":""},{"$f":"IF(LEFT($D158,1)=\"*\",\"\",LogData!R155)","v":""}]
[{"$f":"IF(LEFT($D159,1)=\"*\",\"\",LogData!C156)","v":""},{"$f":"IF(LEFT($D159,1)=\"*\",\"\",LogData!F156)","v":""},{"$f":"IF(LEFT($D159,1)=\"*\",\"\",LogData!D156)","v":""},{"$f":"LogData!E156","v":"*EOL*"},{"$f":"IF($D159=\"*EOL*\",\"\",INT(LogData!V156))","v":""},{"$f":"IF($D159=\"*EOL*\",\"\",LogData!V156-E159)","v":""},{"$f":"IF(LEFT($D159,1)=\"*\",\"\",IF(LogData!S156,\"DUPE\",\"\"))","v":""},{"$f":"IF(LEFT($D159,1)=\"*\",\"\",LogData!R156)","v":""}]
[{"$f":"IF(LEFT($D160,1)=\"*\",\"\",LogData!C157)","v":""},{"$f":"IF(LEFT($D160,1)=\"*\",\"\",LogData!F157)","v":""},{"$f":"IF(LEFT($D160,1)=\"*\",\"\",LogData!D157)","v":""},{"$f":"LogData!E157","v":"*EOL*"},{"$f":"IF($D160=\"*EOL*\",\"\",INT(LogData!V157))","v":""},{"$f":"IF($D160=\"*EOL*\",\"\",LogData!V157-E160)","v":""},{"$f":"IF(LEFT($D160,1)=\"*\",\"\",IF(LogData!S157,\"DUPE\",\"\"))","v":""},{"$f":"IF(LEFT($D160,1)=\"*\",\"\",LogData!R157)","v":""}]
[{"$f":"IF(LEFT($D161,1)=\"*\",\"\",LogData!C158)","v":""},{"$f":"IF(LEFT($D161,1)=\"*\",\"\",LogData!F158)","v":""},{"$f":"IF(LEFT($D161,1)=\"*\",\"\",LogData!D158)","v":""},{"$f":"LogData!E158","v":"*EOL*"},{"$f":"IF($D161=\"*EOL*\",\"\",INT(LogData!V158))","v":""},{"$f":"IF($D161=\"*EOL*\",\"\",LogData!V158-E161)","v":""},{"$f":"IF(LEFT($D161,1)=\"*\",\"\",IF(LogData!S158,\"DUPE\",\"\"))","v":""},{"$f":"IF(LEFT($D161,1)=\"*\",\"\",LogData!R158)","v":""}]
[{"$f":"IF(LEFT($D162,1)=\"*\",\"\",LogData!C159)","v":""},{"$f":"IF(LEFT($D162,1)=\"*\",\"\",LogData!F159)","v":""},{"$f":"IF(LEFT($D162,1)=\"*\",\"\",LogData!D159)","v":""},{"$f":"LogData!E159","v":"*EOL*"},{"$f":"IF($D162=\"*EOL*\",\"\",INT(LogData!V159))","v":""},{"$f":"IF($D162=\"*EOL*\",\"\",LogData!V159-E162)","v":""},{"$f":"IF(LEFT($D162,1)=\"*\",\"\",IF(LogData!S159,\"DUPE\",\"\"))","v":""},{"$f":"IF(LEFT($D162,1)=\"*\",\"\",LogData!R159)","v":""}]
[{"$f":"IF(LEFT($D163,1)=\"*\",\"\",LogData!C160)","v":""},{"$f":"IF(LEFT($D163,1)=\"*\",\"\",LogData!F160)","v":""},{"$f":"IF(LEFT($D163,1)=\"*\",\"\",LogData!D160)","v":""},{"$f":"LogData!E160","v":"*EOL*"},{"$f":"IF($D163=\"*EOL*\",\"\",INT(LogData!V160))","v":""},{"$f":"IF($D163=\"*EOL*\",\"\",LogData!V160-E163)","v":""},{"$f":"IF(LEFT($D163,1)=\"*\",\"\",IF(LogData!S160,\"DUPE\",\"\"))","v":""},{"$f":"IF(LEFT($D163,1)=\"*\",\"\",LogData!R160)","v":""}]
[{"$f":"IF(LEFT($D164,1)=\"*\",\"\",LogData!C161)","v":""},{"$f":"IF(LEFT($D164,1)=\"*\",\"\",LogData!F161)","v":""},{"$f":"IF(LEFT($D164,1)=\"*\",\"\",LogData!D161)","v":""},{"$f":"LogData!E161","v":"*EOL*"},{"$f":"IF($D164=\"*EOL*\",\"\",INT(LogData!V161))","v":""},{"$f":"IF($D164=\"*EOL*\",\"\",LogData!V161-E164)","v":""},{"$f":"IF(LEFT($D164,1)=\"*\",\"\",IF(LogData!S161,\"DUPE\",\"\"))","v":""},{"$f":"IF(LEFT($D164,1)=\"*\",\"\",LogData!R161)","v":""}]
[{"$f":"IF(LEFT($D165,1)=\"*\",\"\",LogData!C162)","v":""},{"$f":"IF(LEFT($D165,1)=\"*\",\"\",LogData!F162)","v":""},{"$f":"IF(LEFT($D165,1)=\"*\",\"\",LogData!D162)","v":""},{"$f":"LogData!E162","v":"*EOL*"},{"$f":"IF($D165=\"*EOL*\",\"\",INT(LogData!V162))","v":""},{"$f":"IF($D165=\"*EOL*\",\"\",LogData!V162-E165)","v":""},{"$f":"IF(LEFT($D165,1)=\"*\",\"\",IF(LogData!S162,\"DUPE\",\"\"))","v":""},{"$f":"IF(LEFT($D165,1)=\"*\",\"\",LogData!R162)","v":""}]
[{"$f":"IF(LEFT($D166,1)=\"*\",\"\",LogData!C163)","v":""},{"$f":"IF(LEFT($D166,1)=\"*\",\"\",LogData!F163)","v":""},{"$f":"IF(LEFT($D166,1)=\"*\",\"\",LogData!D163)","v":""},{"$f":"LogData!E163","v":"*EOL*"},{"$f":"IF($D166=\"*EOL*\",\"\",INT(LogData!V163))","v":""},{"$f":"IF($D166=\"*EOL*\",\"\",LogData!V163-E166)","v":""},{"$f":"IF(LEFT($D166,1)=\"*\",\"\",IF(LogData!S163,\"DUPE\",\"\"))","v":""},{"$f":"IF(LEFT($D166,1)=\"*\",\"\",LogData!R163)","v":""}]
[{"$f":"IF(LEFT($D167,1)=\"*\",\"\",LogData!C164)","v":""},{"$f":"IF(LEFT($D167,1)=\"*\",\"\",LogData!F164)","v":""},{"$f":"IF(LEFT($D167,1)=\"*\",\"\",LogData!D164)","v":""},{"$f":"LogData!E164","v":"*EOL*"},{"$f":"IF($D167=\"*EOL*\",\"\",INT(LogData!V164))","v":""},{"$f":"IF($D167=\"*EOL*\",\"\",LogData!V164-E167)","v":""},{"$f":"IF(LEFT($D167,1)=\"*\",\"\",IF(LogData!S164,\"DUPE\",\"\"))","v":""},{"$f":"IF(LEFT($D167,1)=\"*\",\"\",LogData!R164)","v":""}]
[{"$f":"IF(LEFT($D168,1)=\"*\",\"\",LogData!C165)","v":""},{"$f":"IF(LEFT($D168,1)=\"*\",\"\",LogData!F165)","v":""},{"$f":"IF(LEFT($D168,1)=\"*\",\"\",LogData!D165)","v":""},{"$f":"LogData!E165","v":"*EOL*"},{"$f":"IF($D168=\"*EOL*\",\"\",INT(LogData!V165))","v":""},{"$f":"IF($D168=\"*EOL*\",\"\",LogData!V165-E168)","v":""},{"$f":"IF(LEFT($D168,1)=\"*\",\"\",IF(LogData!S165,\"DUPE\",\"\"))","v":""},{"$f":"IF(LEFT($D168,1)=\"*\",\"\",LogData!R165)","v":""}]
[{"$f":"IF(LEFT($D169,1)=\"*\",\"\",LogData!C166)","v":""},{"$f":"IF(LEFT($D169,1)=\"*\",\"\",LogData!F166)","v":""},{"$f":"IF(LEFT($D169,1)=\"*\",\"\",LogData!D166)","v":""},{"$f":"LogData!E166","v":"*EOL*"},{"$f":"IF($D169=\"*EOL*\",\"\",INT(LogData!V166))","v":""},{"$f":"IF($D169=\"*EOL*\",\"\",LogData!V166-E169)","v":""},{"$f":"IF(LEFT($D169,1)=\"*\",\"\",IF(LogData!S166,\"DUPE\",\"\"))","v":""},{"$f":"IF(LEFT($D169,1)=\"*\",\"\",LogData!R166)","v":""}]
[{"$f":"IF(LEFT($D170,1)=\"*\",\"\",LogData!C167)","v":""},{"$f":"IF(LEFT($D170,1)=\"*\",\"\",LogData!F167)","v":""},{"$f":"IF(LEFT($D170,1)=\"*\",\"\",LogData!D167)","v":""},{"$f":"LogData!E167","v":"*EOL*"},{"$f":"IF($D170=\"*EOL*\",\"\",INT(LogData!V167))","v":""},{"$f":"IF($D170=\"*EOL*\",\"\",LogData!V167-E170)","v":""},{"$f":"IF(LEFT($D170,1)=\"*\",\"\",IF(LogData!S167,\"DUPE\",\"\"))","v":""},{"$f":"IF(LEFT($D170,1)=\"*\",\"\",LogData!R167)","v":""}]
[{"$f":"IF(LEFT($D171,1)=\"*\",\"\",LogData!C168)","v":""},{"$f":"IF(LEFT($D171,1)=\"*\",\"\",LogData!F168)","v":""},{"$f":"IF(LEFT($D171,1)=\"*\",\"\",LogData!D168)","v":""},{"$f":"LogData!E168","v":"*EOL*"},{"$f":"IF($D171=\"*EOL*\",\"\",INT(LogData!V168))","v":""},{"$f":"IF($D171=\"*EOL*\",\"\",LogData!V168-E171)","v":""},{"$f":"IF(LEFT($D171,1)=\"*\",\"\",IF(LogData!S168,\"DUPE\",\"\"))","v":""},{"$f":"IF(LEFT($D171,1)=\"*\",\"\",LogData!R168)","v":""}]
[{"$f":"IF(LEFT($D172,1)=\"*\",\"\",LogData!C169)","v":""},{"$f":"IF(LEFT($D172,1)=\"*\",\"\",LogData!F169)","v":""},{"$f":"IF(LEFT($D172,1)=\"*\",\"\",LogData!D169)","v":""},{"$f":"LogData!E169","v":"*EOL*"},{"$f":"IF($D172=\"*EOL*\",\"\",INT(LogData!V169))","v":""},{"$f":"IF($D172=\"*EOL*\",\"\",LogData!V169-E172)","v":""},{"$f":"IF(LEFT($D172,1)=\"*\",\"\",IF(LogData!S169,\"DUPE\",\"\"))","v":""},{"$f":"IF(LEFT($D172,1)=\"*\",\"\",LogData!R169)","v":""}]
[{"$f":"IF(LEFT($D173,1)=\"*\",\"\",LogData!C170)","v":""},{"$f":"IF(LEFT($D173,1)=\"*\",\"\",LogData!F170)","v":""},{"$f":"IF(LEFT($D173,1)=\"*\",\"\",LogData!D170)","v":""},{"$f":"LogData!E170","v":"*EOL*"},{"$f":"IF($D173=\"*EOL*\",\"\",INT(LogData!V170))","v":""},{"$f":"IF($D173=\"*EOL*\",\"\",LogData!V170-E173)","v":""},{"$f":"IF(LEFT($D173,1)=\"*\",\"\",IF(LogData!S170,\"DUPE\",\"\"))","v":""},{"$f":"IF(LEFT($D173,1)=\"*\",\"\",LogData!R170)","v":""}]
[{"$f":"IF(LEFT($D174,1)=\"*\",\"\",LogData!C171)","v":""},{"$f":"IF(LEFT($D174,1)=\"*\",\"\",LogData!F171)","v":""},{"$f":"IF(LEFT($D174,1)=\"*\",\"\",LogData!D171)","v":""},{"$f":"LogData!E171","v":"*EOL*"},{"$f":"IF($D174=\"*EOL*\",\"\",INT(LogData!V171))","v":""},{"$f":"IF($D174=\"*EOL*\",\"\",LogData!V171-E174)","v":""},{"$f":"IF(LEFT($D174,1)=\"*\",\"\",IF(LogData!S171,\"DUPE\",\"\"))","v":""},{"$f":"IF(LEFT($D174,1)=\"*\",\"\",LogData!R171)","v":""}]
[{"$f":"IF(LEFT($D175,1)=\"*\",\"\",LogData!C172)","v":""},{"$f":"IF(LEFT($D175,1)=\"*\",\"\",LogData!F172)","v":""},{"$f":"IF(LEFT($D175,1)=\"*\",\"\",LogData!D172)","v":""},{"$f":"LogData!E172","v":"*EOL*"},{"$f":"IF($D175=\"*EOL*\",\"\",INT(LogData!V172))","v":""},{"$f":"IF($D175=\"*EOL*\",\"\",LogData!V172-E175)","v":""},{"$f":"IF(LEFT($D175,1)=\"*\",\"\",IF(LogData!S172,\"DUPE\",\"\"))","v":""},{"$f":"IF(LEFT($D175,1)=\"*\",\"\",LogData!R172)","v":""}]
[{"$f":"IF(LEFT($D176,1)=\"*\",\"\",LogData!C173)","v":""},{"$f":"IF(LEFT($D176,1)=\"*\",\"\",LogData!F173)","v":""},{"$f":"IF(LEFT($D176,1)=\"*\",\"\",LogData!D173)","v":""},{"$f":"LogData!E173","v":"*EOL*"},{"$f":"IF($D176=\"*EOL*\",\"\",INT(LogData!V173))","v":""},{"$f":"IF($D176=\"*EOL*\",\"\",LogData!V173-E176)","v":""},{"$f":"IF(LEFT($D176,1)=\"*\",\"\",IF(LogData!S173,\"DUPE\",\"\"))","v":""},{"$f":"IF(LEFT($D176,1)=\"*\",\"\",LogData!R173)","v":""}]
[{"$f":"IF(LEFT($D177,1)=\"*\",\"\",LogData!C174)","v":""},{"$f":"IF(LEFT($D177,1)=\"*\",\"\",LogData!F174)","v":""},{"$f":"IF(LEFT($D177,1)=\"*\",\"\",LogData!D174)","v":""},{"$f":"LogData!E174","v":"*EOL*"},{"$f":"IF($D177=\"*EOL*\",\"\",INT(LogData!V174))","v":""},{"$f":"IF($D177=\"*EOL*\",\"\",LogData!V174-E177)","v":""},{"$f":"IF(LEFT($D177,1)=\"*\",\"\",IF(LogData!S174,\"DUPE\",\"\"))","v":""},{"$f":"IF(LEFT($D177,1)=\"*\",\"\",LogData!R174)","v":""}]
[{"$f":"IF(LEFT($D178,1)=\"*\",\"\",LogData!C175)","v":""},{"$f":"IF(LEFT($D178,1)=\"*\",\"\",LogData!F175)","v":""},{"$f":"IF(LEFT($D178,1)=\"*\",\"\",LogData!D175)","v":""},{"$f":"LogData!E175","v":"*EOL*"},{"$f":"IF($D178=\"*EOL*\",\"\",INT(LogData!V175))","v":""},{"$f":"IF($D178=\"*EOL*\",\"\",LogData!V175-E178)","v":""},{"$f":"IF(LEFT($D178,1)=\"*\",\"\",IF(LogData!S175,\"DUPE\",\"\"))","v":""},{"$f":"IF(LEFT($D178,1)=\"*\",\"\",LogData!R175)","v":""}]
[{"$f":"IF(LEFT($D179,1)=\"*\",\"\",LogData!C176)","v":""},{"$f":"IF(LEFT($D179,1)=\"*\",\"\",LogData!F176)","v":""},{"$f":"IF(LEFT($D179,1)=\"*\",\"\",LogData!D176)","v":""},{"$f":"LogData!E176","v":"*EOL*"},{"$f":"IF($D179=\"*EOL*\",\"\",INT(LogData!V176))","v":""},{"$f":"IF($D179=\"*EOL*\",\"\",LogData!V176-E179)","v":""},{"$f":"IF(LEFT($D179,1)=\"*\",\"\",IF(LogData!S176,\"DUPE\",\"\"))","v":""},{"$f":"IF(LEFT($D179,1)=\"*\",\"\",LogData!R176)","v":""}]
[{"$f":"IF(LEFT($D180,1)=\"*\",\"\",LogData!C177)","v":""},{"$f":"IF(LEFT($D180,1)=\"*\",\"\",LogData!F177)","v":""},{"$f":"IF(LEFT($D180,1)=\"*\",\"\",LogData!D177)","v":""},{"$f":"LogData!E177","v":"*EOL*"},{"$f":"IF($D180=\"*EOL*\",\"\",INT(LogData!V177))","v":""},{"$f":"IF($D180=\"*EOL*\",\"\",LogData!V177-E180)","v":""},{"$f":"IF(LEFT($D180,1)=\"*\",\"\",IF(LogData!S177,\"DUPE\",\"\"))","v":""},{"$f":"IF(LEFT($D180,1)=\"*\",\"\",LogData!R177)","v":""}]
[{"$f":"IF(LEFT($D181,1)=\"*\",\"\",LogData!C178)","v":""},{"$f":"IF(LEFT($D181,1)=\"*\",\"\",LogData!F178)","v":""},{"$f":"IF(LEFT($D181,1)=\"*\",\"\",LogData!D178)","v":""},{"$f":"LogData!E178","v":"*EOL*"},{"$f":"IF($D181=\"*EOL*\",\"\",INT(LogData!V178))","v":""},{"$f":"IF($D181=\"*EOL*\",\"\",LogData!V178-E181)","v":""},{"$f":"IF(LEFT($D181,1)=\"*\",\"\",IF(LogData!S178,\"DUPE\",\"\"))","v":""},{"$f":"IF(LEFT($D181,1)=\"*\",\"\",LogData!R178)","v":""}]
[{"$f":"IF(LEFT($D182,1)=\"*\",\"\",LogData!C179)","v":""},{"$f":"IF(LEFT($D182,1)=\"*\",\"\",LogData!F179)","v":""},{"$f":"IF(LEFT($D182,1)=\"*\",\"\",LogData!D179)","v":""},{"$f":"LogData!E179","v":"*EOL*"},{"$f":"IF($D182=\"*EOL*\",\"\",INT(LogData!V179))","v":""},{"$f":"IF($D182=\"*EOL*\",\"\",LogData!V179-E182)","v":""},{"$f":"IF(LEFT($D182,1)=\"*\",\"\",IF(LogData!S179,\"DUPE\",\"\"))","v":""},{"$f":"IF(LEFT($D182,1)=\"*\",\"\",LogData!R179)","v":""}]
[{"$f":"IF(LEFT($D183,1)=\"*\",\"\",LogData!C180)","v":""},{"$f":"IF(LEFT($D183,1)=\"*\",\"\",LogData!F180)","v":""},{"$f":"IF(LEFT($D183,1)=\"*\",\"\",LogData!D180)","v":""},{"$f":"LogData!E180","v":"*EOL*"},{"$f":"IF($D183=\"*EOL*\",\"\",INT(LogData!V180))","v":""},{"$f":"IF($D183=\"*EOL*\",\"\",LogData!V180-E183)","v":""},{"$f":"IF(LEFT($D183,1)=\"*\",\"\",IF(LogData!S180,\"DUPE\",\"\"))","v":""},{"$f":"IF(LEFT($D183,1)=\"*\",\"\",LogData!R180)","v":""}]
[{"$f":"IF(LEFT($D184,1)=\"*\",\"\",LogData!C181)","v":""},{"$f":"IF(LEFT($D184,1)=\"*\",\"\",LogData!F181)","v":""},{"$f":"IF(LEFT($D184,1)=\"*\",\"\",LogData!D181)","v":""},{"$f":"LogData!E181","v":"*EOL*"},{"$f":"IF($D184=\"*EOL*\",\"\",INT(LogData!V181))","v":""},{"$f":"IF($D184=\"*EOL*\",\"\",LogData!V181-E184)","v":""},{"$f":"IF(LEFT($D184,1)=\"*\",\"\",IF(LogData!S181,\"DUPE\",\"\"))","v":""},{"$f":"IF(LEFT($D184,1)=\"*\",\"\",LogData!R181)","v":""}]
[{"$f":"IF(LEFT($D185,1)=\"*\",\"\",LogData!C182)","v":""},{"$f":"IF(LEFT($D185,1)=\"*\",\"\",LogData!F182)","v":""},{"$f":"IF(LEFT($D185,1)=\"*\",\"\",LogData!D182)","v":""},{"$f":"LogData!E182","v":"*EOL*"},{"$f":"IF($D185=\"*EOL*\",\"\",INT(LogData!V182))","v":""},{"$f":"IF($D185=\"*EOL*\",\"\",LogData!V182-E185)","v":""},{"$f":"IF(LEFT($D185,1)=\"*\",\"\",IF(LogData!S182,\"DUPE\",\"\"))","v":""},{"$f":"IF(LEFT($D185,1)=\"*\",\"\",LogData!R182)","v":""}]
[{"$f":"IF(LEFT($D186,1)=\"*\",\"\",LogData!C183)","v":""},{"$f":"IF(LEFT($D186,1)=\"*\",\"\",LogData!F183)","v":""},{"$f":"IF(LEFT($D186,1)=\"*\",\"\",LogData!D183)","v":""},{"$f":"LogData!E183","v":"*EOL*"},{"$f":"IF($D186=\"*EOL*\",\"\",INT(LogData!V183))","v":""},{"$f":"IF($D186=\"*EOL*\",\"\",LogData!V183-E186)","v":""},{"$f":"IF(LEFT($D186,1)=\"*\",\"\",IF(LogData!S183,\"DUPE\",\"\"))","v":""},{"$f":"IF(LEFT($D186,1)=\"*\",\"\",LogData!R183)","v":""}]
[{"$f":"IF(LEFT($D187,1)=\"*\",\"\",LogData!C184)","v":""},{"$f":"IF(LEFT($D187,1)=\"*\",\"\",LogData!F184)","v":""},{"$f":"IF(LEFT($D187,1)=\"*\",\"\",LogData!D184)","v":""},{"$f":"LogData!E184","v":"*EOL*"},{"$f":"IF($D187=\"*EOL*\",\"\",INT(LogData!V184))","v":""},{"$f":"IF($D187=\"*EOL*\",\"\",LogData!V184-E187)","v":""},{"$f":"IF(LEFT($D187,1)=\"*\",\"\",IF(LogData!S184,\"DUPE\",\"\"))","v":""},{"$f":"IF(LEFT($D187,1)=\"*\",\"\",LogData!R184)","v":""}]
[{"$f":"IF(LEFT($D188,1)=\"*\",\"\",LogData!C185)","v":""},{"$f":"IF(LEFT($D188,1)=\"*\",\"\",LogData!F185)","v":""},{"$f":"IF(LEFT($D188,1)=\"*\",\"\",LogData!D185)","v":""},{"$f":"LogData!E185","v":"*EOL*"},{"$f":"IF($D188=\"*EOL*\",\"\",INT(LogData!V185))","v":""},{"$f":"IF($D188=\"*EOL*\",\"\",LogData!V185-E188)","v":""},{"$f":"IF(LEFT($D188,1)=\"*\",\"\",IF(LogData!S185,\"DUPE\",\"\"))","v":""},{"$f":"IF(LEFT($D188,1)=\"*\",\"\",LogData!R185)","v":""}]
[{"$f":"IF(LEFT($D189,1)=\"*\",\"\",LogData!C186)","v":""},{"$f":"IF(LEFT($D189,1)=\"*\",\"\",LogData!F186)","v":""},{"$f":"IF(LEFT($D189,1)=\"*\",\"\",LogData!D186)","v":""},{"$f":"LogData!E186","v":"*EOL*"},{"$f":"IF($D189=\"*EOL*\",\"\",INT(LogData!V186))","v":""},{"$f":"IF($D189=\"*EOL*\",\"\",LogData!V186-E189)","v":""},{"$f":"IF(LEFT($D189,1)=\"*\",\"\",IF(LogData!S186,\"DUPE\",\"\"))","v":""},{"$f":"IF(LEFT($D189,1)=\"*\",\"\",LogData!R186)","v":""}]
[{"$f":"IF(LEFT($D190,1)=\"*\",\"\",LogData!C187)","v":""},{"$f":"IF(LEFT($D190,1)=\"*\",\"\",LogData!F187)","v":""},{"$f":"IF(LEFT($D190,1)=\"*\",\"\",LogData!D187)","v":""},{"$f":"LogData!E187","v":"*EOL*"},{"$f":"IF($D190=\"*EOL*\",\"\",INT(LogData!V187))","v":""},{"$f":"IF($D190=\"*EOL*\",\"\",LogData!V187-E190)","v":""},{"$f":"IF(LEFT($D190,1)=\"*\",\"\",IF(LogData!S187,\"DUPE\",\"\"))","v":""},{"$f":"IF(LEFT($D190,1)=\"*\",\"\",LogData!R187)","v":""}]
[{"$f":"IF(LEFT($D191,1)=\"*\",\"\",LogData!C188)","v":""},{"$f":"IF(LEFT($D191,1)=\"*\",\"\",LogData!F188)","v":""},{"$f":"IF(LEFT($D191,1)=\"*\",\"\",LogData!D188)","v":""},{"$f":"LogData!E188","v":"*EOL*"},{"$f":"IF($D191=\"*EOL*\",\"\",INT(LogData!V188))","v":""},{"$f":"IF($D191=\"*EOL*\",\"\",LogData!V188-E191)","v":""},{"$f":"IF(LEFT($D191,1)=\"*\",\"\",IF(LogData!S188,\"DUPE\",\"\"))","v":""},{"$f":"IF(LEFT($D191,1)=\"*\",\"\",LogData!R188)","v":""}]
[{"$f":"IF(LEFT($D192,1)=\"*\",\"\",LogData!C189)","v":""},{"$f":"IF(LEFT($D192,1)=\"*\",\"\",LogData!F189)","v":""},{"$f":"IF(LEFT($D192,1)=\"*\",\"\",LogData!D189)","v":""},{"$f":"LogData!E189","v":"*EOL*"},{"$f":"IF($D192=\"*EOL*\",\"\",INT(LogData!V189))","v":""},{"$f":"IF($D192=\"*EOL*\",\"\",LogData!V189-E192)","v":""},{"$f":"IF(LEFT($D192,1)=\"*\",\"\",IF(LogData!S189,\"DUPE\",\"\"))","v":""},{"$f":"IF(LEFT($D192,1)=\"*\",\"\",LogData!R189)","v":""}]
[{"$f":"IF(LEFT($D193,1)=\"*\",\"\",LogData!C190)","v":""},{"$f":"IF(LEFT($D193,1)=\"*\",\"\",LogData!F190)","v":""},{"$f":"IF(LEFT($D193,1)=\"*\",\"\",LogData!D190)","v":""},{"$f":"LogData!E190","v":"*EOL*"},{"$f":"IF($D193=\"*EOL*\",\"\",INT(LogData!V190))","v":""},{"$f":"IF($D193=\"*EOL*\",\"\",LogData!V190-E193)","v":""},{"$f":"IF(LEFT($D193,1)=\"*\",\"\",IF(LogData!S190,\"DUPE\",\"\"))","v":""},{"$f":"IF(LEFT($D193,1)=\"*\",\"\",LogData!R190)","v":""}]
[{"$f":"IF(LEFT($D194,1)=\"*\",\"\",LogData!C191)","v":""},{"$f":"IF(LEFT($D194,1)=\"*\",\"\",LogData!F191)","v":""},{"$f":"IF(LEFT($D194,1)=\"*\",\"\",LogData!D191)","v":""},{"$f":"LogData!E191","v":"*EOL*"},{"$f":"IF($D194=\"*EOL*\",\"\",INT(LogData!V191))","v":""},{"$f":"IF($D194=\"*EOL*\",\"\",LogData!V191-E194)","v":""},{"$f":"IF(LEFT($D194,1)=\"*\",\"\",IF(LogData!S191,\"DUPE\",\"\"))","v":""},{"$f":"IF(LEFT($D194,1)=\"*\",\"\",LogData!R191)","v":""}]
[{"$f":"IF(LEFT($D195,1)=\"*\",\"\",LogData!C192)","v":""},{"$f":"IF(LEFT($D195,1)=\"*\",\"\",LogData!F192)","v":""},{"$f":"IF(LEFT($D195,1)=\"*\",\"\",LogData!D192)","v":""},{"$f":"LogData!E192","v":"*EOL*"},{"$f":"IF($D195=\"*EOL*\",\"\",INT(LogData!V192))","v":""},{"$f":"IF($D195=\"*EOL*\",\"\",LogData!V192-E195)","v":""},{"$f":"IF(LEFT($D195,1)=\"*\",\"\",IF(LogData!S192,\"DUPE\",\"\"))","v":""},{"$f":"IF(LEFT($D195,1)=\"*\",\"\",LogData!R192)","v":""}]
[{"$f":"IF(LEFT($D196,1)=\"*\",\"\",LogData!C193)","v":""},{"$f":"IF(LEFT($D196,1)=\"*\",\"\",LogData!F193)","v":""},{"$f":"IF(LEFT($D196,1)=\"*\",\"\",LogData!D193)","v":""},{"$f":"LogData!E193","v":"*EOL*"},{"$f":"IF($D196=\"*EOL*\",\"\",INT(LogData!V193))","v":""},{"$f":"IF($D196=\"*EOL*\",\"\",LogData!V193-E196)","v":""},{"$f":"IF(LEFT($D196,1)=\"*\",\"\",IF(LogData!S193,\"DUPE\",\"\"))","v":""},{"$f":"IF(LEFT($D196,1)=\"*\",\"\",LogData!R193)","v":""}]
[{"$f":"IF(LEFT($D197,1)=\"*\",\"\",LogData!C194)","v":""},{"$f":"IF(LEFT($D197,1)=\"*\",\"\",LogData!F194)","v":""},{"$f":"IF(LEFT($D197,1)=\"*\",\"\",LogData!D194)","v":""},{"$f":"LogData!E194","v":"*EOL*"},{"$f":"IF($D197=\"*EOL*\",\"\",INT(LogData!V194))","v":""},{"$f":"IF($D197=\"*EOL*\",\"\",LogData!V194-E197)","v":""},{"$f":"IF(LEFT($D197,1)=\"*\",\"\",IF(LogData!S194,\"DUPE\",\"\"))","v":""},{"$f":"IF(LEFT($D197,1)=\"*\",\"\",LogData!R194)","v":""}]
[{"$f":"IF(LEFT($D198,1)=\"*\",\"\",LogData!C195)","v":""},{"$f":"IF(LEFT($D198,1)=\"*\",\"\",LogData!F195)","v":""},{"$f":"IF(LEFT($D198,1)=\"*\",\"\",LogData!D195)","v":""},{"$f":"LogData!E195","v":"*EOL*"},{"$f":"IF($D198=\"*EOL*\",\"\",INT(LogData!V195))","v":""},{"$f":"IF($D198=\"*EOL*\",\"\",LogData!V195-E198)","v":""},{"$f":"IF(LEFT($D198,1)=\"*\",\"\",IF(LogData!S195,\"DUPE\",\"\"))","v":""},{"$f":"IF(LEFT($D198,1)=\"*\",\"\",LogData!R195)","v":""}]
[{"$f":"IF(LEFT($D199,1)=\"*\",\"\",LogData!C196)","v":""},{"$f":"IF(LEFT($D199,1)=\"*\",\"\",LogData!F196)","v":""},{"$f":"IF(LEFT($D199,1)=\"*\",\"\",LogData!D196)","v":""},{"$f":"LogData!E196","v":"*EOL*"},{"$f":"IF($D199=\"*EOL*\",\"\",INT(LogData!V196))","v":""},{"$f":"IF($D199=\"*EOL*\",\"\",LogData!V196-E199)","v":""},{"$f":"IF(LEFT($D199,1)=\"*\",\"\",IF(LogData!S196,\"DUPE\",\"\"))","v":""},{"$f":"IF(LEFT($D199,1)=\"*\",\"\",LogData!R196)","v":""}]
[{"$f":"IF(LEFT($D200,1)=\"*\",\"\",LogData!C197)","v":""},{"$f":"IF(LEFT($D200,1)=\"*\",\"\",LogData!F197)","v":""},{"$f":"IF(LEFT($D200,1)=\"*\",\"\",LogData!D197)","v":""},{"$f":"LogData!E197","v":"*EOL*"},{"$f":"IF($D200=\"*EOL*\",\"\",INT(LogData!V197))","v":""},{"$f":"IF($D200=\"*EOL*\",\"\",LogData!V197-E200)","v":""},{"$f":"IF(LEFT($D200,1)=\"*\",\"\",IF(LogData!S197,\"DUPE\",\"\"))","v":""},{"$f":"IF(LEFT($D200,1)=\"*\",\"\",LogData!R197)","v":""}]
[{"$f":"IF(LEFT($D201,1)=\"*\",\"\",LogData!C198)","v":""},{"$f":"IF(LEFT($D201,1)=\"*\",\"\",LogData!F198)","v":""},{"$f":"IF(LEFT($D201,1)=\"*\",\"\",LogData!D198)","v":""},{"$f":"LogData!E198","v":"*EOL*"},{"$f":"IF($D201=\"*EOL*\",\"\",INT(LogData!V198))","v":""},{"$f":"IF($D201=\"*EOL*\",\"\",LogData!V198-E201)","v":""},{"$f":"IF(LEFT($D201,1)=\"*\",\"\",IF(LogData!S198,\"DUPE\",\"\"))","v":""},{"$f":"IF(LEFT($D201,1)=\"*\",\"\",LogData!R198)","v":""}]
[{"$f":"IF(LEFT($D202,1)=\"*\",\"\",LogData!C199)","v":""},{"$f":"IF(LEFT($D202,1)=\"*\",\"\",LogData!F199)","v":""},{"$f":"IF(LEFT($D202,1)=\"*\",\"\",LogData!D199)","v":""},{"$f":"LogData!E199","v":"*EOL*"},{"$f":"IF($D202=\"*EOL*\",\"\",INT(LogData!V199))","v":""},{"$f":"IF($D202=\"*EOL*\",\"\",LogData!V199-E202)","v":""},{"$f":"IF(LEFT($D202,1)=\"*\",\"\",IF(LogData!S199,\"DUPE\",\"\"))","v":""},{"$f":"IF(LEFT($D202,1)=\"*\",\"\",LogData!R199)","v":""}]
[{"$f":"IF(LEFT($D203,1)=\"*\",\"\",LogData!C200)","v":""},{"$f":"IF(LEFT($D203,1)=\"*\",\"\",LogData!F200)","v":""},{"$f":"IF(LEFT($D203,1)=\"*\",\"\",LogData!D200)","v":""},{"$f":"LogData!E200","v":"*EOL*"},{"$f":"IF($D203=\"*EOL*\",\"\",INT(LogData!V200))","v":""},{"$f":"IF($D203=\"*EOL*\",\"\",LogData!V200-E203)","v":""},{"$f":"IF(LEFT($D203,1)=\"*\",\"\",IF(LogData!S200,\"DUPE\",\"\"))","v":""},{"$f":"IF(LEFT($D203,1)=\"*\",\"\",LogData!R200)","v":""}]
[{"$f":"IF(LEFT($D204,1)=\"*\",\"\",LogData!C201)","v":""},{"$f":"IF(LEFT($D204,1)=\"*\",\"\",LogData!F201)","v":""},{"$f":"IF(LEFT($D204,1)=\"*\",\"\",LogData!D201)","v":""},{"$f":"LogData!E201","v":"*EOL*"},{"$f":"IF($D204=\"*EOL*\",\"\",INT(LogData!V201))","v":""},{"$f":"IF($D204=\"*EOL*\",\"\",LogData!V201-E204)","v":""},{"$f":"IF(LEFT($D204,1)=\"*\",\"\",IF(LogData!S201,\"DUPE\",\"\"))","v":""},{"$f":"IF(LEFT($D204,1)=\"*\",\"\",LogData!R201)","v":""}]
[{"$f":"IF(LEFT($D205,1)=\"*\",\"\",LogData!C202)","v":""},{"$f":"IF(LEFT($D205,1)=\"*\",\"\",LogData!F202)","v":""},{"$f":"IF(LEFT($D205,1)=\"*\",\"\",LogData!D202)","v":""},{"$f":"LogData!E202","v":"*EOL*"},{"$f":"IF($D205=\"*EOL*\",\"\",INT(LogData!V202))","v":""},{"$f":"IF($D205=\"*EOL*\",\"\",LogData!V202-E205)","v":""},{"$f":"IF(LEFT($D205,1)=\"*\",\"\",IF(LogData!S202,\"DUPE\",\"\"))","v":""},{"$f":"IF(LEFT($D205,1)=\"*\",\"\",LogData!R202)","v":""}]
[{"$f":"IF(LEFT($D206,1)=\"*\",\"\",LogData!C203)","v":""},{"$f":"IF(LEFT($D206,1)=\"*\",\"\",LogData!F203)","v":""},{"$f":"IF(LEFT($D206,1)=\"*\",\"\",LogData!D203)","v":""},{"$f":"LogData!E203","v":"*EOL*"},{"$f":"IF($D206=\"*EOL*\",\"\",INT(LogData!V203))","v":""},{"$f":"IF($D206=\"*EOL*\",\"\",LogData!V203-E206)","v":""},{"$f":"IF(LEFT($D206,1)=\"*\",\"\",IF(LogData!S203,\"DUPE\",\"\"))","v":""},{"$f":"IF(LEFT($D206,1)=\"*\",\"\",LogData!R203)","v":""}]
[{"$f":"IF(LEFT($D207,1)=\"*\",\"\",LogData!C204)","v":""},{"$f":"IF(LEFT($D207,1)=\"*\",\"\",LogData!F204)","v":""},{"$f":"IF(LEFT($D207,1)=\"*\",\"\",LogData!D204)","v":""},{"$f":"LogData!E204","v":"*EOL*"},{"$f":"IF($D207=\"*EOL*\",\"\",INT(LogData!V204))","v":""},{"$f":"IF($D207=\"*EOL*\",\"\",LogData!V204-E207)","v":""},{"$f":"IF(LEFT($D207,1)=\"*\",\"\",IF(LogData!S204,\"DUPE\",\"\"))","v":""},{"$f":"IF(LEFT($D207,1)=\"*\",\"\",LogData!R204)","v":""}]
[{"$f":"IF(LEFT($D208,1)=\"*\",\"\",LogData!C205)","v":""},{"$f":"IF(LEFT($D208,1)=\"*\",\"\",LogData!F205)","v":""},{"$f":"IF(LEFT($D208,1)=\"*\",\"\",LogData!D205)","v":""},{"$f":"LogData!E205","v":"*EOL*"},{"$f":"IF($D208=\"*EOL*\",\"\",INT(LogData!V205))","v":""},{"$f":"IF($D208=\"*EOL*\",\"\",LogData!V205-E208)","v":""},{"$f":"IF(LEFT($D208,1)=\"*\",\"\",IF(LogData!S205,\"DUPE\",\"\"))","v":""},{"$f":"IF(LEFT($D208,1)=\"*\",\"\",LogData!R205)","v":""}]
[{"$f":"IF(LEFT($D209,1)=\"*\",\"\",LogData!C206)","v":""},{"$f":"IF(LEFT($D209,1)=\"*\",\"\",LogData!F206)","v":""},{"$f":"IF(LEFT($D209,1)=\"*\",\"\",LogData!D206)","v":""},{"$f":"LogData!E206","v":"*EOL*"},{"$f":"IF($D209=\"*EOL*\",\"\",INT(LogData!V206))","v":""},{"$f":"IF($D209=\"*EOL*\",\"\",LogData!V206-E209)","v":""},{"$f":"IF(LEFT($D209,1)=\"*\",\"\",IF(LogData!S206,\"DUPE\",\"\"))","v":""},{"$f":"IF(LEFT($D209,1)=\"*\",\"\",LogData!R206)","v":""}]
[{"$f":"IF(LEFT($D210,1)=\"*\",\"\",LogData!C207)","v":""},{"$f":"IF(LEFT($D210,1)=\"*\",\"\",LogData!F207)","v":""},{"$f":"IF(LEFT($D210,1)=\"*\",\"\",LogData!D207)","v":""},{"$f":"LogData!E207","v":"*EOL*"},{"$f":"IF($D210=\"*EOL*\",\"\",INT(LogData!V207))","v":""},{"$f":"IF($D210=\"*EOL*\",\"\",LogData!V207-E210)","v":""},{"$f":"IF(LEFT($D210,1)=\"*\",\"\",IF(LogData!S207,\"DUPE\",\"\"))","v":""},{"$f":"IF(LEFT($D210,1)=\"*\",\"\",LogData!R207)","v":""}]
[{"$f":"IF(LEFT($D211,1)=\"*\",\"\",LogData!C208)","v":""},{"$f":"IF(LEFT($D211,1)=\"*\",\"\",LogData!F208)","v":""},{"$f":"IF(LEFT($D211,1)=\"*\",\"\",LogData!D208)","v":""},{"$f":"LogData!E208","v":"*EOL*"},{"$f":"IF($D211=\"*EOL*\",\"\",INT(LogData!V208))","v":""},{"$f":"IF($D211=\"*EOL*\",\"\",LogData!V208-E211)","v":""},{"$f":"IF(LEFT($D211,1)=\"*\",\"\",IF(LogData!S208,\"DUPE\",\"\"))","v":""},{"$f":"IF(LEFT($D211,1)=\"*\",\"\",LogData!R208)","v":""}]
[{"$f":"IF(LEFT($D212,1)=\"*\",\"\",LogData!C209)","v":""},{"$f":"IF(LEFT($D212,1)=\"*\",\"\",LogData!F209)","v":""},{"$f":"IF(LEFT($D212,1)=\"*\",\"\",LogData!D209)","v":""},{"$f":"LogData!E209","v":"*EOL*"},{"$f":"IF($D212=\"*EOL*\",\"\",INT(LogData!V209))","v":""},{"$f":"IF($D212=\"*EOL*\",\"\",LogData!V209-E212)","v":""},{"$f":"IF(LEFT($D212,1)=\"*\",\"\",IF(LogData!S209,\"DUPE\",\"\"))","v":""},{"$f":"IF(LEFT($D212,1)=\"*\",\"\",LogData!R209)","v":""}]
[{"$f":"IF(LEFT($D213,1)=\"*\",\"\",LogData!C210)","v":""},{"$f":"IF(LEFT($D213,1)=\"*\",\"\",LogData!F210)","v":""},{"$f":"IF(LEFT($D213,1)=\"*\",\"\",LogData!D210)","v":""},{"$f":"LogData!E210","v":"*EOL*"},{"$f":"IF($D213=\"*EOL*\",\"\",INT(LogData!V210))","v":""},{"$f":"IF($D213=\"*EOL*\",\"\",LogData!V210-E213)","v":""},{"$f":"IF(LEFT($D213,1)=\"*\",\"\",IF(LogData!S210,\"DUPE\",\"\"))","v":""},{"$f":"IF(LEFT($D213,1)=\"*\",\"\",LogData!R210)","v":""}]
[{"$f":"IF(LEFT($D214,1)=\"*\",\"\",LogData!C211)","v":""},{"$f":"IF(LEFT($D214,1)=\"*\",\"\",LogData!F211)","v":""},{"$f":"IF(LEFT($D214,1)=\"*\",\"\",LogData!D211)","v":""},{"$f":"LogData!E211","v":"*EOL*"},{"$f":"IF($D214=\"*EOL*\",\"\",INT(LogData!V211))","v":""},{"$f":"IF($D214=\"*EOL*\",\"\",LogData!V211-E214)","v":""},{"$f":"IF(LEFT($D214,1)=\"*\",\"\",IF(LogData!S211,\"DUPE\",\"\"))","v":""},{"$f":"IF(LEFT($D214,1)=\"*\",\"\",LogData!R211)","v":""}]
[{"$f":"IF(LEFT($D215,1)=\"*\",\"\",LogData!C212)","v":""},{"$f":"IF(LEFT($D215,1)=\"*\",\"\",LogData!F212)","v":""},{"$f":"IF(LEFT($D215,1)=\"*\",\"\",LogData!D212)","v":""},{"$f":"LogData!E212","v":"*EOL*"},{"$f":"IF($D215=\"*EOL*\",\"\",INT(LogData!V212))","v":""},{"$f":"IF($D215=\"*EOL*\",\"\",LogData!V212-E215)","v":""},{"$f":"IF(LEFT($D215,1)=\"*\",\"\",IF(LogData!S212,\"DUPE\",\"\"))","v":""},{"$f":"IF(LEFT($D215,1)=\"*\",\"\",LogData!R212)","v":""}]
[{"$f":"IF(LEFT($D216,1)=\"*\",\"\",LogData!C213)","v":""},{"$f":"IF(LEFT($D216,1)=\"*\",\"\",LogData!F213)","v":""},{"$f":"IF(LEFT($D216,1)=\"*\",\"\",LogData!D213)","v":""},{"$f":"LogData!E213","v":"*EOL*"},{"$f":"IF($D216=\"*EOL*\",\"\",INT(LogData!V213))","v":""},{"$f":"IF($D216=\"*EOL*\",\"\",LogData!V213-E216)","v":""},{"$f":"IF(LEFT($D216,1)=\"*\",\"\",IF(LogData!S213,\"DUPE\",\"\"))","v":""},{"$f":"IF(LEFT($D216,1)=\"*\",\"\",LogData!R213)","v":""}]
[{"$f":"IF(LEFT($D217,1)=\"*\",\"\",LogData!C214)","v":""},{"$f":"IF(LEFT($D217,1)=\"*\",\"\",LogData!F214)","v":""},{"$f":"IF(LEFT($D217,1)=\"*\",\"\",LogData!D214)","v":""},{"$f":"LogData!E214","v":"*EOL*"},{"$f":"IF($D217=\"*EOL*\",\"\",INT(LogData!V214))","v":""},{"$f":"IF($D217=\"*EOL*\",\"\",LogData!V214-E217)","v":""},{"$f":"IF(LEFT($D217,1)=\"*\",\"\",IF(LogData!S214,\"DUPE\",\"\"))","v":""},{"$f":"IF(LEFT($D217,1)=\"*\",\"\",LogData!R214)","v":""}]
[{"$f":"IF(LEFT($D218,1)=\"*\",\"\",LogData!C215)","v":""},{"$f":"IF(LEFT($D218,1)=\"*\",\"\",LogData!F215)","v":""},{"$f":"IF(LEFT($D218,1)=\"*\",\"\",LogData!D215)","v":""},{"$f":"LogData!E215","v":"*EOL*"},{"$f":"IF($D218=\"*EOL*\",\"\",INT(LogData!V215))","v":""},{"$f":"IF($D218=\"*EOL*\",\"\",LogData!V215-E218)","v":""},{"$f":"IF(LEFT($D218,1)=\"*\",\"\",IF(LogData!S215,\"DUPE\",\"\"))","v":""},{"$f":"IF(LEFT($D218,1)=\"*\",\"\",LogData!R215)","v":""}]
[{"$f":"IF(LEFT($D219,1)=\"*\",\"\",LogData!C216)","v":""},{"$f":"IF(LEFT($D219,1)=\"*\",\"\",LogData!F216)","v":""},{"$f":"IF(LEFT($D219,1)=\"*\",\"\",LogData!D216)","v":""},{"$f":"LogData!E216","v":"*EOL*"},{"$f":"IF($D219=\"*EOL*\",\"\",INT(LogData!V216))","v":""},{"$f":"IF($D219=\"*EOL*\",\"\",LogData!V216-E219)","v":""},{"$f":"IF(LEFT($D219,1)=\"*\",\"\",IF(LogData!S216,\"DUPE\",\"\"))","v":""},{"$f":"IF(LEFT($D219,1)=\"*\",\"\",LogData!R216)","v":""}]
[{"$f":"IF(LEFT($D220,1)=\"*\",\"\",LogData!C217)","v":""},{"$f":"IF(LEFT($D220,1)=\"*\",\"\",LogData!F217)","v":""},{"$f":"IF(LEFT($D220,1)=\"*\",\"\",LogData!D217)","v":""},{"$f":"LogData!E217","v":"*EOL*"},{"$f":"IF($D220=\"*EOL*\",\"\",INT(LogData!V217))","v":""},{"$f":"IF($D220=\"*EOL*\",\"\",LogData!V217-E220)","v":""},{"$f":"IF(LEFT($D220,1)=\"*\",\"\",IF(LogData!S217,\"DUPE\",\"\"))","v":""},{"$f":"IF(LEFT($D220,1)=\"*\",\"\",LogData!R217)","v":""}]
[{"$f":"IF(LEFT($D221,1)=\"*\",\"\",LogData!C218)","v":""},{"$f":"IF(LEFT($D221,1)=\"*\",\"\",LogData!F218)","v":""},{"$f":"IF(LEFT($D221,1)=\"*\",\"\",LogData!D218)","v":""},{"$f":"LogData!E218","v":"*EOL*"},{"$f":"IF($D221=\"*EOL*\",\"\",INT(LogData!V218))","v":""},{"$f":"IF($D221=\"*EOL*\",\"\",LogData!V218-E221)","v":""},{"$f":"IF(LEFT($D221,1)=\"*\",\"\",IF(LogData!S218,\"DUPE\",\"\"))","v":""},{"$f":"IF(LEFT($D221,1)=\"*\",\"\",LogData!R218)","v":""}]
[{"$f":"IF(LEFT($D222,1)=\"*\",\"\",LogData!C219)","v":""},{"$f":"IF(LEFT($D222,1)=\"*\",\"\",LogData!F219)","v":""},{"$f":"IF(LEFT($D222,1)=\"*\",\"\",LogData!D219)","v":""},{"$f":"LogData!E219","v":"*EOL*"},{"$f":"IF($D222=\"*EOL*\",\"\",INT(LogData!V219))","v":""},{"$f":"IF($D222=\"*EOL*\",\"\",LogData!V219-E222)","v":""},{"$f":"IF(LEFT($D222,1)=\"*\",\"\",IF(LogData!S219,\"DUPE\",\"\"))","v":""},{"$f":"IF(LEFT($D222,1)=\"*\",\"\",LogData!R219)","v":""}]
[{"$f":"IF(LEFT($D223,1)=\"*\",\"\",LogData!C220)","v":""},{"$f":"IF(LEFT($D223,1)=\"*\",\"\",LogData!F220)","v":""},{"$f":"IF(LEFT($D223,1)=\"*\",\"\",LogData!D220)","v":""},{"$f":"LogData!E220","v":"*EOL*"},{"$f":"IF($D223=\"*EOL*\",\"\",INT(LogData!V220))","v":""},{"$f":"IF($D223=\"*EOL*\",\"\",LogData!V220-E223)","v":""},{"$f":"IF(LEFT($D223,1)=\"*\",\"\",IF(LogData!S220,\"DUPE\",\"\"))","v":""},{"$f":"IF(LEFT($D223,1)=\"*\",\"\",LogData!R220)","v":""}]
[{"$f":"IF(LEFT($D224,1)=\"*\",\"\",LogData!C221)","v":""},{"$f":"IF(LEFT($D224,1)=\"*\",\"\",LogData!F221)","v":""},{"$f":"IF(LEFT($D224,1)=\"*\",\"\",LogData!D221)","v":""},{"$f":"LogData!E221","v":"*EOL*"},{"$f":"IF($D224=\"*EOL*\",\"\",INT(LogData!V221))","v":""},{"$f":"IF($D224=\"*EOL*\",\"\",LogData!V221-E224)","v":""},{"$f":"IF(LEFT($D224,1)=\"*\",\"\",IF(LogData!S221,\"DUPE\",\"\"))","v":""},{"$f":"IF(LEFT($D224,1)=\"*\",\"\",LogData!R221)","v":""}]
[{"$f":"IF(LEFT($D225,1)=\"*\",\"\",LogData!C222)","v":""},{"$f":"IF(LEFT($D225,1)=\"*\",\"\",LogData!F222)","v":""},{"$f":"IF(LEFT($D225,1)=\"*\",\"\",LogData!D222)","v":""},{"$f":"LogData!E222","v":"*EOL*"},{"$f":"IF($D225=\"*EOL*\",\"\",INT(LogData!V222))","v":""},{"$f":"IF($D225=\"*EOL*\",\"\",LogData!V222-E225)","v":""},{"$f":"IF(LEFT($D225,1)=\"*\",\"\",IF(LogData!S222,\"DUPE\",\"\"))","v":""},{"$f":"IF(LEFT($D225,1)=\"*\",\"\",LogData!R222)","v":""}]
[{"$f":"IF(LEFT($D226,1)=\"*\",\"\",LogData!C223)","v":""},{"$f":"IF(LEFT($D226,1)=\"*\",\"\",LogData!F223)","v":""},{"$f":"IF(LEFT($D226,1)=\"*\",\"\",LogData!D223)","v":""},{"$f":"LogData!E223","v":"*EOL*"},{"$f":"IF($D226=\"*EOL*\",\"\",INT(LogData!V223))","v":""},{"$f":"IF($D226=\"*EOL*\",\"\",LogData!V223-E226)","v":""},{"$f":"IF(LEFT($D226,1)=\"*\",\"\",IF(LogData!S223,\"DUPE\",\"\"))","v":""},{"$f":"IF(LEFT($D226,1)=\"*\",\"\",LogData!R223)","v":""}]
[{"$f":"IF(LEFT($D227,1)=\"*\",\"\",LogData!C224)","v":""},{"$f":"IF(LEFT($D227,1)=\"*\",\"\",LogData!F224)","v":""},{"$f":"IF(LEFT($D227,1)=\"*\",\"\",LogData!D224)","v":""},{"$f":"LogData!E224","v":"*EOL*"},{"$f":"IF($D227=\"*EOL*\",\"\",INT(LogData!V224))","v":""},{"$f":"IF($D227=\"*EOL*\",\"\",LogData!V224-E227)","v":""},{"$f":"IF(LEFT($D227,1)=\"*\",\"\",IF(LogData!S224,\"DUPE\",\"\"))","v":""},{"$f":"IF(LEFT($D227,1)=\"*\",\"\",LogData!R224)","v":""}]
[{"$f":"IF(LEFT($D228,1)=\"*\",\"\",LogData!C225)","v":""},{"$f":"IF(LEFT($D228,1)=\"*\",\"\",LogData!F225)","v":""},{"$f":"IF(LEFT($D228,1)=\"*\",\"\",LogData!D225)","v":""},{"$f":"LogData!E225","v":"*EOL*"},{"$f":"IF($D228=\"*EOL*\",\"\",INT(LogData!V225))","v":""},{"$f":"IF($D228=\"*EOL*\",\"\",LogData!V225-E228)","v":""},{"$f":"IF(LEFT($D228,1)=\"*\",\"\",IF(LogData!S225,\"DUPE\",\"\"))","v":""},{"$f":"IF(LEFT($D228,1)=\"*\",\"\",LogData!R225)","v":""}]
[{"$f":"IF(LEFT($D229,1)=\"*\",\"\",LogData!C226)","v":""},{"$f":"IF(LEFT($D229,1)=\"*\",\"\",LogData!F226)","v":""},{"$f":"IF(LEFT($D229,1)=\"*\",\"\",LogData!D226)","v":""},{"$f":"LogData!E226","v":"*EOL*"},{"$f":"IF($D229=\"*EOL*\",\"\",INT(LogData!V226))","v":""},{"$f":"IF($D229=\"*EOL*\",\"\",LogData!V226-E229)","v":""},{"$f":"IF(LEFT($D229,1)=\"*\",\"\",IF(LogData!S226,\"DUPE\",\"\"))","v":""},{"$f":"IF(LEFT($D229,1)=\"*\",\"\",LogData!R226)","v":""}]
[{"$f":"IF(LEFT($D230,1)=\"*\",\"\",LogData!C227)","v":""},{"$f":"IF(LEFT($D230,1)=\"*\",\"\",LogData!F227)","v":""},{"$f":"IF(LEFT($D230,1)=\"*\",\"\",LogData!D227)","v":""},{"$f":"LogData!E227","v":"*EOL*"},{"$f":"IF($D230=\"*EOL*\",\"\",INT(LogData!V227))","v":""},{"$f":"IF($D230=\"*EOL*\",\"\",LogData!V227-E230)","v":""},{"$f":"IF(LEFT($D230,1)=\"*\",\"\",IF(LogData!S227,\"DUPE\",\"\"))","v":""},{"$f":"IF(LEFT($D230,1)=\"*\",\"\",LogData!R227)","v":""}]
[{"$f":"IF(LEFT($D231,1)=\"*\",\"\",LogData!C228)","v":""},{"$f":"IF(LEFT($D231,1)=\"*\",\"\",LogData!F228)","v":""},{"$f":"IF(LEFT($D231,1)=\"*\",\"\",LogData!D228)","v":""},{"$f":"LogData!E228","v":"*EOL*"},{"$f":"IF($D231=\"*EOL*\",\"\",INT(LogData!V228))","v":""},{"$f":"IF($D231=\"*EOL*\",\"\",LogData!V228-E231)","v":""},{"$f":"IF(LEFT($D231,1)=\"*\",\"\",IF(LogData!S228,\"DUPE\",\"\"))","v":""},{"$f":"IF(LEFT($D231,1)=\"*\",\"\",LogData!R228)","v":""}]
[{"$f":"IF(LEFT($D232,1)=\"*\",\"\",LogData!C229)","v":""},{"$f":"IF(LEFT($D232,1)=\"*\",\"\",LogData!F229)","v":""},{"$f":"IF(LEFT($D232,1)=\"*\",\"\",LogData!D229)","v":""},{"$f":"LogData!E229","v":"*EOL*"},{"$f":"IF($D232=\"*EOL*\",\"\",INT(LogData!V229))","v":""},{"$f":"IF($D232=\"*EOL*\",\"\",LogData!V229-E232)","v":""},{"$f":"IF(LEFT($D232,1)=\"*\",\"\",IF(LogData!S229,\"DUPE\",\"\"))","v":""},{"$f":"IF(LEFT($D232,1)=\"*\",\"\",LogData!R229)","v":""}]
[{"$f":"IF(LEFT($D233,1)=\"*\",\"\",LogData!C230)","v":""},{"$f":"IF(LEFT($D233,1)=\"*\",\"\",LogData!F230)","v":""},{"$f":"IF(LEFT($D233,1)=\"*\",\"\",LogData!D230)","v":""},{"$f":"LogData!E230","v":"*EOL*"},{"$f":"IF($D233=\"*EOL*\",\"\",INT(LogData!V230))","v":""},{"$f":"IF($D233=\"*EOL*\",\"\",LogData!V230-E233)","v":""},{"$f":"IF(LEFT($D233,1)=\"*\",\"\",IF(LogData!S230,\"DUPE\",\"\"))","v":""},{"$f":"IF(LEFT($D233,1)=\"*\",\"\",LogData!R230)","v":""}]
[{"$f":"IF(LEFT($D234,1)=\"*\",\"\",LogData!C231)","v":""},{"$f":"IF(LEFT($D234,1)=\"*\",\"\",LogData!F231)","v":""},{"$f":"IF(LEFT($D234,1)=\"*\",\"\",LogData!D231)","v":""},{"$f":"LogData!E231","v":"*EOL*"},{"$f":"IF($D234=\"*EOL*\",\"\",INT(LogData!V231))","v":""},{"$f":"IF($D234=\"*EOL*\",\"\",LogData!V231-E234)","v":""},{"$f":"IF(LEFT($D234,1)=\"*\",\"\",IF(LogData!S231,\"DUPE\",\"\"))","v":""},{"$f":"IF(LEFT($D234,1)=\"*\",\"\",LogData!R231)","v":""}]
[{"$f":"IF(LEFT($D235,1)=\"*\",\"\",LogData!C232)","v":""},{"$f":"IF(LEFT($D235,1)=\"*\",\"\",LogData!F232)","v":""},{"$f":"IF(LEFT($D235,1)=\"*\",\"\",LogData!D232)","v":""},{"$f":"LogData!E232","v":"*EOL*"},{"$f":"IF($D235=\"*EOL*\",\"\",INT(LogData!V232))","v":""},{"$f":"IF($D235=\"*EOL*\",\"\",LogData!V232-E235)","v":""},{"$f":"IF(LEFT($D235,1)=\"*\",\"\",IF(LogData!S232,\"DUPE\",\"\"))","v":""},{"$f":"IF(LEFT($D235,1)=\"*\",\"\",LogData!R232)","v":""}]
[{"$f":"IF(LEFT($D236,1)=\"*\",\"\",LogData!C233)","v":""},{"$f":"IF(LEFT($D236,1)=\"*\",\"\",LogData!F233)","v":""},{"$f":"IF(LEFT($D236,1)=\"*\",\"\",LogData!D233)","v":""},{"$f":"LogData!E233","v":"*EOL*"},{"$f":"IF($D236=\"*EOL*\",\"\",INT(LogData!V233))","v":""},{"$f":"IF($D236=\"*EOL*\",\"\",LogData!V233-E236)","v":""},{"$f":"IF(LEFT($D236,1)=\"*\",\"\",IF(LogData!S233,\"DUPE\",\"\"))","v":""},{"$f":"IF(LEFT($D236,1)=\"*\",\"\",LogData!R233)","v":""}]
[{"$f":"IF(LEFT($D237,1)=\"*\",\"\",LogData!C234)","v":""},{"$f":"IF(LEFT($D237,1)=\"*\",\"\",LogData!F234)","v":""},{"$f":"IF(LEFT($D237,1)=\"*\",\"\",LogData!D234)","v":""},{"$f":"LogData!E234","v":"*EOL*"},{"$f":"IF($D237=\"*EOL*\",\"\",INT(LogData!V234))","v":""},{"$f":"IF($D237=\"*EOL*\",\"\",LogData!V234-E237)","v":""},{"$f":"IF(LEFT($D237,1)=\"*\",\"\",IF(LogData!S234,\"DUPE\",\"\"))","v":""},{"$f":"IF(LEFT($D237,1)=\"*\",\"\",LogData!R234)","v":""}]
[{"$f":"IF(LEFT($D238,1)=\"*\",\"\",LogData!C235)","v":""},{"$f":"IF(LEFT($D238,1)=\"*\",\"\",LogData!F235)","v":""},{"$f":"IF(LEFT($D238,1)=\"*\",\"\",LogData!D235)","v":""},{"$f":"LogData!E235","v":"*EOL*"},{"$f":"IF($D238=\"*EOL*\",\"\",INT(LogData!V235))","v":""},{"$f":"IF($D238=\"*EOL*\",\"\",LogData!V235-E238)","v":""},{"$f":"IF(LEFT($D238,1)=\"*\",\"\",IF(LogData!S235,\"DUPE\",\"\"))","v":""},{"$f":"IF(LEFT($D238,1)=\"*\",\"\",LogData!R235)","v":""}]
[{"$f":"IF(LEFT($D239,1)=\"*\",\"\",LogData!C236)","v":""},{"$f":"IF(LEFT($D239,1)=\"*\",\"\",LogData!F236)","v":""},{"$f":"IF(LEFT($D239,1)=\"*\",\"\",LogData!D236)","v":""},{"$f":"LogData!E236","v":"*EOL*"},{"$f":"IF($D239=\"*EOL*\",\"\",INT(LogData!V236))","v":""},{"$f":"IF($D239=\"*EOL*\",\"\",LogData!V236-E239)","v":""},{"$f":"IF(LEFT($D239,1)=\"*\",\"\",IF(LogData!S236,\"DUPE\",\"\"))","v":""},{"$f":"IF(LEFT($D239,1)=\"*\",\"\",LogData!R236)","v":""}]
[{"$f":"IF(LEFT($D240,1)=\"*\",\"\",LogData!C237)","v":""},{"$f":"IF(LEFT($D240,1)=\"*\",\"\",LogData!F237)","v":""},{"$f":"IF(LEFT($D240,1)=\"*\",\"\",LogData!D237)","v":""},{"$f":"LogData!E237","v":"*EOL*"},{"$f":"IF($D240=\"*EOL*\",\"\",INT(LogData!V237))","v":""},{"$f":"IF($D240=\"*EOL*\",\"\",LogData!V237-E240)","v":""},{"$f":"IF(LEFT($D240,1)=\"*\",\"\",IF(LogData!S237,\"DUPE\",\"\"))","v":""},{"$f":"IF(LEFT($D240,1)=\"*\",\"\",LogData!R237)","v":""}]
[{"$f":"IF(LEFT($D241,1)=\"*\",\"\",LogData!C238)","v":""},{"$f":"IF(LEFT($D241,1)=\"*\",\"\",LogData!F238)","v":""},{"$f":"IF(LEFT($D241,1)=\"*\",\"\",LogData!D238)","v":""},{"$f":"LogData!E238","v":"*EOL*"},{"$f":"IF($D241=\"*EOL*\",\"\",INT(LogData!V238))","v":""},{"$f":"IF($D241=\"*EOL*\",\"\",LogData!V238-E241)","v":""},{"$f":"IF(LEFT($D241,1)=\"*\",\"\",IF(LogData!S238,\"DUPE\",\"\"))","v":""},{"$f":"IF(LEFT($D241,1)=\"*\",\"\",LogData!R238)","v":""}]
[{"$f":"IF(LEFT($D242,1)=\"*\",\"\",LogData!C239)","v":""},{"$f":"IF(LEFT($D242,1)=\"*\",\"\",LogData!F239)","v":""},{"$f":"IF(LEFT($D242,1)=\"*\",\"\",LogData!D239)","v":""},{"$f":"LogData!E239","v":"*EOL*"},{"$f":"IF($D242=\"*EOL*\",\"\",INT(LogData!V239))","v":""},{"$f":"IF($D242=\"*EOL*\",\"\",LogData!V239-E242)","v":""},{"$f":"IF(LEFT($D242,1)=\"*\",\"\",IF(LogData!S239,\"DUPE\",\"\"))","v":""},{"$f":"IF(LEFT($D242,1)=\"*\",\"\",LogData!R239)","v":""}]
[{"$f":"IF(LEFT($D243,1)=\"*\",\"\",LogData!C240)","v":""},{"$f":"IF(LEFT($D243,1)=\"*\",\"\",LogData!F240)","v":""},{"$f":"IF(LEFT($D243,1)=\"*\",\"\",LogData!D240)","v":""},{"$f":"LogData!E240","v":"*EOL*"},{"$f":"IF($D243=\"*EOL*\",\"\",INT(LogData!V240))","v":""},{"$f":"IF($D243=\"*EOL*\",\"\",LogData!V240-E243)","v":""},{"$f":"IF(LEFT($D243,1)=\"*\",\"\",IF(LogData!S240,\"DUPE\",\"\"))","v":""},{"$f":"IF(LEFT($D243,1)=\"*\",\"\",LogData!R240)","v":""}]
[{"$f":"IF(LEFT($D244,1)=\"*\",\"\",LogData!C241)","v":""},{"$f":"IF(LEFT($D244,1)=\"*\",\"\",LogData!F241)","v":""},{"$f":"IF(LEFT($D244,1)=\"*\",\"\",LogData!D241)","v":""},{"$f":"LogData!E241","v":"*EOL*"},{"$f":"IF($D244=\"*EOL*\",\"\",INT(LogData!V241))","v":""},{"$f":"IF($D244=\"*EOL*\",\"\",LogData!V241-E244)","v":""},{"$f":"IF(LEFT($D244,1)=\"*\",\"\",IF(LogData!S241,\"DUPE\",\"\"))","v":""},{"$f":"IF(LEFT($D244,1)=\"*\",\"\",LogData!R241)","v":""}]
[{"$f":"IF(LEFT($D245,1)=\"*\",\"\",LogData!C242)","v":""},{"$f":"IF(LEFT($D245,1)=\"*\",\"\",LogData!F242)","v":""},{"$f":"IF(LEFT($D245,1)=\"*\",\"\",LogData!D242)","v":""},{"$f":"LogData!E242","v":"*EOL*"},{"$f":"IF($D245=\"*EOL*\",\"\",INT(LogData!V242))","v":""},{"$f":"IF($D245=\"*EOL*\",\"\",LogData!V242-E245)","v":""},{"$f":"IF(LEFT($D245,1)=\"*\",\"\",IF(LogData!S242,\"DUPE\",\"\"))","v":""},{"$f":"IF(LEFT($D245,1)=\"*\",\"\",LogData!R242)","v":""}]
[{"$f":"IF(LEFT($D246,1)=\"*\",\"\",LogData!C243)","v":""},{"$f":"IF(LEFT($D246,1)=\"*\",\"\",LogData!F243)","v":""},{"$f":"IF(LEFT($D246,1)=\"*\",\"\",LogData!D243)","v":""},{"$f":"LogData!E243","v":"*EOL*"},{"$f":"IF($D246=\"*EOL*\",\"\",INT(LogData!V243))","v":""},{"$f":"IF($D246=\"*EOL*\",\"\",LogData!V243-E246)","v":""},{"$f":"IF(LEFT($D246,1)=\"*\",\"\",IF(LogData!S243,\"DUPE\",\"\"))","v":""},{"$f":"IF(LEFT($D246,1)=\"*\",\"\",LogData!R243)","v":""}]
[{"$f":"IF(LEFT($D247,1)=\"*\",\"\",LogData!C244)","v":""},{"$f":"IF(LEFT($D247,1)=\"*\",\"\",LogData!F244)","v":""},{"$f":"IF(LEFT($D247,1)=\"*\",\"\",LogData!D244)","v":""},{"$f":"LogData!E244","v":"*EOL*"},{"$f":"IF($D247=\"*EOL*\",\"\",INT(LogData!V244))","v":""},{"$f":"IF($D247=\"*EOL*\",\"\",LogData!V244-E247)","v":""},{"$f":"IF(LEFT($D247,1)=\"*\",\"\",IF(LogData!S244,\"DUPE\",\"\"))","v":""},{"$f":"IF(LEFT($D247,1)=\"*\",\"\",LogData!R244)","v":""}]
[{"$f":"IF(LEFT($D248,1)=\"*\",\"\",LogData!C245)","v":""},{"$f":"IF(LEFT($D248,1)=\"*\",\"\",LogData!F245)","v":""},{"$f":"IF(LEFT($D248,1)=\"*\",\"\",LogData!D245)","v":""},{"$f":"LogData!E245","v":"*EOL*"},{"$f":"IF($D248=\"*EOL*\",\"\",INT(LogData!V245))","v":""},{"$f":"IF($D248=\"*EOL*\",\"\",LogData!V245-E248)","v":""},{"$f":"IF(LEFT($D248,1)=\"*\",\"\",IF(LogData!S245,\"DUPE\",\"\"))","v":""},{"$f":"IF(LEFT($D248,1)=\"*\",\"\",LogData!R245)","v":""}]
[{"$f":"IF(LEFT($D249,1)=\"*\",\"\",LogData!C246)","v":""},{"$f":"IF(LEFT($D249,1)=\"*\",\"\",LogData!F246)","v":""},{"$f":"IF(LEFT($D249,1)=\"*\",\"\",LogData!D246)","v":""},{"$f":"LogData!E246","v":"*EOL*"},{"$f":"IF($D249=\"*EOL*\",\"\",INT(LogData!V246))","v":""},{"$f":"IF($D249=\"*EOL*\",\"\",LogData!V246-E249)","v":""},{"$f":"IF(LEFT($D249,1)=\"*\",\"\",IF(LogData!S246,\"DUPE\",\"\"))","v":""},{"$f":"IF(LEFT($D249,1)=\"*\",\"\",LogData!R246)","v":""}]
[{"$f":"IF(LEFT($D250,1)=\"*\",\"\",LogData!C247)","v":""},{"$f":"IF(LEFT($D250,1)=\"*\",\"\",LogData!F247)","v":""},{"$f":"IF(LEFT($D250,1)=\"*\",\"\",LogData!D247)","v":""},{"$f":"LogData!E247","v":"*EOL*"},{"$f":"IF($D250=\"*EOL*\",\"\",INT(LogData!V247))","v":""},{"$f":"IF($D250=\"*EOL*\",\"\",LogData!V247-E250)","v":""},{"$f":"IF(LEFT($D250,1)=\"*\",\"\",IF(LogData!S247,\"DUPE\",\"\"))","v":""},{"$f":"IF(LEFT($D250,1)=\"*\",\"\",LogData!R247)","v":""}]
[{"$f":"IF(LEFT($D251,1)=\"*\",\"\",LogData!C248)","v":""},{"$f":"IF(LEFT($D251,1)=\"*\",\"\",LogData!F248)","v":""},{"$f":"IF(LEFT($D251,1)=\"*\",\"\",LogData!D248)","v":""},{"$f":"LogData!E248","v":"*EOL*"},{"$f":"IF($D251=\"*EOL*\",\"\",INT(LogData!V248))","v":""},{"$f":"IF($D251=\"*EOL*\",\"\",LogData!V248-E251)","v":""},{"$f":"IF(LEFT($D251,1)=\"*\",\"\",IF(LogData!S248,\"DUPE\",\"\"))","v":""},{"$f":"IF(LEFT($D251,1)=\"*\",\"\",LogData!R248)","v":""}]
[{"$f":"IF(LEFT($D252,1)=\"*\",\"\",LogData!C249)","v":""},{"$f":"IF(LEFT($D252,1)=\"*\",\"\",LogData!F249)","v":""},{"$f":"IF(LEFT($D252,1)=\"*\",\"\",LogData!D249)","v":""},{"$f":"LogData!E249","v":"*EOL*"},{"$f":"IF($D252=\"*EOL*\",\"\",INT(LogData!V249))","v":""},{"$f":"IF($D252=\"*EOL*\",\"\",LogData!V249-E252)","v":""},{"$f":"IF(LEFT($D252,1)=\"*\",\"\",IF(LogData!S249,\"DUPE\",\"\"))","v":""},{"$f":"IF(LEFT($D252,1)=\"*\",\"\",LogData!R249)","v":""}]
[{"$f":"IF(LEFT($D253,1)=\"*\",\"\",LogData!C250)","v":""},{"$f":"IF(LEFT($D253,1)=\"*\",\"\",LogData!F250)","v":""},{"$f":"IF(LEFT($D253,1)=\"*\",\"\",LogData!D250)","v":""},{"$f":"LogData!E250","v":"*EOL*"},{"$f":"IF($D253=\"*EOL*\",\"\",INT(LogData!V250))","v":""},{"$f":"IF($D253=\"*EOL*\",\"\",LogData!V250-E253)","v":""},{"$f":"IF(LEFT($D253,1)=\"*\",\"\",IF(LogData!S250,\"DUPE\",\"\"))","v":""},{"$f":"IF(LEFT($D253,1)=\"*\",\"\",LogData!R250)","v":""}]
[{"$f":"IF(LEFT($D254,1)=\"*\",\"\",LogData!C251)","v":""},{"$f":"IF(LEFT($D254,1)=\"*\",\"\",LogData!F251)","v":""},{"$f":"IF(LEFT($D254,1)=\"*\",\"\",LogData!D251)","v":""},{"$f":"LogData!E251","v":"*EOL*"},{"$f":"IF($D254=\"*EOL*\",\"\",INT(LogData!V251))","v":""},{"$f":"IF($D254=\"*EOL*\",\"\",LogData!V251-E254)","v":""},{"$f":"IF(LEFT($D254,1)=\"*\",\"\",IF(LogData!S251,\"DUPE\",\"\"))","v":""},{"$f":"IF(LEFT($D254,1)=\"*\",\"\",LogData!R251)","v":""}]
[{"$f":"IF(LEFT($D255,1)=\"*\",\"\",LogData!C252)","v":""},{"$f":"IF(LEFT($D255,1)=\"*\",\"\",LogData!F252)","v":""},{"$f":"IF(LEFT($D255,1)=\"*\",\"\",LogData!D252)","v":""},{"$f":"LogData!E252","v":"*EOL*"},{"$f":"IF($D255=\"*EOL*\",\"\",INT(LogData!V252))","v":""},{"$f":"IF($D255=\"*EOL*\",\"\",LogData!V252-E255)","v":""},{"$f":"IF(LEFT($D255,1)=\"*\",\"\",IF(LogData!S252,\"DUPE\",\"\"))","v":""},{"$f":"IF(LEFT($D255,1)=\"*\",\"\",LogData!R252)","v":""}]
[{"$f":"IF(LEFT($D256,1)=\"*\",\"\",LogData!C253)","v":""},{"$f":"IF(LEFT($D256,1)=\"*\",\"\",LogData!F253)","v":""},{"$f":"IF(LEFT($D256,1)=\"*\",\"\",LogData!D253)","v":""},{"$f":"LogData!E253","v":"*EOL*"},{"$f":"IF($D256=\"*EOL*\",\"\",INT(LogData!V253))","v":""},{"$f":"IF($D256=\"*EOL*\",\"\",LogData!V253-E256)","v":""},{"$f":"IF(LEFT($D256,1)=\"*\",\"\",IF(LogData!S253,\"DUPE\",\"\"))","v":""},{"$f":"IF(LEFT($D256,1)=\"*\",\"\",LogData!R253)","v":""}]
[{"$f":"IF(LEFT($D257,1)=\"*\",\"\",LogData!C254)","v":""},{"$f":"IF(LEFT($D257,1)=\"*\",\"\",LogData!F254)","v":""},{"$f":"IF(LEFT($D257,1)=\"*\",\"\",LogData!D254)","v":""},{"$f":"LogData!E254","v":"*EOL*"},{"$f":"IF($D257=\"*EOL*\",\"\",INT(LogData!V254))","v":""},{"$f":"IF($D257=\"*EOL*\",\"\",LogData!V254-E257)","v":""},{"$f":"IF(LEFT($D257,1)=\"*\",\"\",IF(LogData!S254,\"DUPE\",\"\"))","v":""},{"$f":"IF(LEFT($D257,1)=\"*\",\"\",LogData!R254)","v":""}]
[{"$f":"IF(LEFT($D258,1)=\"*\",\"\",LogData!C255)","v":""},{"$f":"IF(LEFT($D258,1)=\"*\",\"\",LogData!F255)","v":""},{"$f":"IF(LEFT($D258,1)=\"*\",\"\",LogData!D255)","v":""},{"$f":"LogData!E255","v":"*EOL*"},{"$f":"IF($D258=\"*EOL*\",\"\",INT(LogData!V255))","v":""},{"$f":"IF($D258=\"*EOL*\",\"\",LogData!V255-E258)","v":""},{"$f":"IF(LEFT($D258,1)=\"*\",\"\",IF(LogData!S255,\"DUPE\",\"\"))","v":""},{"$f":"IF(LEFT($D258,1)=\"*\",\"\",LogData!R255)","v":""}]
[{"$f":"IF(LEFT($D259,1)=\"*\",\"\",LogData!C256)","v":""},{"$f":"IF(LEFT($D259,1)=\"*\",\"\",LogData!F256)","v":""},{"$f":"IF(LEFT($D259,1)=\"*\",\"\",LogData!D256)","v":""},{"$f":"LogData!E256","v":"*EOL*"},{"$f":"IF($D259=\"*EOL*\",\"\",INT(LogData!V256))","v":""},{"$f":"IF($D259=\"*EOL*\",\"\",LogData!V256-E259)","v":""},{"$f":"IF(LEFT($D259,1)=\"*\",\"\",IF(LogData!S256,\"DUPE\",\"\"))","v":""},{"$f":"IF(LEFT($D259,1)=\"*\",\"\",LogData!R256)","v":""}]
[{"$f":"IF(LEFT($D260,1)=\"*\",\"\",LogData!C257)","v":""},{"$f":"IF(LEFT($D260,1)=\"*\",\"\",LogData!F257)","v":""},{"$f":"IF(LEFT($D260,1)=\"*\",\"\",LogData!D257)","v":""},{"$f":"LogData!E257","v":"*EOL*"},{"$f":"IF($D260=\"*EOL*\",\"\",INT(LogData!V257))","v":""},{"$f":"IF($D260=\"*EOL*\",\"\",LogData!V257-E260)","v":""},{"$f":"IF(LEFT($D260,1)=\"*\",\"\",IF(LogData!S257,\"DUPE\",\"\"))","v":""},{"$f":"IF(LEFT($D260,1)=\"*\",\"\",LogData!R257)","v":""}]
[{"$f":"IF(LEFT($D261,1)=\"*\",\"\",LogData!C258)","v":""},{"$f":"IF(LEFT($D261,1)=\"*\",\"\",LogData!F258)","v":""},{"$f":"IF(LEFT($D261,1)=\"*\",\"\",LogData!D258)","v":""},{"$f":"LogData!E258","v":"*EOL*"},{"$f":"IF($D261=\"*EOL*\",\"\",INT(LogData!V258))","v":""},{"$f":"IF($D261=\"*EOL*\",\"\",LogData!V258-E261)","v":""},{"$f":"IF(LEFT($D261,1)=\"*\",\"\",IF(LogData!S258,\"DUPE\",\"\"))","v":""},{"$f":"IF(LEFT($D261,1)=\"*\",\"\",LogData!R258)","v":""}]
[{"$f":"IF(LEFT($D262,1)=\"*\",\"\",LogData!C259)","v":""},{"$f":"IF(LEFT($D262,1)=\"*\",\"\",LogData!F259)","v":""},{"$f":"IF(LEFT($D262,1)=\"*\",\"\",LogData!D259)","v":""},{"$f":"LogData!E259","v":"*EOL*"},{"$f":"IF($D262=\"*EOL*\",\"\",INT(LogData!V259))","v":""},{"$f":"IF($D262=\"*EOL*\",\"\",LogData!V259-E262)","v":""},{"$f":"IF(LEFT($D262,1)=\"*\",\"\",IF(LogData!S259,\"DUPE\",\"\"))","v":""},{"$f":"IF(LEFT($D262,1)=\"*\",\"\",LogData!R259)","v":""}]
[{"$f":"IF(LEFT($D263,1)=\"*\",\"\",LogData!C260)","v":""},{"$f":"IF(LEFT($D263,1)=\"*\",\"\",LogData!F260)","v":""},{"$f":"IF(LEFT($D263,1)=\"*\",\"\",LogData!D260)","v":""},{"$f":"LogData!E260","v":"*EOL*"},{"$f":"IF($D263=\"*EOL*\",\"\",INT(LogData!V260))","v":""},{"$f":"IF($D263=\"*EOL*\",\"\",LogData!V260-E263)","v":""},{"$f":"IF(LEFT($D263,1)=\"*\",\"\",IF(LogData!S260,\"DUPE\",\"\"))","v":""},{"$f":"IF(LEFT($D263,1)=\"*\",\"\",LogData!R260)","v":""}]
[{"$f":"IF(LEFT($D264,1)=\"*\",\"\",LogData!C261)","v":""},{"$f":"IF(LEFT($D264,1)=\"*\",\"\",LogData!F261)","v":""},{"$f":"IF(LEFT($D264,1)=\"*\",\"\",LogData!D261)","v":""},{"$f":"LogData!E261","v":"*EOL*"},{"$f":"IF($D264=\"*EOL*\",\"\",INT(LogData!V261))","v":""},{"$f":"IF($D264=\"*EOL*\",\"\",LogData!V261-E264)","v":""},{"$f":"IF(LEFT($D264,1)=\"*\",\"\",IF(LogData!S261,\"DUPE\",\"\"))","v":""},{"$f":"IF(LEFT($D264,1)=\"*\",\"\",LogData!R261)","v":""}]
[{"$f":"IF(LEFT($D265,1)=\"*\",\"\",LogData!C262)","v":""},{"$f":"IF(LEFT($D265,1)=\"*\",\"\",LogData!F262)","v":""},{"$f":"IF(LEFT($D265,1)=\"*\",\"\",LogData!D262)","v":""},{"$f":"LogData!E262","v":"*EOL*"},{"$f":"IF($D265=\"*EOL*\",\"\",INT(LogData!V262))","v":""},{"$f":"IF($D265=\"*EOL*\",\"\",LogData!V262-E265)","v":""},{"$f":"IF(LEFT($D265,1)=\"*\",\"\",IF(LogData!S262,\"DUPE\",\"\"))","v":""},{"$f":"IF(LEFT($D265,1)=\"*\",\"\",LogData!R262)","v":""}]
[{"$f":"IF(LEFT($D266,1)=\"*\",\"\",LogData!C263)","v":""},{"$f":"IF(LEFT($D266,1)=\"*\",\"\",LogData!F263)","v":""},{"$f":"IF(LEFT($D266,1)=\"*\",\"\",LogData!D263)","v":""},{"$f":"LogData!E263","v":"*EOL*"},{"$f":"IF($D266=\"*EOL*\",\"\",INT(LogData!V263))","v":""},{"$f":"IF($D266=\"*EOL*\",\"\",LogData!V263-E266)","v":""},{"$f":"IF(LEFT($D266,1)=\"*\",\"\",IF(LogData!S263,\"DUPE\",\"\"))","v":""},{"$f":"IF(LEFT($D266,1)=\"*\",\"\",LogData!R263)","v":""}]
[{"$f":"IF(LEFT($D267,1)=\"*\",\"\",LogData!C264)","v":""},{"$f":"IF(LEFT($D267,1)=\"*\",\"\",LogData!F264)","v":""},{"$f":"IF(LEFT($D267,1)=\"*\",\"\",LogData!D264)","v":""},{"$f":"LogData!E264","v":"*EOL*"},{"$f":"IF($D267=\"*EOL*\",\"\",INT(LogData!V264))","v":""},{"$f":"IF($D267=\"*EOL*\",\"\",LogData!V264-E267)","v":""},{"$f":"IF(LEFT($D267,1)=\"*\",\"\",IF(LogData!S264,\"DUPE\",\"\"))","v":""},{"$f":"IF(LEFT($D267,1)=\"*\",\"\",LogData!R264)","v":""}]
[{"$f":"IF(LEFT($D268,1)=\"*\",\"\",LogData!C265)","v":""},{"$f":"IF(LEFT($D268,1)=\"*\",\"\",LogData!F265)","v":""},{"$f":"IF(LEFT($D268,1)=\"*\",\"\",LogData!D265)","v":""},{"$f":"LogData!E265","v":"*EOL*"},{"$f":"IF($D268=\"*EOL*\",\"\",INT(LogData!V265))","v":""},{"$f":"IF($D268=\"*EOL*\",\"\",LogData!V265-E268)","v":""},{"$f":"IF(LEFT($D268,1)=\"*\",\"\",IF(LogData!S265,\"DUPE\",\"\"))","v":""},{"$f":"IF(LEFT($D268,1)=\"*\",\"\",LogData!R265)","v":""}]
[{"$f":"IF(LEFT($D269,1)=\"*\",\"\",LogData!C266)","v":""},{"$f":"IF(LEFT($D269,1)=\"*\",\"\",LogData!F266)","v":""},{"$f":"IF(LEFT($D269,1)=\"*\",\"\",LogData!D266)","v":""},{"$f":"LogData!E266","v":"*EOL*"},{"$f":"IF($D269=\"*EOL*\",\"\",INT(LogData!V266))","v":""},{"$f":"IF($D269=\"*EOL*\",\"\",LogData!V266-E269)","v":""},{"$f":"IF(LEFT($D269,1)=\"*\",\"\",IF(LogData!S266,\"DUPE\",\"\"))","v":""},{"$f":"IF(LEFT($D269,1)=\"*\",\"\",LogData!R266)","v":""}]
[{"$f":"IF(LEFT($D270,1)=\"*\",\"\",LogData!C267)","v":""},{"$f":"IF(LEFT($D270,1)=\"*\",\"\",LogData!F267)","v":""},{"$f":"IF(LEFT($D270,1)=\"*\",\"\",LogData!D267)","v":""},{"$f":"LogData!E267","v":"*EOL*"},{"$f":"IF($D270=\"*EOL*\",\"\",INT(LogData!V267))","v":""},{"$f":"IF($D270=\"*EOL*\",\"\",LogData!V267-E270)","v":""},{"$f":"IF(LEFT($D270,1)=\"*\",\"\",IF(LogData!S267,\"DUPE\",\"\"))","v":""},{"$f":"IF(LEFT($D270,1)=\"*\",\"\",LogData!R267)","v":""}]
[{"$f":"IF(LEFT($D271,1)=\"*\",\"\",LogData!C268)","v":""},{"$f":"IF(LEFT($D271,1)=\"*\",\"\",LogData!F268)","v":""},{"$f":"IF(LEFT($D271,1)=\"*\",\"\",LogData!D268)","v":""},{"$f":"LogData!E268","v":"*EOL*"},{"$f":"IF($D271=\"*EOL*\",\"\",INT(LogData!V268))","v":""},{"$f":"IF($D271=\"*EOL*\",\"\",LogData!V268-E271)","v":""},{"$f":"IF(LEFT($D271,1)=\"*\",\"\",IF(LogData!S268,\"DUPE\",\"\"))","v":""},{"$f":"IF(LEFT($D271,1)=\"*\",\"\",LogData!R268)","v":""}]
[{"$f":"IF(LEFT($D272,1)=\"*\",\"\",LogData!C269)","v":""},{"$f":"IF(LEFT($D272,1)=\"*\",\"\",LogData!F269)","v":""},{"$f":"IF(LEFT($D272,1)=\"*\",\"\",LogData!D269)","v":""},{"$f":"LogData!E269","v":"*EOL*"},{"$f":"IF($D272=\"*EOL*\",\"\",INT(LogData!V269))","v":""},{"$f":"IF($D272=\"*EOL*\",\"\",LogData!V269-E272)","v":""},{"$f":"IF(LEFT($D272,1)=\"*\",\"\",IF(LogData!S269,\"DUPE\",\"\"))","v":""},{"$f":"IF(LEFT($D272,1)=\"*\",\"\",LogData!R269)","v":""}]
[{"$f":"IF(LEFT($D273,1)=\"*\",\"\",LogData!C270)","v":""},{"$f":"IF(LEFT($D273,1)=\"*\",\"\",LogData!F270)","v":""},{"$f":"IF(LEFT($D273,1)=\"*\",\"\",LogData!D270)","v":""},{"$f":"LogData!E270","v":"*EOL*"},{"$f":"IF($D273=\"*EOL*\",\"\",INT(LogData!V270))","v":""},{"$f":"IF($D273=\"*EOL*\",\"\",LogData!V270-E273)","v":""},{"$f":"IF(LEFT($D273,1)=\"*\",\"\",IF(LogData!S270,\"DUPE\",\"\"))","v":""},{"$f":"IF(LEFT($D273,1)=\"*\",\"\",LogData!R270)","v":""}]
[{"$f":"IF(LEFT($D274,1)=\"*\",\"\",LogData!C271)","v":""},{"$f":"IF(LEFT($D274,1)=\"*\",\"\",LogData!F271)","v":""},{"$f":"IF(LEFT($D274,1)=\"*\",\"\",LogData!D271)","v":""},{"$f":"LogData!E271","v":"*EOL*"},{"$f":"IF($D274=\"*EOL*\",\"\",INT(LogData!V271))","v":""},{"$f":"IF($D274=\"*EOL*\",\"\",LogData!V271-E274)","v":""},{"$f":"IF(LEFT($D274,1)=\"*\",\"\",IF(LogData!S271,\"DUPE\",\"\"))","v":""},{"$f":"IF(LEFT($D274,1)=\"*\",\"\",LogData!R271)","v":""}]
[{"$f":"IF(LEFT($D275,1)=\"*\",\"\",LogData!C272)","v":""},{"$f":"IF(LEFT($D275,1)=\"*\",\"\",LogData!F272)","v":""},{"$f":"IF(LEFT($D275,1)=\"*\",\"\",LogData!D272)","v":""},{"$f":"LogData!E272","v":"*EOL*"},{"$f":"IF($D275=\"*EOL*\",\"\",INT(LogData!V272))","v":""},{"$f":"IF($D275=\"*EOL*\",\"\",LogData!V272-E275)","v":""},{"$f":"IF(LEFT($D275,1)=\"*\",\"\",IF(LogData!S272,\"DUPE\",\"\"))","v":""},{"$f":"IF(LEFT($D275,1)=\"*\",\"\",LogData!R272)","v":""}]
[{"$f":"IF(LEFT($D276,1)=\"*\",\"\",LogData!C273)","v":""},{"$f":"IF(LEFT($D276,1)=\"*\",\"\",LogData!F273)","v":""},{"$f":"IF(LEFT($D276,1)=\"*\",\"\",LogData!D273)","v":""},{"$f":"LogData!E273","v":"*EOL*"},{"$f":"IF($D276=\"*EOL*\",\"\",INT(LogData!V273))","v":""},{"$f":"IF($D276=\"*EOL*\",\"\",LogData!V273-E276)","v":""},{"$f":"IF(LEFT($D276,1)=\"*\",\"\",IF(LogData!S273,\"DUPE\",\"\"))","v":""},{"$f":"IF(LEFT($D276,1)=\"*\",\"\",LogData!R273)","v":""}]
[{"$f":"IF(LEFT($D277,1)=\"*\",\"\",LogData!C274)","v":""},{"$f":"IF(LEFT($D277,1)=\"*\",\"\",LogData!F274)","v":""},{"$f":"IF(LEFT($D277,1)=\"*\",\"\",LogData!D274)","v":""},{"$f":"LogData!E274","v":"*EOL*"},{"$f":"IF($D277=\"*EOL*\",\"\",INT(LogData!V274))","v":""},{"$f":"IF($D277=\"*EOL*\",\"\",LogData!V274-E277)","v":""},{"$f":"IF(LEFT($D277,1)=\"*\",\"\",IF(LogData!S274,\"DUPE\",\"\"))","v":""},{"$f":"IF(LEFT($D277,1)=\"*\",\"\",LogData!R274)","v":""}]
[{"$f":"IF(LEFT($D278,1)=\"*\",\"\",LogData!C275)","v":""},{"$f":"IF(LEFT($D278,1)=\"*\",\"\",LogData!F275)","v":""},{"$f":"IF(LEFT($D278,1)=\"*\",\"\",LogData!D275)","v":""},{"$f":"LogData!E275","v":"*EOL*"},{"$f":"IF($D278=\"*EOL*\",\"\",INT(LogData!V275))","v":""},{"$f":"IF($D278=\"*EOL*\",\"\",LogData!V275-E278)","v":""},{"$f":"IF(LEFT($D278,1)=\"*\",\"\",IF(LogData!S275,\"DUPE\",\"\"))","v":""},{"$f":"IF(LEFT($D278,1)=\"*\",\"\",LogData!R275)","v":""}]
[{"$f":"IF(LEFT($D279,1)=\"*\",\"\",LogData!C276)","v":""},{"$f":"IF(LEFT($D279,1)=\"*\",\"\",LogData!F276)","v":""},{"$f":"IF(LEFT($D279,1)=\"*\",\"\",LogData!D276)","v":""},{"$f":"LogData!E276","v":"*EOL*"},{"$f":"IF($D279=\"*EOL*\",\"\",INT(LogData!V276))","v":""},{"$f":"IF($D279=\"*EOL*\",\"\",LogData!V276-E279)","v":""},{"$f":"IF(LEFT($D279,1)=\"*\",\"\",IF(LogData!S276,\"DUPE\",\"\"))","v":""},{"$f":"IF(LEFT($D279,1)=\"*\",\"\",LogData!R276)","v":""}]
[{"$f":"IF(LEFT($D280,1)=\"*\",\"\",LogData!C277)","v":""},{"$f":"IF(LEFT($D280,1)=\"*\",\"\",LogData!F277)","v":""},{"$f":"IF(LEFT($D280,1)=\"*\",\"\",LogData!D277)","v":""},{"$f":"LogData!E277","v":"*EOL*"},{"$f":"IF($D280=\"*EOL*\",\"\",INT(LogData!V277))","v":""},{"$f":"IF($D280=\"*EOL*\",\"\",LogData!V277-E280)","v":""},{"$f":"IF(LEFT($D280,1)=\"*\",\"\",IF(LogData!S277,\"DUPE\",\"\"))","v":""},{"$f":"IF(LEFT($D280,1)=\"*\",\"\",LogData!R277)","v":""}]
[{"$f":"IF(LEFT($D281,1)=\"*\",\"\",LogData!C278)","v":""},{"$f":"IF(LEFT($D281,1)=\"*\",\"\",LogData!F278)","v":""},{"$f":"IF(LEFT($D281,1)=\"*\",\"\",LogData!D278)","v":""},{"$f":"LogData!E278","v":"*EOL*"},{"$f":"IF($D281=\"*EOL*\",\"\",INT(LogData!V278))","v":""},{"$f":"IF($D281=\"*EOL*\",\"\",LogData!V278-E281)","v":""},{"$f":"IF(LEFT($D281,1)=\"*\",\"\",IF(LogData!S278,\"DUPE\",\"\"))","v":""},{"$f":"IF(LEFT($D281,1)=\"*\",\"\",LogData!R278)","v":""}]
[{"$f":"IF(LEFT($D282,1)=\"*\",\"\",LogData!C279)","v":""},{"$f":"IF(LEFT($D282,1)=\"*\",\"\",LogData!F279)","v":""},{"$f":"IF(LEFT($D282,1)=\"*\",\"\",LogData!D279)","v":""},{"$f":"LogData!E279","v":"*EOL*"},{"$f":"IF($D282=\"*EOL*\",\"\",INT(LogData!V279))","v":""},{"$f":"IF($D282=\"*EOL*\",\"\",LogData!V279-E282)","v":""},{"$f":"IF(LEFT($D282,1)=\"*\",\"\",IF(LogData!S279,\"DUPE\",\"\"))","v":""},{"$f":"IF(LEFT($D282,1)=\"*\",\"\",LogData!R279)","v":""}]
[{"$f":"IF(LEFT($D283,1)=\"*\",\"\",LogData!C280)","v":""},{"$f":"IF(LEFT($D283,1)=\"*\",\"\",LogData!F280)","v":""},{"$f":"IF(LEFT($D283,1)=\"*\",\"\",LogData!D280)","v":""},{"$f":"LogData!E280","v":"*EOL*"},{"$f":"IF($D283=\"*EOL*\",\"\",INT(LogData!V280))","v":""},{"$f":"IF($D283=\"*EOL*\",\"\",LogData!V280-E283)","v":""},{"$f":"IF(LEFT($D283,1)=\"*\",\"\",IF(LogData!S280,\"DUPE\",\"\"))","v":""},{"$f":"IF(LEFT($D283,1)=\"*\",\"\",LogData!R280)","v":""}]
[{"$f":"IF(LEFT($D284,1)=\"*\",\"\",LogData!C281)","v":""},{"$f":"IF(LEFT($D284,1)=\"*\",\"\",LogData!F281)","v":""},{"$f":"IF(LEFT($D284,1)=\"*\",\"\",LogData!D281)","v":""},{"$f":"LogData!E281","v":"*EOL*"},{"$f":"IF($D284=\"*EOL*\",\"\",INT(LogData!V281))","v":""},{"$f":"IF($D284=\"*EOL*\",\"\",LogData!V281-E284)","v":""},{"$f":"IF(LEFT($D284,1)=\"*\",\"\",IF(LogData!S281,\"DUPE\",\"\"))","v":""},{"$f":"IF(LEFT($D284,1)=\"*\",\"\",LogData!R281)","v":""}]
[{"$f":"IF(LEFT($D285,1)=\"*\",\"\",LogData!C282)","v":""},{"$f":"IF(LEFT($D285,1)=\"*\",\"\",LogData!F282)","v":""},{"$f":"IF(LEFT($D285,1)=\"*\",\"\",LogData!D282)","v":""},{"$f":"LogData!E282","v":"*EOL*"},{"$f":"IF($D285=\"*EOL*\",\"\",INT(LogData!V282))","v":""},{"$f":"IF($D285=\"*EOL*\",\"\",LogData!V282-E285)","v":""},{"$f":"IF(LEFT($D285,1)=\"*\",\"\",IF(LogData!S282,\"DUPE\",\"\"))","v":""},{"$f":"IF(LEFT($D285,1)=\"*\",\"\",LogData!R282)","v":""}]
[{"$f":"IF(LEFT($D286,1)=\"*\",\"\",LogData!C283)","v":""},{"$f":"IF(LEFT($D286,1)=\"*\",\"\",LogData!F283)","v":""},{"$f":"IF(LEFT($D286,1)=\"*\",\"\",LogData!D283)","v":""},{"$f":"LogData!E283","v":"*EOL*"},{"$f":"IF($D286=\"*EOL*\",\"\",INT(LogData!V283))","v":""},{"$f":"IF($D286=\"*EOL*\",\"\",LogData!V283-E286)","v":""},{"$f":"IF(LEFT($D286,1)=\"*\",\"\",IF(LogData!S283,\"DUPE\",\"\"))","v":""},{"$f":"IF(LEFT($D286,1)=\"*\",\"\",LogData!R283)","v":""}]
[{"$f":"IF(LEFT($D287,1)=\"*\",\"\",LogData!C284)","v":""},{"$f":"IF(LEFT($D287,1)=\"*\",\"\",LogData!F284)","v":""},{"$f":"IF(LEFT($D287,1)=\"*\",\"\",LogData!D284)","v":""},{"$f":"LogData!E284","v":"*EOL*"},{"$f":"IF($D287=\"*EOL*\",\"\",INT(LogData!V284))","v":""},{"$f":"IF($D287=\"*EOL*\",\"\",LogData!V284-E287)","v":""},{"$f":"IF(LEFT($D287,1)=\"*\",\"\",IF(LogData!S284,\"DUPE\",\"\"))","v":""},{"$f":"IF(LEFT($D287,1)=\"*\",\"\",LogData!R284)","v":""}]
[{"$f":"IF(LEFT($D288,1)=\"*\",\"\",LogData!C285)","v":""},{"$f":"IF(LEFT($D288,1)=\"*\",\"\",LogData!F285)","v":""},{"$f":"IF(LEFT($D288,1)=\"*\",\"\",LogData!D285)","v":""},{"$f":"LogData!E285","v":"*EOL*"},{"$f":"IF($D288=\"*EOL*\",\"\",INT(LogData!V285))","v":""},{"$f":"IF($D288=\"*EOL*\",\"\",LogData!V285-E288)","v":""},{"$f":"IF(LEFT($D288,1)=\"*\",\"\",IF(LogData!S285,\"DUPE\",\"\"))","v":""},{"$f":"IF(LEFT($D288,1)=\"*\",\"\",LogData!R285)","v":""}]
[{"$f":"IF(LEFT($D289,1)=\"*\",\"\",LogData!C286)","v":""},{"$f":"IF(LEFT($D289,1)=\"*\",\"\",LogData!F286)","v":""},{"$f":"IF(LEFT($D289,1)=\"*\",\"\",LogData!D286)","v":""},{"$f":"LogData!E286","v":"*EOL*"},{"$f":"IF($D289=\"*EOL*\",\"\",INT(LogData!V286))","v":""},{"$f":"IF($D289=\"*EOL*\",\"\",LogData!V286-E289)","v":""},{"$f":"IF(LEFT($D289,1)=\"*\",\"\",IF(LogData!S286,\"DUPE\",\"\"))","v":""},{"$f":"IF(LEFT($D289,1)=\"*\",\"\",LogData!R286)","v":""}]
[{"$f":"IF(LEFT($D290,1)=\"*\",\"\",LogData!C287)","v":""},{"$f":"IF(LEFT($D290,1)=\"*\",\"\",LogData!F287)","v":""},{"$f":"IF(LEFT($D290,1)=\"*\",\"\",LogData!D287)","v":""},{"$f":"LogData!E287","v":"*EOL*"},{"$f":"IF($D290=\"*EOL*\",\"\",INT(LogData!V287))","v":""},{"$f":"IF($D290=\"*EOL*\",\"\",LogData!V287-E290)","v":""},{"$f":"IF(LEFT($D290,1)=\"*\",\"\",IF(LogData!S287,\"DUPE\",\"\"))","v":""},{"$f":"IF(LEFT($D290,1)=\"*\",\"\",LogData!R287)","v":""}]
[{"$f":"IF(LEFT($D291,1)=\"*\",\"\",LogData!C288)","v":""},{"$f":"IF(LEFT($D291,1)=\"*\",\"\",LogData!F288)","v":""},{"$f":"IF(LEFT($D291,1)=\"*\",\"\",LogData!D288)","v":""},{"$f":"LogData!E288","v":"*EOL*"},{"$f":"IF($D291=\"*EOL*\",\"\",INT(LogData!V288))","v":""},{"$f":"IF($D291=\"*EOL*\",\"\",LogData!V288-E291)","v":""},{"$f":"IF(LEFT($D291,1)=\"*\",\"\",IF(LogData!S288,\"DUPE\",\"\"))","v":""},{"$f":"IF(LEFT($D291,1)=\"*\",\"\",LogData!R288)","v":""}]
[{"$f":"IF(LEFT($D292,1)=\"*\",\"\",LogData!C289)","v":""},{"$f":"IF(LEFT($D292,1)=\"*\",\"\",LogData!F289)","v":""},{"$f":"IF(LEFT($D292,1)=\"*\",\"\",LogData!D289)","v":""},{"$f":"LogData!E289","v":"*EOL*"},{"$f":"IF($D292=\"*EOL*\",\"\",INT(LogData!V289))","v":""},{"$f":"IF($D292=\"*EOL*\",\"\",LogData!V289-E292)","v":""},{"$f":"IF(LEFT($D292,1)=\"*\",\"\",IF(LogData!S289,\"DUPE\",\"\"))","v":""},{"$f":"IF(LEFT($D292,1)=\"*\",\"\",LogData!R289)","v":""}]
[{"$f":"IF(LEFT($D293,1)=\"*\",\"\",LogData!C290)","v":""},{"$f":"IF(LEFT($D293,1)=\"*\",\"\",LogData!F290)","v":""},{"$f":"IF(LEFT($D293,1)=\"*\",\"\",LogData!D290)","v":""},{"$f":"LogData!E290","v":"*EOL*"},{"$f":"IF($D293=\"*EOL*\",\"\",INT(LogData!V290))","v":""},{"$f":"IF($D293=\"*EOL*\",\"\",LogData!V290-E293)","v":""},{"$f":"IF(LEFT($D293,1)=\"*\",\"\",IF(LogData!S290,\"DUPE\",\"\"))","v":""},{"$f":"IF(LEFT($D293,1)=\"*\",\"\",LogData!R290)","v":""}]
[{"$f":"IF(LEFT($D294,1)=\"*\",\"\",LogData!C291)","v":""},{"$f":"IF(LEFT($D294,1)=\"*\",\"\",LogData!F291)","v":""},{"$f":"IF(LEFT($D294,1)=\"*\",\"\",LogData!D291)","v":""},{"$f":"LogData!E291","v":"*EOL*"},{"$f":"IF($D294=\"*EOL*\",\"\",INT(LogData!V291))","v":""},{"$f":"IF($D294=\"*EOL*\",\"\",LogData!V291-E294)","v":""},{"$f":"IF(LEFT($D294,1)=\"*\",\"\",IF(LogData!S291,\"DUPE\",\"\"))","v":""},{"$f":"IF(LEFT($D294,1)=\"*\",\"\",LogData!R291)","v":""}]
[{"$f":"IF(LEFT($D295,1)=\"*\",\"\",LogData!C292)","v":""},{"$f":"IF(LEFT($D295,1)=\"*\",\"\",LogData!F292)","v":""},{"$f":"IF(LEFT($D295,1)=\"*\",\"\",LogData!D292)","v":""},{"$f":"LogData!E292","v":"*EOL*"},{"$f":"IF($D295=\"*EOL*\",\"\",INT(LogData!V292))","v":""},{"$f":"IF($D295=\"*EOL*\",\"\",LogData!V292-E295)","v":""},{"$f":"IF(LEFT($D295,1)=\"*\",\"\",IF(LogData!S292,\"DUPE\",\"\"))","v":""},{"$f":"IF(LEFT($D295,1)=\"*\",\"\",LogData!R292)","v":""}]
[{"$f":"IF(LEFT($D296,1)=\"*\",\"\",LogData!C293)","v":""},{"$f":"IF(LEFT($D296,1)=\"*\",\"\",LogData!F293)","v":""},{"$f":"IF(LEFT($D296,1)=\"*\",\"\",LogData!D293)","v":""},{"$f":"LogData!E293","v":"*EOL*"},{"$f":"IF($D296=\"*EOL*\",\"\",INT(LogData!V293))","v":""},{"$f":"IF($D296=\"*EOL*\",\"\",LogData!V293-E296)","v":""},{"$f":"IF(LEFT($D296,1)=\"*\",\"\",IF(LogData!S293,\"DUPE\",\"\"))","v":""},{"$f":"IF(LEFT($D296,1)=\"*\",\"\",LogData!R293)","v":""}]
[{"$f":"IF(LEFT($D297,1)=\"*\",\"\",LogData!C294)","v":""},{"$f":"IF(LEFT($D297,1)=\"*\",\"\",LogData!F294)","v":""},{"$f":"IF(LEFT($D297,1)=\"*\",\"\",LogData!D294)","v":""},{"$f":"LogData!E294","v":"*EOL*"},{"$f":"IF($D297=\"*EOL*\",\"\",INT(LogData!V294))","v":""},{"$f":"IF($D297=\"*EOL*\",\"\",LogData!V294-E297)","v":""},{"$f":"IF(LEFT($D297,1)=\"*\",\"\",IF(LogData!S294,\"DUPE\",\"\"))","v":""},{"$f":"IF(LEFT($D297,1)=\"*\",\"\",LogData!R294)","v":""}]
[{"$f":"IF(LEFT($D298,1)=\"*\",\"\",LogData!C295)","v":""},{"$f":"IF(LEFT($D298,1)=\"*\",\"\",LogData!F295)","v":""},{"$f":"IF(LEFT($D298,1)=\"*\",\"\",LogData!D295)","v":""},{"$f":"LogData!E295","v":"*EOL*"},{"$f":"IF($D298=\"*EOL*\",\"\",INT(LogData!V295))","v":""},{"$f":"IF($D298=\"*EOL*\",\"\",LogData!V295-E298)","v":""},{"$f":"IF(LEFT($D298,1)=\"*\",\"\",IF(LogData!S295,\"DUPE\",\"\"))","v":""},{"$f":"IF(LEFT($D298,1)=\"*\",\"\",LogData!R295)","v":""}]
[{"$f":"IF(LEFT($D299,1)=\"*\",\"\",LogData!C296)","v":""},{"$f":"IF(LEFT($D299,1)=\"*\",\"\",LogData!F296)","v":""},{"$f":"IF(LEFT($D299,1)=\"*\",\"\",LogData!D296)","v":""},{"$f":"LogData!E296","v":"*EOL*"},{"$f":"IF($D299=\"*EOL*\",\"\",INT(LogData!V296))","v":""},{"$f":"IF($D299=\"*EOL*\",\"\",LogData!V296-E299)","v":""},{"$f":"IF(LEFT($D299,1)=\"*\",\"\",IF(LogData!S296,\"DUPE\",\"\"))","v":""},{"$f":"IF(LEFT($D299,1)=\"*\",\"\",LogData!R296)","v":""}]
[{"$f":"IF(LEFT($D300,1)=\"*\",\"\",LogData!C297)","v":""},{"$f":"IF(LEFT($D300,1)=\"*\",\"\",LogData!F297)","v":""},{"$f":"IF(LEFT($D300,1)=\"*\",\"\",LogData!D297)","v":""},{"$f":"LogData!E297","v":"*EOL*"},{"$f":"IF($D300=\"*EOL*\",\"\",INT(LogData!V297))","v":""},{"$f":"IF($D300=\"*EOL*\",\"\",LogData!V297-E300)","v":""},{"$f":"IF(LEFT($D300,1)=\"*\",\"\",IF(LogData!S297,\"DUPE\",\"\"))","v":""},{"$f":"IF(LEFT($D300,1)=\"*\",\"\",LogData!R297)","v":""}]
[{"$f":"IF(LEFT($D301,1)=\"*\",\"\",LogData!C298)","v":""},{"$f":"IF(LEFT($D301,1)=\"*\",\"\",LogData!F298)","v":""},{"$f":"IF(LEFT($D301,1)=\"*\",\"\",LogData!D298)","v":""},{"$f":"LogData!E298","v":"*EOL*"},{"$f":"IF($D301=\"*EOL*\",\"\",INT(LogData!V298))","v":""},{"$f":"IF($D301=\"*EOL*\",\"\",LogData!V298-E301)","v":""},{"$f":"IF(LEFT($D301,1)=\"*\",\"\",IF(LogData!S298,\"DUPE\",\"\"))","v":""},{"$f":"IF(LEFT($D301,1)=\"*\",\"\",LogData!R298)","v":""}]
[{"$f":"IF(LEFT($D302,1)=\"*\",\"\",LogData!C299)","v":""},{"$f":"IF(LEFT($D302,1)=\"*\",\"\",LogData!F299)","v":""},{"$f":"IF(LEFT($D302,1)=\"*\",\"\",LogData!D299)","v":""},{"$f":"LogData!E299","v":"*EOL*"},{"$f":"IF($D302=\"*EOL*\",\"\",INT(LogData!V299))","v":""},{"$f":"IF($D302=\"*EOL*\",\"\",LogData!V299-E302)","v":""},{"$f":"IF(LEFT($D302,1)=\"*\",\"\",IF(LogData!S299,\"DUPE\",\"\"))","v":""},{"$f":"IF(LEFT($D302,1)=\"*\",\"\",LogData!R299)","v":""}]
[{"$f":"IF(LEFT($D303,1)=\"*\",\"\",LogData!C300)","v":""},{"$f":"IF(LEFT($D303,1)=\"*\",\"\",LogData!F300)","v":""},{"$f":"IF(LEFT($D303,1)=\"*\",\"\",LogData!D300)","v":""},{"$f":"LogData!E300","v":"*EOL*"},{"$f":"IF($D303=\"*EOL*\",\"\",INT(LogData!V300))","v":""},{"$f":"IF($D303=\"*EOL*\",\"\",LogData!V300-E303)","v":""},{"$f":"IF(LEFT($D303,1)=\"*\",\"\",IF(LogData!S300,\"DUPE\",\"\"))","v":""},{"$f":"IF(LEFT($D303,1)=\"*\",\"\",LogData!R300)","v":""}]
[{"$f":"IF(LEFT($D304,1)=\"*\",\"\",LogData!C301)","v":""},{"$f":"IF(LEFT($D304,1)=\"*\",\"\",LogData!F301)","v":""},{"$f":"IF(LEFT($D304,1)=\"*\",\"\",LogData!D301)","v":""},{"$f":"LogData!E301","v":"*EOL*"},{"$f":"IF($D304=\"*EOL*\",\"\",INT(LogData!V301))","v":""},{"$f":"IF($D304=\"*EOL*\",\"\",LogData!V301-E304)","v":""},{"$f":"IF(LEFT($D304,1)=\"*\",\"\",IF(LogData!S301,\"DUPE\",\"\"))","v":""},{"$f":"IF(LEFT($D304,1)=\"*\",\"\",LogData!R301)","v":""}]
[{"$f":"IF(LEFT($D305,1)=\"*\",\"\",LogData!C302)","v":""},{"$f":"IF(LEFT($D305,1)=\"*\",\"\",LogData!F302)","v":""},{"$f":"IF(LEFT($D305,1)=\"*\",\"\",LogData!D302)","v":""},{"$f":"LogData!E302","v":"*EOL*"},{"$f":"IF($D305=\"*EOL*\",\"\",INT(LogData!V302))","v":""},{"$f":"IF($D305=\"*EOL*\",\"\",LogData!V302-E305)","v":""},{"$f":"IF(LEFT($D305,1)=\"*\",\"\",IF(LogData!S302,\"DUPE\",\"\"))","v":""},{"$f":"IF(LEFT($D305,1)=\"*\",\"\",LogData!R302)","v":""}]
[{"$f":"IF(LEFT($D306,1)=\"*\",\"\",LogData!C303)","v":""},{"$f":"IF(LEFT($D306,1)=\"*\",\"\",LogData!F303)","v":""},{"$f":"IF(LEFT($D306,1)=\"*\",\"\",LogData!D303)","v":""},{"$f":"LogData!E303","v":"*EOL*"},{"$f":"IF($D306=\"*EOL*\",\"\",INT(LogData!V303))","v":""},{"$f":"IF($D306=\"*EOL*\",\"\",LogData!V303-E306)","v":""},{"$f":"IF(LEFT($D306,1)=\"*\",\"\",IF(LogData!S303,\"DUPE\",\"\"))","v":""},{"$f":"IF(LEFT($D306,1)=\"*\",\"\",LogData!R303)","v":""}]
[{"$f":"IF(LEFT($D307,1)=\"*\",\"\",LogData!C304)","v":""},{"$f":"IF(LEFT($D307,1)=\"*\",\"\",LogData!F304)","v":""},{"$f":"IF(LEFT($D307,1)=\"*\",\"\",LogData!D304)","v":""},{"$f":"LogData!E304","v":"*EOL*"},{"$f":"IF($D307=\"*EOL*\",\"\",INT(LogData!V304))","v":""},{"$f":"IF($D307=\"*EOL*\",\"\",LogData!V304-E307)","v":""},{"$f":"IF(LEFT($D307,1)=\"*\",\"\",IF(LogData!S304,\"DUPE\",\"\"))","v":""},{"$f":"IF(LEFT($D307,1)=\"*\",\"\",LogData!R304)","v":""}]
[{"$f":"IF(LEFT($D308,1)=\"*\",\"\",LogData!C305)","v":""},{"$f":"IF(LEFT($D308,1)=\"*\",\"\",LogData!F305)","v":""},{"$f":"IF(LEFT($D308,1)=\"*\",\"\",LogData!D305)","v":""},{"$f":"LogData!E305","v":"*EOL*"},{"$f":"IF($D308=\"*EOL*\",\"\",INT(LogData!V305))","v":""},{"$f":"IF($D308=\"*EOL*\",\"\",LogData!V305-E308)","v":""},{"$f":"IF(LEFT($D308,1)=\"*\",\"\",IF(LogData!S305,\"DUPE\",\"\"))","v":""},{"$f":"IF(LEFT($D308,1)=\"*\",\"\",LogData!R305)","v":""}]
[{"$f":"IF(LEFT($D309,1)=\"*\",\"\",LogData!C306)","v":""},{"$f":"IF(LEFT($D309,1)=\"*\",\"\",LogData!F306)","v":""},{"$f":"IF(LEFT($D309,1)=\"*\",\"\",LogData!D306)","v":""},{"$f":"LogData!E306","v":"*EOL*"},{"$f":"IF($D309=\"*EOL*\",\"\",INT(LogData!V306))","v":""},{"$f":"IF($D309=\"*EOL*\",\"\",LogData!V306-E309)","v":""},{"$f":"IF(LEFT($D309,1)=\"*\",\"\",IF(LogData!S306,\"DUPE\",\"\"))","v":""},{"$f":"IF(LEFT($D309,1)=\"*\",\"\",LogData!R306)","v":""}]
[{"$f":"IF(LEFT($D310,1)=\"*\",\"\",LogData!C307)","v":""},{"$f":"IF(LEFT($D310,1)=\"*\",\"\",LogData!F307)","v":""},{"$f":"IF(LEFT($D310,1)=\"*\",\"\",LogData!D307)","v":""},{"$f":"LogData!E307","v":"*EOL*"},{"$f":"IF($D310=\"*EOL*\",\"\",INT(LogData!V307))","v":""},{"$f":"IF($D310=\"*EOL*\",\"\",LogData!V307-E310)","v":""},{"$f":"IF(LEFT($D310,1)=\"*\",\"\",IF(LogData!S307,\"DUPE\",\"\"))","v":""},{"$f":"IF(LEFT($D310,1)=\"*\",\"\",LogData!R307)","v":""}]
[{"$f":"IF(LEFT($D311,1)=\"*\",\"\",LogData!C308)","v":""},{"$f":"IF(LEFT($D311,1)=\"*\",\"\",LogData!F308)","v":""},{"$f":"IF(LEFT($D311,1)=\"*\",\"\",LogData!D308)","v":""},{"$f":"LogData!E308","v":"*EOL*"},{"$f":"IF($D311=\"*EOL*\",\"\",INT(LogData!V308))","v":""},{"$f":"IF($D311=\"*EOL*\",\"\",LogData!V308-E311)","v":""},{"$f":"IF(LEFT($D311,1)=\"*\",\"\",IF(LogData!S308,\"DUPE\",\"\"))","v":""},{"$f":"IF(LEFT($D311,1)=\"*\",\"\",LogData!R308)","v":""}]
[{"$f":"IF(LEFT($D312,1)=\"*\",\"\",LogData!C309)","v":""},{"$f":"IF(LEFT($D312,1)=\"*\",\"\",LogData!F309)","v":""},{"$f":"IF(LEFT($D312,1)=\"*\",\"\",LogData!D309)","v":""},{"$f":"LogData!E309","v":"*EOL*"},{"$f":"IF($D312=\"*EOL*\",\"\",INT(LogData!V309))","v":""},{"$f":"IF($D312=\"*EOL*\",\"\",LogData!V309-E312)","v":""},{"$f":"IF(LEFT($D312,1)=\"*\",\"\",IF(LogData!S309,\"DUPE\",\"\"))","v":""},{"$f":"IF(LEFT($D312,1)=\"*\",\"\",LogData!R309)","v":""}]
[{"$f":"IF(LEFT($D313,1)=\"*\",\"\",LogData!C310)","v":""},{"$f":"IF(LEFT($D313,1)=\"*\",\"\",LogData!F310)","v":""},{"$f":"IF(LEFT($D313,1)=\"*\",\"\",LogData!D310)","v":""},{"$f":"LogData!E310","v":"*EOL*"},{"$f":"IF($D313=\"*EOL*\",\"\",INT(LogData!V310))","v":""},{"$f":"IF($D313=\"*EOL*\",\"\",LogData!V310-E313)","v":""},{"$f":"IF(LEFT($D313,1)=\"*\",\"\",IF(LogData!S310,\"DUPE\",\"\"))","v":""},{"$f":"IF(LEFT($D313,1)=\"*\",\"\",LogData!R310)","v":""}]
[{"$f":"IF(LEFT($D314,1)=\"*\",\"\",LogData!C311)","v":""},{"$f":"IF(LEFT($D314,1)=\"*\",\"\",LogData!F311)","v":""},{"$f":"IF(LEFT($D314,1)=\"*\",\"\",LogData!D311)","v":""},{"$f":"LogData!E311","v":"*EOL*"},{"$f":"IF($D314=\"*EOL*\",\"\",INT(LogData!V311))","v":""},{"$f":"IF($D314=\"*EOL*\",\"\",LogData!V311-E314)","v":""},{"$f":"IF(LEFT($D314,1)=\"*\",\"\",IF(LogData!S311,\"DUPE\",\"\"))","v":""},{"$f":"IF(LEFT($D314,1)=\"*\",\"\",LogData!R311)","v":""}]
[{"$f":"IF(LEFT($D315,1)=\"*\",\"\",LogData!C312)","v":""},{"$f":"IF(LEFT($D315,1)=\"*\",\"\",LogData!F312)","v":""},{"$f":"IF(LEFT($D315,1)=\"*\",\"\",LogData!D312)","v":""},{"$f":"LogData!E312","v":"*EOL*"},{"$f":"IF($D315=\"*EOL*\",\"\",INT(LogData!V312))","v":""},{"$f":"IF($D315=\"*EOL*\",\"\",LogData!V312-E315)","v":""},{"$f":"IF(LEFT($D315,1)=\"*\",\"\",IF(LogData!S312,\"DUPE\",\"\"))","v":""},{"$f":"IF(LEFT($D315,1)=\"*\",\"\",LogData!R312)","v":""}]
[{"$f":"IF(LEFT($D316,1)=\"*\",\"\",LogData!C313)","v":""},{"$f":"IF(LEFT($D316,1)=\"*\",\"\",LogData!F313)","v":""},{"$f":"IF(LEFT($D316,1)=\"*\",\"\",LogData!D313)","v":""},{"$f":"LogData!E313","v":"*EOL*"},{"$f":"IF($D316=\"*EOL*\",\"\",INT(LogData!V313))","v":""},{"$f":"IF($D316=\"*EOL*\",\"\",LogData!V313-E316)","v":""},{"$f":"IF(LEFT($D316,1)=\"*\",\"\",IF(LogData!S313,\"DUPE\",\"\"))","v":""},{"$f":"IF(LEFT($D316,1)=\"*\",\"\",LogData!R313)","v":""}]
[{"$f":"IF(LEFT($D317,1)=\"*\",\"\",LogData!C314)","v":""},{"$f":"IF(LEFT($D317,1)=\"*\",\"\",LogData!F314)","v":""},{"$f":"IF(LEFT($D317,1)=\"*\",\"\",LogData!D314)","v":""},{"$f":"LogData!E314","v":"*EOL*"},{"$f":"IF($D317=\"*EOL*\",\"\",INT(LogData!V314))","v":""},{"$f":"IF($D317=\"*EOL*\",\"\",LogData!V314-E317)","v":""},{"$f":"IF(LEFT($D317,1)=\"*\",\"\",IF(LogData!S314,\"DUPE\",\"\"))","v":""},{"$f":"IF(LEFT($D317,1)=\"*\",\"\",LogData!R314)","v":""}]
[{"$f":"IF(LEFT($D318,1)=\"*\",\"\",LogData!C315)","v":""},{"$f":"IF(LEFT($D318,1)=\"*\",\"\",LogData!F315)","v":""},{"$f":"IF(LEFT($D318,1)=\"*\",\"\",LogData!D315)","v":""},{"$f":"LogData!E315","v":"*EOL*"},{"$f":"IF($D318=\"*EOL*\",\"\",INT(LogData!V315))","v":""},{"$f":"IF($D318=\"*EOL*\",\"\",LogData!V315-E318)","v":""},{"$f":"IF(LEFT($D318,1)=\"*\",\"\",IF(LogData!S315,\"DUPE\",\"\"))","v":""},{"$f":"IF(LEFT($D318,1)=\"*\",\"\",LogData!R315)","v":""}]
[{"$f":"IF(LEFT($D319,1)=\"*\",\"\",LogData!C316)","v":""},{"$f":"IF(LEFT($D319,1)=\"*\",\"\",LogData!F316)","v":""},{"$f":"IF(LEFT($D319,1)=\"*\",\"\",LogData!D316)","v":""},{"$f":"LogData!E316","v":"*EOL*"},{"$f":"IF($D319=\"*EOL*\",\"\",INT(LogData!V316))","v":""},{"$f":"IF($D319=\"*EOL*\",\"\",LogData!V316-E319)","v":""},{"$f":"IF(LEFT($D319,1)=\"*\",\"\",IF(LogData!S316,\"DUPE\",\"\"))","v":""},{"$f":"IF(LEFT($D319,1)=\"*\",\"\",LogData!R316)","v":""}]
[{"$f":"IF(LEFT($D320,1)=\"*\",\"\",LogData!C317)","v":""},{"$f":"IF(LEFT($D320,1)=\"*\",\"\",LogData!F317)","v":""},{"$f":"IF(LEFT($D320,1)=\"*\",\"\",LogData!D317)","v":""},{"$f":"LogData!E317","v":"*EOL*"},{"$f":"IF($D320=\"*EOL*\",\"\",INT(LogData!V317))","v":""},{"$f":"IF($D320=\"*EOL*\",\"\",LogData!V317-E320)","v":""},{"$f":"IF(LEFT($D320,1)=\"*\",\"\",IF(LogData!S317,\"DUPE\",\"\"))","v":""},{"$f":"IF(LEFT($D320,1)=\"*\",\"\",LogData!R317)","v":""}]
[{"$f":"IF(LEFT($D321,1)=\"*\",\"\",LogData!C318)","v":""},{"$f":"IF(LEFT($D321,1)=\"*\",\"\",LogData!F318)","v":""},{"$f":"IF(LEFT($D321,1)=\"*\",\"\",LogData!D318)","v":""},{"$f":"LogData!E318","v":"*EOL*"},{"$f":"IF($D321=\"*EOL*\",\"\",INT(LogData!V318))","v":""},{"$f":"IF($D321=\"*EOL*\",\"\",LogData!V318-E321)","v":""},{"$f":"IF(LEFT($D321,1)=\"*\",\"\",IF(LogData!S318,\"DUPE\",\"\"))","v":""},{"$f":"IF(LEFT($D321,1)=\"*\",\"\",LogData!R318)","v":""}]
[{"$f":"IF(LEFT($D322,1)=\"*\",\"\",LogData!C319)","v":""},{"$f":"IF(LEFT($D322,1)=\"*\",\"\",LogData!F319)","v":""},{"$f":"IF(LEFT($D322,1)=\"*\",\"\",LogData!D319)","v":""},{"$f":"LogData!E319","v":"*EOL*"},{"$f":"IF($D322=\"*EOL*\",\"\",INT(LogData!V319))","v":""},{"$f":"IF($D322=\"*EOL*\",\"\",LogData!V319-E322)","v":""},{"$f":"IF(LEFT($D322,1)=\"*\",\"\",IF(LogData!S319,\"DUPE\",\"\"))","v":""},{"$f":"IF(LEFT($D322,1)=\"*\",\"\",LogData!R319)","v":""}]
[{"$f":"IF(LEFT($D323,1)=\"*\",\"\",LogData!C320)","v":""},{"$f":"IF(LEFT($D323,1)=\"*\",\"\",LogData!F320)","v":""},{"$f":"IF(LEFT($D323,1)=\"*\",\"\",LogData!D320)","v":""},{"$f":"LogData!E320","v":"*EOL*"},{"$f":"IF($D323=\"*EOL*\",\"\",INT(LogData!V320))","v":""},{"$f":"IF($D323=\"*EOL*\",\"\",LogData!V320-E323)","v":""},{"$f":"IF(LEFT($D323,1)=\"*\",\"\",IF(LogData!S320,\"DUPE\",\"\"))","v":""},{"$f":"IF(LEFT($D323,1)=\"*\",\"\",LogData!R320)","v":""}]
[{"$f":"IF(LEFT($D324,1)=\"*\",\"\",LogData!C321)","v":""},{"$f":"IF(LEFT($D324,1)=\"*\",\"\",LogData!F321)","v":""},{"$f":"IF(LEFT($D324,1)=\"*\",\"\",LogData!D321)","v":""},{"$f":"LogData!E321","v":"*EOL*"},{"$f":"IF($D324=\"*EOL*\",\"\",INT(LogData!V321))","v":""},{"$f":"IF($D324=\"*EOL*\",\"\",LogData!V321-E324)","v":""},{"$f":"IF(LEFT($D324,1)=\"*\",\"\",IF(LogData!S321,\"DUPE\",\"\"))","v":""},{"$f":"IF(LEFT($D324,1)=\"*\",\"\",LogData!R321)","v":""}]
[{"$f":"IF(LEFT($D325,1)=\"*\",\"\",LogData!C322)","v":""},{"$f":"IF(LEFT($D325,1)=\"*\",\"\",LogData!F322)","v":""},{"$f":"IF(LEFT($D325,1)=\"*\",\"\",LogData!D322)","v":""},{"$f":"LogData!E322","v":"*EOL*"},{"$f":"IF($D325=\"*EOL*\",\"\",INT(LogData!V322))","v":""},{"$f":"IF($D325=\"*EOL*\",\"\",LogData!V322-E325)","v":""},{"$f":"IF(LEFT($D325,1)=\"*\",\"\",IF(LogData!S322,\"DUPE\",\"\"))","v":""},{"$f":"IF(LEFT($D325,1)=\"*\",\"\",LogData!R322)","v":""}]
[{"$f":"IF(LEFT($D326,1)=\"*\",\"\",LogData!C323)","v":""},{"$f":"IF(LEFT($D326,1)=\"*\",\"\",LogData!F323)","v":""},{"$f":"IF(LEFT($D326,1)=\"*\",\"\",LogData!D323)","v":""},{"$f":"LogData!E323","v":"*EOL*"},{"$f":"IF($D326=\"*EOL*\",\"\",INT(LogData!V323))","v":""},{"$f":"IF($D326=\"*EOL*\",\"\",LogData!V323-E326)","v":""},{"$f":"IF(LEFT($D326,1)=\"*\",\"\",IF(LogData!S323,\"DUPE\",\"\"))","v":""},{"$f":"IF(LEFT($D326,1)=\"*\",\"\",LogData!R323)","v":""}]
[{"$f":"IF(LEFT($D327,1)=\"*\",\"\",LogData!C324)","v":""},{"$f":"IF(LEFT($D327,1)=\"*\",\"\",LogData!F324)","v":""},{"$f":"IF(LEFT($D327,1)=\"*\",\"\",LogData!D324)","v":""},{"$f":"LogData!E324","v":"*EOL*"},{"$f":"IF($D327=\"*EOL*\",\"\",INT(LogData!V324))","v":""},{"$f":"IF($D327=\"*EOL*\",\"\",LogData!V324-E327)","v":""},{"$f":"IF(LEFT($D327,1)=\"*\",\"\",IF(LogData!S324,\"DUPE\",\"\"))","v":""},{"$f":"IF(LEFT($D327,1)=\"*\",\"\",LogData!R324)","v":""}]
[{"$f":"IF(LEFT($D328,1)=\"*\",\"\",LogData!C325)","v":""},{"$f":"IF(LEFT($D328,1)=\"*\",\"\",LogData!F325)","v":""},{"$f":"IF(LEFT($D328,1)=\"*\",\"\",LogData!D325)","v":""},{"$f":"LogData!E325","v":"*EOL*"},{"$f":"IF($D328=\"*EOL*\",\"\",INT(LogData!V325))","v":""},{"$f":"IF($D328=\"*EOL*\",\"\",LogData!V325-E328)","v":""},{"$f":"IF(LEFT($D328,1)=\"*\",\"\",IF(LogData!S325,\"DUPE\",\"\"))","v":""},{"$f":"IF(LEFT($D328,1)=\"*\",\"\",LogData!R325)","v":""}]
[{"$f":"IF(LEFT($D329,1)=\"*\",\"\",LogData!C326)","v":""},{"$f":"IF(LEFT($D329,1)=\"*\",\"\",LogData!F326)","v":""},{"$f":"IF(LEFT($D329,1)=\"*\",\"\",LogData!D326)","v":""},{"$f":"LogData!E326","v":"*EOL*"},{"$f":"IF($D329=\"*EOL*\",\"\",INT(LogData!V326))","v":""},{"$f":"IF($D329=\"*EOL*\",\"\",LogData!V326-E329)","v":""},{"$f":"IF(LEFT($D329,1)=\"*\",\"\",IF(LogData!S326,\"DUPE\",\"\"))","v":""},{"$f":"IF(LEFT($D329,1)=\"*\",\"\",LogData!R326)","v":""}]
[{"$f":"IF(LEFT($D330,1)=\"*\",\"\",LogData!C327)","v":""},{"$f":"IF(LEFT($D330,1)=\"*\",\"\",LogData!F327)","v":""},{"$f":"IF(LEFT($D330,1)=\"*\",\"\",LogData!D327)","v":""},{"$f":"LogData!E327","v":"*EOL*"},{"$f":"IF($D330=\"*EOL*\",\"\",INT(LogData!V327))","v":""},{"$f":"IF($D330=\"*EOL*\",\"\",LogData!V327-E330)","v":""},{"$f":"IF(LEFT($D330,1)=\"*\",\"\",IF(LogData!S327,\"DUPE\",\"\"))","v":""},{"$f":"IF(LEFT($D330,1)=\"*\",\"\",LogData!R327)","v":""}]
[{"$f":"IF(LEFT($D331,1)=\"*\",\"\",LogData!C328)","v":""},{"$f":"IF(LEFT($D331,1)=\"*\",\"\",LogData!F328)","v":""},{"$f":"IF(LEFT($D331,1)=\"*\",\"\",LogData!D328)","v":""},{"$f":"LogData!E328","v":"*EOL*"},{"$f":"IF($D331=\"*EOL*\",\"\",INT(LogData!V328))","v":""},{"$f":"IF($D331=\"*EOL*\",\"\",LogData!V328-E331)","v":""},{"$f":"IF(LEFT($D331,1)=\"*\",\"\",IF(LogData!S328,\"DUPE\",\"\"))","v":""},{"$f":"IF(LEFT($D331,1)=\"*\",\"\",LogData!R328)","v":""}]
[{"$f":"IF(LEFT($D332,1)=\"*\",\"\",LogData!C329)","v":""},{"$f":"IF(LEFT($D332,1)=\"*\",\"\",LogData!F329)","v":""},{"$f":"IF(LEFT($D332,1)=\"*\",\"\",LogData!D329)","v":""},{"$f":"LogData!E329","v":"*EOL*"},{"$f":"IF($D332=\"*EOL*\",\"\",INT(LogData!V329))","v":""},{"$f":"IF($D332=\"*EOL*\",\"\",LogData!V329-E332)","v":""},{"$f":"IF(LEFT($D332,1)=\"*\",\"\",IF(LogData!S329,\"DUPE\",\"\"))","v":""},{"$f":"IF(LEFT($D332,1)=\"*\",\"\",LogData!R329)","v":""}]
[{"$f":"IF(LEFT($D333,1)=\"*\",\"\",LogData!C330)","v":""},{"$f":"IF(LEFT($D333,1)=\"*\",\"\",LogData!F330)","v":""},{"$f":"IF(LEFT($D333,1)=\"*\",\"\",LogData!D330)","v":""},{"$f":"LogData!E330","v":"*EOL*"},{"$f":"IF($D333=\"*EOL*\",\"\",INT(LogData!V330))","v":""},{"$f":"IF($D333=\"*EOL*\",\"\",LogData!V330-E333)","v":""},{"$f":"IF(LEFT($D333,1)=\"*\",\"\",IF(LogData!S330,\"DUPE\",\"\"))","v":""},{"$f":"IF(LEFT($D333,1)=\"*\",\"\",LogData!R330)","v":""}]
[{"$f":"IF(LEFT($D334,1)=\"*\",\"\",LogData!C331)","v":""},{"$f":"IF(LEFT($D334,1)=\"*\",\"\",LogData!F331)","v":""},{"$f":"IF(LEFT($D334,1)=\"*\",\"\",LogData!D331)","v":""},{"$f":"LogData!E331","v":"*EOL*"},{"$f":"IF($D334=\"*EOL*\",\"\",INT(LogData!V331))","v":""},{"$f":"IF($D334=\"*EOL*\",\"\",LogData!V331-E334)","v":""},{"$f":"IF(LEFT($D334,1)=\"*\",\"\",IF(LogData!S331,\"DUPE\",\"\"))","v":""},{"$f":"IF(LEFT($D334,1)=\"*\",\"\",LogData!R331)","v":""}]
[{"$f":"IF(LEFT($D335,1)=\"*\",\"\",LogData!C332)","v":""},{"$f":"IF(LEFT($D335,1)=\"*\",\"\",LogData!F332)","v":""},{"$f":"IF(LEFT($D335,1)=\"*\",\"\",LogData!D332)","v":""},{"$f":"LogData!E332","v":"*EOL*"},{"$f":"IF($D335=\"*EOL*\",\"\",INT(LogData!V332))","v":""},{"$f":"IF($D335=\"*EOL*\",\"\",LogData!V332-E335)","v":""},{"$f":"IF(LEFT($D335,1)=\"*\",\"\",IF(LogData!S332,\"DUPE\",\"\"))","v":""},{"$f":"IF(LEFT($D335,1)=\"*\",\"\",LogData!R332)","v":""}]
[{"$f":"IF(LEFT($D336,1)=\"*\",\"\",LogData!C333)","v":""},{"$f":"IF(LEFT($D336,1)=\"*\",\"\",LogData!F333)","v":""},{"$f":"IF(LEFT($D336,1)=\"*\",\"\",LogData!D333)","v":""},{"$f":"LogData!E333","v":"*EOL*"},{"$f":"IF($D336=\"*EOL*\",\"\",INT(LogData!V333))","v":""},{"$f":"IF($D336=\"*EOL*\",\"\",LogData!V333-E336)","v":""},{"$f":"IF(LEFT($D336,1)=\"*\",\"\",IF(LogData!S333,\"DUPE\",\"\"))","v":""},{"$f":"IF(LEFT($D336,1)=\"*\",\"\",LogData!R333)","v":""}]
[{"$f":"IF(LEFT($D337,1)=\"*\",\"\",LogData!C334)","v":""},{"$f":"IF(LEFT($D337,1)=\"*\",\"\",LogData!F334)","v":""},{"$f":"IF(LEFT($D337,1)=\"*\",\"\",LogData!D334)","v":""},{"$f":"LogData!E334","v":"*EOL*"},{"$f":"IF($D337=\"*EOL*\",\"\",INT(LogData!V334))","v":""},{"$f":"IF($D337=\"*EOL*\",\"\",LogData!V334-E337)","v":""},{"$f":"IF(LEFT($D337,1)=\"*\",\"\",IF(LogData!S334,\"DUPE\",\"\"))","v":""},{"$f":"IF(LEFT($D337,1)=\"*\",\"\",LogData!R334)","v":""}]
[{"$f":"IF(LEFT($D338,1)=\"*\",\"\",LogData!C335)","v":""},{"$f":"IF(LEFT($D338,1)=\"*\",\"\",LogData!F335)","v":""},{"$f":"IF(LEFT($D338,1)=\"*\",\"\",LogData!D335)","v":""},{"$f":"LogData!E335","v":"*EOL*"},{"$f":"IF($D338=\"*EOL*\",\"\",INT(LogData!V335))","v":""},{"$f":"IF($D338=\"*EOL*\",\"\",LogData!V335-E338)","v":""},{"$f":"IF(LEFT($D338,1)=\"*\",\"\",IF(LogData!S335,\"DUPE\",\"\"))","v":""},{"$f":"IF(LEFT($D338,1)=\"*\",\"\",LogData!R335)","v":""}]
[{"$f":"IF(LEFT($D339,1)=\"*\",\"\",LogData!C336)","v":""},{"$f":"IF(LEFT($D339,1)=\"*\",\"\",LogData!F336)","v":""},{"$f":"IF(LEFT($D339,1)=\"*\",\"\",LogData!D336)","v":""},{"$f":"LogData!E336","v":"*EOL*"},{"$f":"IF($D339=\"*EOL*\",\"\",INT(LogData!V336))","v":""},{"$f":"IF($D339=\"*EOL*\",\"\",LogData!V336-E339)","v":""},{"$f":"IF(LEFT($D339,1)=\"*\",\"\",IF(LogData!S336,\"DUPE\",\"\"))","v":""},{"$f":"IF(LEFT($D339,1)=\"*\",\"\",LogData!R336)","v":""}]
[{"$f":"IF(LEFT($D340,1)=\"*\",\"\",LogData!C337)","v":""},{"$f":"IF(LEFT($D340,1)=\"*\",\"\",LogData!F337)","v":""},{"$f":"IF(LEFT($D340,1)=\"*\",\"\",LogData!D337)","v":""},{"$f":"LogData!E337","v":"*EOL*"},{"$f":"IF($D340=\"*EOL*\",\"\",INT(LogData!V337))","v":""},{"$f":"IF($D340=\"*EOL*\",\"\",LogData!V337-E340)","v":""},{"$f":"IF(LEFT($D340,1)=\"*\",\"\",IF(LogData!S337,\"DUPE\",\"\"))","v":""},{"$f":"IF(LEFT($D340,1)=\"*\",\"\",LogData!R337)","v":""}]
[{"$f":"IF(LEFT($D341,1)=\"*\",\"\",LogData!C338)","v":""},{"$f":"IF(LEFT($D341,1)=\"*\",\"\",LogData!F338)","v":""},{"$f":"IF(LEFT($D341,1)=\"*\",\"\",LogData!D338)","v":""},{"$f":"LogData!E338","v":"*EOL*"},{"$f":"IF($D341=\"*EOL*\",\"\",INT(LogData!V338))","v":""},{"$f":"IF($D341=\"*EOL*\",\"\",LogData!V338-E341)","v":""},{"$f":"IF(LEFT($D341,1)=\"*\",\"\",IF(LogData!S338,\"DUPE\",\"\"))","v":""},{"$f":"IF(LEFT($D341,1)=\"*\",\"\",LogData!R338)","v":""}]
[{"$f":"IF(LEFT($D342,1)=\"*\",\"\",LogData!C339)","v":""},{"$f":"IF(LEFT($D342,1)=\"*\",\"\",LogData!F339)","v":""},{"$f":"IF(LEFT($D342,1)=\"*\",\"\",LogData!D339)","v":""},{"$f":"LogData!E339","v":"*EOL*"},{"$f":"IF($D342=\"*EOL*\",\"\",INT(LogData!V339))","v":""},{"$f":"IF($D342=\"*EOL*\",\"\",LogData!V339-E342)","v":""},{"$f":"IF(LEFT($D342,1)=\"*\",\"\",IF(LogData!S339,\"DUPE\",\"\"))","v":""},{"$f":"IF(LEFT($D342,1)=\"*\",\"\",LogData!R339)","v":""}]
[{"$f":"IF(LEFT($D343,1)=\"*\",\"\",LogData!C340)","v":""},{"$f":"IF(LEFT($D343,1)=\"*\",\"\",LogData!F340)","v":""},{"$f":"IF(LEFT($D343,1)=\"*\",\"\",LogData!D340)","v":""},{"$f":"LogData!E340","v":"*EOL*"},{"$f":"IF($D343=\"*EOL*\",\"\",INT(LogData!V340))","v":""},{"$f":"IF($D343=\"*EOL*\",\"\",LogData!V340-E343)","v":""},{"$f":"IF(LEFT($D343,1)=\"*\",\"\",IF(LogData!S340,\"DUPE\",\"\"))","v":""},{"$f":"IF(LEFT($D343,1)=\"*\",\"\",LogData!R340)","v":""}]
[{"$f":"IF(LEFT($D344,1)=\"*\",\"\",LogData!C341)","v":""},{"$f":"IF(LEFT($D344,1)=\"*\",\"\",LogData!F341)","v":""},{"$f":"IF(LEFT($D344,1)=\"*\",\"\",LogData!D341)","v":""},{"$f":"LogData!E341","v":"*EOL*"},{"$f":"IF($D344=\"*EOL*\",\"\",INT(LogData!V341))","v":""},{"$f":"IF($D344=\"*EOL*\",\"\",LogData!V341-E344)","v":""},{"$f":"IF(LEFT($D344,1)=\"*\",\"\",IF(LogData!S341,\"DUPE\",\"\"))","v":""},{"$f":"IF(LEFT($D344,1)=\"*\",\"\",LogData!R341)","v":""}]
[{"$f":"IF(LEFT($D345,1)=\"*\",\"\",LogData!C342)","v":""},{"$f":"IF(LEFT($D345,1)=\"*\",\"\",LogData!F342)","v":""},{"$f":"IF(LEFT($D345,1)=\"*\",\"\",LogData!D342)","v":""},{"$f":"LogData!E342","v":"*EOL*"},{"$f":"IF($D345=\"*EOL*\",\"\",INT(LogData!V342))","v":""},{"$f":"IF($D345=\"*EOL*\",\"\",LogData!V342-E345)","v":""},{"$f":"IF(LEFT($D345,1)=\"*\",\"\",IF(LogData!S342,\"DUPE\",\"\"))","v":""},{"$f":"IF(LEFT($D345,1)=\"*\",\"\",LogData!R342)","v":""}]
[{"$f":"IF(LEFT($D346,1)=\"*\",\"\",LogData!C343)","v":""},{"$f":"IF(LEFT($D346,1)=\"*\",\"\",LogData!F343)","v":""},{"$f":"IF(LEFT($D346,1)=\"*\",\"\",LogData!D343)","v":""},{"$f":"LogData!E343","v":"*EOL*"},{"$f":"IF($D346=\"*EOL*\",\"\",INT(LogData!V343))","v":""},{"$f":"IF($D346=\"*EOL*\",\"\",LogData!V343-E346)","v":""},{"$f":"IF(LEFT($D346,1)=\"*\",\"\",IF(LogData!S343,\"DUPE\",\"\"))","v":""},{"$f":"IF(LEFT($D346,1)=\"*\",\"\",LogData!R343)","v":""}]
[{"$f":"IF(LEFT($D347,1)=\"*\",\"\",LogData!C344)","v":""},{"$f":"IF(LEFT($D347,1)=\"*\",\"\",LogData!F344)","v":""},{"$f":"IF(LEFT($D347,1)=\"*\",\"\",LogData!D344)","v":""},{"$f":"LogData!E344","v":"*EOL*"},{"$f":"IF($D347=\"*EOL*\",\"\",INT(LogData!V344))","v":""},{"$f":"IF($D347=\"*EOL*\",\"\",LogData!V344-E347)","v":""},{"$f":"IF(LEFT($D347,1)=\"*\",\"\",IF(LogData!S344,\"DUPE\",\"\"))","v":""},{"$f":"IF(LEFT($D347,1)=\"*\",\"\",LogData!R344)","v":""}]
[{"$f":"IF(LEFT($D348,1)=\"*\",\"\",LogData!C345)","v":""},{"$f":"IF(LEFT($D348,1)=\"*\",\"\",LogData!F345)","v":""},{"$f":"IF(LEFT($D348,1)=\"*\",\"\",LogData!D345)","v":""},{"$f":"LogData!E345","v":"*EOL*"},{"$f":"IF($D348=\"*EOL*\",\"\",INT(LogData!V345))","v":""},{"$f":"IF($D348=\"*EOL*\",\"\",LogData!V345-E348)","v":""},{"$f":"IF(LEFT($D348,1)=\"*\",\"\",IF(LogData!S345,\"DUPE\",\"\"))","v":""},{"$f":"IF(LEFT($D348,1)=\"*\",\"\",LogData!R345)","v":""}]
[{"$f":"IF(LEFT($D349,1)=\"*\",\"\",LogData!C346)","v":""},{"$f":"IF(LEFT($D349,1)=\"*\",\"\",LogData!F346)","v":""},{"$f":"IF(LEFT($D349,1)=\"*\",\"\",LogData!D346)","v":""},{"$f":"LogData!E346","v":"*EOL*"},{"$f":"IF($D349=\"*EOL*\",\"\",INT(LogData!V346))","v":""},{"$f":"IF($D349=\"*EOL*\",\"\",LogData!V346-E349)","v":""},{"$f":"IF(LEFT($D349,1)=\"*\",\"\",IF(LogData!S346,\"DUPE\",\"\"))","v":""},{"$f":"IF(LEFT($D349,1)=\"*\",\"\",LogData!R346)","v":""}]
[{"$f":"IF(LEFT($D350,1)=\"*\",\"\",LogData!C347)","v":""},{"$f":"IF(LEFT($D350,1)=\"*\",\"\",LogData!F347)","v":""},{"$f":"IF(LEFT($D350,1)=\"*\",\"\",LogData!D347)","v":""},{"$f":"LogData!E347","v":"*EOL*"},{"$f":"IF($D350=\"*EOL*\",\"\",INT(LogData!V347))","v":""},{"$f":"IF($D350=\"*EOL*\",\"\",LogData!V347-E350)","v":""},{"$f":"IF(LEFT($D350,1)=\"*\",\"\",IF(LogData!S347,\"DUPE\",\"\"))","v":""},{"$f":"IF(LEFT($D350,1)=\"*\",\"\",LogData!R347)","v":""}]
[{"$f":"IF(LEFT($D351,1)=\"*\",\"\",LogData!C348)","v":""},{"$f":"IF(LEFT($D351,1)=\"*\",\"\",LogData!F348)","v":""},{"$f":"IF(LEFT($D351,1)=\"*\",\"\",LogData!D348)","v":""},{"$f":"LogData!E348","v":"*EOL*"},{"$f":"IF($D351=\"*EOL*\",\"\",INT(LogData!V348))","v":""},{"$f":"IF($D351=\"*EOL*\",\"\",LogData!V348-E351)","v":""},{"$f":"IF(LEFT($D351,1)=\"*\",\"\",IF(LogData!S348,\"DUPE\",\"\"))","v":""},{"$f":"IF(LEFT($D351,1)=\"*\",\"\",LogData!R348)","v":""}]
[{"$f":"IF(LEFT($D352,1)=\"*\",\"\",LogData!C349)","v":""},{"$f":"IF(LEFT($D352,1)=\"*\",\"\",LogData!F349)","v":""},{"$f":"IF(LEFT($D352,1)=\"*\",\"\",LogData!D349)","v":""},{"$f":"LogData!E349","v":"*EOL*"},{"$f":"IF($D352=\"*EOL*\",\"\",INT(LogData!V349))","v":""},{"$f":"IF($D352=\"*EOL*\",\"\",LogData!V349-E352)","v":""},{"$f":"IF(LEFT($D352,1)=\"*\",\"\",IF(LogData!S349,\"DUPE\",\"\"))","v":""},{"$f":"IF(LEFT($D352,1)=\"*\",\"\",LogData!R349)","v":""}]
[{"$f":"IF(LEFT($D353,1)=\"*\",\"\",LogData!C350)","v":""},{"$f":"IF(LEFT($D353,1)=\"*\",\"\",LogData!F350)","v":""},{"$f":"IF(LEFT($D353,1)=\"*\",\"\",LogData!D350)","v":""},{"$f":"LogData!E350","v":"*EOL*"},{"$f":"IF($D353=\"*EOL*\",\"\",INT(LogData!V350))","v":""},{"$f":"IF($D353=\"*EOL*\",\"\",LogData!V350-E353)","v":""},{"$f":"IF(LEFT($D353,1)=\"*\",\"\",IF(LogData!S350,\"DUPE\",\"\"))","v":""},{"$f":"IF(LEFT($D353,1)=\"*\",\"\",LogData!R350)","v":""}]
[{"$f":"IF(LEFT($D354,1)=\"*\",\"\",LogData!C351)","v":""},{"$f":"IF(LEFT($D354,1)=\"*\",\"\",LogData!F351)","v":""},{"$f":"IF(LEFT($D354,1)=\"*\",\"\",LogData!D351)","v":""},{"$f":"LogData!E351","v":"*EOL*"},{"$f":"IF($D354=\"*EOL*\",\"\",INT(LogData!V351))","v":""},{"$f":"IF($D354=\"*EOL*\",\"\",LogData!V351-E354)","v":""},{"$f":"IF(LEFT($D354,1)=\"*\",\"\",IF(LogData!S351,\"DUPE\",\"\"))","v":""},{"$f":"IF(LEFT($D354,1)=\"*\",\"\",LogData!R351)","v":""}]
[{"$f":"IF(LEFT($D355,1)=\"*\",\"\",LogData!C352)","v":""},{"$f":"IF(LEFT($D355,1)=\"*\",\"\",LogData!F352)","v":""},{"$f":"IF(LEFT($D355,1)=\"*\",\"\",LogData!D352)","v":""},{"$f":"LogData!E352","v":"*EOL*"},{"$f":"IF($D355=\"*EOL*\",\"\",INT(LogData!V352))","v":""},{"$f":"IF($D355=\"*EOL*\",\"\",LogData!V352-E355)","v":""},{"$f":"IF(LEFT($D355,1)=\"*\",\"\",IF(LogData!S352,\"DUPE\",\"\"))","v":""},{"$f":"IF(LEFT($D355,1)=\"*\",\"\",LogData!R352)","v":""}]
[{"$f":"IF(LEFT($D356,1)=\"*\",\"\",LogData!C353)","v":""},{"$f":"IF(LEFT($D356,1)=\"*\",\"\",LogData!F353)","v":""},{"$f":"IF(LEFT($D356,1)=\"*\",\"\",LogData!D353)","v":""},{"$f":"LogData!E353","v":"*EOL*"},{"$f":"IF($D356=\"*EOL*\",\"\",INT(LogData!V353))","v":""},{"$f":"IF($D356=\"*EOL*\",\"\",LogData!V353-E356)","v":""},{"$f":"IF(LEFT($D356,1)=\"*\",\"\",IF(LogData!S353,\"DUPE\",\"\"))","v":""},{"$f":"IF(LEFT($D356,1)=\"*\",\"\",LogData!R353)","v":""}]
[{"$f":"IF(LEFT($D357,1)=\"*\",\"\",LogData!C354)","v":""},{"$f":"IF(LEFT($D357,1)=\"*\",\"\",LogData!F354)","v":""},{"$f":"IF(LEFT($D357,1)=\"*\",\"\",LogData!D354)","v":""},{"$f":"LogData!E354","v":"*EOL*"},{"$f":"IF($D357=\"*EOL*\",\"\",INT(LogData!V354))","v":""},{"$f":"IF($D357=\"*EOL*\",\"\",LogData!V354-E357)","v":""},{"$f":"IF(LEFT($D357,1)=\"*\",\"\",IF(LogData!S354,\"DUPE\",\"\"))","v":""},{"$f":"IF(LEFT($D357,1)=\"*\",\"\",LogData!R354)","v":""}]
[{"$f":"IF(LEFT($D358,1)=\"*\",\"\",LogData!C355)","v":""},{"$f":"IF(LEFT($D358,1)=\"*\",\"\",LogData!F355)","v":""},{"$f":"IF(LEFT($D358,1)=\"*\",\"\",LogData!D355)","v":""},{"$f":"LogData!E355","v":"*EOL*"},{"$f":"IF($D358=\"*EOL*\",\"\",INT(LogData!V355))","v":""},{"$f":"IF($D358=\"*EOL*\",\"\",LogData!V355-E358)","v":""},{"$f":"IF(LEFT($D358,1)=\"*\",\"\",IF(LogData!S355,\"DUPE\",\"\"))","v":""},{"$f":"IF(LEFT($D358,1)=\"*\",\"\",LogData!R355)","v":""}]
[{"$f":"IF(LEFT($D359,1)=\"*\",\"\",LogData!C356)","v":""},{"$f":"IF(LEFT($D359,1)=\"*\",\"\",LogData!F356)","v":""},{"$f":"IF(LEFT($D359,1)=\"*\",\"\",LogData!D356)","v":""},{"$f":"LogData!E356","v":"*EOL*"},{"$f":"IF($D359=\"*EOL*\",\"\",INT(LogData!V356))","v":""},{"$f":"IF($D359=\"*EOL*\",\"\",LogData!V356-E359)","v":""},{"$f":"IF(LEFT($D359,1)=\"*\",\"\",IF(LogData!S356,\"DUPE\",\"\"))","v":""},{"$f":"IF(LEFT($D359,1)=\"*\",\"\",LogData!R356)","v":""}]
[{"$f":"IF(LEFT($D360,1)=\"*\",\"\",LogData!C357)","v":""},{"$f":"IF(LEFT($D360,1)=\"*\",\"\",LogData!F357)","v":""},{"$f":"IF(LEFT($D360,1)=\"*\",\"\",LogData!D357)","v":""},{"$f":"LogData!E357","v":"*EOL*"},{"$f":"IF($D360=\"*EOL*\",\"\",INT(LogData!V357))","v":""},{"$f":"IF($D360=\"*EOL*\",\"\",LogData!V357-E360)","v":""},{"$f":"IF(LEFT($D360,1)=\"*\",\"\",IF(LogData!S357,\"DUPE\",\"\"))","v":""},{"$f":"IF(LEFT($D360,1)=\"*\",\"\",LogData!R357)","v":""}]
[{"$f":"IF(LEFT($D361,1)=\"*\",\"\",LogData!C358)","v":""},{"$f":"IF(LEFT($D361,1)=\"*\",\"\",LogData!F358)","v":""},{"$f":"IF(LEFT($D361,1)=\"*\",\"\",LogData!D358)","v":""},{"$f":"LogData!E358","v":"*EOL*"},{"$f":"IF($D361=\"*EOL*\",\"\",INT(LogData!V358))","v":""},{"$f":"IF($D361=\"*EOL*\",\"\",LogData!V358-E361)","v":""},{"$f":"IF(LEFT($D361,1)=\"*\",\"\",IF(LogData!S358,\"DUPE\",\"\"))","v":""},{"$f":"IF(LEFT($D361,1)=\"*\",\"\",LogData!R358)","v":""}]
[{"$f":"IF(LEFT($D362,1)=\"*\",\"\",LogData!C359)","v":""},{"$f":"IF(LEFT($D362,1)=\"*\",\"\",LogData!F359)","v":""},{"$f":"IF(LEFT($D362,1)=\"*\",\"\",LogData!D359)","v":""},{"$f":"LogData!E359","v":"*EOL*"},{"$f":"IF($D362=\"*EOL*\",\"\",INT(LogData!V359))","v":""},{"$f":"IF($D362=\"*EOL*\",\"\",LogData!V359-E362)","v":""},{"$f":"IF(LEFT($D362,1)=\"*\",\"\",IF(LogData!S359,\"DUPE\",\"\"))","v":""},{"$f":"IF(LEFT($D362,1)=\"*\",\"\",LogData!R359)","v":""}]
[{"$f":"IF(LEFT($D363,1)=\"*\",\"\",LogData!C360)","v":""},{"$f":"IF(LEFT($D363,1)=\"*\",\"\",LogData!F360)","v":""},{"$f":"IF(LEFT($D363,1)=\"*\",\"\",LogData!D360)","v":""},{"$f":"LogData!E360","v":"*EOL*"},{"$f":"IF($D363=\"*EOL*\",\"\",INT(LogData!V360))","v":""},{"$f":"IF($D363=\"*EOL*\",\"\",LogData!V360-E363)","v":""},{"$f":"IF(LEFT($D363,1)=\"*\",\"\",IF(LogData!S360,\"DUPE\",\"\"))","v":""},{"$f":"IF(LEFT($D363,1)=\"*\",\"\",LogData!R360)","v":""}]
[{"$f":"IF(LEFT($D364,1)=\"*\",\"\",LogData!C361)","v":""},{"$f":"IF(LEFT($D364,1)=\"*\",\"\",LogData!F361)","v":""},{"$f":"IF(LEFT($D364,1)=\"*\",\"\",LogData!D361)","v":""},{"$f":"LogData!E361","v":"*EOL*"},{"$f":"IF($D364=\"*EOL*\",\"\",INT(LogData!V361))","v":""},{"$f":"IF($D364=\"*EOL*\",\"\",LogData!V361-E364)","v":""},{"$f":"IF(LEFT($D364,1)=\"*\",\"\",IF(LogData!S361,\"DUPE\",\"\"))","v":""},{"$f":"IF(LEFT($D364,1)=\"*\",\"\",LogData!R361)","v":""}]
[{"$f":"IF(LEFT($D365,1)=\"*\",\"\",LogData!C362)","v":""},{"$f":"IF(LEFT($D365,1)=\"*\",\"\",LogData!F362)","v":""},{"$f":"IF(LEFT($D365,1)=\"*\",\"\",LogData!D362)","v":""},{"$f":"LogData!E362","v":"*EOL*"},{"$f":"IF($D365=\"*EOL*\",\"\",INT(LogData!V362))","v":""},{"$f":"IF($D365=\"*EOL*\",\"\",LogData!V362-E365)","v":""},{"$f":"IF(LEFT($D365,1)=\"*\",\"\",IF(LogData!S362,\"DUPE\",\"\"))","v":""},{"$f":"IF(LEFT($D365,1)=\"*\",\"\",LogData!R362)","v":""}]
[{"$f":"IF(LEFT($D366,1)=\"*\",\"\",LogData!C363)","v":""},{"$f":"IF(LEFT($D366,1)=\"*\",\"\",LogData!F363)","v":""},{"$f":"IF(LEFT($D366,1)=\"*\",\"\",LogData!D363)","v":""},{"$f":"LogData!E363","v":"*EOL*"},{"$f":"IF($D366=\"*EOL*\",\"\",INT(LogData!V363))","v":""},{"$f":"IF($D366=\"*EOL*\",\"\",LogData!V363-E366)","v":""},{"$f":"IF(LEFT($D366,1)=\"*\",\"\",IF(LogData!S363,\"DUPE\",\"\"))","v":""},{"$f":"IF(LEFT($D366,1)=\"*\",\"\",LogData!R363)","v":""}]
[{"$f":"IF(LEFT($D367,1)=\"*\",\"\",LogData!C364)","v":""},{"$f":"IF(LEFT($D367,1)=\"*\",\"\",LogData!F364)","v":""},{"$f":"IF(LEFT($D367,1)=\"*\",\"\",LogData!D364)","v":""},{"$f":"LogData!E364","v":"*EOL*"},{"$f":"IF($D367=\"*EOL*\",\"\",INT(LogData!V364))","v":""},{"$f":"IF($D367=\"*EOL*\",\"\",LogData!V364-E367)","v":""},{"$f":"IF(LEFT($D367,1)=\"*\",\"\",IF(LogData!S364,\"DUPE\",\"\"))","v":""},{"$f":"IF(LEFT($D367,1)=\"*\",\"\",LogData!R364)","v":""}]
[{"$f":"IF(LEFT($D368,1)=\"*\",\"\",LogData!C365)","v":""},{"$f":"IF(LEFT($D368,1)=\"*\",\"\",LogData!F365)","v":""},{"$f":"IF(LEFT($D368,1)=\"*\",\"\",LogData!D365)","v":""},{"$f":"LogData!E365","v":"*EOL*"},{"$f":"IF($D368=\"*EOL*\",\"\",INT(LogData!V365))","v":""},{"$f":"IF($D368=\"*EOL*\",\"\",LogData!V365-E368)","v":""},{"$f":"IF(LEFT($D368,1)=\"*\",\"\",IF(LogData!S365,\"DUPE\",\"\"))","v":""},{"$f":"IF(LEFT($D368,1)=\"*\",\"\",LogData!R365)","v":""}]
[{"$f":"IF(LEFT($D369,1)=\"*\",\"\",LogData!C366)","v":""},{"$f":"IF(LEFT($D369,1)=\"*\",\"\",LogData!F366)","v":""},{"$f":"IF(LEFT($D369,1)=\"*\",\"\",LogData!D366)","v":""},{"$f":"LogData!E366","v":"*EOL*"},{"$f":"IF($D369=\"*EOL*\",\"\",INT(LogData!V366))","v":""},{"$f":"IF($D369=\"*EOL*\",\"\",LogData!V366-E369)","v":""},{"$f":"IF(LEFT($D369,1)=\"*\",\"\",IF(LogData!S366,\"DUPE\",\"\"))","v":""},{"$f":"IF(LEFT($D369,1)=\"*\",\"\",LogData!R366)","v":""}]
[{"$f":"IF(LEFT($D370,1)=\"*\",\"\",LogData!C367)","v":""},{"$f":"IF(LEFT($D370,1)=\"*\",\"\",LogData!F367)","v":""},{"$f":"IF(LEFT($D370,1)=\"*\",\"\",LogData!D367)","v":""},{"$f":"LogData!E367","v":"*EOL*"},{"$f":"IF($D370=\"*EOL*\",\"\",INT(LogData!V367))","v":""},{"$f":"IF($D370=\"*EOL*\",\"\",LogData!V367-E370)","v":""},{"$f":"IF(LEFT($D370,1)=\"*\",\"\",IF(LogData!S367,\"DUPE\",\"\"))","v":""},{"$f":"IF(LEFT($D370,1)=\"*\",\"\",LogData!R367)","v":""}]
[{"$f":"IF(LEFT($D371,1)=\"*\",\"\",LogData!C368)","v":""},{"$f":"IF(LEFT($D371,1)=\"*\",\"\",LogData!F368)","v":""},{"$f":"IF(LEFT($D371,1)=\"*\",\"\",LogData!D368)","v":""},{"$f":"LogData!E368","v":"*EOL*"},{"$f":"IF($D371=\"*EOL*\",\"\",INT(LogData!V368))","v":""},{"$f":"IF($D371=\"*EOL*\",\"\",LogData!V368-E371)","v":""},{"$f":"IF(LEFT($D371,1)=\"*\",\"\",IF(LogData!S368,\"DUPE\",\"\"))","v":""},{"$f":"IF(LEFT($D371,1)=\"*\",\"\",LogData!R368)","v":""}]
[{"$f":"IF(LEFT($D372,1)=\"*\",\"\",LogData!C369)","v":""},{"$f":"IF(LEFT($D372,1)=\"*\",\"\",LogData!F369)","v":""},{"$f":"IF(LEFT($D372,1)=\"*\",\"\",LogData!D369)","v":""},{"$f":"LogData!E369","v":"*EOL*"},{"$f":"IF($D372=\"*EOL*\",\"\",INT(LogData!V369))","v":""},{"$f":"IF($D372=\"*EOL*\",\"\",LogData!V369-E372)","v":""},{"$f":"IF(LEFT($D372,1)=\"*\",\"\",IF(LogData!S369,\"DUPE\",\"\"))","v":""},{"$f":"IF(LEFT($D372,1)=\"*\",\"\",LogData!R369)","v":""}]
[{"$f":"IF(LEFT($D373,1)=\"*\",\"\",LogData!C370)","v":""},{"$f":"IF(LEFT($D373,1)=\"*\",\"\",LogData!F370)","v":""},{"$f":"IF(LEFT($D373,1)=\"*\",\"\",LogData!D370)","v":""},{"$f":"LogData!E370","v":"*EOL*"},{"$f":"IF($D373=\"*EOL*\",\"\",INT(LogData!V370))","v":""},{"$f":"IF($D373=\"*EOL*\",\"\",LogData!V370-E373)","v":""},{"$f":"IF(LEFT($D373,1)=\"*\",\"\",IF(LogData!S370,\"DUPE\",\"\"))","v":""},{"$f":"IF(LEFT($D373,1)=\"*\",\"\",LogData!R370)","v":""}]
[{"$f":"IF(LEFT($D374,1)=\"*\",\"\",LogData!C371)","v":""},{"$f":"IF(LEFT($D374,1)=\"*\",\"\",LogData!F371)","v":""},{"$f":"IF(LEFT($D374,1)=\"*\",\"\",LogData!D371)","v":""},{"$f":"LogData!E371","v":"*EOL*"},{"$f":"IF($D374=\"*EOL*\",\"\",INT(LogData!V371))","v":""},{"$f":"IF($D374=\"*EOL*\",\"\",LogData!V371-E374)","v":""},{"$f":"IF(LEFT($D374,1)=\"*\",\"\",IF(LogData!S371,\"DUPE\",\"\"))","v":""},{"$f":"IF(LEFT($D374,1)=\"*\",\"\",LogData!R371)","v":""}]
[{"$f":"IF(LEFT($D375,1)=\"*\",\"\",LogData!C372)","v":""},{"$f":"IF(LEFT($D375,1)=\"*\",\"\",LogData!F372)","v":""},{"$f":"IF(LEFT($D375,1)=\"*\",\"\",LogData!D372)","v":""},{"$f":"LogData!E372","v":"*EOL*"},{"$f":"IF($D375=\"*EOL*\",\"\",INT(LogData!V372))","v":""},{"$f":"IF($D375=\"*EOL*\",\"\",LogData!V372-E375)","v":""},{"$f":"IF(LEFT($D375,1)=\"*\",\"\",IF(LogData!S372,\"DUPE\",\"\"))","v":""},{"$f":"IF(LEFT($D375,1)=\"*\",\"\",LogData!R372)","v":""}]
[{"$f":"IF(LEFT($D376,1)=\"*\",\"\",LogData!C373)","v":""},{"$f":"IF(LEFT($D376,1)=\"*\",\"\",LogData!F373)","v":""},{"$f":"IF(LEFT($D376,1)=\"*\",\"\",LogData!D373)","v":""},{"$f":"LogData!E373","v":"*EOL*"},{"$f":"IF($D376=\"*EOL*\",\"\",INT(LogData!V373))","v":""},{"$f":"IF($D376=\"*EOL*\",\"\",LogData!V373-E376)","v":""},{"$f":"IF(LEFT($D376,1)=\"*\",\"\",IF(LogData!S373,\"DUPE\",\"\"))","v":""},{"$f":"IF(LEFT($D376,1)=\"*\",\"\",LogData!R373)","v":""}]
[{"$f":"IF(LEFT($D377,1)=\"*\",\"\",LogData!C374)","v":""},{"$f":"IF(LEFT($D377,1)=\"*\",\"\",LogData!F374)","v":""},{"$f":"IF(LEFT($D377,1)=\"*\",\"\",LogData!D374)","v":""},{"$f":"LogData!E374","v":"*EOL*"},{"$f":"IF($D377=\"*EOL*\",\"\",INT(LogData!V374))","v":""},{"$f":"IF($D377=\"*EOL*\",\"\",LogData!V374-E377)","v":""},{"$f":"IF(LEFT($D377,1)=\"*\",\"\",IF(LogData!S374,\"DUPE\",\"\"))","v":""},{"$f":"IF(LEFT($D377,1)=\"*\",\"\",LogData!R374)","v":""}]
[{"$f":"IF(LEFT($D378,1)=\"*\",\"\",LogData!C375)","v":""},{"$f":"IF(LEFT($D378,1)=\"*\",\"\",LogData!F375)","v":""},{"$f":"IF(LEFT($D378,1)=\"*\",\"\",LogData!D375)","v":""},{"$f":"LogData!E375","v":"*EOL*"},{"$f":"IF($D378=\"*EOL*\",\"\",INT(LogData!V375))","v":""},{"$f":"IF($D378=\"*EOL*\",\"\",LogData!V375-E378)","v":""},{"$f":"IF(LEFT($D378,1)=\"*\",\"\",IF(LogData!S375,\"DUPE\",\"\"))","v":""},{"$f":"IF(LEFT($D378,1)=\"*\",\"\",LogData!R375)","v":""}]
[{"$f":"IF(LEFT($D379,1)=\"*\",\"\",LogData!C376)","v":""},{"$f":"IF(LEFT($D379,1)=\"*\",\"\",LogData!F376)","v":""},{"$f":"IF(LEFT($D379,1)=\"*\",\"\",LogData!D376)","v":""},{"$f":"LogData!E376","v":"*EOL*"},{"$f":"IF($D379=\"*EOL*\",\"\",INT(LogData!V376))","v":""},{"$f":"IF($D379=\"*EOL*\",\"\",LogData!V376-E379)","v":""},{"$f":"IF(LEFT($D379,1)=\"*\",\"\",IF(LogData!S376,\"DUPE\",\"\"))","v":""},{"$f":"IF(LEFT($D379,1)=\"*\",\"\",LogData!R376)","v":""}]
[{"$f":"IF(LEFT($D380,1)=\"*\",\"\",LogData!C377)","v":""},{"$f":"IF(LEFT($D380,1)=\"*\",\"\",LogData!F377)","v":""},{"$f":"IF(LEFT($D380,1)=\"*\",\"\",LogData!D377)","v":""},{"$f":"LogData!E377","v":"*EOL*"},{"$f":"IF($D380=\"*EOL*\",\"\",INT(LogData!V377))","v":""},{"$f":"IF($D380=\"*EOL*\",\"\",LogData!V377-E380)","v":""},{"$f":"IF(LEFT($D380,1)=\"*\",\"\",IF(LogData!S377,\"DUPE\",\"\"))","v":""},{"$f":"IF(LEFT($D380,1)=\"*\",\"\",LogData!R377)","v":""}]
[{"$f":"IF(LEFT($D381,1)=\"*\",\"\",LogData!C378)","v":""},{"$f":"IF(LEFT($D381,1)=\"*\",\"\",LogData!F378)","v":""},{"$f":"IF(LEFT($D381,1)=\"*\",\"\",LogData!D378)","v":""},{"$f":"LogData!E378","v":"*EOL*"},{"$f":"IF($D381=\"*EOL*\",\"\",INT(LogData!V378))","v":""},{"$f":"IF($D381=\"*EOL*\",\"\",LogData!V378-E381)","v":""},{"$f":"IF(LEFT($D381,1)=\"*\",\"\",IF(LogData!S378,\"DUPE\",\"\"))","v":""},{"$f":"IF(LEFT($D381,1)=\"*\",\"\",LogData!R378)","v":""}]
[{"$f":"IF(LEFT($D382,1)=\"*\",\"\",LogData!C379)","v":""},{"$f":"IF(LEFT($D382,1)=\"*\",\"\",LogData!F379)","v":""},{"$f":"IF(LEFT($D382,1)=\"*\",\"\",LogData!D379)","v":""},{"$f":"LogData!E379","v":"*EOL*"},{"$f":"IF($D382=\"*EOL*\",\"\",INT(LogData!V379))","v":""},{"$f":"IF($D382=\"*EOL*\",\"\",LogData!V379-E382)","v":""},{"$f":"IF(LEFT($D382,1)=\"*\",\"\",IF(LogData!S379,\"DUPE\",\"\"))","v":""},{"$f":"IF(LEFT($D382,1)=\"*\",\"\",LogData!R379)","v":""}]
[{"$f":"IF(LEFT($D383,1)=\"*\",\"\",LogData!C380)","v":""},{"$f":"IF(LEFT($D383,1)=\"*\",\"\",LogData!F380)","v":""},{"$f":"IF(LEFT($D383,1)=\"*\",\"\",LogData!D380)","v":""},{"$f":"LogData!E380","v":"*EOL*"},{"$f":"IF($D383=\"*EOL*\",\"\",INT(LogData!V380))","v":""},{"$f":"IF($D383=\"*EOL*\",\"\",LogData!V380-E383)","v":""},{"$f":"IF(LEFT($D383,1)=\"*\",\"\",IF(LogData!S380,\"DUPE\",\"\"))","v":""},{"$f":"IF(LEFT($D383,1)=\"*\",\"\",LogData!R380)","v":""}]
[{"$f":"IF(LEFT($D384,1)=\"*\",\"\",LogData!C381)","v":""},{"$f":"IF(LEFT($D384,1)=\"*\",\"\",LogData!F381)","v":""},{"$f":"IF(LEFT($D384,1)=\"*\",\"\",LogData!D381)","v":""},{"$f":"LogData!E381","v":"*EOL*"},{"$f":"IF($D384=\"*EOL*\",\"\",INT(LogData!V381))","v":""},{"$f":"IF($D384=\"*EOL*\",\"\",LogData!V381-E384)","v":""},{"$f":"IF(LEFT($D384,1)=\"*\",\"\",IF(LogData!S381,\"DUPE\",\"\"))","v":""},{"$f":"IF(LEFT($D384,1)=\"*\",\"\",LogData!R381)","v":""}]
[{"$f":"IF(LEFT($D385,1)=\"*\",\"\",LogData!C382)","v":""},{"$f":"IF(LEFT($D385,1)=\"*\",\"\",LogData!F382)","v":""},{"$f":"IF(LEFT($D385,1)=\"*\",\"\",LogData!D382)","v":""},{"$f":"LogData!E382","v":"*EOL*"},{"$f":"IF($D385=\"*EOL*\",\"\",INT(LogData!V382))","v":""},{"$f":"IF($D385=\"*EOL*\",\"\",LogData!V382-E385)","v":""},{"$f":"IF(LEFT($D385,1)=\"*\",\"\",IF(LogData!S382,\"DUPE\",\"\"))","v":""},{"$f":"IF(LEFT($D385,1)=\"*\",\"\",LogData!R382)","v":""}]
[{"$f":"IF(LEFT($D386,1)=\"*\",\"\",LogData!C383)","v":""},{"$f":"IF(LEFT($D386,1)=\"*\",\"\",LogData!F383)","v":""},{"$f":"IF(LEFT($D386,1)=\"*\",\"\",LogData!D383)","v":""},{"$f":"LogData!E383","v":"*EOL*"},{"$f":"IF($D386=\"*EOL*\",\"\",INT(LogData!V383))","v":""},{"$f":"IF($D386=\"*EOL*\",\"\",LogData!V383-E386)","v":""},{"$f":"IF(LEFT($D386,1)=\"*\",\"\",IF(LogData!S383,\"DUPE\",\"\"))","v":""},{"$f":"IF(LEFT($D386,1)=\"*\",\"\",LogData!R383)","v":""}]
[{"$f":"IF(LEFT($D387,1)=\"*\",\"\",LogData!C384)","v":""},{"$f":"IF(LEFT($D387,1)=\"*\",\"\",LogData!F384)","v":""},{"$f":"IF(LEFT($D387,1)=\"*\",\"\",LogData!D384)","v":""},{"$f":"LogData!E384","v":"*EOL*"},{"$f":"IF($D387=\"*EOL*\",\"\",INT(LogData!V384))","v":""},{"$f":"IF($D387=\"*EOL*\",\"\",LogData!V384-E387)","v":""},{"$f":"IF(LEFT($D387,1)=\"*\",\"\",IF(LogData!S384,\"DUPE\",\"\"))","v":""},{"$f":"IF(LEFT($D387,1)=\"*\",\"\",LogData!R384)","v":""}]
[{"$f":"IF(LEFT($D388,1)=\"*\",\"\",LogData!C385)","v":""},{"$f":"IF(LEFT($D388,1)=\"*\",\"\",LogData!F385)","v":""},{"$f":"IF(LEFT($D388,1)=\"*\",\"\",LogData!D385)","v":""},{"$f":"LogData!E385","v":"*EOL*"},{"$f":"IF($D388=\"*EOL*\",\"\",INT(LogData!V385))","v":""},{"$f":"IF($D388=\"*EOL*\",\"\",LogData!V385-E388)","v":""},{"$f":"IF(LEFT($D388,1)=\"*\",\"\",IF(LogData!S385,\"DUPE\",\"\"))","v":""},{"$f":"IF(LEFT($D388,1)=\"*\",\"\",LogData!R385)","v":""}]
[{"$f":"IF(LEFT($D389,1)=\"*\",\"\",LogData!C386)","v":""},{"$f":"IF(LEFT($D389,1)=\"*\",\"\",LogData!F386)","v":""},{"$f":"IF(LEFT($D389,1)=\"*\",\"\",LogData!D386)","v":""},{"$f":"LogData!E386","v":"*EOL*"},{"$f":"IF($D389=\"*EOL*\",\"\",INT(LogData!V386))","v":""},{"$f":"IF($D389=\"*EOL*\",\"\",LogData!V386-E389)","v":""},{"$f":"IF(LEFT($D389,1)=\"*\",\"\",IF(LogData!S386,\"DUPE\",\"\"))","v":""},{"$f":"IF(LEFT($D389,1)=\"*\",\"\",LogData!R386)","v":""}]
[{"$f":"IF(LEFT($D390,1)=\"*\",\"\",LogData!C387)","v":""},{"$f":"IF(LEFT($D390,1)=\"*\",\"\",LogData!F387)","v":""},{"$f":"IF(LEFT($D390,1)=\"*\",\"\",LogData!D387)","v":""},{"$f":"LogData!E387","v":"*EOL*"},{"$f":"IF($D390=\"*EOL*\",\"\",INT(LogData!V387))","v":""},{"$f":"IF($D390=\"*EOL*\",\"\",LogData!V387-E390)","v":""},{"$f":"IF(LEFT($D390,1)=\"*\",\"\",IF(LogData!S387,\"DUPE\",\"\"))","v":""},{"$f":"IF(LEFT($D390,1)=\"*\",\"\",LogData!R387)","v":""}]
[{"$f":"IF(LEFT($D391,1)=\"*\",\"\",LogData!C388)","v":""},{"$f":"IF(LEFT($D391,1)=\"*\",\"\",LogData!F388)","v":""},{"$f":"IF(LEFT($D391,1)=\"*\",\"\",LogData!D388)","v":""},{"$f":"LogData!E388","v":"*EOL*"},{"$f":"IF($D391=\"*EOL*\",\"\",INT(LogData!V388))","v":""},{"$f":"IF($D391=\"*EOL*\",\"\",LogData!V388-E391)","v":""},{"$f":"IF(LEFT($D391,1)=\"*\",\"\",IF(LogData!S388,\"DUPE\",\"\"))","v":""},{"$f":"IF(LEFT($D391,1)=\"*\",\"\",LogData!R388)","v":""}]
[{"$f":"IF(LEFT($D392,1)=\"*\",\"\",LogData!C389)","v":""},{"$f":"IF(LEFT($D392,1)=\"*\",\"\",LogData!F389)","v":""},{"$f":"IF(LEFT($D392,1)=\"*\",\"\",LogData!D389)","v":""},{"$f":"LogData!E389","v":"*EOL*"},{"$f":"IF($D392=\"*EOL*\",\"\",INT(LogData!V389))","v":""},{"$f":"IF($D392=\"*EOL*\",\"\",LogData!V389-E392)","v":""},{"$f":"IF(LEFT($D392,1)=\"*\",\"\",IF(LogData!S389,\"DUPE\",\"\"))","v":""},{"$f":"IF(LEFT($D392,1)=\"*\",\"\",LogData!R389)","v":""}]
[{"$f":"IF(LEFT($D393,1)=\"*\",\"\",LogData!C390)","v":""},{"$f":"IF(LEFT($D393,1)=\"*\",\"\",LogData!F390)","v":""},{"$f":"IF(LEFT($D393,1)=\"*\",\"\",LogData!D390)","v":""},{"$f":"LogData!E390","v":"*EOL*"},{"$f":"IF($D393=\"*EOL*\",\"\",INT(LogData!V390))","v":""},{"$f":"IF($D393=\"*EOL*\",\"\",LogData!V390-E393)","v":""},{"$f":"IF(LEFT($D393,1)=\"*\",\"\",IF(LogData!S390,\"DUPE\",\"\"))","v":""},{"$f":"IF(LEFT($D393,1)=\"*\",\"\",LogData!R390)","v":""}]
[{"$f":"IF(LEFT($D394,1)=\"*\",\"\",LogData!C391)","v":""},{"$f":"IF(LEFT($D394,1)=\"*\",\"\",LogData!F391)","v":""},{"$f":"IF(LEFT($D394,1)=\"*\",\"\",LogData!D391)","v":""},{"$f":"LogData!E391","v":"*EOL*"},{"$f":"IF($D394=\"*EOL*\",\"\",INT(LogData!V391))","v":""},{"$f":"IF($D394=\"*EOL*\",\"\",LogData!V391-E394)","v":""},{"$f":"IF(LEFT($D394,1)=\"*\",\"\",IF(LogData!S391,\"DUPE\",\"\"))","v":""},{"$f":"IF(LEFT($D394,1)=\"*\",\"\",LogData!R391)","v":""}]
[{"$f":"IF(LEFT($D395,1)=\"*\",\"\",LogData!C392)","v":""},{"$f":"IF(LEFT($D395,1)=\"*\",\"\",LogData!F392)","v":""},{"$f":"IF(LEFT($D395,1)=\"*\",\"\",LogData!D392)","v":""},{"$f":"LogData!E392","v":"*EOL*"},{"$f":"IF($D395=\"*EOL*\",\"\",INT(LogData!V392))","v":""},{"$f":"IF($D395=\"*EOL*\",\"\",LogData!V392-E395)","v":""},{"$f":"IF(LEFT($D395,1)=\"*\",\"\",IF(LogData!S392,\"DUPE\",\"\"))","v":""},{"$f":"IF(LEFT($D395,1)=\"*\",\"\",LogData!R392)","v":""}]
[{"$f":"IF(LEFT($D396,1)=\"*\",\"\",LogData!C393)","v":""},{"$f":"IF(LEFT($D396,1)=\"*\",\"\",LogData!F393)","v":""},{"$f":"IF(LEFT($D396,1)=\"*\",\"\",LogData!D393)","v":""},{"$f":"LogData!E393","v":"*EOL*"},{"$f":"IF($D396=\"*EOL*\",\"\",INT(LogData!V393))","v":""},{"$f":"IF($D396=\"*EOL*\",\"\",LogData!V393-E396)","v":""},{"$f":"IF(LEFT($D396,1)=\"*\",\"\",IF(LogData!S393,\"DUPE\",\"\"))","v":""},{"$f":"IF(LEFT($D396,1)=\"*\",\"\",LogData!R393)","v":""}]
[{"$f":"IF(LEFT($D397,1)=\"*\",\"\",LogData!C394)","v":""},{"$f":"IF(LEFT($D397,1)=\"*\",\"\",LogData!F394)","v":""},{"$f":"IF(LEFT($D397,1)=\"*\",\"\",LogData!D394)","v":""},{"$f":"LogData!E394","v":"*EOL*"},{"$f":"IF($D397=\"*EOL*\",\"\",INT(LogData!V394))","v":""},{"$f":"IF($D397=\"*EOL*\",\"\",LogData!V394-E397)","v":""},{"$f":"IF(LEFT($D397,1)=\"*\",\"\",IF(LogData!S394,\"DUPE\",\"\"))","v":""},{"$f":"IF(LEFT($D397,1)=\"*\",\"\",LogData!R394)","v":""}]
[{"$f":"IF(LEFT($D398,1)=\"*\",\"\",LogData!C395)","v":""},{"$f":"IF(LEFT($D398,1)=\"*\",\"\",LogData!F395)","v":""},{"$f":"IF(LEFT($D398,1)=\"*\",\"\",LogData!D395)","v":""},{"$f":"LogData!E395","v":"*EOL*"},{"$f":"IF($D398=\"*EOL*\",\"\",INT(LogData!V395))","v":""},{"$f":"IF($D398=\"*EOL*\",\"\",LogData!V395-E398)","v":""},{"$f":"IF(LEFT($D398,1)=\"*\",\"\",IF(LogData!S395,\"DUPE\",\"\"))","v":""},{"$f":"IF(LEFT($D398,1)=\"*\",\"\",LogData!R395)","v":""}]
[{"$f":"IF(LEFT($D399,1)=\"*\",\"\",LogData!C396)","v":""},{"$f":"IF(LEFT($D399,1)=\"*\",\"\",LogData!F396)","v":""},{"$f":"IF(LEFT($D399,1)=\"*\",\"\",LogData!D396)","v":""},{"$f":"LogData!E396","v":"*EOL*"},{"$f":"IF($D399=\"*EOL*\",\"\",INT(LogData!V396))","v":""},{"$f":"IF($D399=\"*EOL*\",\"\",LogData!V396-E399)","v":""},{"$f":"IF(LEFT($D399,1)=\"*\",\"\",IF(LogData!S396,\"DUPE\",\"\"))","v":""},{"$f":"IF(LEFT($D399,1)=\"*\",\"\",LogData!R396)","v":""}]
[{"$f":"IF(LEFT($D400,1)=\"*\",\"\",LogData!C397)","v":""},{"$f":"IF(LEFT($D400,1)=\"*\",\"\",LogData!F397)","v":""},{"$f":"IF(LEFT($D400,1)=\"*\",\"\",LogData!D397)","v":""},{"$f":"LogData!E397","v":"*EOL*"},{"$f":"IF($D400=\"*EOL*\",\"\",INT(LogData!V397))","v":""},{"$f":"IF($D400=\"*EOL*\",\"\",LogData!V397-E400)","v":""},{"$f":"IF(LEFT($D400,1)=\"*\",\"\",IF(LogData!S397,\"DUPE\",\"\"))","v":""},{"$f":"IF(LEFT($D400,1)=\"*\",\"\",LogData!R397)","v":""}]
[{"$f":"IF(LEFT($D401,1)=\"*\",\"\",LogData!C398)","v":""},{"$f":"IF(LEFT($D401,1)=\"*\",\"\",LogData!F398)","v":""},{"$f":"IF(LEFT($D401,1)=\"*\",\"\",LogData!D398)","v":""},{"$f":"LogData!E398","v":"*EOL*"},{"$f":"IF($D401=\"*EOL*\",\"\",INT(LogData!V398))","v":""},{"$f":"IF($D401=\"*EOL*\",\"\",LogData!V398-E401)","v":""},{"$f":"IF(LEFT($D401,1)=\"*\",\"\",IF(LogData!S398,\"DUPE\",\"\"))","v":""},{"$f":"IF(LEFT($D401,1)=\"*\",\"\",LogData!R398)","v":""}]
[{"$f":"IF(LEFT($D402,1)=\"*\",\"\",LogData!C399)","v":""},{"$f":"IF(LEFT($D402,1)=\"*\",\"\",LogData!F399)","v":""},{"$f":"IF(LEFT($D402,1)=\"*\",\"\",LogData!D399)","v":""},{"$f":"LogData!E399","v":"*EOL*"},{"$f":"IF($D402=\"*EOL*\",\"\",INT(LogData!V399))","v":""},{"$f":"IF($D402=\"*EOL*\",\"\",LogData!V399-E402)","v":""},{"$f":"IF(LEFT($D402,1)=\"*\",\"\",IF(LogData!S399,\"DUPE\",\"\"))","v":""},{"$f":"IF(LEFT($D402,1)=\"*\",\"\",LogData!R399)","v":""}]
[{"$f":"IF(LEFT($D403,1)=\"*\",\"\",LogData!C400)","v":""},{"$f":"IF(LEFT($D403,1)=\"*\",\"\",LogData!F400)","v":""},{"$f":"IF(LEFT($D403,1)=\"*\",\"\",LogData!D400)","v":""},{"$f":"LogData!E400","v":"*EOL*"},{"$f":"IF($D403=\"*EOL*\",\"\",INT(LogData!V400))","v":""},{"$f":"IF($D403=\"*EOL*\",\"\",LogData!V400-E403)","v":""},{"$f":"IF(LEFT($D403,1)=\"*\",\"\",IF(LogData!S400,\"DUPE\",\"\"))","v":""},{"$f":"IF(LEFT($D403,1)=\"*\",\"\",LogData!R400)","v":""}]
[{"$f":"IF(LEFT($D404,1)=\"*\",\"\",LogData!C401)","v":""},{"$f":"IF(LEFT($D404,1)=\"*\",\"\",LogData!F401)","v":""},{"$f":"IF(LEFT($D404,1)=\"*\",\"\",LogData!D401)","v":""},{"$f":"LogData!E401","v":"*EOL*"},{"$f":"IF($D404=\"*EOL*\",\"\",INT(LogData!V401))","v":""},{"$f":"IF($D404=\"*EOL*\",\"\",LogData!V401-E404)","v":""},{"$f":"IF(LEFT($D404,1)=\"*\",\"\",IF(LogData!S401,\"DUPE\",\"\"))","v":""},{"$f":"IF(LEFT($D404,1)=\"*\",\"\",LogData!R401)","v":""}]
[{"$f":"IF(LEFT($D405,1)=\"*\",\"\",LogData!C402)","v":""},{"$f":"IF(LEFT($D405,1)=\"*\",\"\",LogData!F402)","v":""},{"$f":"IF(LEFT($D405,1)=\"*\",\"\",LogData!D402)","v":""},{"$f":"LogData!E402","v":"*EOL*"},{"$f":"IF($D405=\"*EOL*\",\"\",INT(LogData!V402))","v":""},{"$f":"IF($D405=\"*EOL*\",\"\",LogData!V402-E405)","v":""},{"$f":"IF(LEFT($D405,1)=\"*\",\"\",IF(LogData!S402,\"DUPE\",\"\"))","v":""},{"$f":"IF(LEFT($D405,1)=\"*\",\"\",LogData!R402)","v":""}]
[{"$f":"IF(LEFT($D406,1)=\"*\",\"\",LogData!C403)","v":""},{"$f":"IF(LEFT($D406,1)=\"*\",\"\",LogData!F403)","v":""},{"$f":"IF(LEFT($D406,1)=\"*\",\"\",LogData!D403)","v":""},{"$f":"LogData!E403","v":"*EOL*"},{"$f":"IF($D406=\"*EOL*\",\"\",INT(LogData!V403))","v":""},{"$f":"IF($D406=\"*EOL*\",\"\",LogData!V403-E406)","v":""},{"$f":"IF(LEFT($D406,1)=\"*\",\"\",IF(LogData!S403,\"DUPE\",\"\"))","v":""},{"$f":"IF(LEFT($D406,1)=\"*\",\"\",LogData!R403)","v":""}]
[{"$f":"IF(LEFT($D407,1)=\"*\",\"\",LogData!C404)","v":""},{"$f":"IF(LEFT($D407,1)=\"*\",\"\",LogData!F404)","v":""},{"$f":"IF(LEFT($D407,1)=\"*\",\"\",LogData!D404)","v":""},{"$f":"LogData!E404","v":"*EOL*"},{"$f":"IF($D407=\"*EOL*\",\"\",INT(LogData!V404))","v":""},{"$f":"IF($D407=\"*EOL*\",\"\",LogData!V404-E407)","v":""},{"$f":"IF(LEFT($D407,1)=\"*\",\"\",IF(LogData!S404,\"DUPE\",\"\"))","v":""},{"$f":"IF(LEFT($D407,1)=\"*\",\"\",LogData!R404)","v":""}]
[{"$f":"IF(LEFT($D408,1)=\"*\",\"\",LogData!C405)","v":""},{"$f":"IF(LEFT($D408,1)=\"*\",\"\",LogData!F405)","v":""},{"$f":"IF(LEFT($D408,1)=\"*\",\"\",LogData!D405)","v":""},{"$f":"LogData!E405","v":"*EOL*"},{"$f":"IF($D408=\"*EOL*\",\"\",INT(LogData!V405))","v":""},{"$f":"IF($D408=\"*EOL*\",\"\",LogData!V405-E408)","v":""},{"$f":"IF(LEFT($D408,1)=\"*\",\"\",IF(LogData!S405,\"DUPE\",\"\"))","v":""},{"$f":"IF(LEFT($D408,1)=\"*\",\"\",LogData!R405)","v":""}]
[{"$f":"IF(LEFT($D409,1)=\"*\",\"\",LogData!C406)","v":""},{"$f":"IF(LEFT($D409,1)=\"*\",\"\",LogData!F406)","v":""},{"$f":"IF(LEFT($D409,1)=\"*\",\"\",LogData!D406)","v":""},{"$f":"LogData!E406","v":"*EOL*"},{"$f":"IF($D409=\"*EOL*\",\"\",INT(LogData!V406))","v":""},{"$f":"IF($D409=\"*EOL*\",\"\",LogData!V406-E409)","v":""},{"$f":"IF(LEFT($D409,1)=\"*\",\"\",IF(LogData!S406,\"DUPE\",\"\"))","v":""},{"$f":"IF(LEFT($D409,1)=\"*\",\"\",LogData!R406)","v":""}]
[{"$f":"IF(LEFT($D410,1)=\"*\",\"\",LogData!C407)","v":""},{"$f":"IF(LEFT($D410,1)=\"*\",\"\",LogData!F407)","v":""},{"$f":"IF(LEFT($D410,1)=\"*\",\"\",LogData!D407)","v":""},{"$f":"LogData!E407","v":"*EOL*"},{"$f":"IF($D410=\"*EOL*\",\"\",INT(LogData!V407))","v":""},{"$f":"IF($D410=\"*EOL*\",\"\",LogData!V407-E410)","v":""},{"$f":"IF(LEFT($D410,1)=\"*\",\"\",IF(LogData!S407,\"DUPE\",\"\"))","v":""},{"$f":"IF(LEFT($D410,1)=\"*\",\"\",LogData!R407)","v":""}]
[{"$f":"IF(LEFT($D411,1)=\"*\",\"\",LogData!C408)","v":""},{"$f":"IF(LEFT($D411,1)=\"*\",\"\",LogData!F408)","v":""},{"$f":"IF(LEFT($D411,1)=\"*\",\"\",LogData!D408)","v":""},{"$f":"LogData!E408","v":"*EOL*"},{"$f":"IF($D411=\"*EOL*\",\"\",INT(LogData!V408))","v":""},{"$f":"IF($D411=\"*EOL*\",\"\",LogData!V408-E411)","v":""},{"$f":"IF(LEFT($D411,1)=\"*\",\"\",IF(LogData!S408,\"DUPE\",\"\"))","v":""},{"$f":"IF(LEFT($D411,1)=\"*\",\"\",LogData!R408)","v":""}]
[{"$f":"IF(LEFT($D412,1)=\"*\",\"\",LogData!C409)","v":""},{"$f":"IF(LEFT($D412,1)=\"*\",\"\",LogData!F409)","v":""},{"$f":"IF(LEFT($D412,1)=\"*\",\"\",LogData!D409)","v":""},{"$f":"LogData!E409","v":"*EOL*"},{"$f":"IF($D412=\"*EOL*\",\"\",INT(LogData!V409))","v":""},{"$f":"IF($D412=\"*EOL*\",\"\",LogData!V409-E412)","v":""},{"$f":"IF(LEFT($D412,1)=\"*\",\"\",IF(LogData!S409,\"DUPE\",\"\"))","v":""},{"$f":"IF(LEFT($D412,1)=\"*\",\"\",LogData!R409)","v":""}]
[{"$f":"IF(LEFT($D413,1)=\"*\",\"\",LogData!C410)","v":""},{"$f":"IF(LEFT($D413,1)=\"*\",\"\",LogData!F410)","v":""},{"$f":"IF(LEFT($D413,1)=\"*\",\"\",LogData!D410)","v":""},{"$f":"LogData!E410","v":"*EOL*"},{"$f":"IF($D413=\"*EOL*\",\"\",INT(LogData!V410))","v":""},{"$f":"IF($D413=\"*EOL*\",\"\",LogData!V410-E413)","v":""},{"$f":"IF(LEFT($D413,1)=\"*\",\"\",IF(LogData!S410,\"DUPE\",\"\"))","v":""},{"$f":"IF(LEFT($D413,1)=\"*\",\"\",LogData!R410)","v":""}]
[{"$f":"IF(LEFT($D414,1)=\"*\",\"\",LogData!C411)","v":""},{"$f":"IF(LEFT($D414,1)=\"*\",\"\",LogData!F411)","v":""},{"$f":"IF(LEFT($D414,1)=\"*\",\"\",LogData!D411)","v":""},{"$f":"LogData!E411","v":"*EOL*"},{"$f":"IF($D414=\"*EOL*\",\"\",INT(LogData!V411))","v":""},{"$f":"IF($D414=\"*EOL*\",\"\",LogData!V411-E414)","v":""},{"$f":"IF(LEFT($D414,1)=\"*\",\"\",IF(LogData!S411,\"DUPE\",\"\"))","v":""},{"$f":"IF(LEFT($D414,1)=\"*\",\"\",LogData!R411)","v":""}]
[{"$f":"IF(LEFT($D415,1)=\"*\",\"\",LogData!C412)","v":""},{"$f":"IF(LEFT($D415,1)=\"*\",\"\",LogData!F412)","v":""},{"$f":"IF(LEFT($D415,1)=\"*\",\"\",LogData!D412)","v":""},{"$f":"LogData!E412","v":"*EOL*"},{"$f":"IF($D415=\"*EOL*\",\"\",INT(LogData!V412))","v":""},{"$f":"IF($D415=\"*EOL*\",\"\",LogData!V412-E415)","v":""},{"$f":"IF(LEFT($D415,1)=\"*\",\"\",IF(LogData!S412,\"DUPE\",\"\"))","v":""},{"$f":"IF(LEFT($D415,1)=\"*\",\"\",LogData!R412)","v":""}]
[{"$f":"IF(LEFT($D416,1)=\"*\",\"\",LogData!C413)","v":""},{"$f":"IF(LEFT($D416,1)=\"*\",\"\",LogData!F413)","v":""},{"$f":"IF(LEFT($D416,1)=\"*\",\"\",LogData!D413)","v":""},{"$f":"LogData!E413","v":"*EOL*"},{"$f":"IF($D416=\"*EOL*\",\"\",INT(LogData!V413))","v":""},{"$f":"IF($D416=\"*EOL*\",\"\",LogData!V413-E416)","v":""},{"$f":"IF(LEFT($D416,1)=\"*\",\"\",IF(LogData!S413,\"DUPE\",\"\"))","v":""},{"$f":"IF(LEFT($D416,1)=\"*\",\"\",LogData!R413)","v":""}]
[{"$f":"IF(LEFT($D417,1)=\"*\",\"\",LogData!C414)","v":""},{"$f":"IF(LEFT($D417,1)=\"*\",\"\",LogData!F414)","v":""},{"$f":"IF(LEFT($D417,1)=\"*\",\"\",LogData!D414)","v":""},{"$f":"LogData!E414","v":"*EOL*"},{"$f":"IF($D417=\"*EOL*\",\"\",INT(LogData!V414))","v":""},{"$f":"IF($D417=\"*EOL*\",\"\",LogData!V414-E417)","v":""},{"$f":"IF(LEFT($D417,1)=\"*\",\"\",IF(LogData!S414,\"DUPE\",\"\"))","v":""},{"$f":"IF(LEFT($D417,1)=\"*\",\"\",LogData!R414)","v":""}]
[{"$f":"IF(LEFT($D418,1)=\"*\",\"\",LogData!C415)","v":""},{"$f":"IF(LEFT($D418,1)=\"*\",\"\",LogData!F415)","v":""},{"$f":"IF(LEFT($D418,1)=\"*\",\"\",LogData!D415)","v":""},{"$f":"LogData!E415","v":"*EOL*"},{"$f":"IF($D418=\"*EOL*\",\"\",INT(LogData!V415))","v":""},{"$f":"IF($D418=\"*EOL*\",\"\",LogData!V415-E418)","v":""},{"$f":"IF(LEFT($D418,1)=\"*\",\"\",IF(LogData!S415,\"DUPE\",\"\"))","v":""},{"$f":"IF(LEFT($D418,1)=\"*\",\"\",LogData!R415)","v":""}]
[{"$f":"IF(LEFT($D419,1)=\"*\",\"\",LogData!C416)","v":""},{"$f":"IF(LEFT($D419,1)=\"*\",\"\",LogData!F416)","v":""},{"$f":"IF(LEFT($D419,1)=\"*\",\"\",LogData!D416)","v":""},{"$f":"LogData!E416","v":"*EOL*"},{"$f":"IF($D419=\"*EOL*\",\"\",INT(LogData!V416))","v":""},{"$f":"IF($D419=\"*EOL*\",\"\",LogData!V416-E419)","v":""},{"$f":"IF(LEFT($D419,1)=\"*\",\"\",IF(LogData!S416,\"DUPE\",\"\"))","v":""},{"$f":"IF(LEFT($D419,1)=\"*\",\"\",LogData!R416)","v":""}]
[{"$f":"IF(LEFT($D420,1)=\"*\",\"\",LogData!C417)","v":""},{"$f":"IF(LEFT($D420,1)=\"*\",\"\",LogData!F417)","v":""},{"$f":"IF(LEFT($D420,1)=\"*\",\"\",LogData!D417)","v":""},{"$f":"LogData!E417","v":"*EOL*"},{"$f":"IF($D420=\"*EOL*\",\"\",INT(LogData!V417))","v":""},{"$f":"IF($D420=\"*EOL*\",\"\",LogData!V417-E420)","v":""},{"$f":"IF(LEFT($D420,1)=\"*\",\"\",IF(LogData!S417,\"DUPE\",\"\"))","v":""},{"$f":"IF(LEFT($D420,1)=\"*\",\"\",LogData!R417)","v":""}]
[{"$f":"IF(LEFT($D421,1)=\"*\",\"\",LogData!C418)","v":""},{"$f":"IF(LEFT($D421,1)=\"*\",\"\",LogData!F418)","v":""},{"$f":"IF(LEFT($D421,1)=\"*\",\"\",LogData!D418)","v":""},{"$f":"LogData!E418","v":"*EOL*"},{"$f":"IF($D421=\"*EOL*\",\"\",INT(LogData!V418))","v":""},{"$f":"IF($D421=\"*EOL*\",\"\",LogData!V418-E421)","v":""},{"$f":"IF(LEFT($D421,1)=\"*\",\"\",IF(LogData!S418,\"DUPE\",\"\"))","v":""},{"$f":"IF(LEFT($D421,1)=\"*\",\"\",LogData!R418)","v":""}]
[{"$f":"IF(LEFT($D422,1)=\"*\",\"\",LogData!C419)","v":""},{"$f":"IF(LEFT($D422,1)=\"*\",\"\",LogData!F419)","v":""},{"$f":"IF(LEFT($D422,1)=\"*\",\"\",LogData!D419)","v":""},{"$f":"LogData!E419","v":"*EOL*"},{"$f":"IF($D422=\"*EOL*\",\"\",INT(LogData!V419))","v":""},{"$f":"IF($D422=\"*EOL*\",\"\",LogData!V419-E422)","v":""},{"$f":"IF(LEFT($D422,1)=\"*\",\"\",IF(LogData!S419,\"DUPE\",\"\"))","v":""},{"$f":"IF(LEFT($D422,1)=\"*\",\"\",LogData!R419)","v":""}]
[{"$f":"IF(LEFT($D423,1)=\"*\",\"\",LogData!C420)","v":""},{"$f":"IF(LEFT($D423,1)=\"*\",\"\",LogData!F420)","v":""},{"$f":"IF(LEFT($D423,1)=\"*\",\"\",LogData!D420)","v":""},{"$f":"LogData!E420","v":"*EOL*"},{"$f":"IF($D423=\"*EOL*\",\"\",INT(LogData!V420))","v":""},{"$f":"IF($D423=\"*EOL*\",\"\",LogData!V420-E423)","v":""},{"$f":"IF(LEFT($D423,1)=\"*\",\"\",IF(LogData!S420,\"DUPE\",\"\"))","v":""},{"$f":"IF(LEFT($D423,1)=\"*\",\"\",LogData!R420)","v":""}]
[{"$f":"IF(LEFT($D424,1)=\"*\",\"\",LogData!C421)","v":""},{"$f":"IF(LEFT($D424,1)=\"*\",\"\",LogData!F421)","v":""},{"$f":"IF(LEFT($D424,1)=\"*\",\"\",LogData!D421)","v":""},{"$f":"LogData!E421","v":"*EOL*"},{"$f":"IF($D424=\"*EOL*\",\"\",INT(LogData!V421))","v":""},{"$f":"IF($D424=\"*EOL*\",\"\",LogData!V421-E424)","v":""},{"$f":"IF(LEFT($D424,1)=\"*\",\"\",IF(LogData!S421,\"DUPE\",\"\"))","v":""},{"$f":"IF(LEFT($D424,1)=\"*\",\"\",LogData!R421)","v":""}]
[{"$f":"IF(LEFT($D425,1)=\"*\",\"\",LogData!C422)","v":""},{"$f":"IF(LEFT($D425,1)=\"*\",\"\",LogData!F422)","v":""},{"$f":"IF(LEFT($D425,1)=\"*\",\"\",LogData!D422)","v":""},{"$f":"LogData!E422","v":"*EOL*"},{"$f":"IF($D425=\"*EOL*\",\"\",INT(LogData!V422))","v":""},{"$f":"IF($D425=\"*EOL*\",\"\",LogData!V422-E425)","v":""},{"$f":"IF(LEFT($D425,1)=\"*\",\"\",IF(LogData!S422,\"DUPE\",\"\"))","v":""},{"$f":"IF(LEFT($D425,1)=\"*\",\"\",LogData!R422)","v":""}]
[{"$f":"IF(LEFT($D426,1)=\"*\",\"\",LogData!C423)","v":""},{"$f":"IF(LEFT($D426,1)=\"*\",\"\",LogData!F423)","v":""},{"$f":"IF(LEFT($D426,1)=\"*\",\"\",LogData!D423)","v":""},{"$f":"LogData!E423","v":"*EOL*"},{"$f":"IF($D426=\"*EOL*\",\"\",INT(LogData!V423))","v":""},{"$f":"IF($D426=\"*EOL*\",\"\",LogData!V423-E426)","v":""},{"$f":"IF(LEFT($D426,1)=\"*\",\"\",IF(LogData!S423,\"DUPE\",\"\"))","v":""},{"$f":"IF(LEFT($D426,1)=\"*\",\"\",LogData!R423)","v":""}]
[{"$f":"IF(LEFT($D427,1)=\"*\",\"\",LogData!C424)","v":""},{"$f":"IF(LEFT($D427,1)=\"*\",\"\",LogData!F424)","v":""},{"$f":"IF(LEFT($D427,1)=\"*\",\"\",LogData!D424)","v":""},{"$f":"LogData!E424","v":"*EOL*"},{"$f":"IF($D427=\"*EOL*\",\"\",INT(LogData!V424))","v":""},{"$f":"IF($D427=\"*EOL*\",\"\",LogData!V424-E427)","v":""},{"$f":"IF(LEFT($D427,1)=\"*\",\"\",IF(LogData!S424,\"DUPE\",\"\"))","v":""},{"$f":"IF(LEFT($D427,1)=\"*\",\"\",LogData!R424)","v":""}]
[{"$f":"IF(LEFT($D428,1)=\"*\",\"\",LogData!C425)","v":""},{"$f":"IF(LEFT($D428,1)=\"*\",\"\",LogData!F425)","v":""},{"$f":"IF(LEFT($D428,1)=\"*\",\"\",LogData!D425)","v":""},{"$f":"LogData!E425","v":"*EOL*"},{"$f":"IF($D428=\"*EOL*\",\"\",INT(LogData!V425))","v":""},{"$f":"IF($D428=\"*EOL*\",\"\",LogData!V425-E428)","v":""},{"$f":"IF(LEFT($D428,1)=\"*\",\"\",IF(LogData!S425,\"DUPE\",\"\"))","v":""},{"$f":"IF(LEFT($D428,1)=\"*\",\"\",LogData!R425)","v":""}]
[{"$f":"IF(LEFT($D429,1)=\"*\",\"\",LogData!C426)","v":""},{"$f":"IF(LEFT($D429,1)=\"*\",\"\",LogData!F426)","v":""},{"$f":"IF(LEFT($D429,1)=\"*\",\"\",LogData!D426)","v":""},{"$f":"LogData!E426","v":"*EOL*"},{"$f":"IF($D429=\"*EOL*\",\"\",INT(LogData!V426))","v":""},{"$f":"IF($D429=\"*EOL*\",\"\",LogData!V426-E429)","v":""},{"$f":"IF(LEFT($D429,1)=\"*\",\"\",IF(LogData!S426,\"DUPE\",\"\"))","v":""},{"$f":"IF(LEFT($D429,1)=\"*\",\"\",LogData!R426)","v":""}]
[{"$f":"IF(LEFT($D430,1)=\"*\",\"\",LogData!C427)","v":""},{"$f":"IF(LEFT($D430,1)=\"*\",\"\",LogData!F427)","v":""},{"$f":"IF(LEFT($D430,1)=\"*\",\"\",LogData!D427)","v":""},{"$f":"LogData!E427","v":"*EOL*"},{"$f":"IF($D430=\"*EOL*\",\"\",INT(LogData!V427))","v":""},{"$f":"IF($D430=\"*EOL*\",\"\",LogData!V427-E430)","v":""},{"$f":"IF(LEFT($D430,1)=\"*\",\"\",IF(LogData!S427,\"DUPE\",\"\"))","v":""},{"$f":"IF(LEFT($D430,1)=\"*\",\"\",LogData!R427)","v":""}]
[{"$f":"IF(LEFT($D431,1)=\"*\",\"\",LogData!C428)","v":""},{"$f":"IF(LEFT($D431,1)=\"*\",\"\",LogData!F428)","v":""},{"$f":"IF(LEFT($D431,1)=\"*\",\"\",LogData!D428)","v":""},{"$f":"LogData!E428","v":"*EOL*"},{"$f":"IF($D431=\"*EOL*\",\"\",INT(LogData!V428))","v":""},{"$f":"IF($D431=\"*EOL*\",\"\",LogData!V428-E431)","v":""},{"$f":"IF(LEFT($D431,1)=\"*\",\"\",IF(LogData!S428,\"DUPE\",\"\"))","v":""},{"$f":"IF(LEFT($D431,1)=\"*\",\"\",LogData!R428)","v":""}]
[{"$f":"IF(LEFT($D432,1)=\"*\",\"\",LogData!C429)","v":""},{"$f":"IF(LEFT($D432,1)=\"*\",\"\",LogData!F429)","v":""},{"$f":"IF(LEFT($D432,1)=\"*\",\"\",LogData!D429)","v":""},{"$f":"LogData!E429","v":"*EOL*"},{"$f":"IF($D432=\"*EOL*\",\"\",INT(LogData!V429))","v":""},{"$f":"IF($D432=\"*EOL*\",\"\",LogData!V429-E432)","v":""},{"$f":"IF(LEFT($D432,1)=\"*\",\"\",IF(LogData!S429,\"DUPE\",\"\"))","v":""},{"$f":"IF(LEFT($D432,1)=\"*\",\"\",LogData!R429)","v":""}]
[{"$f":"IF(LEFT($D433,1)=\"*\",\"\",LogData!C430)","v":""},{"$f":"IF(LEFT($D433,1)=\"*\",\"\",LogData!F430)","v":""},{"$f":"IF(LEFT($D433,1)=\"*\",\"\",LogData!D430)","v":""},{"$f":"LogData!E430","v":"*EOL*"},{"$f":"IF($D433=\"*EOL*\",\"\",INT(LogData!V430))","v":""},{"$f":"IF($D433=\"*EOL*\",\"\",LogData!V430-E433)","v":""},{"$f":"IF(LEFT($D433,1)=\"*\",\"\",IF(LogData!S430,\"DUPE\",\"\"))","v":""},{"$f":"IF(LEFT($D433,1)=\"*\",\"\",LogData!R430)","v":""}]
[{"$f":"IF(LEFT($D434,1)=\"*\",\"\",LogData!C431)","v":""},{"$f":"IF(LEFT($D434,1)=\"*\",\"\",LogData!F431)","v":""},{"$f":"IF(LEFT($D434,1)=\"*\",\"\",LogData!D431)","v":""},{"$f":"LogData!E431","v":"*EOL*"},{"$f":"IF($D434=\"*EOL*\",\"\",INT(LogData!V431))","v":""},{"$f":"IF($D434=\"*EOL*\",\"\",LogData!V431-E434)","v":""},{"$f":"IF(LEFT($D434,1)=\"*\",\"\",IF(LogData!S431,\"DUPE\",\"\"))","v":""},{"$f":"IF(LEFT($D434,1)=\"*\",\"\",LogData!R431)","v":""}]
[{"$f":"IF(LEFT($D435,1)=\"*\",\"\",LogData!C432)","v":""},{"$f":"IF(LEFT($D435,1)=\"*\",\"\",LogData!F432)","v":""},{"$f":"IF(LEFT($D435,1)=\"*\",\"\",LogData!D432)","v":""},{"$f":"LogData!E432","v":"*EOL*"},{"$f":"IF($D435=\"*EOL*\",\"\",INT(LogData!V432))","v":""},{"$f":"IF($D435=\"*EOL*\",\"\",LogData!V432-E435)","v":""},{"$f":"IF(LEFT($D435,1)=\"*\",\"\",IF(LogData!S432,\"DUPE\",\"\"))","v":""},{"$f":"IF(LEFT($D435,1)=\"*\",\"\",LogData!R432)","v":""}]
[{"$f":"IF(LEFT($D436,1)=\"*\",\"\",LogData!C433)","v":""},{"$f":"IF(LEFT($D436,1)=\"*\",\"\",LogData!F433)","v":""},{"$f":"IF(LEFT($D436,1)=\"*\",\"\",LogData!D433)","v":""},{"$f":"LogData!E433","v":"*EOL*"},{"$f":"IF($D436=\"*EOL*\",\"\",INT(LogData!V433))","v":""},{"$f":"IF($D436=\"*EOL*\",\"\",LogData!V433-E436)","v":""},{"$f":"IF(LEFT($D436,1)=\"*\",\"\",IF(LogData!S433,\"DUPE\",\"\"))","v":""},{"$f":"IF(LEFT($D436,1)=\"*\",\"\",LogData!R433)","v":""}]
[{"$f":"IF(LEFT($D437,1)=\"*\",\"\",LogData!C434)","v":""},{"$f":"IF(LEFT($D437,1)=\"*\",\"\",LogData!F434)","v":""},{"$f":"IF(LEFT($D437,1)=\"*\",\"\",LogData!D434)","v":""},{"$f":"LogData!E434","v":"*EOL*"},{"$f":"IF($D437=\"*EOL*\",\"\",INT(LogData!V434))","v":""},{"$f":"IF($D437=\"*EOL*\",\"\",LogData!V434-E437)","v":""},{"$f":"IF(LEFT($D437,1)=\"*\",\"\",IF(LogData!S434,\"DUPE\",\"\"))","v":""},{"$f":"IF(LEFT($D437,1)=\"*\",\"\",LogData!R434)","v":""}]
[{"$f":"IF(LEFT($D438,1)=\"*\",\"\",LogData!C435)","v":""},{"$f":"IF(LEFT($D438,1)=\"*\",\"\",LogData!F435)","v":""},{"$f":"IF(LEFT($D438,1)=\"*\",\"\",LogData!D435)","v":""},{"$f":"LogData!E435","v":"*EOL*"},{"$f":"IF($D438=\"*EOL*\",\"\",INT(LogData!V435))","v":""},{"$f":"IF($D438=\"*EOL*\",\"\",LogData!V435-E438)","v":""},{"$f":"IF(LEFT($D438,1)=\"*\",\"\",IF(LogData!S435,\"DUPE\",\"\"))","v":""},{"$f":"IF(LEFT($D438,1)=\"*\",\"\",LogData!R435)","v":""}]
[{"$f":"IF(LEFT($D439,1)=\"*\",\"\",LogData!C436)","v":""},{"$f":"IF(LEFT($D439,1)=\"*\",\"\",LogData!F436)","v":""},{"$f":"IF(LEFT($D439,1)=\"*\",\"\",LogData!D436)","v":""},{"$f":"LogData!E436","v":"*EOL*"},{"$f":"IF($D439=\"*EOL*\",\"\",INT(LogData!V436))","v":""},{"$f":"IF($D439=\"*EOL*\",\"\",LogData!V436-E439)","v":""},{"$f":"IF(LEFT($D439,1)=\"*\",\"\",IF(LogData!S436,\"DUPE\",\"\"))","v":""},{"$f":"IF(LEFT($D439,1)=\"*\",\"\",LogData!R436)","v":""}]
[{"$f":"IF(LEFT($D440,1)=\"*\",\"\",LogData!C437)","v":""},{"$f":"IF(LEFT($D440,1)=\"*\",\"\",LogData!F437)","v":""},{"$f":"IF(LEFT($D440,1)=\"*\",\"\",LogData!D437)","v":""},{"$f":"LogData!E437","v":"*EOL*"},{"$f":"IF($D440=\"*EOL*\",\"\",INT(LogData!V437))","v":""},{"$f":"IF($D440=\"*EOL*\",\"\",LogData!V437-E440)","v":""},{"$f":"IF(LEFT($D440,1)=\"*\",\"\",IF(LogData!S437,\"DUPE\",\"\"))","v":""},{"$f":"IF(LEFT($D440,1)=\"*\",\"\",LogData!R437)","v":""}]
[{"$f":"IF(LEFT($D441,1)=\"*\",\"\",LogData!C438)","v":""},{"$f":"IF(LEFT($D441,1)=\"*\",\"\",LogData!F438)","v":""},{"$f":"IF(LEFT($D441,1)=\"*\",\"\",LogData!D438)","v":""},{"$f":"LogData!E438","v":"*EOL*"},{"$f":"IF($D441=\"*EOL*\",\"\",INT(LogData!V438))","v":""},{"$f":"IF($D441=\"*EOL*\",\"\",LogData!V438-E441)","v":""},{"$f":"IF(LEFT($D441,1)=\"*\",\"\",IF(LogData!S438,\"DUPE\",\"\"))","v":""},{"$f":"IF(LEFT($D441,1)=\"*\",\"\",LogData!R438)","v":""}]
[{"$f":"IF(LEFT($D442,1)=\"*\",\"\",LogData!C439)","v":""},{"$f":"IF(LEFT($D442,1)=\"*\",\"\",LogData!F439)","v":""},{"$f":"IF(LEFT($D442,1)=\"*\",\"\",LogData!D439)","v":""},{"$f":"LogData!E439","v":"*EOL*"},{"$f":"IF($D442=\"*EOL*\",\"\",INT(LogData!V439))","v":""},{"$f":"IF($D442=\"*EOL*\",\"\",LogData!V439-E442)","v":""},{"$f":"IF(LEFT($D442,1)=\"*\",\"\",IF(LogData!S439,\"DUPE\",\"\"))","v":""},{"$f":"IF(LEFT($D442,1)=\"*\",\"\",LogData!R439)","v":""}]
[{"$f":"IF(LEFT($D443,1)=\"*\",\"\",LogData!C440)","v":""},{"$f":"IF(LEFT($D443,1)=\"*\",\"\",LogData!F440)","v":""},{"$f":"IF(LEFT($D443,1)=\"*\",\"\",LogData!D440)","v":""},{"$f":"LogData!E440","v":"*EOL*"},{"$f":"IF($D443=\"*EOL*\",\"\",INT(LogData!V440))","v":""},{"$f":"IF($D443=\"*EOL*\",\"\",LogData!V440-E443)","v":""},{"$f":"IF(LEFT($D443,1)=\"*\",\"\",IF(LogData!S440,\"DUPE\",\"\"))","v":""},{"$f":"IF(LEFT($D443,1)=\"*\",\"\",LogData!R440)","v":""}]
[{"$f":"IF(LEFT($D444,1)=\"*\",\"\",LogData!C441)","v":""},{"$f":"IF(LEFT($D444,1)=\"*\",\"\",LogData!F441)","v":""},{"$f":"IF(LEFT($D444,1)=\"*\",\"\",LogData!D441)","v":""},{"$f":"LogData!E441","v":"*EOL*"},{"$f":"IF($D444=\"*EOL*\",\"\",INT(LogData!V441))","v":""},{"$f":"IF($D444=\"*EOL*\",\"\",LogData!V441-E444)","v":""},{"$f":"IF(LEFT($D444,1)=\"*\",\"\",IF(LogData!S441,\"DUPE\",\"\"))","v":""},{"$f":"IF(LEFT($D444,1)=\"*\",\"\",LogData!R441)","v":""}]
[{"$f":"IF(LEFT($D445,1)=\"*\",\"\",LogData!C442)","v":""},{"$f":"IF(LEFT($D445,1)=\"*\",\"\",LogData!F442)","v":""},{"$f":"IF(LEFT($D445,1)=\"*\",\"\",LogData!D442)","v":""},{"$f":"LogData!E442","v":"*EOL*"},{"$f":"IF($D445=\"*EOL*\",\"\",INT(LogData!V442))","v":""},{"$f":"IF($D445=\"*EOL*\",\"\",LogData!V442-E445)","v":""},{"$f":"IF(LEFT($D445,1)=\"*\",\"\",IF(LogData!S442,\"DUPE\",\"\"))","v":""},{"$f":"IF(LEFT($D445,1)=\"*\",\"\",LogData!R442)","v":""}]
[{"$f":"IF(LEFT($D446,1)=\"*\",\"\",LogData!C443)","v":""},{"$f":"IF(LEFT($D446,1)=\"*\",\"\",LogData!F443)","v":""},{"$f":"IF(LEFT($D446,1)=\"*\",\"\",LogData!D443)","v":""},{"$f":"LogData!E443","v":"*EOL*"},{"$f":"IF($D446=\"*EOL*\",\"\",INT(LogData!V443))","v":""},{"$f":"IF($D446=\"*EOL*\",\"\",LogData!V443-E446)","v":""},{"$f":"IF(LEFT($D446,1)=\"*\",\"\",IF(LogData!S443,\"DUPE\",\"\"))","v":""},{"$f":"IF(LEFT($D446,1)=\"*\",\"\",LogData!R443)","v":""}]
[{"$f":"IF(LEFT($D447,1)=\"*\",\"\",LogData!C444)","v":""},{"$f":"IF(LEFT($D447,1)=\"*\",\"\",LogData!F444)","v":""},{"$f":"IF(LEFT($D447,1)=\"*\",\"\",LogData!D444)","v":""},{"$f":"LogData!E444","v":"*EOL*"},{"$f":"IF($D447=\"*EOL*\",\"\",INT(LogData!V444))","v":""},{"$f":"IF($D447=\"*EOL*\",\"\",LogData!V444-E447)","v":""},{"$f":"IF(LEFT($D447,1)=\"*\",\"\",IF(LogData!S444,\"DUPE\",\"\"))","v":""},{"$f":"IF(LEFT($D447,1)=\"*\",\"\",LogData!R444)","v":""}]
[{"$f":"IF(LEFT($D448,1)=\"*\",\"\",LogData!C445)","v":""},{"$f":"IF(LEFT($D448,1)=\"*\",\"\",LogData!F445)","v":""},{"$f":"IF(LEFT($D448,1)=\"*\",\"\",LogData!D445)","v":""},{"$f":"LogData!E445","v":"*EOL*"},{"$f":"IF($D448=\"*EOL*\",\"\",INT(LogData!V445))","v":""},{"$f":"IF($D448=\"*EOL*\",\"\",LogData!V445-E448)","v":""},{"$f":"IF(LEFT($D448,1)=\"*\",\"\",IF(LogData!S445,\"DUPE\",\"\"))","v":""},{"$f":"IF(LEFT($D448,1)=\"*\",\"\",LogData!R445)","v":""}]
[{"$f":"IF(LEFT($D449,1)=\"*\",\"\",LogData!C446)","v":""},{"$f":"IF(LEFT($D449,1)=\"*\",\"\",LogData!F446)","v":""},{"$f":"IF(LEFT($D449,1)=\"*\",\"\",LogData!D446)","v":""},{"$f":"LogData!E446","v":"*EOL*"},{"$f":"IF($D449=\"*EOL*\",\"\",INT(LogData!V446))","v":""},{"$f":"IF($D449=\"*EOL*\",\"\",LogData!V446-E449)","v":""},{"$f":"IF(LEFT($D449,1)=\"*\",\"\",IF(LogData!S446,\"DUPE\",\"\"))","v":""},{"$f":"IF(LEFT($D449,1)=\"*\",\"\",LogData!R446)","v":""}]
[{"$f":"IF(LEFT($D450,1)=\"*\",\"\",LogData!C447)","v":""},{"$f":"IF(LEFT($D450,1)=\"*\",\"\",LogData!F447)","v":""},{"$f":"IF(LEFT($D450,1)=\"*\",\"\",LogData!D447)","v":""},{"$f":"LogData!E447","v":"*EOL*"},{"$f":"IF($D450=\"*EOL*\",\"\",INT(LogData!V447))","v":""},{"$f":"IF($D450=\"*EOL*\",\"\",LogData!V447-E450)","v":""},{"$f":"IF(LEFT($D450,1)=\"*\",\"\",IF(LogData!S447,\"DUPE\",\"\"))","v":""},{"$f":"IF(LEFT($D450,1)=\"*\",\"\",LogData!R447)","v":""}]
[{"$f":"IF(LEFT($D451,1)=\"*\",\"\",LogData!C448)","v":""},{"$f":"IF(LEFT($D451,1)=\"*\",\"\",LogData!F448)","v":""},{"$f":"IF(LEFT($D451,1)=\"*\",\"\",LogData!D448)","v":""},{"$f":"LogData!E448","v":"*EOL*"},{"$f":"IF($D451=\"*EOL*\",\"\",INT(LogData!V448))","v":""},{"$f":"IF($D451=\"*EOL*\",\"\",LogData!V448-E451)","v":""},{"$f":"IF(LEFT($D451,1)=\"*\",\"\",IF(LogData!S448,\"DUPE\",\"\"))","v":""},{"$f":"IF(LEFT($D451,1)=\"*\",\"\",LogData!R448)","v":""}]
[{"$f":"IF(LEFT($D452,1)=\"*\",\"\",LogData!C449)","v":""},{"$f":"IF(LEFT($D452,1)=\"*\",\"\",LogData!F449)","v":""},{"$f":"IF(LEFT($D452,1)=\"*\",\"\",LogData!D449)","v":""},{"$f":"LogData!E449","v":"*EOL*"},{"$f":"IF($D452=\"*EOL*\",\"\",INT(LogData!V449))","v":""},{"$f":"IF($D452=\"*EOL*\",\"\",LogData!V449-E452)","v":""},{"$f":"IF(LEFT($D452,1)=\"*\",\"\",IF(LogData!S449,\"DUPE\",\"\"))","v":""},{"$f":"IF(LEFT($D452,1)=\"*\",\"\",LogData!R449)","v":""}]
[{"$f":"IF(LEFT($D453,1)=\"*\",\"\",LogData!C450)","v":""},{"$f":"IF(LEFT($D453,1)=\"*\",\"\",LogData!F450)","v":""},{"$f":"IF(LEFT($D453,1)=\"*\",\"\",LogData!D450)","v":""},{"$f":"LogData!E450","v":"*EOL*"},{"$f":"IF($D453=\"*EOL*\",\"\",INT(LogData!V450))","v":""},{"$f":"IF($D453=\"*EOL*\",\"\",LogData!V450-E453)","v":""},{"$f":"IF(LEFT($D453,1)=\"*\",\"\",IF(LogData!S450,\"DUPE\",\"\"))","v":""},{"$f":"IF(LEFT($D453,1)=\"*\",\"\",LogData!R450)","v":""}]
[{"$f":"IF(LEFT($D454,1)=\"*\",\"\",LogData!C451)","v":""},{"$f":"IF(LEFT($D454,1)=\"*\",\"\",LogData!F451)","v":""},{"$f":"IF(LEFT($D454,1)=\"*\",\"\",LogData!D451)","v":""},{"$f":"LogData!E451","v":"*EOL*"},{"$f":"IF($D454=\"*EOL*\",\"\",INT(LogData!V451))","v":""},{"$f":"IF($D454=\"*EOL*\",\"\",LogData!V451-E454)","v":""},{"$f":"IF(LEFT($D454,1)=\"*\",\"\",IF(LogData!S451,\"DUPE\",\"\"))","v":""},{"$f":"IF(LEFT($D454,1)=\"*\",\"\",LogData!R451)","v":""}]
[{"$f":"IF(LEFT($D455,1)=\"*\",\"\",LogData!C452)","v":""},{"$f":"IF(LEFT($D455,1)=\"*\",\"\",LogData!F452)","v":""},{"$f":"IF(LEFT($D455,1)=\"*\",\"\",LogData!D452)","v":""},{"$f":"LogData!E452","v":"*EOL*"},{"$f":"IF($D455=\"*EOL*\",\"\",INT(LogData!V452))","v":""},{"$f":"IF($D455=\"*EOL*\",\"\",LogData!V452-E455)","v":""},{"$f":"IF(LEFT($D455,1)=\"*\",\"\",IF(LogData!S452,\"DUPE\",\"\"))","v":""},{"$f":"IF(LEFT($D455,1)=\"*\",\"\",LogData!R452)","v":""}]
[{"$f":"IF(LEFT($D456,1)=\"*\",\"\",LogData!C453)","v":""},{"$f":"IF(LEFT($D456,1)=\"*\",\"\",LogData!F453)","v":""},{"$f":"IF(LEFT($D456,1)=\"*\",\"\",LogData!D453)","v":""},{"$f":"LogData!E453","v":"*EOL*"},{"$f":"IF($D456=\"*EOL*\",\"\",INT(LogData!V453))","v":""},{"$f":"IF($D456=\"*EOL*\",\"\",LogData!V453-E456)","v":""},{"$f":"IF(LEFT($D456,1)=\"*\",\"\",IF(LogData!S453,\"DUPE\",\"\"))","v":""},{"$f":"IF(LEFT($D456,1)=\"*\",\"\",LogData!R453)","v":""}]
[{"$f":"IF(LEFT($D457,1)=\"*\",\"\",LogData!C454)","v":""},{"$f":"IF(LEFT($D457,1)=\"*\",\"\",LogData!F454)","v":""},{"$f":"IF(LEFT($D457,1)=\"*\",\"\",LogData!D454)","v":""},{"$f":"LogData!E454","v":"*EOL*"},{"$f":"IF($D457=\"*EOL*\",\"\",INT(LogData!V454))","v":""},{"$f":"IF($D457=\"*EOL*\",\"\",LogData!V454-E457)","v":""},{"$f":"IF(LEFT($D457,1)=\"*\",\"\",IF(LogData!S454,\"DUPE\",\"\"))","v":""},{"$f":"IF(LEFT($D457,1)=\"*\",\"\",LogData!R454)","v":""}]
[{"$f":"IF(LEFT($D458,1)=\"*\",\"\",LogData!C455)","v":""},{"$f":"IF(LEFT($D458,1)=\"*\",\"\",LogData!F455)","v":""},{"$f":"IF(LEFT($D458,1)=\"*\",\"\",LogData!D455)","v":""},{"$f":"LogData!E455","v":"*EOL*"},{"$f":"IF($D458=\"*EOL*\",\"\",INT(LogData!V455))","v":""},{"$f":"IF($D458=\"*EOL*\",\"\",LogData!V455-E458)","v":""},{"$f":"IF(LEFT($D458,1)=\"*\",\"\",IF(LogData!S455,\"DUPE\",\"\"))","v":""},{"$f":"IF(LEFT($D458,1)=\"*\",\"\",LogData!R455)","v":""}]
[{"$f":"IF(LEFT($D459,1)=\"*\",\"\",LogData!C456)","v":""},{"$f":"IF(LEFT($D459,1)=\"*\",\"\",LogData!F456)","v":""},{"$f":"IF(LEFT($D459,1)=\"*\",\"\",LogData!D456)","v":""},{"$f":"LogData!E456","v":"*EOL*"},{"$f":"IF($D459=\"*EOL*\",\"\",INT(LogData!V456))","v":""},{"$f":"IF($D459=\"*EOL*\",\"\",LogData!V456-E459)","v":""},{"$f":"IF(LEFT($D459,1)=\"*\",\"\",IF(LogData!S456,\"DUPE\",\"\"))","v":""},{"$f":"IF(LEFT($D459,1)=\"*\",\"\",LogData!R456)","v":""}]
[{"$f":"IF(LEFT($D460,1)=\"*\",\"\",LogData!C457)","v":""},{"$f":"IF(LEFT($D460,1)=\"*\",\"\",LogData!F457)","v":""},{"$f":"IF(LEFT($D460,1)=\"*\",\"\",LogData!D457)","v":""},{"$f":"LogData!E457","v":"*EOL*"},{"$f":"IF($D460=\"*EOL*\",\"\",INT(LogData!V457))","v":""},{"$f":"IF($D460=\"*EOL*\",\"\",LogData!V457-E460)","v":""},{"$f":"IF(LEFT($D460,1)=\"*\",\"\",IF(LogData!S457,\"DUPE\",\"\"))","v":""},{"$f":"IF(LEFT($D460,1)=\"*\",\"\",LogData!R457)","v":""}]
[{"$f":"IF(LEFT($D461,1)=\"*\",\"\",LogData!C458)","v":""},{"$f":"IF(LEFT($D461,1)=\"*\",\"\",LogData!F458)","v":""},{"$f":"IF(LEFT($D461,1)=\"*\",\"\",LogData!D458)","v":""},{"$f":"LogData!E458","v":"*EOL*"},{"$f":"IF($D461=\"*EOL*\",\"\",INT(LogData!V458))","v":""},{"$f":"IF($D461=\"*EOL*\",\"\",LogData!V458-E461)","v":""},{"$f":"IF(LEFT($D461,1)=\"*\",\"\",IF(LogData!S458,\"DUPE\",\"\"))","v":""},{"$f":"IF(LEFT($D461,1)=\"*\",\"\",LogData!R458)","v":""}]
[{"$f":"IF(LEFT($D462,1)=\"*\",\"\",LogData!C459)","v":""},{"$f":"IF(LEFT($D462,1)=\"*\",\"\",LogData!F459)","v":""},{"$f":"IF(LEFT($D462,1)=\"*\",\"\",LogData!D459)","v":""},{"$f":"LogData!E459","v":"*EOL*"},{"$f":"IF($D462=\"*EOL*\",\"\",INT(LogData!V459))","v":""},{"$f":"IF($D462=\"*EOL*\",\"\",LogData!V459-E462)","v":""},{"$f":"IF(LEFT($D462,1)=\"*\",\"\",IF(LogData!S459,\"DUPE\",\"\"))","v":""},{"$f":"IF(LEFT($D462,1)=\"*\",\"\",LogData!R459)","v":""}]
[{"$f":"IF(LEFT($D463,1)=\"*\",\"\",LogData!C460)","v":""},{"$f":"IF(LEFT($D463,1)=\"*\",\"\",LogData!F460)","v":""},{"$f":"IF(LEFT($D463,1)=\"*\",\"\",LogData!D460)","v":""},{"$f":"LogData!E460","v":"*EOL*"},{"$f":"IF($D463=\"*EOL*\",\"\",INT(LogData!V460))","v":""},{"$f":"IF($D463=\"*EOL*\",\"\",LogData!V460-E463)","v":""},{"$f":"IF(LEFT($D463,1)=\"*\",\"\",IF(LogData!S460,\"DUPE\",\"\"))","v":""},{"$f":"IF(LEFT($D463,1)=\"*\",\"\",LogData!R460)","v":""}]
[{"$f":"IF(LEFT($D464,1)=\"*\",\"\",LogData!C461)","v":""},{"$f":"IF(LEFT($D464,1)=\"*\",\"\",LogData!F461)","v":""},{"$f":"IF(LEFT($D464,1)=\"*\",\"\",LogData!D461)","v":""},{"$f":"LogData!E461","v":"*EOL*"},{"$f":"IF($D464=\"*EOL*\",\"\",INT(LogData!V461))","v":""},{"$f":"IF($D464=\"*EOL*\",\"\",LogData!V461-E464)","v":""},{"$f":"IF(LEFT($D464,1)=\"*\",\"\",IF(LogData!S461,\"DUPE\",\"\"))","v":""},{"$f":"IF(LEFT($D464,1)=\"*\",\"\",LogData!R461)","v":""}]
[{"$f":"IF(LEFT($D465,1)=\"*\",\"\",LogData!C462)","v":""},{"$f":"IF(LEFT($D465,1)=\"*\",\"\",LogData!F462)","v":""},{"$f":"IF(LEFT($D465,1)=\"*\",\"\",LogData!D462)","v":""},{"$f":"LogData!E462","v":"*EOL*"},{"$f":"IF($D465=\"*EOL*\",\"\",INT(LogData!V462))","v":""},{"$f":"IF($D465=\"*EOL*\",\"\",LogData!V462-E465)","v":""},{"$f":"IF(LEFT($D465,1)=\"*\",\"\",IF(LogData!S462,\"DUPE\",\"\"))","v":""},{"$f":"IF(LEFT($D465,1)=\"*\",\"\",LogData!R462)","v":""}]
[{"$f":"IF(LEFT($D466,1)=\"*\",\"\",LogData!C463)","v":""},{"$f":"IF(LEFT($D466,1)=\"*\",\"\",LogData!F463)","v":""},{"$f":"IF(LEFT($D466,1)=\"*\",\"\",LogData!D463)","v":""},{"$f":"LogData!E463","v":"*EOL*"},{"$f":"IF($D466=\"*EOL*\",\"\",INT(LogData!V463))","v":""},{"$f":"IF($D466=\"*EOL*\",\"\",LogData!V463-E466)","v":""},{"$f":"IF(LEFT($D466,1)=\"*\",\"\",IF(LogData!S463,\"DUPE\",\"\"))","v":""},{"$f":"IF(LEFT($D466,1)=\"*\",\"\",LogData!R463)","v":""}]
[{"$f":"IF(LEFT($D467,1)=\"*\",\"\",LogData!C464)","v":""},{"$f":"IF(LEFT($D467,1)=\"*\",\"\",LogData!F464)","v":""},{"$f":"IF(LEFT($D467,1)=\"*\",\"\",LogData!D464)","v":""},{"$f":"LogData!E464","v":"*EOL*"},{"$f":"IF($D467=\"*EOL*\",\"\",INT(LogData!V464))","v":""},{"$f":"IF($D467=\"*EOL*\",\"\",LogData!V464-E467)","v":""},{"$f":"IF(LEFT($D467,1)=\"*\",\"\",IF(LogData!S464,\"DUPE\",\"\"))","v":""},{"$f":"IF(LEFT($D467,1)=\"*\",\"\",LogData!R464)","v":""}]
[{"$f":"IF(LEFT($D468,1)=\"*\",\"\",LogData!C465)","v":""},{"$f":"IF(LEFT($D468,1)=\"*\",\"\",LogData!F465)","v":""},{"$f":"IF(LEFT($D468,1)=\"*\",\"\",LogData!D465)","v":""},{"$f":"LogData!E465","v":"*EOL*"},{"$f":"IF($D468=\"*EOL*\",\"\",INT(LogData!V465))","v":""},{"$f":"IF($D468=\"*EOL*\",\"\",LogData!V465-E468)","v":""},{"$f":"IF(LEFT($D468,1)=\"*\",\"\",IF(LogData!S465,\"DUPE\",\"\"))","v":""},{"$f":"IF(LEFT($D468,1)=\"*\",\"\",LogData!R465)","v":""}]
[{"$f":"IF(LEFT($D469,1)=\"*\",\"\",LogData!C466)","v":""},{"$f":"IF(LEFT($D469,1)=\"*\",\"\",LogData!F466)","v":""},{"$f":"IF(LEFT($D469,1)=\"*\",\"\",LogData!D466)","v":""},{"$f":"LogData!E466","v":"*EOL*"},{"$f":"IF($D469=\"*EOL*\",\"\",INT(LogData!V466))","v":""},{"$f":"IF($D469=\"*EOL*\",\"\",LogData!V466-E469)","v":""},{"$f":"IF(LEFT($D469,1)=\"*\",\"\",IF(LogData!S466,\"DUPE\",\"\"))","v":""},{"$f":"IF(LEFT($D469,1)=\"*\",\"\",LogData!R466)","v":""}]
[{"$f":"IF(LEFT($D470,1)=\"*\",\"\",LogData!C467)","v":""},{"$f":"IF(LEFT($D470,1)=\"*\",\"\",LogData!F467)","v":""},{"$f":"IF(LEFT($D470,1)=\"*\",\"\",LogData!D467)","v":""},{"$f":"LogData!E467","v":"*EOL*"},{"$f":"IF($D470=\"*EOL*\",\"\",INT(LogData!V467))","v":""},{"$f":"IF($D470=\"*EOL*\",\"\",LogData!V467-E470)","v":""},{"$f":"IF(LEFT($D470,1)=\"*\",\"\",IF(LogData!S467,\"DUPE\",\"\"))","v":""},{"$f":"IF(LEFT($D470,1)=\"*\",\"\",LogData!R467)","v":""}]
[{"$f":"IF(LEFT($D471,1)=\"*\",\"\",LogData!C468)","v":""},{"$f":"IF(LEFT($D471,1)=\"*\",\"\",LogData!F468)","v":""},{"$f":"IF(LEFT($D471,1)=\"*\",\"\",LogData!D468)","v":""},{"$f":"LogData!E468","v":"*EOL*"},{"$f":"IF($D471=\"*EOL*\",\"\",INT(LogData!V468))","v":""},{"$f":"IF($D471=\"*EOL*\",\"\",LogData!V468-E471)","v":""},{"$f":"IF(LEFT($D471,1)=\"*\",\"\",IF(LogData!S468,\"DUPE\",\"\"))","v":""},{"$f":"IF(LEFT($D471,1)=\"*\",\"\",LogData!R468)","v":""}]
[{"$f":"IF(LEFT($D472,1)=\"*\",\"\",LogData!C469)","v":""},{"$f":"IF(LEFT($D472,1)=\"*\",\"\",LogData!F469)","v":""},{"$f":"IF(LEFT($D472,1)=\"*\",\"\",LogData!D469)","v":""},{"$f":"LogData!E469","v":"*EOL*"},{"$f":"IF($D472=\"*EOL*\",\"\",INT(LogData!V469))","v":""},{"$f":"IF($D472=\"*EOL*\",\"\",LogData!V469-E472)","v":""},{"$f":"IF(LEFT($D472,1)=\"*\",\"\",IF(LogData!S469,\"DUPE\",\"\"))","v":""},{"$f":"IF(LEFT($D472,1)=\"*\",\"\",LogData!R469)","v":""}]
[{"$f":"IF(LEFT($D473,1)=\"*\",\"\",LogData!C470)","v":""},{"$f":"IF(LEFT($D473,1)=\"*\",\"\",LogData!F470)","v":""},{"$f":"IF(LEFT($D473,1)=\"*\",\"\",LogData!D470)","v":""},{"$f":"LogData!E470","v":"*EOL*"},{"$f":"IF($D473=\"*EOL*\",\"\",INT(LogData!V470))","v":""},{"$f":"IF($D473=\"*EOL*\",\"\",LogData!V470-E473)","v":""},{"$f":"IF(LEFT($D473,1)=\"*\",\"\",IF(LogData!S470,\"DUPE\",\"\"))","v":""},{"$f":"IF(LEFT($D473,1)=\"*\",\"\",LogData!R470)","v":""}]
[{"$f":"IF(LEFT($D474,1)=\"*\",\"\",LogData!C471)","v":""},{"$f":"IF(LEFT($D474,1)=\"*\",\"\",LogData!F471)","v":""},{"$f":"IF(LEFT($D474,1)=\"*\",\"\",LogData!D471)","v":""},{"$f":"LogData!E471","v":"*EOL*"},{"$f":"IF($D474=\"*EOL*\",\"\",INT(LogData!V471))","v":""},{"$f":"IF($D474=\"*EOL*\",\"\",LogData!V471-E474)","v":""},{"$f":"IF(LEFT($D474,1)=\"*\",\"\",IF(LogData!S471,\"DUPE\",\"\"))","v":""},{"$f":"IF(LEFT($D474,1)=\"*\",\"\",LogData!R471)","v":""}]
[{"$f":"IF(LEFT($D475,1)=\"*\",\"\",LogData!C472)","v":""},{"$f":"IF(LEFT($D475,1)=\"*\",\"\",LogData!F472)","v":""},{"$f":"IF(LEFT($D475,1)=\"*\",\"\",LogData!D472)","v":""},{"$f":"LogData!E472","v":"*EOL*"},{"$f":"IF($D475=\"*EOL*\",\"\",INT(LogData!V472))","v":""},{"$f":"IF($D475=\"*EOL*\",\"\",LogData!V472-E475)","v":""},{"$f":"IF(LEFT($D475,1)=\"*\",\"\",IF(LogData!S472,\"DUPE\",\"\"))","v":""},{"$f":"IF(LEFT($D475,1)=\"*\",\"\",LogData!R472)","v":""}]
[{"$f":"IF(LEFT($D476,1)=\"*\",\"\",LogData!C473)","v":""},{"$f":"IF(LEFT($D476,1)=\"*\",\"\",LogData!F473)","v":""},{"$f":"IF(LEFT($D476,1)=\"*\",\"\",LogData!D473)","v":""},{"$f":"LogData!E473","v":"*EOL*"},{"$f":"IF($D476=\"*EOL*\",\"\",INT(LogData!V473))","v":""},{"$f":"IF($D476=\"*EOL*\",\"\",LogData!V473-E476)","v":""},{"$f":"IF(LEFT($D476,1)=\"*\",\"\",IF(LogData!S473,\"DUPE\",\"\"))","v":""},{"$f":"IF(LEFT($D476,1)=\"*\",\"\",LogData!R473)","v":""}]
[{"$f":"IF(LEFT($D477,1)=\"*\",\"\",LogData!C474)","v":""},{"$f":"IF(LEFT($D477,1)=\"*\",\"\",LogData!F474)","v":""},{"$f":"IF(LEFT($D477,1)=\"*\",\"\",LogData!D474)","v":""},{"$f":"LogData!E474","v":"*EOL*"},{"$f":"IF($D477=\"*EOL*\",\"\",INT(LogData!V474))","v":""},{"$f":"IF($D477=\"*EOL*\",\"\",LogData!V474-E477)","v":""},{"$f":"IF(LEFT($D477,1)=\"*\",\"\",IF(LogData!S474,\"DUPE\",\"\"))","v":""},{"$f":"IF(LEFT($D477,1)=\"*\",\"\",LogData!R474)","v":""}]
[{"$f":"IF(LEFT($D478,1)=\"*\",\"\",LogData!C475)","v":""},{"$f":"IF(LEFT($D478,1)=\"*\",\"\",LogData!F475)","v":""},{"$f":"IF(LEFT($D478,1)=\"*\",\"\",LogData!D475)","v":""},{"$f":"LogData!E475","v":"*EOL*"},{"$f":"IF($D478=\"*EOL*\",\"\",INT(LogData!V475))","v":""},{"$f":"IF($D478=\"*EOL*\",\"\",LogData!V475-E478)","v":""},{"$f":"IF(LEFT($D478,1)=\"*\",\"\",IF(LogData!S475,\"DUPE\",\"\"))","v":""},{"$f":"IF(LEFT($D478,1)=\"*\",\"\",LogData!R475)","v":""}]
[{"$f":"IF(LEFT($D479,1)=\"*\",\"\",LogData!C476)","v":""},{"$f":"IF(LEFT($D479,1)=\"*\",\"\",LogData!F476)","v":""},{"$f":"IF(LEFT($D479,1)=\"*\",\"\",LogData!D476)","v":""},{"$f":"LogData!E476","v":"*EOL*"},{"$f":"IF($D479=\"*EOL*\",\"\",INT(LogData!V476))","v":""},{"$f":"IF($D479=\"*EOL*\",\"\",LogData!V476-E479)","v":""},{"$f":"IF(LEFT($D479,1)=\"*\",\"\",IF(LogData!S476,\"DUPE\",\"\"))","v":""},{"$f":"IF(LEFT($D479,1)=\"*\",\"\",LogData!R476)","v":""}]
[{"$f":"IF(LEFT($D480,1)=\"*\",\"\",LogData!C477)","v":""},{"$f":"IF(LEFT($D480,1)=\"*\",\"\",LogData!F477)","v":""},{"$f":"IF(LEFT($D480,1)=\"*\",\"\",LogData!D477)","v":""},{"$f":"LogData!E477","v":"*EOL*"},{"$f":"IF($D480=\"*EOL*\",\"\",INT(LogData!V477))","v":""},{"$f":"IF($D480=\"*EOL*\",\"\",LogData!V477-E480)","v":""},{"$f":"IF(LEFT($D480,1)=\"*\",\"\",IF(LogData!S477,\"DUPE\",\"\"))","v":""},{"$f":"IF(LEFT($D480,1)=\"*\",\"\",LogData!R477)","v":""}]
[{"$f":"IF(LEFT($D481,1)=\"*\",\"\",LogData!C478)","v":""},{"$f":"IF(LEFT($D481,1)=\"*\",\"\",LogData!F478)","v":""},{"$f":"IF(LEFT($D481,1)=\"*\",\"\",LogData!D478)","v":""},{"$f":"LogData!E478","v":"*EOL*"},{"$f":"IF($D481=\"*EOL*\",\"\",INT(LogData!V478))","v":""},{"$f":"IF($D481=\"*EOL*\",\"\",LogData!V478-E481)","v":""},{"$f":"IF(LEFT($D481,1)=\"*\",\"\",IF(LogData!S478,\"DUPE\",\"\"))","v":""},{"$f":"IF(LEFT($D481,1)=\"*\",\"\",LogData!R478)","v":""}]
[{"$f":"IF(LEFT($D482,1)=\"*\",\"\",LogData!C479)","v":""},{"$f":"IF(LEFT($D482,1)=\"*\",\"\",LogData!F479)","v":""},{"$f":"IF(LEFT($D482,1)=\"*\",\"\",LogData!D479)","v":""},{"$f":"LogData!E479","v":"*EOL*"},{"$f":"IF($D482=\"*EOL*\",\"\",INT(LogData!V479))","v":""},{"$f":"IF($D482=\"*EOL*\",\"\",LogData!V479-E482)","v":""},{"$f":"IF(LEFT($D482,1)=\"*\",\"\",IF(LogData!S479,\"DUPE\",\"\"))","v":""},{"$f":"IF(LEFT($D482,1)=\"*\",\"\",LogData!R479)","v":""}]
[{"$f":"IF(LEFT($D483,1)=\"*\",\"\",LogData!C480)","v":""},{"$f":"IF(LEFT($D483,1)=\"*\",\"\",LogData!F480)","v":""},{"$f":"IF(LEFT($D483,1)=\"*\",\"\",LogData!D480)","v":""},{"$f":"LogData!E480","v":"*EOL*"},{"$f":"IF($D483=\"*EOL*\",\"\",INT(LogData!V480))","v":""},{"$f":"IF($D483=\"*EOL*\",\"\",LogData!V480-E483)","v":""},{"$f":"IF(LEFT($D483,1)=\"*\",\"\",IF(LogData!S480,\"DUPE\",\"\"))","v":""},{"$f":"IF(LEFT($D483,1)=\"*\",\"\",LogData!R480)","v":""}]
[{"$f":"IF(LEFT($D484,1)=\"*\",\"\",LogData!C481)","v":""},{"$f":"IF(LEFT($D484,1)=\"*\",\"\",LogData!F481)","v":""},{"$f":"IF(LEFT($D484,1)=\"*\",\"\",LogData!D481)","v":""},{"$f":"LogData!E481","v":"*EOL*"},{"$f":"IF($D484=\"*EOL*\",\"\",INT(LogData!V481))","v":""},{"$f":"IF($D484=\"*EOL*\",\"\",LogData!V481-E484)","v":""},{"$f":"IF(LEFT($D484,1)=\"*\",\"\",IF(LogData!S481,\"DUPE\",\"\"))","v":""},{"$f":"IF(LEFT($D484,1)=\"*\",\"\",LogData!R481)","v":""}]
[{"$f":"IF(LEFT($D485,1)=\"*\",\"\",LogData!C482)","v":""},{"$f":"IF(LEFT($D485,1)=\"*\",\"\",LogData!F482)","v":""},{"$f":"IF(LEFT($D485,1)=\"*\",\"\",LogData!D482)","v":""},{"$f":"LogData!E482","v":"*EOL*"},{"$f":"IF($D485=\"*EOL*\",\"\",INT(LogData!V482))","v":""},{"$f":"IF($D485=\"*EOL*\",\"\",LogData!V482-E485)","v":""},{"$f":"IF(LEFT($D485,1)=\"*\",\"\",IF(LogData!S482,\"DUPE\",\"\"))","v":""},{"$f":"IF(LEFT($D485,1)=\"*\",\"\",LogData!R482)","v":""}]
[{"$f":"IF(LEFT($D486,1)=\"*\",\"\",LogData!C483)","v":""},{"$f":"IF(LEFT($D486,1)=\"*\",\"\",LogData!F483)","v":""},{"$f":"IF(LEFT($D486,1)=\"*\",\"\",LogData!D483)","v":""},{"$f":"LogData!E483","v":"*EOL*"},{"$f":"IF($D486=\"*EOL*\",\"\",INT(LogData!V483))","v":""},{"$f":"IF($D486=\"*EOL*\",\"\",LogData!V483-E486)","v":""},{"$f":"IF(LEFT($D486,1)=\"*\",\"\",IF(LogData!S483,\"DUPE\",\"\"))","v":""},{"$f":"IF(LEFT($D486,1)=\"*\",\"\",LogData!R483)","v":""}]
[{"$f":"IF(LEFT($D487,1)=\"*\",\"\",LogData!C484)","v":""},{"$f":"IF(LEFT($D487,1)=\"*\",\"\",LogData!F484)","v":""},{"$f":"IF(LEFT($D487,1)=\"*\",\"\",LogData!D484)","v":""},{"$f":"LogData!E484","v":"*EOL*"},{"$f":"IF($D487=\"*EOL*\",\"\",INT(LogData!V484))","v":""},{"$f":"IF($D487=\"*EOL*\",\"\",LogData!V484-E487)","v":""},{"$f":"IF(LEFT($D487,1)=\"*\",\"\",IF(LogData!S484,\"DUPE\",\"\"))","v":""},{"$f":"IF(LEFT($D487,1)=\"*\",\"\",LogData!R484)","v":""}]
[{"$f":"IF(LEFT($D488,1)=\"*\",\"\",LogData!C485)","v":""},{"$f":"IF(LEFT($D488,1)=\"*\",\"\",LogData!F485)","v":""},{"$f":"IF(LEFT($D488,1)=\"*\",\"\",LogData!D485)","v":""},{"$f":"LogData!E485","v":"*EOL*"},{"$f":"IF($D488=\"*EOL*\",\"\",INT(LogData!V485))","v":""},{"$f":"IF($D488=\"*EOL*\",\"\",LogData!V485-E488)","v":""},{"$f":"IF(LEFT($D488,1)=\"*\",\"\",IF(LogData!S485,\"DUPE\",\"\"))","v":""},{"$f":"IF(LEFT($D488,1)=\"*\",\"\",LogData!R485)","v":""}]
[{"$f":"IF(LEFT($D489,1)=\"*\",\"\",LogData!C486)","v":""},{"$f":"IF(LEFT($D489,1)=\"*\",\"\",LogData!F486)","v":""},{"$f":"IF(LEFT($D489,1)=\"*\",\"\",LogData!D486)","v":""},{"$f":"LogData!E486","v":"*EOL*"},{"$f":"IF($D489=\"*EOL*\",\"\",INT(LogData!V486))","v":""},{"$f":"IF($D489=\"*EOL*\",\"\",LogData!V486-E489)","v":""},{"$f":"IF(LEFT($D489,1)=\"*\",\"\",IF(LogData!S486,\"DUPE\",\"\"))","v":""},{"$f":"IF(LEFT($D489,1)=\"*\",\"\",LogData!R486)","v":""}]
[{"$f":"IF(LEFT($D490,1)=\"*\",\"\",LogData!C487)","v":""},{"$f":"IF(LEFT($D490,1)=\"*\",\"\",LogData!F487)","v":""},{"$f":"IF(LEFT($D490,1)=\"*\",\"\",LogData!D487)","v":""},{"$f":"LogData!E487","v":"*EOL*"},{"$f":"IF($D490=\"*EOL*\",\"\",INT(LogData!V487))","v":""},{"$f":"IF($D490=\"*EOL*\",\"\",LogData!V487-E490)","v":""},{"$f":"IF(LEFT($D490,1)=\"*\",\"\",IF(LogData!S487,\"DUPE\",\"\"))","v":""},{"$f":"IF(LEFT($D490,1)=\"*\",\"\",LogData!R487)","v":""}]
[{"$f":"IF(LEFT($D491,1)=\"*\",\"\",LogData!C488)","v":""},{"$f":"IF(LEFT($D491,1)=\"*\",\"\",LogData!F488)","v":""},{"$f":"IF(LEFT($D491,1)=\"*\",\"\",LogData!D488)","v":""},{"$f":"LogData!E488","v":"*EOL*"},{"$f":"IF($D491=\"*EOL*\",\"\",INT(LogData!V488))","v":""},{"$f":"IF($D491=\"*EOL*\",\"\",LogData!V488-E491)","v":""},{"$f":"IF(LEFT($D491,1)=\"*\",\"\",IF(LogData!S488,\"DUPE\",\"\"))","v":""},{"$f":"IF(LEFT($D491,1)=\"*\",\"\",LogData!R488)","v":""}]
[{"$f":"IF(LEFT($D492,1)=\"*\",\"\",LogData!C489)","v":""},{"$f":"IF(LEFT($D492,1)=\"*\",\"\",LogData!F489)","v":""},{"$f":"IF(LEFT($D492,1)=\"*\",\"\",LogData!D489)","v":""},{"$f":"LogData!E489","v":"*EOL*"},{"$f":"IF($D492=\"*EOL*\",\"\",INT(LogData!V489))","v":""},{"$f":"IF($D492=\"*EOL*\",\"\",LogData!V489-E492)","v":""},{"$f":"IF(LEFT($D492,1)=\"*\",\"\",IF(LogData!S489,\"DUPE\",\"\"))","v":""},{"$f":"IF(LEFT($D492,1)=\"*\",\"\",LogData!R489)","v":""}]
[{"$f":"IF(LEFT($D493,1)=\"*\",\"\",LogData!C490)","v":""},{"$f":"IF(LEFT($D493,1)=\"*\",\"\",LogData!F490)","v":""},{"$f":"IF(LEFT($D493,1)=\"*\",\"\",LogData!D490)","v":""},{"$f":"LogData!E490","v":"*EOL*"},{"$f":"IF($D493=\"*EOL*\",\"\",INT(LogData!V490))","v":""},{"$f":"IF($D493=\"*EOL*\",\"\",LogData!V490-E493)","v":""},{"$f":"IF(LEFT($D493,1)=\"*\",\"\",IF(LogData!S490,\"DUPE\",\"\"))","v":""},{"$f":"IF(LEFT($D493,1)=\"*\",\"\",LogData!R490)","v":""}]
[{"$f":"IF(LEFT($D494,1)=\"*\",\"\",LogData!C491)","v":""},{"$f":"IF(LEFT($D494,1)=\"*\",\"\",LogData!F491)","v":""},{"$f":"IF(LEFT($D494,1)=\"*\",\"\",LogData!D491)","v":""},{"$f":"LogData!E491","v":"*EOL*"},{"$f":"IF($D494=\"*EOL*\",\"\",INT(LogData!V491))","v":""},{"$f":"IF($D494=\"*EOL*\",\"\",LogData!V491-E494)","v":""},{"$f":"IF(LEFT($D494,1)=\"*\",\"\",IF(LogData!S491,\"DUPE\",\"\"))","v":""},{"$f":"IF(LEFT($D494,1)=\"*\",\"\",LogData!R491)","v":""}]
[{"$f":"IF(LEFT($D495,1)=\"*\",\"\",LogData!C492)","v":""},{"$f":"IF(LEFT($D495,1)=\"*\",\"\",LogData!F492)","v":""},{"$f":"IF(LEFT($D495,1)=\"*\",\"\",LogData!D492)","v":""},{"$f":"LogData!E492","v":"*EOL*"},{"$f":"IF($D495=\"*EOL*\",\"\",INT(LogData!V492))","v":""},{"$f":"IF($D495=\"*EOL*\",\"\",LogData!V492-E495)","v":""},{"$f":"IF(LEFT($D495,1)=\"*\",\"\",IF(LogData!S492,\"DUPE\",\"\"))","v":""},{"$f":"IF(LEFT($D495,1)=\"*\",\"\",LogData!R492)","v":""}]
[{"$f":"IF(LEFT($D496,1)=\"*\",\"\",LogData!C493)","v":""},{"$f":"IF(LEFT($D496,1)=\"*\",\"\",LogData!F493)","v":""},{"$f":"IF(LEFT($D496,1)=\"*\",\"\",LogData!D493)","v":""},{"$f":"LogData!E493","v":"*EOL*"},{"$f":"IF($D496=\"*EOL*\",\"\",INT(LogData!V493))","v":""},{"$f":"IF($D496=\"*EOL*\",\"\",LogData!V493-E496)","v":""},{"$f":"IF(LEFT($D496,1)=\"*\",\"\",IF(LogData!S493,\"DUPE\",\"\"))","v":""},{"$f":"IF(LEFT($D496,1)=\"*\",\"\",LogData!R493)","v":""}]
[{"$f":"IF(LEFT($D497,1)=\"*\",\"\",LogData!C494)","v":""},{"$f":"IF(LEFT($D497,1)=\"*\",\"\",LogData!F494)","v":""},{"$f":"IF(LEFT($D497,1)=\"*\",\"\",LogData!D494)","v":""},{"$f":"LogData!E494","v":"*EOL*"},{"$f":"IF($D497=\"*EOL*\",\"\",INT(LogData!V494))","v":""},{"$f":"IF($D497=\"*EOL*\",\"\",LogData!V494-E497)","v":""},{"$f":"IF(LEFT($D497,1)=\"*\",\"\",IF(LogData!S494,\"DUPE\",\"\"))","v":""},{"$f":"IF(LEFT($D497,1)=\"*\",\"\",LogData!R494)","v":""}]
[{"$f":"IF(LEFT($D498,1)=\"*\",\"\",LogData!C495)","v":""},{"$f":"IF(LEFT($D498,1)=\"*\",\"\",LogData!F495)","v":""},{"$f":"IF(LEFT($D498,1)=\"*\",\"\",LogData!D495)","v":""},{"$f":"LogData!E495","v":"*EOL*"},{"$f":"IF($D498=\"*EOL*\",\"\",INT(LogData!V495))","v":""},{"$f":"IF($D498=\"*EOL*\",\"\",LogData!V495-E498)","v":""},{"$f":"IF(LEFT($D498,1)=\"*\",\"\",IF(LogData!S495,\"DUPE\",\"\"))","v":""},{"$f":"IF(LEFT($D498,1)=\"*\",\"\",LogData!R495)","v":""}]
[{"$f":"IF(LEFT($D499,1)=\"*\",\"\",LogData!C496)","v":""},{"$f":"IF(LEFT($D499,1)=\"*\",\"\",LogData!F496)","v":""},{"$f":"IF(LEFT($D499,1)=\"*\",\"\",LogData!D496)","v":""},{"$f":"LogData!E496","v":"*EOL*"},{"$f":"IF($D499=\"*EOL*\",\"\",INT(LogData!V496))","v":""},{"$f":"IF($D499=\"*EOL*\",\"\",LogData!V496-E499)","v":""},{"$f":"IF(LEFT($D499,1)=\"*\",\"\",IF(LogData!S496,\"DUPE\",\"\"))","v":""},{"$f":"IF(LEFT($D499,1)=\"*\",\"\",LogData!R496)","v":""}]
[{"$f":"IF(LEFT($D500,1)=\"*\",\"\",LogData!C497)","v":""},{"$f":"IF(LEFT($D500,1)=\"*\",\"\",LogData!F497)","v":""},{"$f":"IF(LEFT($D500,1)=\"*\",\"\",LogData!D497)","v":""},{"$f":"LogData!E497","v":"*EOL*"},{"$f":"IF($D500=\"*EOL*\",\"\",INT(LogData!V497))","v":""},{"$f":"IF($D500=\"*EOL*\",\"\",LogData!V497-E500)","v":""},{"$f":"IF(LEFT($D500,1)=\"*\",\"\",IF(LogData!S497,\"DUPE\",\"\"))","v":""},{"$f":"IF(LEFT($D500,1)=\"*\",\"\",LogData!R497)","v":""}]
[{"$f":"IF(LEFT($D501,1)=\"*\",\"\",LogData!C498)","v":""},{"$f":"IF(LEFT($D501,1)=\"*\",\"\",LogData!F498)","v":""},{"$f":"IF(LEFT($D501,1)=\"*\",\"\",LogData!D498)","v":""},{"$f":"LogData!E498","v":"*EOL*"},{"$f":"IF($D501=\"*EOL*\",\"\",INT(LogData!V498))","v":""},{"$f":"IF($D501=\"*EOL*\",\"\",LogData!V498-E501)","v":""},{"$f":"IF(LEFT($D501,1)=\"*\",\"\",IF(LogData!S498,\"DUPE\",\"\"))","v":""},{"$f":"IF(LEFT($D501,1)=\"*\",\"\",LogData!R498)","v":""}]
[{"$f":"IF(LEFT($D502,1)=\"*\",\"\",LogData!C499)","v":""},{"$f":"IF(LEFT($D502,1)=\"*\",\"\",LogData!F499)","v":""},{"$f":"IF(LEFT($D502,1)=\"*\",\"\",LogData!D499)","v":""},{"$f":"LogData!E499","v":"*EOL*"},{"$f":"IF($D502=\"*EOL*\",\"\",INT(LogData!V499))","v":""},{"$f":"IF($D502=\"*EOL*\",\"\",LogData!V499-E502)","v":""},{"$f":"IF(LEFT($D502,1)=\"*\",\"\",IF(LogData!S499,\"DUPE\",\"\"))","v":""},{"$f":"IF(LEFT($D502,1)=\"*\",\"\",LogData!R499)","v":""}]
[{"$f":"IF(LEFT($D503,1)=\"*\",\"\",LogData!C500)","v":""},{"$f":"IF(LEFT($D503,1)=\"*\",\"\",LogData!F500)","v":""},{"$f":"IF(LEFT($D503,1)=\"*\",\"\",LogData!D500)","v":""},{"$f":"LogData!E500","v":"*EOL*"},{"$f":"IF($D503=\"*EOL*\",\"\",INT(LogData!V500))","v":""},{"$f":"IF($D503=\"*EOL*\",\"\",LogData!V500-E503)","v":""},{"$f":"IF(LEFT($D503,1)=\"*\",\"\",IF(LogData!S500,\"DUPE\",\"\"))","v":""},{"$f":"IF(LEFT($D503,1)=\"*\",\"\",LogData!R500)","v":""}]
[{"$f":"IF(LEFT($D504,1)=\"*\",\"\",LogData!C501)","v":""},{"$f":"IF(LEFT($D504,1)=\"*\",\"\",LogData!F501)","v":""},{"$f":"IF(LEFT($D504,1)=\"*\",\"\",LogData!D501)","v":""},{"$f":"LogData!E501","v":"*EOL*"},{"$f":"IF($D504=\"*EOL*\",\"\",INT(LogData!V501))","v":""},{"$f":"IF($D504=\"*EOL*\",\"\",LogData!V501-E504)","v":""},{"$f":"IF(LEFT($D504,1)=\"*\",\"\",IF(LogData!S501,\"DUPE\",\"\"))","v":""},{"$f":"IF(LEFT($D504,1)=\"*\",\"\",LogData!R501)","v":""}]
[{"$f":"IF(LEFT($D505,1)=\"*\",\"\",LogData!C502)","v":""},{"$f":"IF(LEFT($D505,1)=\"*\",\"\",LogData!F502)","v":""},{"$f":"IF(LEFT($D505,1)=\"*\",\"\",LogData!D502)","v":""},{"$f":"LogData!E502","v":"*EOL*"},{"$f":"IF($D505=\"*EOL*\",\"\",INT(LogData!V502))","v":""},{"$f":"IF($D505=\"*EOL*\",\"\",LogData!V502-E505)","v":""},{"$f":"IF(LEFT($D505,1)=\"*\",\"\",IF(LogData!S502,\"DUPE\",\"\"))","v":""},{"$f":"IF(LEFT($D505,1)=\"*\",\"\",LogData!R502)","v":""}]
[{"$f":"IF(LEFT($D506,1)=\"*\",\"\",LogData!C503)","v":""},{"$f":"IF(LEFT($D506,1)=\"*\",\"\",LogData!F503)","v":""},{"$f":"IF(LEFT($D506,1)=\"*\",\"\",LogData!D503)","v":""},{"$f":"LogData!E503","v":"*EOL*"},{"$f":"IF($D506=\"*EOL*\",\"\",INT(LogData!V503))","v":""},{"$f":"IF($D506=\"*EOL*\",\"\",LogData!V503-E506)","v":""},{"$f":"IF(LEFT($D506,1)=\"*\",\"\",IF(LogData!S503,\"DUPE\",\"\"))","v":""},{"$f":"IF(LEFT($D506,1)=\"*\",\"\",LogData!R503)","v":""}]
[{"$f":"IF(LEFT($D507,1)=\"*\",\"\",LogData!C504)","v":""},{"$f":"IF(LEFT($D507,1)=\"*\",\"\",LogData!F504)","v":""},{"$f":"IF(LEFT($D507,1)=\"*\",\"\",LogData!D504)","v":""},{"$f":"LogData!E504","v":"*EOL*"},{"$f":"IF($D507=\"*EOL*\",\"\",INT(LogData!V504))","v":""},{"$f":"IF($D507=\"*EOL*\",\"\",LogData!V504-E507)","v":""},{"$f":"IF(LEFT($D507,1)=\"*\",\"\",IF(LogData!S504,\"DUPE\",\"\"))","v":""},{"$f":"IF(LEFT($D507,1)=\"*\",\"\",LogData!R504)","v":""}]
[{"$f":"IF(LEFT($D508,1)=\"*\",\"\",LogData!C505)","v":""},{"$f":"IF(LEFT($D508,1)=\"*\",\"\",LogData!F505)","v":""},{"$f":"IF(LEFT($D508,1)=\"*\",\"\",LogData!D505)","v":""},{"$f":"LogData!E505","v":"*EOL*"},{"$f":"IF($D508=\"*EOL*\",\"\",INT(LogData!V505))","v":""},{"$f":"IF($D508=\"*EOL*\",\"\",LogData!V505-E508)","v":""},{"$f":"IF(LEFT($D508,1)=\"*\",\"\",IF(LogData!S505,\"DUPE\",\"\"))","v":""},{"$f":"IF(LEFT($D508,1)=\"*\",\"\",LogData!R505)","v":""}]
[{"$f":"IF(LEFT($D509,1)=\"*\",\"\",LogData!C506)","v":""},{"$f":"IF(LEFT($D509,1)=\"*\",\"\",LogData!F506)","v":""},{"$f":"IF(LEFT($D509,1)=\"*\",\"\",LogData!D506)","v":""},{"$f":"LogData!E506","v":"*EOL*"},{"$f":"IF($D509=\"*EOL*\",\"\",INT(LogData!V506))","v":""},{"$f":"IF($D509=\"*EOL*\",\"\",LogData!V506-E509)","v":""},{"$f":"IF(LEFT($D509,1)=\"*\",\"\",IF(LogData!S506,\"DUPE\",\"\"))","v":""},{"$f":"IF(LEFT($D509,1)=\"*\",\"\",LogData!R506)","v":""}]
[{"$f":"IF(LEFT($D510,1)=\"*\",\"\",LogData!C507)","v":""},{"$f":"IF(LEFT($D510,1)=\"*\",\"\",LogData!F507)","v":""},{"$f":"IF(LEFT($D510,1)=\"*\",\"\",LogData!D507)","v":""},{"$f":"LogData!E507","v":"*EOL*"},{"$f":"IF($D510=\"*EOL*\",\"\",INT(LogData!V507))","v":""},{"$f":"IF($D510=\"*EOL*\",\"\",LogData!V507-E510)","v":""},{"$f":"IF(LEFT($D510,1)=\"*\",\"\",IF(LogData!S507,\"DUPE\",\"\"))","v":""},{"$f":"IF(LEFT($D510,1)=\"*\",\"\",LogData!R507)","v":""}]
[{"$f":"IF(LEFT($D511,1)=\"*\",\"\",LogData!C508)","v":""},{"$f":"IF(LEFT($D511,1)=\"*\",\"\",LogData!F508)","v":""},{"$f":"IF(LEFT($D511,1)=\"*\",\"\",LogData!D508)","v":""},{"$f":"LogData!E508","v":"*EOL*"},{"$f":"IF($D511=\"*EOL*\",\"\",INT(LogData!V508))","v":""},{"$f":"IF($D511=\"*EOL*\",\"\",LogData!V508-E511)","v":""},{"$f":"IF(LEFT($D511,1)=\"*\",\"\",IF(LogData!S508,\"DUPE\",\"\"))","v":""},{"$f":"IF(LEFT($D511,1)=\"*\",\"\",LogData!R508)","v":""}]
[{"$f":"IF(LEFT($D512,1)=\"*\",\"\",LogData!C509)","v":""},{"$f":"IF(LEFT($D512,1)=\"*\",\"\",LogData!F509)","v":""},{"$f":"IF(LEFT($D512,1)=\"*\",\"\",LogData!D509)","v":""},{"$f":"LogData!E509","v":"*EOL*"},{"$f":"IF($D512=\"*EOL*\",\"\",INT(LogData!V509))","v":""},{"$f":"IF($D512=\"*EOL*\",\"\",LogData!V509-E512)","v":""},{"$f":"IF(LEFT($D512,1)=\"*\",\"\",IF(LogData!S509,\"DUPE\",\"\"))","v":""},{"$f":"IF(LEFT($D512,1)=\"*\",\"\",LogData!R509)","v":""}]
[{"$f":"IF(LEFT($D513,1)=\"*\",\"\",LogData!C510)","v":""},{"$f":"IF(LEFT($D513,1)=\"*\",\"\",LogData!F510)","v":""},{"$f":"IF(LEFT($D513,1)=\"*\",\"\",LogData!D510)","v":""},{"$f":"LogData!E510","v":"*EOL*"},{"$f":"IF($D513=\"*EOL*\",\"\",INT(LogData!V510))","v":""},{"$f":"IF($D513=\"*EOL*\",\"\",LogData!V510-E513)","v":""},{"$f":"IF(LEFT($D513,1)=\"*\",\"\",IF(LogData!S510,\"DUPE\",\"\"))","v":""},{"$f":"IF(LEFT($D513,1)=\"*\",\"\",LogData!R510)","v":""}]
[{"$f":"IF(LEFT($D514,1)=\"*\",\"\",LogData!C511)","v":""},{"$f":"IF(LEFT($D514,1)=\"*\",\"\",LogData!F511)","v":""},{"$f":"IF(LEFT($D514,1)=\"*\",\"\",LogData!D511)","v":""},{"$f":"LogData!E511","v":"*EOL*"},{"$f":"IF($D514=\"*EOL*\",\"\",INT(LogData!V511))","v":""},{"$f":"IF($D514=\"*EOL*\",\"\",LogData!V511-E514)","v":""},{"$f":"IF(LEFT($D514,1)=\"*\",\"\",IF(LogData!S511,\"DUPE\",\"\"))","v":""},{"$f":"IF(LEFT($D514,1)=\"*\",\"\",LogData!R511)","v":""}]
[{"$f":"IF(LEFT($D515,1)=\"*\",\"\",LogData!C512)","v":""},{"$f":"IF(LEFT($D515,1)=\"*\",\"\",LogData!F512)","v":""},{"$f":"IF(LEFT($D515,1)=\"*\",\"\",LogData!D512)","v":""},{"$f":"LogData!E512","v":"*EOL*"},{"$f":"IF($D515=\"*EOL*\",\"\",INT(LogData!V512))","v":""},{"$f":"IF($D515=\"*EOL*\",\"\",LogData!V512-E515)","v":""},{"$f":"IF(LEFT($D515,1)=\"*\",\"\",IF(LogData!S512,\"DUPE\",\"\"))","v":""},{"$f":"IF(LEFT($D515,1)=\"*\",\"\",LogData!R512)","v":""}]
[{"$f":"IF(LEFT($D516,1)=\"*\",\"\",LogData!C513)","v":""},{"$f":"IF(LEFT($D516,1)=\"*\",\"\",LogData!F513)","v":""},{"$f":"IF(LEFT($D516,1)=\"*\",\"\",LogData!D513)","v":""},{"$f":"LogData!E513","v":"*EOL*"},{"$f":"IF($D516=\"*EOL*\",\"\",INT(LogData!V513))","v":""},{"$f":"IF($D516=\"*EOL*\",\"\",LogData!V513-E516)","v":""},{"$f":"IF(LEFT($D516,1)=\"*\",\"\",IF(LogData!S513,\"DUPE\",\"\"))","v":""},{"$f":"IF(LEFT($D516,1)=\"*\",\"\",LogData!R513)","v":""}]
[{"$f":"IF(LEFT($D517,1)=\"*\",\"\",LogData!C514)","v":""},{"$f":"IF(LEFT($D517,1)=\"*\",\"\",LogData!F514)","v":""},{"$f":"IF(LEFT($D517,1)=\"*\",\"\",LogData!D514)","v":""},{"$f":"LogData!E514","v":"*EOL*"},{"$f":"IF($D517=\"*EOL*\",\"\",INT(LogData!V514))","v":""},{"$f":"IF($D517=\"*EOL*\",\"\",LogData!V514-E517)","v":""},{"$f":"IF(LEFT($D517,1)=\"*\",\"\",IF(LogData!S514,\"DUPE\",\"\"))","v":""},{"$f":"IF(LEFT($D517,1)=\"*\",\"\",LogData!R514)","v":""}]
[{"$f":"IF(LEFT($D518,1)=\"*\",\"\",LogData!C515)","v":""},{"$f":"IF(LEFT($D518,1)=\"*\",\"\",LogData!F515)","v":""},{"$f":"IF(LEFT($D518,1)=\"*\",\"\",LogData!D515)","v":""},{"$f":"LogData!E515","v":"*EOL*"},{"$f":"IF($D518=\"*EOL*\",\"\",INT(LogData!V515))","v":""},{"$f":"IF($D518=\"*EOL*\",\"\",LogData!V515-E518)","v":""},{"$f":"IF(LEFT($D518,1)=\"*\",\"\",IF(LogData!S515,\"DUPE\",\"\"))","v":""},{"$f":"IF(LEFT($D518,1)=\"*\",\"\",LogData!R515)","v":""}]
[{"$f":"IF(LEFT($D519,1)=\"*\",\"\",LogData!C516)","v":""},{"$f":"IF(LEFT($D519,1)=\"*\",\"\",LogData!F516)","v":""},{"$f":"IF(LEFT($D519,1)=\"*\",\"\",LogData!D516)","v":""},{"$f":"LogData!E516","v":"*EOL*"},{"$f":"IF($D519=\"*EOL*\",\"\",INT(LogData!V516))","v":""},{"$f":"IF($D519=\"*EOL*\",\"\",LogData!V516-E519)","v":""},{"$f":"IF(LEFT($D519,1)=\"*\",\"\",IF(LogData!S516,\"DUPE\",\"\"))","v":""},{"$f":"IF(LEFT($D519,1)=\"*\",\"\",LogData!R516)","v":""}]
[{"$f":"IF(LEFT($D520,1)=\"*\",\"\",LogData!C517)","v":""},{"$f":"IF(LEFT($D520,1)=\"*\",\"\",LogData!F517)","v":""},{"$f":"IF(LEFT($D520,1)=\"*\",\"\",LogData!D517)","v":""},{"$f":"LogData!E517","v":"*EOL*"},{"$f":"IF($D520=\"*EOL*\",\"\",INT(LogData!V517))","v":""},{"$f":"IF($D520=\"*EOL*\",\"\",LogData!V517-E520)","v":""},{"$f":"IF(LEFT($D520,1)=\"*\",\"\",IF(LogData!S517,\"DUPE\",\"\"))","v":""},{"$f":"IF(LEFT($D520,1)=\"*\",\"\",LogData!R517)","v":""}]
[{"$f":"IF(LEFT($D521,1)=\"*\",\"\",LogData!C518)","v":""},{"$f":"IF(LEFT($D521,1)=\"*\",\"\",LogData!F518)","v":""},{"$f":"IF(LEFT($D521,1)=\"*\",\"\",LogData!D518)","v":""},{"$f":"LogData!E518","v":"*EOL*"},{"$f":"IF($D521=\"*EOL*\",\"\",INT(LogData!V518))","v":""},{"$f":"IF($D521=\"*EOL*\",\"\",LogData!V518-E521)","v":""},{"$f":"IF(LEFT($D521,1)=\"*\",\"\",IF(LogData!S518,\"DUPE\",\"\"))","v":""},{"$f":"IF(LEFT($D521,1)=\"*\",\"\",LogData!R518)","v":""}]
[{"$f":"IF(LEFT($D522,1)=\"*\",\"\",LogData!C519)","v":""},{"$f":"IF(LEFT($D522,1)=\"*\",\"\",LogData!F519)","v":""},{"$f":"IF(LEFT($D522,1)=\"*\",\"\",LogData!D519)","v":""},{"$f":"LogData!E519","v":"*EOL*"},{"$f":"IF($D522=\"*EOL*\",\"\",INT(LogData!V519))","v":""},{"$f":"IF($D522=\"*EOL*\",\"\",LogData!V519-E522)","v":""},{"$f":"IF(LEFT($D522,1)=\"*\",\"\",IF(LogData!S519,\"DUPE\",\"\"))","v":""},{"$f":"IF(LEFT($D522,1)=\"*\",\"\",LogData!R519)","v":""}]
[{"$f":"IF(LEFT($D523,1)=\"*\",\"\",LogData!C520)","v":""},{"$f":"IF(LEFT($D523,1)=\"*\",\"\",LogData!F520)","v":""},{"$f":"IF(LEFT($D523,1)=\"*\",\"\",LogData!D520)","v":""},{"$f":"LogData!E520","v":"*EOL*"},{"$f":"IF($D523=\"*EOL*\",\"\",INT(LogData!V520))","v":""},{"$f":"IF($D523=\"*EOL*\",\"\",LogData!V520-E523)","v":""},{"$f":"IF(LEFT($D523,1)=\"*\",\"\",IF(LogData!S520,\"DUPE\",\"\"))","v":""},{"$f":"IF(LEFT($D523,1)=\"*\",\"\",LogData!R520)","v":""}]
[{"$f":"IF(LEFT($D524,1)=\"*\",\"\",LogData!C521)","v":""},{"$f":"IF(LEFT($D524,1)=\"*\",\"\",LogData!F521)","v":""},{"$f":"IF(LEFT($D524,1)=\"*\",\"\",LogData!D521)","v":""},{"$f":"LogData!E521","v":"*EOL*"},{"$f":"IF($D524=\"*EOL*\",\"\",INT(LogData!V521))","v":""},{"$f":"IF($D524=\"*EOL*\",\"\",LogData!V521-E524)","v":""},{"$f":"IF(LEFT($D524,1)=\"*\",\"\",IF(LogData!S521,\"DUPE\",\"\"))","v":""},{"$f":"IF(LEFT($D524,1)=\"*\",\"\",LogData!R521)","v":""}]
[{"$f":"IF(LEFT($D525,1)=\"*\",\"\",LogData!C522)","v":""},{"$f":"IF(LEFT($D525,1)=\"*\",\"\",LogData!F522)","v":""},{"$f":"IF(LEFT($D525,1)=\"*\",\"\",LogData!D522)","v":""},{"$f":"LogData!E522","v":"*EOL*"},{"$f":"IF($D525=\"*EOL*\",\"\",INT(LogData!V522))","v":""},{"$f":"IF($D525=\"*EOL*\",\"\",LogData!V522-E525)","v":""},{"$f":"IF(LEFT($D525,1)=\"*\",\"\",IF(LogData!S522,\"DUPE\",\"\"))","v":""},{"$f":"IF(LEFT($D525,1)=\"*\",\"\",LogData!R522)","v":""}]
[{"$f":"IF(LEFT($D526,1)=\"*\",\"\",LogData!C523)","v":""},{"$f":"IF(LEFT($D526,1)=\"*\",\"\",LogData!F523)","v":""},{"$f":"IF(LEFT($D526,1)=\"*\",\"\",LogData!D523)","v":""},{"$f":"LogData!E523","v":"*EOL*"},{"$f":"IF($D526=\"*EOL*\",\"\",INT(LogData!V523))","v":""},{"$f":"IF($D526=\"*EOL*\",\"\",LogData!V523-E526)","v":""},{"$f":"IF(LEFT($D526,1)=\"*\",\"\",IF(LogData!S523,\"DUPE\",\"\"))","v":""},{"$f":"IF(LEFT($D526,1)=\"*\",\"\",LogData!R523)","v":""}]
[{"$f":"IF(LEFT($D527,1)=\"*\",\"\",LogData!C524)","v":""},{"$f":"IF(LEFT($D527,1)=\"*\",\"\",LogData!F524)","v":""},{"$f":"IF(LEFT($D527,1)=\"*\",\"\",LogData!D524)","v":""},{"$f":"LogData!E524","v":"*EOL*"},{"$f":"IF($D527=\"*EOL*\",\"\",INT(LogData!V524))","v":""},{"$f":"IF($D527=\"*EOL*\",\"\",LogData!V524-E527)","v":""},{"$f":"IF(LEFT($D527,1)=\"*\",\"\",IF(LogData!S524,\"DUPE\",\"\"))","v":""},{"$f":"IF(LEFT($D527,1)=\"*\",\"\",LogData!R524)","v":""}]
[{"$f":"IF(LEFT($D528,1)=\"*\",\"\",LogData!C525)","v":""},{"$f":"IF(LEFT($D528,1)=\"*\",\"\",LogData!F525)","v":""},{"$f":"IF(LEFT($D528,1)=\"*\",\"\",LogData!D525)","v":""},{"$f":"LogData!E525","v":"*EOL*"},{"$f":"IF($D528=\"*EOL*\",\"\",INT(LogData!V525))","v":""},{"$f":"IF($D528=\"*EOL*\",\"\",LogData!V525-E528)","v":""},{"$f":"IF(LEFT($D528,1)=\"*\",\"\",IF(LogData!S525,\"DUPE\",\"\"))","v":""},{"$f":"IF(LEFT($D528,1)=\"*\",\"\",LogData!R525)","v":""}]
[{"$f":"IF(LEFT($D529,1)=\"*\",\"\",LogData!C526)","v":""},{"$f":"IF(LEFT($D529,1)=\"*\",\"\",LogData!F526)","v":""},{"$f":"IF(LEFT($D529,1)=\"*\",\"\",LogData!D526)","v":""},{"$f":"LogData!E526","v":"*EOL*"},{"$f":"IF($D529=\"*EOL*\",\"\",INT(LogData!V526))","v":""},{"$f":"IF($D529=\"*EOL*\",\"\",LogData!V526-E529)","v":""},{"$f":"IF(LEFT($D529,1)=\"*\",\"\",IF(LogData!S526,\"DUPE\",\"\"))","v":""},{"$f":"IF(LEFT($D529,1)=\"*\",\"\",LogData!R526)","v":""}]
[{"$f":"IF(LEFT($D530,1)=\"*\",\"\",LogData!C527)","v":""},{"$f":"IF(LEFT($D530,1)=\"*\",\"\",LogData!F527)","v":""},{"$f":"IF(LEFT($D530,1)=\"*\",\"\",LogData!D527)","v":""},{"$f":"LogData!E527","v":"*EOL*"},{"$f":"IF($D530=\"*EOL*\",\"\",INT(LogData!V527))","v":""},{"$f":"IF($D530=\"*EOL*\",\"\",LogData!V527-E530)","v":""},{"$f":"IF(LEFT($D530,1)=\"*\",\"\",IF(LogData!S527,\"DUPE\",\"\"))","v":""},{"$f":"IF(LEFT($D530,1)=\"*\",\"\",LogData!R527)","v":""}]
[{"$f":"IF(LEFT($D531,1)=\"*\",\"\",LogData!C528)","v":""},{"$f":"IF(LEFT($D531,1)=\"*\",\"\",LogData!F528)","v":""},{"$f":"IF(LEFT($D531,1)=\"*\",\"\",LogData!D528)","v":""},{"$f":"LogData!E528","v":"*EOL*"},{"$f":"IF($D531=\"*EOL*\",\"\",INT(LogData!V528))","v":""},{"$f":"IF($D531=\"*EOL*\",\"\",LogData!V528-E531)","v":""},{"$f":"IF(LEFT($D531,1)=\"*\",\"\",IF(LogData!S528,\"DUPE\",\"\"))","v":""},{"$f":"IF(LEFT($D531,1)=\"*\",\"\",LogData!R528)","v":""}]
[{"$f":"IF(LEFT($D532,1)=\"*\",\"\",LogData!C529)","v":""},{"$f":"IF(LEFT($D532,1)=\"*\",\"\",LogData!F529)","v":""},{"$f":"IF(LEFT($D532,1)=\"*\",\"\",LogData!D529)","v":""},{"$f":"LogData!E529","v":"*EOL*"},{"$f":"IF($D532=\"*EOL*\",\"\",INT(LogData!V529))","v":""},{"$f":"IF($D532=\"*EOL*\",\"\",LogData!V529-E532)","v":""},{"$f":"IF(LEFT($D532,1)=\"*\",\"\",IF(LogData!S529,\"DUPE\",\"\"))","v":""},{"$f":"IF(LEFT($D532,1)=\"*\",\"\",LogData!R529)","v":""}]
[{"$f":"IF(LEFT($D533,1)=\"*\",\"\",LogData!C530)","v":""},{"$f":"IF(LEFT($D533,1)=\"*\",\"\",LogData!F530)","v":""},{"$f":"IF(LEFT($D533,1)=\"*\",\"\",LogData!D530)","v":""},{"$f":"LogData!E530","v":"*EOL*"},{"$f":"IF($D533=\"*EOL*\",\"\",INT(LogData!V530))","v":""},{"$f":"IF($D533=\"*EOL*\",\"\",LogData!V530-E533)","v":""},{"$f":"IF(LEFT($D533,1)=\"*\",\"\",IF(LogData!S530,\"DUPE\",\"\"))","v":""},{"$f":"IF(LEFT($D533,1)=\"*\",\"\",LogData!R530)","v":""}]
[{"$f":"IF(LEFT($D534,1)=\"*\",\"\",LogData!C531)","v":""},{"$f":"IF(LEFT($D534,1)=\"*\",\"\",LogData!F531)","v":""},{"$f":"IF(LEFT($D534,1)=\"*\",\"\",LogData!D531)","v":""},{"$f":"LogData!E531","v":"*EOL*"},{"$f":"IF($D534=\"*EOL*\",\"\",INT(LogData!V531))","v":""},{"$f":"IF($D534=\"*EOL*\",\"\",LogData!V531-E534)","v":""},{"$f":"IF(LEFT($D534,1)=\"*\",\"\",IF(LogData!S531,\"DUPE\",\"\"))","v":""},{"$f":"IF(LEFT($D534,1)=\"*\",\"\",LogData!R531)","v":""}]
[{"$f":"IF(LEFT($D535,1)=\"*\",\"\",LogData!C532)","v":""},{"$f":"IF(LEFT($D535,1)=\"*\",\"\",LogData!F532)","v":""},{"$f":"IF(LEFT($D535,1)=\"*\",\"\",LogData!D532)","v":""},{"$f":"LogData!E532","v":"*EOL*"},{"$f":"IF($D535=\"*EOL*\",\"\",INT(LogData!V532))","v":""},{"$f":"IF($D535=\"*EOL*\",\"\",LogData!V532-E535)","v":""},{"$f":"IF(LEFT($D535,1)=\"*\",\"\",IF(LogData!S532,\"DUPE\",\"\"))","v":""},{"$f":"IF(LEFT($D535,1)=\"*\",\"\",LogData!R532)","v":""}]
[{"$f":"IF(LEFT($D536,1)=\"*\",\"\",LogData!C533)","v":""},{"$f":"IF(LEFT($D536,1)=\"*\",\"\",LogData!F533)","v":""},{"$f":"IF(LEFT($D536,1)=\"*\",\"\",LogData!D533)","v":""},{"$f":"LogData!E533","v":"*EOL*"},{"$f":"IF($D536=\"*EOL*\",\"\",INT(LogData!V533))","v":""},{"$f":"IF($D536=\"*EOL*\",\"\",LogData!V533-E536)","v":""},{"$f":"IF(LEFT($D536,1)=\"*\",\"\",IF(LogData!S533,\"DUPE\",\"\"))","v":""},{"$f":"IF(LEFT($D536,1)=\"*\",\"\",LogData!R533)","v":""}]
[{"$f":"IF(LEFT($D537,1)=\"*\",\"\",LogData!C534)","v":""},{"$f":"IF(LEFT($D537,1)=\"*\",\"\",LogData!F534)","v":""},{"$f":"IF(LEFT($D537,1)=\"*\",\"\",LogData!D534)","v":""},{"$f":"LogData!E534","v":"*EOL*"},{"$f":"IF($D537=\"*EOL*\",\"\",INT(LogData!V534))","v":""},{"$f":"IF($D537=\"*EOL*\",\"\",LogData!V534-E537)","v":""},{"$f":"IF(LEFT($D537,1)=\"*\",\"\",IF(LogData!S534,\"DUPE\",\"\"))","v":""},{"$f":"IF(LEFT($D537,1)=\"*\",\"\",LogData!R534)","v":""}]
[{"$f":"IF(LEFT($D538,1)=\"*\",\"\",LogData!C535)","v":""},{"$f":"IF(LEFT($D538,1)=\"*\",\"\",LogData!F535)","v":""},{"$f":"IF(LEFT($D538,1)=\"*\",\"\",LogData!D535)","v":""},{"$f":"LogData!E535","v":"*EOL*"},{"$f":"IF($D538=\"*EOL*\",\"\",INT(LogData!V535))","v":""},{"$f":"IF($D538=\"*EOL*\",\"\",LogData!V535-E538)","v":""},{"$f":"IF(LEFT($D538,1)=\"*\",\"\",IF(LogData!S535,\"DUPE\",\"\"))","v":""},{"$f":"IF(LEFT($D538,1)=\"*\",\"\",LogData!R535)","v":""}]
[{"$f":"IF(LEFT($D539,1)=\"*\",\"\",LogData!C536)","v":""},{"$f":"IF(LEFT($D539,1)=\"*\",\"\",LogData!F536)","v":""},{"$f":"IF(LEFT($D539,1)=\"*\",\"\",LogData!D536)","v":""},{"$f":"LogData!E536","v":"*EOL*"},{"$f":"IF($D539=\"*EOL*\",\"\",INT(LogData!V536))","v":""},{"$f":"IF($D539=\"*EOL*\",\"\",LogData!V536-E539)","v":""},{"$f":"IF(LEFT($D539,1)=\"*\",\"\",IF(LogData!S536,\"DUPE\",\"\"))","v":""},{"$f":"IF(LEFT($D539,1)=\"*\",\"\",LogData!R536)","v":""}]
[{"$f":"IF(LEFT($D540,1)=\"*\",\"\",LogData!C537)","v":""},{"$f":"IF(LEFT($D540,1)=\"*\",\"\",LogData!F537)","v":""},{"$f":"IF(LEFT($D540,1)=\"*\",\"\",LogData!D537)","v":""},{"$f":"LogData!E537","v":"*EOL*"},{"$f":"IF($D540=\"*EOL*\",\"\",INT(LogData!V537))","v":""},{"$f":"IF($D540=\"*EOL*\",\"\",LogData!V537-E540)","v":""},{"$f":"IF(LEFT($D540,1)=\"*\",\"\",IF(LogData!S537,\"DUPE\",\"\"))","v":""},{"$f":"IF(LEFT($D540,1)=\"*\",\"\",LogData!R537)","v":""}]
[{"$f":"IF(LEFT($D541,1)=\"*\",\"\",LogData!C538)","v":""},{"$f":"IF(LEFT($D541,1)=\"*\",\"\",LogData!F538)","v":""},{"$f":"IF(LEFT($D541,1)=\"*\",\"\",LogData!D538)","v":""},{"$f":"LogData!E538","v":"*EOL*"},{"$f":"IF($D541=\"*EOL*\",\"\",INT(LogData!V538))","v":""},{"$f":"IF($D541=\"*EOL*\",\"\",LogData!V538-E541)","v":""},{"$f":"IF(LEFT($D541,1)=\"*\",\"\",IF(LogData!S538,\"DUPE\",\"\"))","v":""},{"$f":"IF(LEFT($D541,1)=\"*\",\"\",LogData!R538)","v":""}]
[{"$f":"IF(LEFT($D542,1)=\"*\",\"\",LogData!C539)","v":""},{"$f":"IF(LEFT($D542,1)=\"*\",\"\",LogData!F539)","v":""},{"$f":"IF(LEFT($D542,1)=\"*\",\"\",LogData!D539)","v":""},{"$f":"LogData!E539","v":"*EOL*"},{"$f":"IF($D542=\"*EOL*\",\"\",INT(LogData!V539))","v":""},{"$f":"IF($D542=\"*EOL*\",\"\",LogData!V539-E542)","v":""},{"$f":"IF(LEFT($D542,1)=\"*\",\"\",IF(LogData!S539,\"DUPE\",\"\"))","v":""},{"$f":"IF(LEFT($D542,1)=\"*\",\"\",LogData!R539)","v":""}]
[{"$f":"IF(LEFT($D543,1)=\"*\",\"\",LogData!C540)","v":""},{"$f":"IF(LEFT($D543,1)=\"*\",\"\",LogData!F540)","v":""},{"$f":"IF(LEFT($D543,1)=\"*\",\"\",LogData!D540)","v":""},{"$f":"LogData!E540","v":"*EOL*"},{"$f":"IF($D543=\"*EOL*\",\"\",INT(LogData!V540))","v":""},{"$f":"IF($D543=\"*EOL*\",\"\",LogData!V540-E543)","v":""},{"$f":"IF(LEFT($D543,1)=\"*\",\"\",IF(LogData!S540,\"DUPE\",\"\"))","v":""},{"$f":"IF(LEFT($D543,1)=\"*\",\"\",LogData!R540)","v":""}]
[{"$f":"IF(LEFT($D544,1)=\"*\",\"\",LogData!C541)","v":""},{"$f":"IF(LEFT($D544,1)=\"*\",\"\",LogData!F541)","v":""},{"$f":"IF(LEFT($D544,1)=\"*\",\"\",LogData!D541)","v":""},{"$f":"LogData!E541","v":"*EOL*"},{"$f":"IF($D544=\"*EOL*\",\"\",INT(LogData!V541))","v":""},{"$f":"IF($D544=\"*EOL*\",\"\",LogData!V541-E544)","v":""},{"$f":"IF(LEFT($D544,1)=\"*\",\"\",IF(LogData!S541,\"DUPE\",\"\"))","v":""},{"$f":"IF(LEFT($D544,1)=\"*\",\"\",LogData!R541)","v":""}]
[{"$f":"IF(LEFT($D545,1)=\"*\",\"\",LogData!C542)","v":""},{"$f":"IF(LEFT($D545,1)=\"*\",\"\",LogData!F542)","v":""},{"$f":"IF(LEFT($D545,1)=\"*\",\"\",LogData!D542)","v":""},{"$f":"LogData!E542","v":"*EOL*"},{"$f":"IF($D545=\"*EOL*\",\"\",INT(LogData!V542))","v":""},{"$f":"IF($D545=\"*EOL*\",\"\",LogData!V542-E545)","v":""},{"$f":"IF(LEFT($D545,1)=\"*\",\"\",IF(LogData!S542,\"DUPE\",\"\"))","v":""},{"$f":"IF(LEFT($D545,1)=\"*\",\"\",LogData!R542)","v":""}]
[{"$f":"IF(LEFT($D546,1)=\"*\",\"\",LogData!C543)","v":""},{"$f":"IF(LEFT($D546,1)=\"*\",\"\",LogData!F543)","v":""},{"$f":"IF(LEFT($D546,1)=\"*\",\"\",LogData!D543)","v":""},{"$f":"LogData!E543","v":"*EOL*"},{"$f":"IF($D546=\"*EOL*\",\"\",INT(LogData!V543))","v":""},{"$f":"IF($D546=\"*EOL*\",\"\",LogData!V543-E546)","v":""},{"$f":"IF(LEFT($D546,1)=\"*\",\"\",IF(LogData!S543,\"DUPE\",\"\"))","v":""},{"$f":"IF(LEFT($D546,1)=\"*\",\"\",LogData!R543)","v":""}]
[{"$f":"IF(LEFT($D547,1)=\"*\",\"\",LogData!C544)","v":""},{"$f":"IF(LEFT($D547,1)=\"*\",\"\",LogData!F544)","v":""},{"$f":"IF(LEFT($D547,1)=\"*\",\"\",LogData!D544)","v":""},{"$f":"LogData!E544","v":"*EOL*"},{"$f":"IF($D547=\"*EOL*\",\"\",INT(LogData!V544))","v":""},{"$f":"IF($D547=\"*EOL*\",\"\",LogData!V544-E547)","v":""},{"$f":"IF(LEFT($D547,1)=\"*\",\"\",IF(LogData!S544,\"DUPE\",\"\"))","v":""},{"$f":"IF(LEFT($D547,1)=\"*\",\"\",LogData!R544)","v":""}]
[{"$f":"IF(LEFT($D548,1)=\"*\",\"\",LogData!C545)","v":""},{"$f":"IF(LEFT($D548,1)=\"*\",\"\",LogData!F545)","v":""},{"$f":"IF(LEFT($D548,1)=\"*\",\"\",LogData!D545)","v":""},{"$f":"LogData!E545","v":"*EOL*"},{"$f":"IF($D548=\"*EOL*\",\"\",INT(LogData!V545))","v":""},{"$f":"IF($D548=\"*EOL*\",\"\",LogData!V545-E548)","v":""},{"$f":"IF(LEFT($D548,1)=\"*\",\"\",IF(LogData!S545,\"DUPE\",\"\"))","v":""},{"$f":"IF(LEFT($D548,1)=\"*\",\"\",LogData!R545)","v":""}]
[{"$f":"IF(LEFT($D549,1)=\"*\",\"\",LogData!C546)","v":""},{"$f":"IF(LEFT($D549,1)=\"*\",\"\",LogData!F546)","v":""},{"$f":"IF(LEFT($D549,1)=\"*\",\"\",LogData!D546)","v":""},{"$f":"LogData!E546","v":"*EOL*"},{"$f":"IF($D549=\"*EOL*\",\"\",INT(LogData!V546))","v":""},{"$f":"IF($D549=\"*EOL*\",\"\",LogData!V546-E549)","v":""},{"$f":"IF(LEFT($D549,1)=\"*\",\"\",IF(LogData!S546,\"DUPE\",\"\"))","v":""},{"$f":"IF(LEFT($D549,1)=\"*\",\"\",LogData!R546)","v":""}]
[{"$f":"IF(LEFT($D550,1)=\"*\",\"\",LogData!C547)","v":""},{"$f":"IF(LEFT($D550,1)=\"*\",\"\",LogData!F547)","v":""},{"$f":"IF(LEFT($D550,1)=\"*\",\"\",LogData!D547)","v":""},{"$f":"LogData!E547","v":"*EOL*"},{"$f":"IF($D550=\"*EOL*\",\"\",INT(LogData!V547))","v":""},{"$f":"IF($D550=\"*EOL*\",\"\",LogData!V547-E550)","v":""},{"$f":"IF(LEFT($D550,1)=\"*\",\"\",IF(LogData!S547,\"DUPE\",\"\"))","v":""},{"$f":"IF(LEFT($D550,1)=\"*\",\"\",LogData!R547)","v":""}]
[{"$f":"IF(LEFT($D551,1)=\"*\",\"\",LogData!C548)","v":""},{"$f":"IF(LEFT($D551,1)=\"*\",\"\",LogData!F548)","v":""},{"$f":"IF(LEFT($D551,1)=\"*\",\"\",LogData!D548)","v":""},{"$f":"LogData!E548","v":"*EOL*"},{"$f":"IF($D551=\"*EOL*\",\"\",INT(LogData!V548))","v":""},{"$f":"IF($D551=\"*EOL*\",\"\",LogData!V548-E551)","v":""},{"$f":"IF(LEFT($D551,1)=\"*\",\"\",IF(LogData!S548,\"DUPE\",\"\"))","v":""},{"$f":"IF(LEFT($D551,1)=\"*\",\"\",LogData!R548)","v":""}]
[{"$f":"IF(LEFT($D552,1)=\"*\",\"\",LogData!C549)","v":""},{"$f":"IF(LEFT($D552,1)=\"*\",\"\",LogData!F549)","v":""},{"$f":"IF(LEFT($D552,1)=\"*\",\"\",LogData!D549)","v":""},{"$f":"LogData!E549","v":"*EOL*"},{"$f":"IF($D552=\"*EOL*\",\"\",INT(LogData!V549))","v":""},{"$f":"IF($D552=\"*EOL*\",\"\",LogData!V549-E552)","v":""},{"$f":"IF(LEFT($D552,1)=\"*\",\"\",IF(LogData!S549,\"DUPE\",\"\"))","v":""},{"$f":"IF(LEFT($D552,1)=\"*\",\"\",LogData!R549)","v":""}]
[{"$f":"IF(LEFT($D553,1)=\"*\",\"\",LogData!C550)","v":""},{"$f":"IF(LEFT($D553,1)=\"*\",\"\",LogData!F550)","v":""},{"$f":"IF(LEFT($D553,1)=\"*\",\"\",LogData!D550)","v":""},{"$f":"LogData!E550","v":"*EOL*"},{"$f":"IF($D553=\"*EOL*\",\"\",INT(LogData!V550))","v":""},{"$f":"IF($D553=\"*EOL*\",\"\",LogData!V550-E553)","v":""},{"$f":"IF(LEFT($D553,1)=\"*\",\"\",IF(LogData!S550,\"DUPE\",\"\"))","v":""},{"$f":"IF(LEFT($D553,1)=\"*\",\"\",LogData!R550)","v":""}]
[{"$f":"IF(LEFT($D554,1)=\"*\",\"\",LogData!C551)","v":""},{"$f":"IF(LEFT($D554,1)=\"*\",\"\",LogData!F551)","v":""},{"$f":"IF(LEFT($D554,1)=\"*\",\"\",LogData!D551)","v":""},{"$f":"LogData!E551","v":"*EOL*"},{"$f":"IF($D554=\"*EOL*\",\"\",INT(LogData!V551))","v":""},{"$f":"IF($D554=\"*EOL*\",\"\",LogData!V551-E554)","v":""},{"$f":"IF(LEFT($D554,1)=\"*\",\"\",IF(LogData!S551,\"DUPE\",\"\"))","v":""},{"$f":"IF(LEFT($D554,1)=\"*\",\"\",LogData!R551)","v":""}]
[{"$f":"IF(LEFT($D555,1)=\"*\",\"\",LogData!C552)","v":""},{"$f":"IF(LEFT($D555,1)=\"*\",\"\",LogData!F552)","v":""},{"$f":"IF(LEFT($D555,1)=\"*\",\"\",LogData!D552)","v":""},{"$f":"LogData!E552","v":"*EOL*"},{"$f":"IF($D555=\"*EOL*\",\"\",INT(LogData!V552))","v":""},{"$f":"IF($D555=\"*EOL*\",\"\",LogData!V552-E555)","v":""},{"$f":"IF(LEFT($D555,1)=\"*\",\"\",IF(LogData!S552,\"DUPE\",\"\"))","v":""},{"$f":"IF(LEFT($D555,1)=\"*\",\"\",LogData!R552)","v":""}]
[{"$f":"IF(LEFT($D556,1)=\"*\",\"\",LogData!C553)","v":""},{"$f":"IF(LEFT($D556,1)=\"*\",\"\",LogData!F553)","v":""},{"$f":"IF(LEFT($D556,1)=\"*\",\"\",LogData!D553)","v":""},{"$f":"LogData!E553","v":"*EOL*"},{"$f":"IF($D556=\"*EOL*\",\"\",INT(LogData!V553))","v":""},{"$f":"IF($D556=\"*EOL*\",\"\",LogData!V553-E556)","v":""},{"$f":"IF(LEFT($D556,1)=\"*\",\"\",IF(LogData!S553,\"DUPE\",\"\"))","v":""},{"$f":"IF(LEFT($D556,1)=\"*\",\"\",LogData!R553)","v":""}]
[{"$f":"IF(LEFT($D557,1)=\"*\",\"\",LogData!C554)","v":""},{"$f":"IF(LEFT($D557,1)=\"*\",\"\",LogData!F554)","v":""},{"$f":"IF(LEFT($D557,1)=\"*\",\"\",LogData!D554)","v":""},{"$f":"LogData!E554","v":"*EOL*"},{"$f":"IF($D557=\"*EOL*\",\"\",INT(LogData!V554))","v":""},{"$f":"IF($D557=\"*EOL*\",\"\",LogData!V554-E557)","v":""},{"$f":"IF(LEFT($D557,1)=\"*\",\"\",IF(LogData!S554,\"DUPE\",\"\"))","v":""},{"$f":"IF(LEFT($D557,1)=\"*\",\"\",LogData!R554)","v":""}]
[{"$f":"IF(LEFT($D558,1)=\"*\",\"\",LogData!C555)","v":""},{"$f":"IF(LEFT($D558,1)=\"*\",\"\",LogData!F555)","v":""},{"$f":"IF(LEFT($D558,1)=\"*\",\"\",LogData!D555)","v":""},{"$f":"LogData!E555","v":"*EOL*"},{"$f":"IF($D558=\"*EOL*\",\"\",INT(LogData!V555))","v":""},{"$f":"IF($D558=\"*EOL*\",\"\",LogData!V555-E558)","v":""},{"$f":"IF(LEFT($D558,1)=\"*\",\"\",IF(LogData!S555,\"DUPE\",\"\"))","v":""},{"$f":"IF(LEFT($D558,1)=\"*\",\"\",LogData!R555)","v":""}]
[{"$f":"IF(LEFT($D559,1)=\"*\",\"\",LogData!C556)","v":""},{"$f":"IF(LEFT($D559,1)=\"*\",\"\",LogData!F556)","v":""},{"$f":"IF(LEFT($D559,1)=\"*\",\"\",LogData!D556)","v":""},{"$f":"LogData!E556","v":"*EOL*"},{"$f":"IF($D559=\"*EOL*\",\"\",INT(LogData!V556))","v":""},{"$f":"IF($D559=\"*EOL*\",\"\",LogData!V556-E559)","v":""},{"$f":"IF(LEFT($D559,1)=\"*\",\"\",IF(LogData!S556,\"DUPE\",\"\"))","v":""},{"$f":"IF(LEFT($D559,1)=\"*\",\"\",LogData!R556)","v":""}]
[{"$f":"IF(LEFT($D560,1)=\"*\",\"\",LogData!C557)","v":""},{"$f":"IF(LEFT($D560,1)=\"*\",\"\",LogData!F557)","v":""},{"$f":"IF(LEFT($D560,1)=\"*\",\"\",LogData!D557)","v":""},{"$f":"LogData!E557","v":"*EOL*"},{"$f":"IF($D560=\"*EOL*\",\"\",INT(LogData!V557))","v":""},{"$f":"IF($D560=\"*EOL*\",\"\",LogData!V557-E560)","v":""},{"$f":"IF(LEFT($D560,1)=\"*\",\"\",IF(LogData!S557,\"DUPE\",\"\"))","v":""},{"$f":"IF(LEFT($D560,1)=\"*\",\"\",LogData!R557)","v":""}]
[{"$f":"IF(LEFT($D561,1)=\"*\",\"\",LogData!C558)","v":""},{"$f":"IF(LEFT($D561,1)=\"*\",\"\",LogData!F558)","v":""},{"$f":"IF(LEFT($D561,1)=\"*\",\"\",LogData!D558)","v":""},{"$f":"LogData!E558","v":"*EOL*"},{"$f":"IF($D561=\"*EOL*\",\"\",INT(LogData!V558))","v":""},{"$f":"IF($D561=\"*EOL*\",\"\",LogData!V558-E561)","v":""},{"$f":"IF(LEFT($D561,1)=\"*\",\"\",IF(LogData!S558,\"DUPE\",\"\"))","v":""},{"$f":"IF(LEFT($D561,1)=\"*\",\"\",LogData!R558)","v":""}]
[{"$f":"IF(LEFT($D562,1)=\"*\",\"\",LogData!C559)","v":""},{"$f":"IF(LEFT($D562,1)=\"*\",\"\",LogData!F559)","v":""},{"$f":"IF(LEFT($D562,1)=\"*\",\"\",LogData!D559)","v":""},{"$f":"LogData!E559","v":"*EOL*"},{"$f":"IF($D562=\"*EOL*\",\"\",INT(LogData!V559))","v":""},{"$f":"IF($D562=\"*EOL*\",\"\",LogData!V559-E562)","v":""},{"$f":"IF(LEFT($D562,1)=\"*\",\"\",IF(LogData!S559,\"DUPE\",\"\"))","v":""},{"$f":"IF(LEFT($D562,1)=\"*\",\"\",LogData!R559)","v":""}]
[{"$f":"IF(LEFT($D563,1)=\"*\",\"\",LogData!C560)","v":""},{"$f":"IF(LEFT($D563,1)=\"*\",\"\",LogData!F560)","v":""},{"$f":"IF(LEFT($D563,1)=\"*\",\"\",LogData!D560)","v":""},{"$f":"LogData!E560","v":"*EOL*"},{"$f":"IF($D563=\"*EOL*\",\"\",INT(LogData!V560))","v":""},{"$f":"IF($D563=\"*EOL*\",\"\",LogData!V560-E563)","v":""},{"$f":"IF(LEFT($D563,1)=\"*\",\"\",IF(LogData!S560,\"DUPE\",\"\"))","v":""},{"$f":"IF(LEFT($D563,1)=\"*\",\"\",LogData!R560)","v":""}]
[{"$f":"IF(LEFT($D564,1)=\"*\",\"\",LogData!C561)","v":""},{"$f":"IF(LEFT($D564,1)=\"*\",\"\",LogData!F561)","v":""},{"$f":"IF(LEFT($D564,1)=\"*\",\"\",LogData!D561)","v":""},{"$f":"LogData!E561","v":"*EOL*"},{"$f":"IF($D564=\"*EOL*\",\"\",INT(LogData!V561))","v":""},{"$f":"IF($D564=\"*EOL*\",\"\",LogData!V561-E564)","v":""},{"$f":"IF(LEFT($D564,1)=\"*\",\"\",IF(LogData!S561,\"DUPE\",\"\"))","v":""},{"$f":"IF(LEFT($D564,1)=\"*\",\"\",LogData!R561)","v":""}]
[{"$f":"IF(LEFT($D565,1)=\"*\",\"\",LogData!C562)","v":""},{"$f":"IF(LEFT($D565,1)=\"*\",\"\",LogData!F562)","v":""},{"$f":"IF(LEFT($D565,1)=\"*\",\"\",LogData!D562)","v":""},{"$f":"LogData!E562","v":"*EOL*"},{"$f":"IF($D565=\"*EOL*\",\"\",INT(LogData!V562))","v":""},{"$f":"IF($D565=\"*EOL*\",\"\",LogData!V562-E565)","v":""},{"$f":"IF(LEFT($D565,1)=\"*\",\"\",IF(LogData!S562,\"DUPE\",\"\"))","v":""},{"$f":"IF(LEFT($D565,1)=\"*\",\"\",LogData!R562)","v":""}]
[{"$f":"IF(LEFT($D566,1)=\"*\",\"\",LogData!C563)","v":""},{"$f":"IF(LEFT($D566,1)=\"*\",\"\",LogData!F563)","v":""},{"$f":"IF(LEFT($D566,1)=\"*\",\"\",LogData!D563)","v":""},{"$f":"LogData!E563","v":"*EOL*"},{"$f":"IF($D566=\"*EOL*\",\"\",INT(LogData!V563))","v":""},{"$f":"IF($D566=\"*EOL*\",\"\",LogData!V563-E566)","v":""},{"$f":"IF(LEFT($D566,1)=\"*\",\"\",IF(LogData!S563,\"DUPE\",\"\"))","v":""},{"$f":"IF(LEFT($D566,1)=\"*\",\"\",LogData!R563)","v":""}]
[{"$f":"IF(LEFT($D567,1)=\"*\",\"\",LogData!C564)","v":""},{"$f":"IF(LEFT($D567,1)=\"*\",\"\",LogData!F564)","v":""},{"$f":"IF(LEFT($D567,1)=\"*\",\"\",LogData!D564)","v":""},{"$f":"LogData!E564","v":"*EOL*"},{"$f":"IF($D567=\"*EOL*\",\"\",INT(LogData!V564))","v":""},{"$f":"IF($D567=\"*EOL*\",\"\",LogData!V564-E567)","v":""},{"$f":"IF(LEFT($D567,1)=\"*\",\"\",IF(LogData!S564,\"DUPE\",\"\"))","v":""},{"$f":"IF(LEFT($D567,1)=\"*\",\"\",LogData!R564)","v":""}]
[{"$f":"IF(LEFT($D568,1)=\"*\",\"\",LogData!C565)","v":""},{"$f":"IF(LEFT($D568,1)=\"*\",\"\",LogData!F565)","v":""},{"$f":"IF(LEFT($D568,1)=\"*\",\"\",LogData!D565)","v":""},{"$f":"LogData!E565","v":"*EOL*"},{"$f":"IF($D568=\"*EOL*\",\"\",INT(LogData!V565))","v":""},{"$f":"IF($D568=\"*EOL*\",\"\",LogData!V565-E568)","v":""},{"$f":"IF(LEFT($D568,1)=\"*\",\"\",IF(LogData!S565,\"DUPE\",\"\"))","v":""},{"$f":"IF(LEFT($D568,1)=\"*\",\"\",LogData!R565)","v":""}]
[{"$f":"IF(LEFT($D569,1)=\"*\",\"\",LogData!C566)","v":""},{"$f":"IF(LEFT($D569,1)=\"*\",\"\",LogData!F566)","v":""},{"$f":"IF(LEFT($D569,1)=\"*\",\"\",LogData!D566)","v":""},{"$f":"LogData!E566","v":"*EOL*"},{"$f":"IF($D569=\"*EOL*\",\"\",INT(LogData!V566))","v":""},{"$f":"IF($D569=\"*EOL*\",\"\",LogData!V566-E569)","v":""},{"$f":"IF(LEFT($D569,1)=\"*\",\"\",IF(LogData!S566,\"DUPE\",\"\"))","v":""},{"$f":"IF(LEFT($D569,1)=\"*\",\"\",LogData!R566)","v":""}]
[{"$f":"IF(LEFT($D570,1)=\"*\",\"\",LogData!C567)","v":""},{"$f":"IF(LEFT($D570,1)=\"*\",\"\",LogData!F567)","v":""},{"$f":"IF(LEFT($D570,1)=\"*\",\"\",LogData!D567)","v":""},{"$f":"LogData!E567","v":"*EOL*"},{"$f":"IF($D570=\"*EOL*\",\"\",INT(LogData!V567))","v":""},{"$f":"IF($D570=\"*EOL*\",\"\",LogData!V567-E570)","v":""},{"$f":"IF(LEFT($D570,1)=\"*\",\"\",IF(LogData!S567,\"DUPE\",\"\"))","v":""},{"$f":"IF(LEFT($D570,1)=\"*\",\"\",LogData!R567)","v":""}]
[{"$f":"IF(LEFT($D571,1)=\"*\",\"\",LogData!C568)","v":""},{"$f":"IF(LEFT($D571,1)=\"*\",\"\",LogData!F568)","v":""},{"$f":"IF(LEFT($D571,1)=\"*\",\"\",LogData!D568)","v":""},{"$f":"LogData!E568","v":"*EOL*"},{"$f":"IF($D571=\"*EOL*\",\"\",INT(LogData!V568))","v":""},{"$f":"IF($D571=\"*EOL*\",\"\",LogData!V568-E571)","v":""},{"$f":"IF(LEFT($D571,1)=\"*\",\"\",IF(LogData!S568,\"DUPE\",\"\"))","v":""},{"$f":"IF(LEFT($D571,1)=\"*\",\"\",LogData!R568)","v":""}]
[{"$f":"IF(LEFT($D572,1)=\"*\",\"\",LogData!C569)","v":""},{"$f":"IF(LEFT($D572,1)=\"*\",\"\",LogData!F569)","v":""},{"$f":"IF(LEFT($D572,1)=\"*\",\"\",LogData!D569)","v":""},{"$f":"LogData!E569","v":"*EOL*"},{"$f":"IF($D572=\"*EOL*\",\"\",INT(LogData!V569))","v":""},{"$f":"IF($D572=\"*EOL*\",\"\",LogData!V569-E572)","v":""},{"$f":"IF(LEFT($D572,1)=\"*\",\"\",IF(LogData!S569,\"DUPE\",\"\"))","v":""},{"$f":"IF(LEFT($D572,1)=\"*\",\"\",LogData!R569)","v":""}]
[{"$f":"IF(LEFT($D573,1)=\"*\",\"\",LogData!C570)","v":""},{"$f":"IF(LEFT($D573,1)=\"*\",\"\",LogData!F570)","v":""},{"$f":"IF(LEFT($D573,1)=\"*\",\"\",LogData!D570)","v":""},{"$f":"LogData!E570","v":"*EOL*"},{"$f":"IF($D573=\"*EOL*\",\"\",INT(LogData!V570))","v":""},{"$f":"IF($D573=\"*EOL*\",\"\",LogData!V570-E573)","v":""},{"$f":"IF(LEFT($D573,1)=\"*\",\"\",IF(LogData!S570,\"DUPE\",\"\"))","v":""},{"$f":"IF(LEFT($D573,1)=\"*\",\"\",LogData!R570)","v":""}]
[{"$f":"IF(LEFT($D574,1)=\"*\",\"\",LogData!C571)","v":""},{"$f":"IF(LEFT($D574,1)=\"*\",\"\",LogData!F571)","v":""},{"$f":"IF(LEFT($D574,1)=\"*\",\"\",LogData!D571)","v":""},{"$f":"LogData!E571","v":"*EOL*"},{"$f":"IF($D574=\"*EOL*\",\"\",INT(LogData!V571))","v":""},{"$f":"IF($D574=\"*EOL*\",\"\",LogData!V571-E574)","v":""},{"$f":"IF(LEFT($D574,1)=\"*\",\"\",IF(LogData!S571,\"DUPE\",\"\"))","v":""},{"$f":"IF(LEFT($D574,1)=\"*\",\"\",LogData!R571)","v":""}]
[{"$f":"IF(LEFT($D575,1)=\"*\",\"\",LogData!C572)","v":""},{"$f":"IF(LEFT($D575,1)=\"*\",\"\",LogData!F572)","v":""},{"$f":"IF(LEFT($D575,1)=\"*\",\"\",LogData!D572)","v":""},{"$f":"LogData!E572","v":"*EOL*"},{"$f":"IF($D575=\"*EOL*\",\"\",INT(LogData!V572))","v":""},{"$f":"IF($D575=\"*EOL*\",\"\",LogData!V572-E575)","v":""},{"$f":"IF(LEFT($D575,1)=\"*\",\"\",IF(LogData!S572,\"DUPE\",\"\"))","v":""},{"$f":"IF(LEFT($D575,1)=\"*\",\"\",LogData!R572)","v":""}]
[{"$f":"IF(LEFT($D576,1)=\"*\",\"\",LogData!C573)","v":""},{"$f":"IF(LEFT($D576,1)=\"*\",\"\",LogData!F573)","v":""},{"$f":"IF(LEFT($D576,1)=\"*\",\"\",LogData!D573)","v":""},{"$f":"LogData!E573","v":"*EOL*"},{"$f":"IF($D576=\"*EOL*\",\"\",INT(LogData!V573))","v":""},{"$f":"IF($D576=\"*EOL*\",\"\",LogData!V573-E576)","v":""},{"$f":"IF(LEFT($D576,1)=\"*\",\"\",IF(LogData!S573,\"DUPE\",\"\"))","v":""},{"$f":"IF(LEFT($D576,1)=\"*\",\"\",LogData!R573)","v":""}]
[{"$f":"IF(LEFT($D577,1)=\"*\",\"\",LogData!C574)","v":""},{"$f":"IF(LEFT($D577,1)=\"*\",\"\",LogData!F574)","v":""},{"$f":"IF(LEFT($D577,1)=\"*\",\"\",LogData!D574)","v":""},{"$f":"LogData!E574","v":"*EOL*"},{"$f":"IF($D577=\"*EOL*\",\"\",INT(LogData!V574))","v":""},{"$f":"IF($D577=\"*EOL*\",\"\",LogData!V574-E577)","v":""},{"$f":"IF(LEFT($D577,1)=\"*\",\"\",IF(LogData!S574,\"DUPE\",\"\"))","v":""},{"$f":"IF(LEFT($D577,1)=\"*\",\"\",LogData!R574)","v":""}]
[{"$f":"IF(LEFT($D578,1)=\"*\",\"\",LogData!C575)","v":""},{"$f":"IF(LEFT($D578,1)=\"*\",\"\",LogData!F575)","v":""},{"$f":"IF(LEFT($D578,1)=\"*\",\"\",LogData!D575)","v":""},{"$f":"LogData!E575","v":"*EOL*"},{"$f":"IF($D578=\"*EOL*\",\"\",INT(LogData!V575))","v":""},{"$f":"IF($D578=\"*EOL*\",\"\",LogData!V575-E578)","v":""},{"$f":"IF(LEFT($D578,1)=\"*\",\"\",IF(LogData!S575,\"DUPE\",\"\"))","v":""},{"$f":"IF(LEFT($D578,1)=\"*\",\"\",LogData!R575)","v":""}]
[{"$f":"IF(LEFT($D579,1)=\"*\",\"\",LogData!C576)","v":""},{"$f":"IF(LEFT($D579,1)=\"*\",\"\",LogData!F576)","v":""},{"$f":"IF(LEFT($D579,1)=\"*\",\"\",LogData!D576)","v":""},{"$f":"LogData!E576","v":"*EOL*"},{"$f":"IF($D579=\"*EOL*\",\"\",INT(LogData!V576))","v":""},{"$f":"IF($D579=\"*EOL*\",\"\",LogData!V576-E579)","v":""},{"$f":"IF(LEFT($D579,1)=\"*\",\"\",IF(LogData!S576,\"DUPE\",\"\"))","v":""},{"$f":"IF(LEFT($D579,1)=\"*\",\"\",LogData!R576)","v":""}]
[{"$f":"IF(LEFT($D580,1)=\"*\",\"\",LogData!C577)","v":""},{"$f":"IF(LEFT($D580,1)=\"*\",\"\",LogData!F577)","v":""},{"$f":"IF(LEFT($D580,1)=\"*\",\"\",LogData!D577)","v":""},{"$f":"LogData!E577","v":"*EOL*"},{"$f":"IF($D580=\"*EOL*\",\"\",INT(LogData!V577))","v":""},{"$f":"IF($D580=\"*EOL*\",\"\",LogData!V577-E580)","v":""},{"$f":"IF(LEFT($D580,1)=\"*\",\"\",IF(LogData!S577,\"DUPE\",\"\"))","v":""},{"$f":"IF(LEFT($D580,1)=\"*\",\"\",LogData!R577)","v":""}]
[{"$f":"IF(LEFT($D581,1)=\"*\",\"\",LogData!C578)","v":""},{"$f":"IF(LEFT($D581,1)=\"*\",\"\",LogData!F578)","v":""},{"$f":"IF(LEFT($D581,1)=\"*\",\"\",LogData!D578)","v":""},{"$f":"LogData!E578","v":"*EOL*"},{"$f":"IF($D581=\"*EOL*\",\"\",INT(LogData!V578))","v":""},{"$f":"IF($D581=\"*EOL*\",\"\",LogData!V578-E581)","v":""},{"$f":"IF(LEFT($D581,1)=\"*\",\"\",IF(LogData!S578,\"DUPE\",\"\"))","v":""},{"$f":"IF(LEFT($D581,1)=\"*\",\"\",LogData!R578)","v":""}]
[{"$f":"IF(LEFT($D582,1)=\"*\",\"\",LogData!C579)","v":""},{"$f":"IF(LEFT($D582,1)=\"*\",\"\",LogData!F579)","v":""},{"$f":"IF(LEFT($D582,1)=\"*\",\"\",LogData!D579)","v":""},{"$f":"LogData!E579","v":"*EOL*"},{"$f":"IF($D582=\"*EOL*\",\"\",INT(LogData!V579))","v":""},{"$f":"IF($D582=\"*EOL*\",\"\",LogData!V579-E582)","v":""},{"$f":"IF(LEFT($D582,1)=\"*\",\"\",IF(LogData!S579,\"DUPE\",\"\"))","v":""},{"$f":"IF(LEFT($D582,1)=\"*\",\"\",LogData!R579)","v":""}]
[{"$f":"IF(LEFT($D583,1)=\"*\",\"\",LogData!C580)","v":""},{"$f":"IF(LEFT($D583,1)=\"*\",\"\",LogData!F580)","v":""},{"$f":"IF(LEFT($D583,1)=\"*\",\"\",LogData!D580)","v":""},{"$f":"LogData!E580","v":"*EOL*"},{"$f":"IF($D583=\"*EOL*\",\"\",INT(LogData!V580))","v":""},{"$f":"IF($D583=\"*EOL*\",\"\",LogData!V580-E583)","v":""},{"$f":"IF(LEFT($D583,1)=\"*\",\"\",IF(LogData!S580,\"DUPE\",\"\"))","v":""},{"$f":"IF(LEFT($D583,1)=\"*\",\"\",LogData!R580)","v":""}]
[{"$f":"IF(LEFT($D584,1)=\"*\",\"\",LogData!C581)","v":""},{"$f":"IF(LEFT($D584,1)=\"*\",\"\",LogData!F581)","v":""},{"$f":"IF(LEFT($D584,1)=\"*\",\"\",LogData!D581)","v":""},{"$f":"LogData!E581","v":"*EOL*"},{"$f":"IF($D584=\"*EOL*\",\"\",INT(LogData!V581))","v":""},{"$f":"IF($D584=\"*EOL*\",\"\",LogData!V581-E584)","v":""},{"$f":"IF(LEFT($D584,1)=\"*\",\"\",IF(LogData!S581,\"DUPE\",\"\"))","v":""},{"$f":"IF(LEFT($D584,1)=\"*\",\"\",LogData!R581)","v":""}]
[{"$f":"IF(LEFT($D585,1)=\"*\",\"\",LogData!C582)","v":""},{"$f":"IF(LEFT($D585,1)=\"*\",\"\",LogData!F582)","v":""},{"$f":"IF(LEFT($D585,1)=\"*\",\"\",LogData!D582)","v":""},{"$f":"LogData!E582","v":"*EOL*"},{"$f":"IF($D585=\"*EOL*\",\"\",INT(LogData!V582))","v":""},{"$f":"IF($D585=\"*EOL*\",\"\",LogData!V582-E585)","v":""},{"$f":"IF(LEFT($D585,1)=\"*\",\"\",IF(LogData!S582,\"DUPE\",\"\"))","v":""},{"$f":"IF(LEFT($D585,1)=\"*\",\"\",LogData!R582)","v":""}]
[{"$f":"IF(LEFT($D586,1)=\"*\",\"\",LogData!C583)","v":""},{"$f":"IF(LEFT($D586,1)=\"*\",\"\",LogData!F583)","v":""},{"$f":"IF(LEFT($D586,1)=\"*\",\"\",LogData!D583)","v":""},{"$f":"LogData!E583","v":"*EOL*"},{"$f":"IF($D586=\"*EOL*\",\"\",INT(LogData!V583))","v":""},{"$f":"IF($D586=\"*EOL*\",\"\",LogData!V583-E586)","v":""},{"$f":"IF(LEFT($D586,1)=\"*\",\"\",IF(LogData!S583,\"DUPE\",\"\"))","v":""},{"$f":"IF(LEFT($D586,1)=\"*\",\"\",LogData!R583)","v":""}]
[{"$f":"IF(LEFT($D587,1)=\"*\",\"\",LogData!C584)","v":""},{"$f":"IF(LEFT($D587,1)=\"*\",\"\",LogData!F584)","v":""},{"$f":"IF(LEFT($D587,1)=\"*\",\"\",LogData!D584)","v":""},{"$f":"LogData!E584","v":"*EOL*"},{"$f":"IF($D587=\"*EOL*\",\"\",INT(LogData!V584))","v":""},{"$f":"IF($D587=\"*EOL*\",\"\",LogData!V584-E587)","v":""},{"$f":"IF(LEFT($D587,1)=\"*\",\"\",IF(LogData!S584,\"DUPE\",\"\"))","v":""},{"$f":"IF(LEFT($D587,1)=\"*\",\"\",LogData!R584)","v":""}]
[{"$f":"IF(LEFT($D588,1)=\"*\",\"\",LogData!C585)","v":""},{"$f":"IF(LEFT($D588,1)=\"*\",\"\",LogData!F585)","v":""},{"$f":"IF(LEFT($D588,1)=\"*\",\"\",LogData!D585)","v":""},{"$f":"LogData!E585","v":"*EOL*"},{"$f":"IF($D588=\"*EOL*\",\"\",INT(LogData!V585))","v":""},{"$f":"IF($D588=\"*EOL*\",\"\",LogData!V585-E588)","v":""},{"$f":"IF(LEFT($D588,1)=\"*\",\"\",IF(LogData!S585,\"DUPE\",\"\"))","v":""},{"$f":"IF(LEFT($D588,1)=\"*\",\"\",LogData!R585)","v":""}]
[{"$f":"IF(LEFT($D589,1)=\"*\",\"\",LogData!C586)","v":""},{"$f":"IF(LEFT($D589,1)=\"*\",\"\",LogData!F586)","v":""},{"$f":"IF(LEFT($D589,1)=\"*\",\"\",LogData!D586)","v":""},{"$f":"LogData!E586","v":"*EOL*"},{"$f":"IF($D589=\"*EOL*\",\"\",INT(LogData!V586))","v":""},{"$f":"IF($D589=\"*EOL*\",\"\",LogData!V586-E589)","v":""},{"$f":"IF(LEFT($D589,1)=\"*\",\"\",IF(LogData!S586,\"DUPE\",\"\"))","v":""},{"$f":"IF(LEFT($D589,1)=\"*\",\"\",LogData!R586)","v":""}]
[{"$f":"IF(LEFT($D590,1)=\"*\",\"\",LogData!C587)","v":""},{"$f":"IF(LEFT($D590,1)=\"*\",\"\",LogData!F587)","v":""},{"$f":"IF(LEFT($D590,1)=\"*\",\"\",LogData!D587)","v":""},{"$f":"LogData!E587","v":"*EOL*"},{"$f":"IF($D590=\"*EOL*\",\"\",INT(LogData!V587))","v":""},{"$f":"IF($D590=\"*EOL*\",\"\",LogData!V587-E590)","v":""},{"$f":"IF(LEFT($D590,1)=\"*\",\"\",IF(LogData!S587,\"DUPE\",\"\"))","v":""},{"$f":"IF(LEFT($D590,1)=\"*\",\"\",LogData!R587)","v":""}]
[{"$f":"IF(LEFT($D591,1)=\"*\",\"\",LogData!C588)","v":""},{"$f":"IF(LEFT($D591,1)=\"*\",\"\",LogData!F588)","v":""},{"$f":"IF(LEFT($D591,1)=\"*\",\"\",LogData!D588)","v":""},{"$f":"LogData!E588","v":"*EOL*"},{"$f":"IF($D591=\"*EOL*\",\"\",INT(LogData!V588))","v":""},{"$f":"IF($D591=\"*EOL*\",\"\",LogData!V588-E591)","v":""},{"$f":"IF(LEFT($D591,1)=\"*\",\"\",IF(LogData!S588,\"DUPE\",\"\"))","v":""},{"$f":"IF(LEFT($D591,1)=\"*\",\"\",LogData!R588)","v":""}]
[{"$f":"IF(LEFT($D592,1)=\"*\",\"\",LogData!C589)","v":""},{"$f":"IF(LEFT($D592,1)=\"*\",\"\",LogData!F589)","v":""},{"$f":"IF(LEFT($D592,1)=\"*\",\"\",LogData!D589)","v":""},{"$f":"LogData!E589","v":"*EOL*"},{"$f":"IF($D592=\"*EOL*\",\"\",INT(LogData!V589))","v":""},{"$f":"IF($D592=\"*EOL*\",\"\",LogData!V589-E592)","v":""},{"$f":"IF(LEFT($D592,1)=\"*\",\"\",IF(LogData!S589,\"DUPE\",\"\"))","v":""},{"$f":"IF(LEFT($D592,1)=\"*\",\"\",LogData!R589)","v":""}]
[{"$f":"IF(LEFT($D593,1)=\"*\",\"\",LogData!C590)","v":""},{"$f":"IF(LEFT($D593,1)=\"*\",\"\",LogData!F590)","v":""},{"$f":"IF(LEFT($D593,1)=\"*\",\"\",LogData!D590)","v":""},{"$f":"LogData!E590","v":"*EOL*"},{"$f":"IF($D593=\"*EOL*\",\"\",INT(LogData!V590))","v":""},{"$f":"IF($D593=\"*EOL*\",\"\",LogData!V590-E593)","v":""},{"$f":"IF(LEFT($D593,1)=\"*\",\"\",IF(LogData!S590,\"DUPE\",\"\"))","v":""},{"$f":"IF(LEFT($D593,1)=\"*\",\"\",LogData!R590)","v":""}]
[{"$f":"IF(LEFT($D594,1)=\"*\",\"\",LogData!C591)","v":""},{"$f":"IF(LEFT($D594,1)=\"*\",\"\",LogData!F591)","v":""},{"$f":"IF(LEFT($D594,1)=\"*\",\"\",LogData!D591)","v":""},{"$f":"LogData!E591","v":"*EOL*"},{"$f":"IF($D594=\"*EOL*\",\"\",INT(LogData!V591))","v":""},{"$f":"IF($D594=\"*EOL*\",\"\",LogData!V591-E594)","v":""},{"$f":"IF(LEFT($D594,1)=\"*\",\"\",IF(LogData!S591,\"DUPE\",\"\"))","v":""},{"$f":"IF(LEFT($D594,1)=\"*\",\"\",LogData!R591)","v":""}]
[{"$f":"IF(LEFT($D595,1)=\"*\",\"\",LogData!C592)","v":""},{"$f":"IF(LEFT($D595,1)=\"*\",\"\",LogData!F592)","v":""},{"$f":"IF(LEFT($D595,1)=\"*\",\"\",LogData!D592)","v":""},{"$f":"LogData!E592","v":"*EOL*"},{"$f":"IF($D595=\"*EOL*\",\"\",INT(LogData!V592))","v":""},{"$f":"IF($D595=\"*EOL*\",\"\",LogData!V592-E595)","v":""},{"$f":"IF(LEFT($D595,1)=\"*\",\"\",IF(LogData!S592,\"DUPE\",\"\"))","v":""},{"$f":"IF(LEFT($D595,1)=\"*\",\"\",LogData!R592)","v":""}]
[{"$f":"IF(LEFT($D596,1)=\"*\",\"\",LogData!C593)","v":""},{"$f":"IF(LEFT($D596,1)=\"*\",\"\",LogData!F593)","v":""},{"$f":"IF(LEFT($D596,1)=\"*\",\"\",LogData!D593)","v":""},{"$f":"LogData!E593","v":"*EOL*"},{"$f":"IF($D596=\"*EOL*\",\"\",INT(LogData!V593))","v":""},{"$f":"IF($D596=\"*EOL*\",\"\",LogData!V593-E596)","v":""},{"$f":"IF(LEFT($D596,1)=\"*\",\"\",IF(LogData!S593,\"DUPE\",\"\"))","v":""},{"$f":"IF(LEFT($D596,1)=\"*\",\"\",LogData!R593)","v":""}]
[{"$f":"IF(LEFT($D597,1)=\"*\",\"\",LogData!C594)","v":""},{"$f":"IF(LEFT($D597,1)=\"*\",\"\",LogData!F594)","v":""},{"$f":"IF(LEFT($D597,1)=\"*\",\"\",LogData!D594)","v":""},{"$f":"LogData!E594","v":"*EOL*"},{"$f":"IF($D597=\"*EOL*\",\"\",INT(LogData!V594))","v":""},{"$f":"IF($D597=\"*EOL*\",\"\",LogData!V594-E597)","v":""},{"$f":"IF(LEFT($D597,1)=\"*\",\"\",IF(LogData!S594,\"DUPE\",\"\"))","v":""},{"$f":"IF(LEFT($D597,1)=\"*\",\"\",LogData!R594)","v":""}]
[{"$f":"IF(LEFT($D598,1)=\"*\",\"\",LogData!C595)","v":""},{"$f":"IF(LEFT($D598,1)=\"*\",\"\",LogData!F595)","v":""},{"$f":"IF(LEFT($D598,1)=\"*\",\"\",LogData!D595)","v":""},{"$f":"LogData!E595","v":"*EOL*"},{"$f":"IF($D598=\"*EOL*\",\"\",INT(LogData!V595))","v":""},{"$f":"IF($D598=\"*EOL*\",\"\",LogData!V595-E598)","v":""},{"$f":"IF(LEFT($D598,1)=\"*\",\"\",IF(LogData!S595,\"DUPE\",\"\"))","v":""},{"$f":"IF(LEFT($D598,1)=\"*\",\"\",LogData!R595)","v":""}]
[{"$f":"IF(LEFT($D599,1)=\"*\",\"\",LogData!C596)","v":""},{"$f":"IF(LEFT($D599,1)=\"*\",\"\",LogData!F596)","v":""},{"$f":"IF(LEFT($D599,1)=\"*\",\"\",LogData!D596)","v":""},{"$f":"LogData!E596","v":"*EOL*"},{"$f":"IF($D599=\"*EOL*\",\"\",INT(LogData!V596))","v":""},{"$f":"IF($D599=\"*EOL*\",\"\",LogData!V596-E599)","v":""},{"$f":"IF(LEFT($D599,1)=\"*\",\"\",IF(LogData!S596,\"DUPE\",\"\"))","v":""},{"$f":"IF(LEFT($D599,1)=\"*\",\"\",LogData!R596)","v":""}]
[{"$f":"IF(LEFT($D600,1)=\"*\",\"\",LogData!C597)","v":""},{"$f":"IF(LEFT($D600,1)=\"*\",\"\",LogData!F597)","v":""},{"$f":"IF(LEFT($D600,1)=\"*\",\"\",LogData!D597)","v":""},{"$f":"LogData!E597","v":"*EOL*"},{"$f":"IF($D600=\"*EOL*\",\"\",INT(LogData!V597))","v":""},{"$f":"IF($D600=\"*EOL*\",\"\",LogData!V597-E600)","v":""},{"$f":"IF(LEFT($D600,1)=\"*\",\"\",IF(LogData!S597,\"DUPE\",\"\"))","v":""},{"$f":"IF(LEFT($D600,1)=\"*\",\"\",LogData!R597)","v":""}]
[{"$f":"IF(LEFT($D601,1)=\"*\",\"\",LogData!C598)","v":""},{"$f":"IF(LEFT($D601,1)=\"*\",\"\",LogData!F598)","v":""},{"$f":"IF(LEFT($D601,1)=\"*\",\"\",LogData!D598)","v":""},{"$f":"LogData!E598","v":"*EOL*"},{"$f":"IF($D601=\"*EOL*\",\"\",INT(LogData!V598))","v":""},{"$f":"IF($D601=\"*EOL*\",\"\",LogData!V598-E601)","v":""},{"$f":"IF(LEFT($D601,1)=\"*\",\"\",IF(LogData!S598,\"DUPE\",\"\"))","v":""},{"$f":"IF(LEFT($D601,1)=\"*\",\"\",LogData!R598)","v":""}]
[{"$f":"IF(LEFT($D602,1)=\"*\",\"\",LogData!C599)","v":""},{"$f":"IF(LEFT($D602,1)=\"*\",\"\",LogData!F599)","v":""},{"$f":"IF(LEFT($D602,1)=\"*\",\"\",LogData!D599)","v":""},{"$f":"LogData!E599","v":"*EOL*"},{"$f":"IF($D602=\"*EOL*\",\"\",INT(LogData!V599))","v":""},{"$f":"IF($D602=\"*EOL*\",\"\",LogData!V599-E602)","v":""},{"$f":"IF(LEFT($D602,1)=\"*\",\"\",IF(LogData!S599,\"DUPE\",\"\"))","v":""},{"$f":"IF(LEFT($D602,1)=\"*\",\"\",LogData!R599)","v":""}]
[{"$f":"IF(LEFT($D603,1)=\"*\",\"\",LogData!C600)","v":""},{"$f":"IF(LEFT($D603,1)=\"*\",\"\",LogData!F600)","v":""},{"$f":"IF(LEFT($D603,1)=\"*\",\"\",LogData!D600)","v":""},{"$f":"LogData!E600","v":"*EOL*"},{"$f":"IF($D603=\"*EOL*\",\"\",INT(LogData!V600))","v":""},{"$f":"IF($D603=\"*EOL*\",\"\",LogData!V600-E603)","v":""},{"$f":"IF(LEFT($D603,1)=\"*\",\"\",IF(LogData!S600,\"DUPE\",\"\"))","v":""},{"$f":"IF(LEFT($D603,1)=\"*\",\"\",LogData!R600)","v":""}]
[{"$f":"IF(LEFT($D604,1)=\"*\",\"\",LogData!C601)","v":""},{"$f":"IF(LEFT($D604,1)=\"*\",\"\",LogData!F601)","v":""},{"$f":"IF(LEFT($D604,1)=\"*\",\"\",LogData!D601)","v":""},{"$f":"LogData!E601","v":"*EOL*"},{"$f":"IF($D604=\"*EOL*\",\"\",INT(LogData!V601))","v":""},{"$f":"IF($D604=\"*EOL*\",\"\",LogData!V601-E604)","v":""},{"$f":"IF(LEFT($D604,1)=\"*\",\"\",IF(LogData!S601,\"DUPE\",\"\"))","v":""},{"$f":"IF(LEFT($D604,1)=\"*\",\"\",LogData!R601)","v":""}]
[{"$f":"IF(LEFT($D605,1)=\"*\",\"\",LogData!C602)","v":""},{"$f":"IF(LEFT($D605,1)=\"*\",\"\",LogData!F602)","v":""},{"$f":"IF(LEFT($D605,1)=\"*\",\"\",LogData!D602)","v":""},{"$f":"LogData!E602","v":"*EOL*"},{"$f":"IF($D605=\"*EOL*\",\"\",INT(LogData!V602))","v":""},{"$f":"IF($D605=\"*EOL*\",\"\",LogData!V602-E605)","v":""},{"$f":"IF(LEFT($D605,1)=\"*\",\"\",IF(LogData!S602,\"DUPE\",\"\"))","v":""},{"$f":"IF(LEFT($D605,1)=\"*\",\"\",LogData!R602)","v":""}]
[{"$f":"IF(LEFT($D606,1)=\"*\",\"\",LogData!C603)","v":""},{"$f":"IF(LEFT($D606,1)=\"*\",\"\",LogData!F603)","v":""},{"$f":"IF(LEFT($D606,1)=\"*\",\"\",LogData!D603)","v":""},{"$f":"LogData!E603","v":"*EOL*"},{"$f":"IF($D606=\"*EOL*\",\"\",INT(LogData!V603))","v":""},{"$f":"IF($D606=\"*EOL*\",\"\",LogData!V603-E606)","v":""},{"$f":"IF(LEFT($D606,1)=\"*\",\"\",IF(LogData!S603,\"DUPE\",\"\"))","v":""},{"$f":"IF(LEFT($D606,1)=\"*\",\"\",LogData!R603)","v":""}]
[{"$f":"IF(LEFT($D607,1)=\"*\",\"\",LogData!C604)","v":""},{"$f":"IF(LEFT($D607,1)=\"*\",\"\",LogData!F604)","v":""},{"$f":"IF(LEFT($D607,1)=\"*\",\"\",LogData!D604)","v":""},{"$f":"LogData!E604","v":"*EOL*"},{"$f":"IF($D607=\"*EOL*\",\"\",INT(LogData!V604))","v":""},{"$f":"IF($D607=\"*EOL*\",\"\",LogData!V604-E607)","v":""},{"$f":"IF(LEFT($D607,1)=\"*\",\"\",IF(LogData!S604,\"DUPE\",\"\"))","v":""},{"$f":"IF(LEFT($D607,1)=\"*\",\"\",LogData!R604)","v":""}]
[{"$f":"IF(LEFT($D608,1)=\"*\",\"\",LogData!C605)","v":""},{"$f":"IF(LEFT($D608,1)=\"*\",\"\",LogData!F605)","v":""},{"$f":"IF(LEFT($D608,1)=\"*\",\"\",LogData!D605)","v":""},{"$f":"LogData!E605","v":"*EOL*"},{"$f":"IF($D608=\"*EOL*\",\"\",INT(LogData!V605))","v":""},{"$f":"IF($D608=\"*EOL*\",\"\",LogData!V605-E608)","v":""},{"$f":"IF(LEFT($D608,1)=\"*\",\"\",IF(LogData!S605,\"DUPE\",\"\"))","v":""},{"$f":"IF(LEFT($D608,1)=\"*\",\"\",LogData!R605)","v":""}]
[{"$f":"IF(LEFT($D609,1)=\"*\",\"\",LogData!C606)","v":""},{"$f":"IF(LEFT($D609,1)=\"*\",\"\",LogData!F606)","v":""},{"$f":"IF(LEFT($D609,1)=\"*\",\"\",LogData!D606)","v":""},{"$f":"LogData!E606","v":"*EOL*"},{"$f":"IF($D609=\"*EOL*\",\"\",INT(LogData!V606))","v":""},{"$f":"IF($D609=\"*EOL*\",\"\",LogData!V606-E609)","v":""},{"$f":"IF(LEFT($D609,1)=\"*\",\"\",IF(LogData!S606,\"DUPE\",\"\"))","v":""},{"$f":"IF(LEFT($D609,1)=\"*\",\"\",LogData!R606)","v":""}]
[{"$f":"IF(LEFT($D610,1)=\"*\",\"\",LogData!C607)","v":""},{"$f":"IF(LEFT($D610,1)=\"*\",\"\",LogData!F607)","v":""},{"$f":"IF(LEFT($D610,1)=\"*\",\"\",LogData!D607)","v":""},{"$f":"LogData!E607","v":"*EOL*"},{"$f":"IF($D610=\"*EOL*\",\"\",INT(LogData!V607))","v":""},{"$f":"IF($D610=\"*EOL*\",\"\",LogData!V607-E610)","v":""},{"$f":"IF(LEFT($D610,1)=\"*\",\"\",IF(LogData!S607,\"DUPE\",\"\"))","v":""},{"$f":"IF(LEFT($D610,1)=\"*\",\"\",LogData!R607)","v":""}]
[{"$f":"IF(LEFT($D611,1)=\"*\",\"\",LogData!C608)","v":""},{"$f":"IF(LEFT($D611,1)=\"*\",\"\",LogData!F608)","v":""},{"$f":"IF(LEFT($D611,1)=\"*\",\"\",LogData!D608)","v":""},{"$f":"LogData!E608","v":"*EOL*"},{"$f":"IF($D611=\"*EOL*\",\"\",INT(LogData!V608))","v":""},{"$f":"IF($D611=\"*EOL*\",\"\",LogData!V608-E611)","v":""},{"$f":"IF(LEFT($D611,1)=\"*\",\"\",IF(LogData!S608,\"DUPE\",\"\"))","v":""},{"$f":"IF(LEFT($D611,1)=\"*\",\"\",LogData!R608)","v":""}]
[{"$f":"IF(LEFT($D612,1)=\"*\",\"\",LogData!C609)","v":""},{"$f":"IF(LEFT($D612,1)=\"*\",\"\",LogData!F609)","v":""},{"$f":"IF(LEFT($D612,1)=\"*\",\"\",LogData!D609)","v":""},{"$f":"LogData!E609","v":"*EOL*"},{"$f":"IF($D612=\"*EOL*\",\"\",INT(LogData!V609))","v":""},{"$f":"IF($D612=\"*EOL*\",\"\",LogData!V609-E612)","v":""},{"$f":"IF(LEFT($D612,1)=\"*\",\"\",IF(LogData!S609,\"DUPE\",\"\"))","v":""},{"$f":"IF(LEFT($D612,1)=\"*\",\"\",LogData!R609)","v":""}]
[{"$f":"IF(LEFT($D613,1)=\"*\",\"\",LogData!C610)","v":""},{"$f":"IF(LEFT($D613,1)=\"*\",\"\",LogData!F610)","v":""},{"$f":"IF(LEFT($D613,1)=\"*\",\"\",LogData!D610)","v":""},{"$f":"LogData!E610","v":"*EOL*"},{"$f":"IF($D613=\"*EOL*\",\"\",INT(LogData!V610))","v":""},{"$f":"IF($D613=\"*EOL*\",\"\",LogData!V610-E613)","v":""},{"$f":"IF(LEFT($D613,1)=\"*\",\"\",IF(LogData!S610,\"DUPE\",\"\"))","v":""},{"$f":"IF(LEFT($D613,1)=\"*\",\"\",LogData!R610)","v":""}]
[{"$f":"IF(LEFT($D614,1)=\"*\",\"\",LogData!C611)","v":""},{"$f":"IF(LEFT($D614,1)=\"*\",\"\",LogData!F611)","v":""},{"$f":"IF(LEFT($D614,1)=\"*\",\"\",LogData!D611)","v":""},{"$f":"LogData!E611","v":"*EOL*"},{"$f":"IF($D614=\"*EOL*\",\"\",INT(LogData!V611))","v":""},{"$f":"IF($D614=\"*EOL*\",\"\",LogData!V611-E614)","v":""},{"$f":"IF(LEFT($D614,1)=\"*\",\"\",IF(LogData!S611,\"DUPE\",\"\"))","v":""},{"$f":"IF(LEFT($D614,1)=\"*\",\"\",LogData!R611)","v":""}]
[{"$f":"IF(LEFT($D615,1)=\"*\",\"\",LogData!C612)","v":""},{"$f":"IF(LEFT($D615,1)=\"*\",\"\",LogData!F612)","v":""},{"$f":"IF(LEFT($D615,1)=\"*\",\"\",LogData!D612)","v":""},{"$f":"LogData!E612","v":"*EOL*"},{"$f":"IF($D615=\"*EOL*\",\"\",INT(LogData!V612))","v":""},{"$f":"IF($D615=\"*EOL*\",\"\",LogData!V612-E615)","v":""},{"$f":"IF(LEFT($D615,1)=\"*\",\"\",IF(LogData!S612,\"DUPE\",\"\"))","v":""},{"$f":"IF(LEFT($D615,1)=\"*\",\"\",LogData!R612)","v":""}]
[{"$f":"IF(LEFT($D616,1)=\"*\",\"\",LogData!C613)","v":""},{"$f":"IF(LEFT($D616,1)=\"*\",\"\",LogData!F613)","v":""},{"$f":"IF(LEFT($D616,1)=\"*\",\"\",LogData!D613)","v":""},{"$f":"LogData!E613","v":"*EOL*"},{"$f":"IF($D616=\"*EOL*\",\"\",INT(LogData!V613))","v":""},{"$f":"IF($D616=\"*EOL*\",\"\",LogData!V613-E616)","v":""},{"$f":"IF(LEFT($D616,1)=\"*\",\"\",IF(LogData!S613,\"DUPE\",\"\"))","v":""},{"$f":"IF(LEFT($D616,1)=\"*\",\"\",LogData!R613)","v":""}]
[{"$f":"IF(LEFT($D617,1)=\"*\",\"\",LogData!C614)","v":""},{"$f":"IF(LEFT($D617,1)=\"*\",\"\",LogData!F614)","v":""},{"$f":"IF(LEFT($D617,1)=\"*\",\"\",LogData!D614)","v":""},{"$f":"LogData!E614","v":"*EOL*"},{"$f":"IF($D617=\"*EOL*\",\"\",INT(LogData!V614))","v":""},{"$f":"IF($D617=\"*EOL*\",\"\",LogData!V614-E617)","v":""},{"$f":"IF(LEFT($D617,1)=\"*\",\"\",IF(LogData!S614,\"DUPE\",\"\"))","v":""},{"$f":"IF(LEFT($D617,1)=\"*\",\"\",LogData!R614)","v":""}]
[{"$f":"IF(LEFT($D618,1)=\"*\",\"\",LogData!C615)","v":""},{"$f":"IF(LEFT($D618,1)=\"*\",\"\",LogData!F615)","v":""},{"$f":"IF(LEFT($D618,1)=\"*\",\"\",LogData!D615)","v":""},{"$f":"LogData!E615","v":"*EOL*"},{"$f":"IF($D618=\"*EOL*\",\"\",INT(LogData!V615))","v":""},{"$f":"IF($D618=\"*EOL*\",\"\",LogData!V615-E618)","v":""},{"$f":"IF(LEFT($D618,1)=\"*\",\"\",IF(LogData!S615,\"DUPE\",\"\"))","v":""},{"$f":"IF(LEFT($D618,1)=\"*\",\"\",LogData!R615)","v":""}]
[{"$f":"IF(LEFT($D619,1)=\"*\",\"\",LogData!C616)","v":""},{"$f":"IF(LEFT($D619,1)=\"*\",\"\",LogData!F616)","v":""},{"$f":"IF(LEFT($D619,1)=\"*\",\"\",LogData!D616)","v":""},{"$f":"LogData!E616","v":"*EOL*"},{"$f":"IF($D619=\"*EOL*\",\"\",INT(LogData!V616))","v":""},{"$f":"IF($D619=\"*EOL*\",\"\",LogData!V616-E619)","v":""},{"$f":"IF(LEFT($D619,1)=\"*\",\"\",IF(LogData!S616,\"DUPE\",\"\"))","v":""},{"$f":"IF(LEFT($D619,1)=\"*\",\"\",LogData!R616)","v":""}]
[{"$f":"IF(LEFT($D620,1)=\"*\",\"\",LogData!C617)","v":""},{"$f":"IF(LEFT($D620,1)=\"*\",\"\",LogData!F617)","v":""},{"$f":"IF(LEFT($D620,1)=\"*\",\"\",LogData!D617)","v":""},{"$f":"LogData!E617","v":"*EOL*"},{"$f":"IF($D620=\"*EOL*\",\"\",INT(LogData!V617))","v":""},{"$f":"IF($D620=\"*EOL*\",\"\",LogData!V617-E620)","v":""},{"$f":"IF(LEFT($D620,1)=\"*\",\"\",IF(LogData!S617,\"DUPE\",\"\"))","v":""},{"$f":"IF(LEFT($D620,1)=\"*\",\"\",LogData!R617)","v":""}]
[{"$f":"IF(LEFT($D621,1)=\"*\",\"\",LogData!C618)","v":""},{"$f":"IF(LEFT($D621,1)=\"*\",\"\",LogData!F618)","v":""},{"$f":"IF(LEFT($D621,1)=\"*\",\"\",LogData!D618)","v":""},{"$f":"LogData!E618","v":"*EOL*"},{"$f":"IF($D621=\"*EOL*\",\"\",INT(LogData!V618))","v":""},{"$f":"IF($D621=\"*EOL*\",\"\",LogData!V618-E621)","v":""},{"$f":"IF(LEFT($D621,1)=\"*\",\"\",IF(LogData!S618,\"DUPE\",\"\"))","v":""},{"$f":"IF(LEFT($D621,1)=\"*\",\"\",LogData!R618)","v":""}]
[{"$f":"IF(LEFT($D622,1)=\"*\",\"\",LogData!C619)","v":""},{"$f":"IF(LEFT($D622,1)=\"*\",\"\",LogData!F619)","v":""},{"$f":"IF(LEFT($D622,1)=\"*\",\"\",LogData!D619)","v":""},{"$f":"LogData!E619","v":"*EOL*"},{"$f":"IF($D622=\"*EOL*\",\"\",INT(LogData!V619))","v":""},{"$f":"IF($D622=\"*EOL*\",\"\",LogData!V619-E622)","v":""},{"$f":"IF(LEFT($D622,1)=\"*\",\"\",IF(LogData!S619,\"DUPE\",\"\"))","v":""},{"$f":"IF(LEFT($D622,1)=\"*\",\"\",LogData!R619)","v":""}]
[{"$f":"IF(LEFT($D623,1)=\"*\",\"\",LogData!C620)","v":""},{"$f":"IF(LEFT($D623,1)=\"*\",\"\",LogData!F620)","v":""},{"$f":"IF(LEFT($D623,1)=\"*\",\"\",LogData!D620)","v":""},{"$f":"LogData!E620","v":"*EOL*"},{"$f":"IF($D623=\"*EOL*\",\"\",INT(LogData!V620))","v":""},{"$f":"IF($D623=\"*EOL*\",\"\",LogData!V620-E623)","v":""},{"$f":"IF(LEFT($D623,1)=\"*\",\"\",IF(LogData!S620,\"DUPE\",\"\"))","v":""},{"$f":"IF(LEFT($D623,1)=\"*\",\"\",LogData!R620)","v":""}]
[{"$f":"IF(LEFT($D624,1)=\"*\",\"\",LogData!C621)","v":""},{"$f":"IF(LEFT($D624,1)=\"*\",\"\",LogData!F621)","v":""},{"$f":"IF(LEFT($D624,1)=\"*\",\"\",LogData!D621)","v":""},{"$f":"LogData!E621","v":"*EOL*"},{"$f":"IF($D624=\"*EOL*\",\"\",INT(LogData!V621))","v":""},{"$f":"IF($D624=\"*EOL*\",\"\",LogData!V621-E624)","v":""},{"$f":"IF(LEFT($D624,1)=\"*\",\"\",IF(LogData!S621,\"DUPE\",\"\"))","v":""},{"$f":"IF(LEFT($D624,1)=\"*\",\"\",LogData!R621)","v":""}]
[{"$f":"IF(LEFT($D625,1)=\"*\",\"\",LogData!C622)","v":""},{"$f":"IF(LEFT($D625,1)=\"*\",\"\",LogData!F622)","v":""},{"$f":"IF(LEFT($D625,1)=\"*\",\"\",LogData!D622)","v":""},{"$f":"LogData!E622","v":"*EOL*"},{"$f":"IF($D625=\"*EOL*\",\"\",INT(LogData!V622))","v":""},{"$f":"IF($D625=\"*EOL*\",\"\",LogData!V622-E625)","v":""},{"$f":"IF(LEFT($D625,1)=\"*\",\"\",IF(LogData!S622,\"DUPE\",\"\"))","v":""},{"$f":"IF(LEFT($D625,1)=\"*\",\"\",LogData!R622)","v":""}]
[{"$f":"IF(LEFT($D626,1)=\"*\",\"\",LogData!C623)","v":""},{"$f":"IF(LEFT($D626,1)=\"*\",\"\",LogData!F623)","v":""},{"$f":"IF(LEFT($D626,1)=\"*\",\"\",LogData!D623)","v":""},{"$f":"LogData!E623","v":"*EOL*"},{"$f":"IF($D626=\"*EOL*\",\"\",INT(LogData!V623))","v":""},{"$f":"IF($D626=\"*EOL*\",\"\",LogData!V623-E626)","v":""},{"$f":"IF(LEFT($D626,1)=\"*\",\"\",IF(LogData!S623,\"DUPE\",\"\"))","v":""},{"$f":"IF(LEFT($D626,1)=\"*\",\"\",LogData!R623)","v":""}]
[{"$f":"IF(LEFT($D627,1)=\"*\",\"\",LogData!C624)","v":""},{"$f":"IF(LEFT($D627,1)=\"*\",\"\",LogData!F624)","v":""},{"$f":"IF(LEFT($D627,1)=\"*\",\"\",LogData!D624)","v":""},{"$f":"LogData!E624","v":"*EOL*"},{"$f":"IF($D627=\"*EOL*\",\"\",INT(LogData!V624))","v":""},{"$f":"IF($D627=\"*EOL*\",\"\",LogData!V624-E627)","v":""},{"$f":"IF(LEFT($D627,1)=\"*\",\"\",IF(LogData!S624,\"DUPE\",\"\"))","v":""},{"$f":"IF(LEFT($D627,1)=\"*\",\"\",LogData!R624)","v":""}]
[{"$f":"IF(LEFT($D628,1)=\"*\",\"\",LogData!C625)","v":""},{"$f":"IF(LEFT($D628,1)=\"*\",\"\",LogData!F625)","v":""},{"$f":"IF(LEFT($D628,1)=\"*\",\"\",LogData!D625)","v":""},{"$f":"LogData!E625","v":"*EOL*"},{"$f":"IF($D628=\"*EOL*\",\"\",INT(LogData!V625))","v":""},{"$f":"IF($D628=\"*EOL*\",\"\",LogData!V625-E628)","v":""},{"$f":"IF(LEFT($D628,1)=\"*\",\"\",IF(LogData!S625,\"DUPE\",\"\"))","v":""},{"$f":"IF(LEFT($D628,1)=\"*\",\"\",LogData!R625)","v":""}]
[{"$f":"IF(LEFT($D629,1)=\"*\",\"\",LogData!C626)","v":""},{"$f":"IF(LEFT($D629,1)=\"*\",\"\",LogData!F626)","v":""},{"$f":"IF(LEFT($D629,1)=\"*\",\"\",LogData!D626)","v":""},{"$f":"LogData!E626","v":"*EOL*"},{"$f":"IF($D629=\"*EOL*\",\"\",INT(LogData!V626))","v":""},{"$f":"IF($D629=\"*EOL*\",\"\",LogData!V626-E629)","v":""},{"$f":"IF(LEFT($D629,1)=\"*\",\"\",IF(LogData!S626,\"DUPE\",\"\"))","v":""},{"$f":"IF(LEFT($D629,1)=\"*\",\"\",LogData!R626)","v":""}]
[{"$f":"IF(LEFT($D630,1)=\"*\",\"\",LogData!C627)","v":""},{"$f":"IF(LEFT($D630,1)=\"*\",\"\",LogData!F627)","v":""},{"$f":"IF(LEFT($D630,1)=\"*\",\"\",LogData!D627)","v":""},{"$f":"LogData!E627","v":"*EOL*"},{"$f":"IF($D630=\"*EOL*\",\"\",INT(LogData!V627))","v":""},{"$f":"IF($D630=\"*EOL*\",\"\",LogData!V627-E630)","v":""},{"$f":"IF(LEFT($D630,1)=\"*\",\"\",IF(LogData!S627,\"DUPE\",\"\"))","v":""},{"$f":"IF(LEFT($D630,1)=\"*\",\"\",LogData!R627)","v":""}]
[{"$f":"IF(LEFT($D631,1)=\"*\",\"\",LogData!C628)","v":""},{"$f":"IF(LEFT($D631,1)=\"*\",\"\",LogData!F628)","v":""},{"$f":"IF(LEFT($D631,1)=\"*\",\"\",LogData!D628)","v":""},{"$f":"LogData!E628","v":"*EOL*"},{"$f":"IF($D631=\"*EOL*\",\"\",INT(LogData!V628))","v":""},{"$f":"IF($D631=\"*EOL*\",\"\",LogData!V628-E631)","v":""},{"$f":"IF(LEFT($D631,1)=\"*\",\"\",IF(LogData!S628,\"DUPE\",\"\"))","v":""},{"$f":"IF(LEFT($D631,1)=\"*\",\"\",LogData!R628)","v":""}]
[{"$f":"IF(LEFT($D632,1)=\"*\",\"\",LogData!C629)","v":""},{"$f":"IF(LEFT($D632,1)=\"*\",\"\",LogData!F629)","v":""},{"$f":"IF(LEFT($D632,1)=\"*\",\"\",LogData!D629)","v":""},{"$f":"LogData!E629","v":"*EOL*"},{"$f":"IF($D632=\"*EOL*\",\"\",INT(LogData!V629))","v":""},{"$f":"IF($D632=\"*EOL*\",\"\",LogData!V629-E632)","v":""},{"$f":"IF(LEFT($D632,1)=\"*\",\"\",IF(LogData!S629,\"DUPE\",\"\"))","v":""},{"$f":"IF(LEFT($D632,1)=\"*\",\"\",LogData!R629)","v":""}]
[{"$f":"IF(LEFT($D633,1)=\"*\",\"\",LogData!C630)","v":""},{"$f":"IF(LEFT($D633,1)=\"*\",\"\",LogData!F630)","v":""},{"$f":"IF(LEFT($D633,1)=\"*\",\"\",LogData!D630)","v":""},{"$f":"LogData!E630","v":"*EOL*"},{"$f":"IF($D633=\"*EOL*\",\"\",INT(LogData!V630))","v":""},{"$f":"IF($D633=\"*EOL*\",\"\",LogData!V630-E633)","v":""},{"$f":"IF(LEFT($D633,1)=\"*\",\"\",IF(LogData!S630,\"DUPE\",\"\"))","v":""},{"$f":"IF(LEFT($D633,1)=\"*\",\"\",LogData!R630)","v":""}]
[{"$f":"IF(LEFT($D634,1)=\"*\",\"\",LogData!C631)","v":""},{"$f":"IF(LEFT($D634,1)=\"*\",\"\",LogData!F631)","v":""},{"$f":"IF(LEFT($D634,1)=\"*\",\"\",LogData!D631)","v":""},{"$f":"LogData!E631","v":"*EOL*"},{"$f":"IF($D634=\"*EOL*\",\"\",INT(LogData!V631))","v":""},{"$f":"IF($D634=\"*EOL*\",\"\",LogData!V631-E634)","v":""},{"$f":"IF(LEFT($D634,1)=\"*\",\"\",IF(LogData!S631,\"DUPE\",\"\"))","v":""},{"$f":"IF(LEFT($D634,1)=\"*\",\"\",LogData!R631)","v":""}]
[{"$f":"IF(LEFT($D635,1)=\"*\",\"\",LogData!C632)","v":""},{"$f":"IF(LEFT($D635,1)=\"*\",\"\",LogData!F632)","v":""},{"$f":"IF(LEFT($D635,1)=\"*\",\"\",LogData!D632)","v":""},{"$f":"LogData!E632","v":"*EOL*"},{"$f":"IF($D635=\"*EOL*\",\"\",INT(LogData!V632))","v":""},{"$f":"IF($D635=\"*EOL*\",\"\",LogData!V632-E635)","v":""},{"$f":"IF(LEFT($D635,1)=\"*\",\"\",IF(LogData!S632,\"DUPE\",\"\"))","v":""},{"$f":"IF(LEFT($D635,1)=\"*\",\"\",LogData!R632)","v":""}]
[{"$f":"IF(LEFT($D636,1)=\"*\",\"\",LogData!C633)","v":""},{"$f":"IF(LEFT($D636,1)=\"*\",\"\",LogData!F633)","v":""},{"$f":"IF(LEFT($D636,1)=\"*\",\"\",LogData!D633)","v":""},{"$f":"LogData!E633","v":"*EOL*"},{"$f":"IF($D636=\"*EOL*\",\"\",INT(LogData!V633))","v":""},{"$f":"IF($D636=\"*EOL*\",\"\",LogData!V633-E636)","v":""},{"$f":"IF(LEFT($D636,1)=\"*\",\"\",IF(LogData!S633,\"DUPE\",\"\"))","v":""},{"$f":"IF(LEFT($D636,1)=\"*\",\"\",LogData!R633)","v":""}]
[{"$f":"IF(LEFT($D637,1)=\"*\",\"\",LogData!C634)","v":""},{"$f":"IF(LEFT($D637,1)=\"*\",\"\",LogData!F634)","v":""},{"$f":"IF(LEFT($D637,1)=\"*\",\"\",LogData!D634)","v":""},{"$f":"LogData!E634","v":"*EOL*"},{"$f":"IF($D637=\"*EOL*\",\"\",INT(LogData!V634))","v":""},{"$f":"IF($D637=\"*EOL*\",\"\",LogData!V634-E637)","v":""},{"$f":"IF(LEFT($D637,1)=\"*\",\"\",IF(LogData!S634,\"DUPE\",\"\"))","v":""},{"$f":"IF(LEFT($D637,1)=\"*\",\"\",LogData!R634)","v":""}]
[{"$f":"IF(LEFT($D638,1)=\"*\",\"\",LogData!C635)","v":""},{"$f":"IF(LEFT($D638,1)=\"*\",\"\",LogData!F635)","v":""},{"$f":"IF(LEFT($D638,1)=\"*\",\"\",LogData!D635)","v":""},{"$f":"LogData!E635","v":"*EOL*"},{"$f":"IF($D638=\"*EOL*\",\"\",INT(LogData!V635))","v":""},{"$f":"IF($D638=\"*EOL*\",\"\",LogData!V635-E638)","v":""},{"$f":"IF(LEFT($D638,1)=\"*\",\"\",IF(LogData!S635,\"DUPE\",\"\"))","v":""},{"$f":"IF(LEFT($D638,1)=\"*\",\"\",LogData!R635)","v":""}]
[{"$f":"IF(LEFT($D639,1)=\"*\",\"\",LogData!C636)","v":""},{"$f":"IF(LEFT($D639,1)=\"*\",\"\",LogData!F636)","v":""},{"$f":"IF(LEFT($D639,1)=\"*\",\"\",LogData!D636)","v":""},{"$f":"LogData!E636","v":"*EOL*"},{"$f":"IF($D639=\"*EOL*\",\"\",INT(LogData!V636))","v":""},{"$f":"IF($D639=\"*EOL*\",\"\",LogData!V636-E639)","v":""},{"$f":"IF(LEFT($D639,1)=\"*\",\"\",IF(LogData!S636,\"DUPE\",\"\"))","v":""},{"$f":"IF(LEFT($D639,1)=\"*\",\"\",LogData!R636)","v":""}]
[{"$f":"IF(LEFT($D640,1)=\"*\",\"\",LogData!C637)","v":""},{"$f":"IF(LEFT($D640,1)=\"*\",\"\",LogData!F637)","v":""},{"$f":"IF(LEFT($D640,1)=\"*\",\"\",LogData!D637)","v":""},{"$f":"LogData!E637","v":"*EOL*"},{"$f":"IF($D640=\"*EOL*\",\"\",INT(LogData!V637))","v":""},{"$f":"IF($D640=\"*EOL*\",\"\",LogData!V637-E640)","v":""},{"$f":"IF(LEFT($D640,1)=\"*\",\"\",IF(LogData!S637,\"DUPE\",\"\"))","v":""},{"$f":"IF(LEFT($D640,1)=\"*\",\"\",LogData!R637)","v":""}]
[{"$f":"IF(LEFT($D641,1)=\"*\",\"\",LogData!C638)","v":""},{"$f":"IF(LEFT($D641,1)=\"*\",\"\",LogData!F638)","v":""},{"$f":"IF(LEFT($D641,1)=\"*\",\"\",LogData!D638)","v":""},{"$f":"LogData!E638","v":"*EOL*"},{"$f":"IF($D641=\"*EOL*\",\"\",INT(LogData!V638))","v":""},{"$f":"IF($D641=\"*EOL*\",\"\",LogData!V638-E641)","v":""},{"$f":"IF(LEFT($D641,1)=\"*\",\"\",IF(LogData!S638,\"DUPE\",\"\"))","v":""},{"$f":"IF(LEFT($D641,1)=\"*\",\"\",LogData!R638)","v":""}]
[{"$f":"IF(LEFT($D642,1)=\"*\",\"\",LogData!C639)","v":""},{"$f":"IF(LEFT($D642,1)=\"*\",\"\",LogData!F639)","v":""},{"$f":"IF(LEFT($D642,1)=\"*\",\"\",LogData!D639)","v":""},{"$f":"LogData!E639","v":"*EOL*"},{"$f":"IF($D642=\"*EOL*\",\"\",INT(LogData!V639))","v":""},{"$f":"IF($D642=\"*EOL*\",\"\",LogData!V639-E642)","v":""},{"$f":"IF(LEFT($D642,1)=\"*\",\"\",IF(LogData!S639,\"DUPE\",\"\"))","v":""},{"$f":"IF(LEFT($D642,1)=\"*\",\"\",LogData!R639)","v":""}]
[{"$f":"IF(LEFT($D643,1)=\"*\",\"\",LogData!C640)","v":""},{"$f":"IF(LEFT($D643,1)=\"*\",\"\",LogData!F640)","v":""},{"$f":"IF(LEFT($D643,1)=\"*\",\"\",LogData!D640)","v":""},{"$f":"LogData!E640","v":"*EOL*"},{"$f":"IF($D643=\"*EOL*\",\"\",INT(LogData!V640))","v":""},{"$f":"IF($D643=\"*EOL*\",\"\",LogData!V640-E643)","v":""},{"$f":"IF(LEFT($D643,1)=\"*\",\"\",IF(LogData!S640,\"DUPE\",\"\"))","v":""},{"$f":"IF(LEFT($D643,1)=\"*\",\"\",LogData!R640)","v":""}]
[{"$f":"IF(LEFT($D644,1)=\"*\",\"\",LogData!C641)","v":""},{"$f":"IF(LEFT($D644,1)=\"*\",\"\",LogData!F641)","v":""},{"$f":"IF(LEFT($D644,1)=\"*\",\"\",LogData!D641)","v":""},{"$f":"LogData!E641","v":"*EOL*"},{"$f":"IF($D644=\"*EOL*\",\"\",INT(LogData!V641))","v":""},{"$f":"IF($D644=\"*EOL*\",\"\",LogData!V641-E644)","v":""},{"$f":"IF(LEFT($D644,1)=\"*\",\"\",IF(LogData!S641,\"DUPE\",\"\"))","v":""},{"$f":"IF(LEFT($D644,1)=\"*\",\"\",LogData!R641)","v":""}]
[{"$f":"IF(LEFT($D645,1)=\"*\",\"\",LogData!C642)","v":""},{"$f":"IF(LEFT($D645,1)=\"*\",\"\",LogData!F642)","v":""},{"$f":"IF(LEFT($D645,1)=\"*\",\"\",LogData!D642)","v":""},{"$f":"LogData!E642","v":"*EOL*"},{"$f":"IF($D645=\"*EOL*\",\"\",INT(LogData!V642))","v":""},{"$f":"IF($D645=\"*EOL*\",\"\",LogData!V642-E645)","v":""},{"$f":"IF(LEFT($D645,1)=\"*\",\"\",IF(LogData!S642,\"DUPE\",\"\"))","v":""},{"$f":"IF(LEFT($D645,1)=\"*\",\"\",LogData!R642)","v":""}]
[{"$f":"IF(LEFT($D646,1)=\"*\",\"\",LogData!C643)","v":""},{"$f":"IF(LEFT($D646,1)=\"*\",\"\",LogData!F643)","v":""},{"$f":"IF(LEFT($D646,1)=\"*\",\"\",LogData!D643)","v":""},{"$f":"LogData!E643","v":"*EOL*"},{"$f":"IF($D646=\"*EOL*\",\"\",INT(LogData!V643))","v":""},{"$f":"IF($D646=\"*EOL*\",\"\",LogData!V643-E646)","v":""},{"$f":"IF(LEFT($D646,1)=\"*\",\"\",IF(LogData!S643,\"DUPE\",\"\"))","v":""},{"$f":"IF(LEFT($D646,1)=\"*\",\"\",LogData!R643)","v":""}]
[{"$f":"IF(LEFT($D647,1)=\"*\",\"\",LogData!C644)","v":""},{"$f":"IF(LEFT($D647,1)=\"*\",\"\",LogData!F644)","v":""},{"$f":"IF(LEFT($D647,1)=\"*\",\"\",LogData!D644)","v":""},{"$f":"LogData!E644","v":"*EOL*"},{"$f":"IF($D647=\"*EOL*\",\"\",INT(LogData!V644))","v":""},{"$f":"IF($D647=\"*EOL*\",\"\",LogData!V644-E647)","v":""},{"$f":"IF(LEFT($D647,1)=\"*\",\"\",IF(LogData!S644,\"DUPE\",\"\"))","v":""},{"$f":"IF(LEFT($D647,1)=\"*\",\"\",LogData!R644)","v":""}]
[{"$f":"IF(LEFT($D648,1)=\"*\",\"\",LogData!C645)","v":""},{"$f":"IF(LEFT($D648,1)=\"*\",\"\",LogData!F645)","v":""},{"$f":"IF(LEFT($D648,1)=\"*\",\"\",LogData!D645)","v":""},{"$f":"LogData!E645","v":"*EOL*"},{"$f":"IF($D648=\"*EOL*\",\"\",INT(LogData!V645))","v":""},{"$f":"IF($D648=\"*EOL*\",\"\",LogData!V645-E648)","v":""},{"$f":"IF(LEFT($D648,1)=\"*\",\"\",IF(LogData!S645,\"DUPE\",\"\"))","v":""},{"$f":"IF(LEFT($D648,1)=\"*\",\"\",LogData!R645)","v":""}]
[{"$f":"IF(LEFT($D649,1)=\"*\",\"\",LogData!C646)","v":""},{"$f":"IF(LEFT($D649,1)=\"*\",\"\",LogData!F646)","v":""},{"$f":"IF(LEFT($D649,1)=\"*\",\"\",LogData!D646)","v":""},{"$f":"LogData!E646","v":"*EOL*"},{"$f":"IF($D649=\"*EOL*\",\"\",INT(LogData!V646))","v":""},{"$f":"IF($D649=\"*EOL*\",\"\",LogData!V646-E649)","v":""},{"$f":"IF(LEFT($D649,1)=\"*\",\"\",IF(LogData!S646,\"DUPE\",\"\"))","v":""},{"$f":"IF(LEFT($D649,1)=\"*\",\"\",LogData!R646)","v":""}]
[{"$f":"IF(LEFT($D650,1)=\"*\",\"\",LogData!C647)","v":""},{"$f":"IF(LEFT($D650,1)=\"*\",\"\",LogData!F647)","v":""},{"$f":"IF(LEFT($D650,1)=\"*\",\"\",LogData!D647)","v":""},{"$f":"LogData!E647","v":"*EOL*"},{"$f":"IF($D650=\"*EOL*\",\"\",INT(LogData!V647))","v":""},{"$f":"IF($D650=\"*EOL*\",\"\",LogData!V647-E650)","v":""},{"$f":"IF(LEFT($D650,1)=\"*\",\"\",IF(LogData!S647,\"DUPE\",\"\"))","v":""},{"$f":"IF(LEFT($D650,1)=\"*\",\"\",LogData!R647)","v":""}]
[{"$f":"IF(LEFT($D651,1)=\"*\",\"\",LogData!C648)","v":""},{"$f":"IF(LEFT($D651,1)=\"*\",\"\",LogData!F648)","v":""},{"$f":"IF(LEFT($D651,1)=\"*\",\"\",LogData!D648)","v":""},{"$f":"LogData!E648","v":"*EOL*"},{"$f":"IF($D651=\"*EOL*\",\"\",INT(LogData!V648))","v":""},{"$f":"IF($D651=\"*EOL*\",\"\",LogData!V648-E651)","v":""},{"$f":"IF(LEFT($D651,1)=\"*\",\"\",IF(LogData!S648,\"DUPE\",\"\"))","v":""},{"$f":"IF(LEFT($D651,1)=\"*\",\"\",LogData!R648)","v":""}]
[{"$f":"IF(LEFT($D652,1)=\"*\",\"\",LogData!C649)","v":""},{"$f":"IF(LEFT($D652,1)=\"*\",\"\",LogData!F649)","v":""},{"$f":"IF(LEFT($D652,1)=\"*\",\"\",LogData!D649)","v":""},{"$f":"LogData!E649","v":"*EOL*"},{"$f":"IF($D652=\"*EOL*\",\"\",INT(LogData!V649))","v":""},{"$f":"IF($D652=\"*EOL*\",\"\",LogData!V649-E652)","v":""},{"$f":"IF(LEFT($D652,1)=\"*\",\"\",IF(LogData!S649,\"DUPE\",\"\"))","v":""},{"$f":"IF(LEFT($D652,1)=\"*\",\"\",LogData!R649)","v":""}]
[{"$f":"IF(LEFT($D653,1)=\"*\",\"\",LogData!C650)","v":""},{"$f":"IF(LEFT($D653,1)=\"*\",\"\",LogData!F650)","v":""},{"$f":"IF(LEFT($D653,1)=\"*\",\"\",LogData!D650)","v":""},{"$f":"LogData!E650","v":"*EOL*"},{"$f":"IF($D653=\"*EOL*\",\"\",INT(LogData!V650))","v":""},{"$f":"IF($D653=\"*EOL*\",\"\",LogData!V650-E653)","v":""},{"$f":"IF(LEFT($D653,1)=\"*\",\"\",IF(LogData!S650,\"DUPE\",\"\"))","v":""},{"$f":"IF(LEFT($D653,1)=\"*\",\"\",LogData!R650)","v":""}]
[{"$f":"IF(LEFT($D654,1)=\"*\",\"\",LogData!C651)","v":""},{"$f":"IF(LEFT($D654,1)=\"*\",\"\",LogData!F651)","v":""},{"$f":"IF(LEFT($D654,1)=\"*\",\"\",LogData!D651)","v":""},{"$f":"LogData!E651","v":"*EOL*"},{"$f":"IF($D654=\"*EOL*\",\"\",INT(LogData!V651))","v":""},{"$f":"IF($D654=\"*EOL*\",\"\",LogData!V651-E654)","v":""},{"$f":"IF(LEFT($D654,1)=\"*\",\"\",IF(LogData!S651,\"DUPE\",\"\"))","v":""},{"$f":"IF(LEFT($D654,1)=\"*\",\"\",LogData!R651)","v":""}]
[{"$f":"IF(LEFT($D655,1)=\"*\",\"\",LogData!C652)","v":""},{"$f":"IF(LEFT($D655,1)=\"*\",\"\",LogData!F652)","v":""},{"$f":"IF(LEFT($D655,1)=\"*\",\"\",LogData!D652)","v":""},{"$f":"LogData!E652","v":"*EOL*"},{"$f":"IF($D655=\"*EOL*\",\"\",INT(LogData!V652))","v":""},{"$f":"IF($D655=\"*EOL*\",\"\",LogData!V652-E655)","v":""},{"$f":"IF(LEFT($D655,1)=\"*\",\"\",IF(LogData!S652,\"DUPE\",\"\"))","v":""},{"$f":"IF(LEFT($D655,1)=\"*\",\"\",LogData!R652)","v":""}]
[{"$f":"IF(LEFT($D656,1)=\"*\",\"\",LogData!C653)","v":""},{"$f":"IF(LEFT($D656,1)=\"*\",\"\",LogData!F653)","v":""},{"$f":"IF(LEFT($D656,1)=\"*\",\"\",LogData!D653)","v":""},{"$f":"LogData!E653","v":"*EOL*"},{"$f":"IF($D656=\"*EOL*\",\"\",INT(LogData!V653))","v":""},{"$f":"IF($D656=\"*EOL*\",\"\",LogData!V653-E656)","v":""},{"$f":"IF(LEFT($D656,1)=\"*\",\"\",IF(LogData!S653,\"DUPE\",\"\"))","v":""},{"$f":"IF(LEFT($D656,1)=\"*\",\"\",LogData!R653)","v":""}]
[{"$f":"IF(LEFT($D657,1)=\"*\",\"\",LogData!C654)","v":""},{"$f":"IF(LEFT($D657,1)=\"*\",\"\",LogData!F654)","v":""},{"$f":"IF(LEFT($D657,1)=\"*\",\"\",LogData!D654)","v":""},{"$f":"LogData!E654","v":"*EOL*"},{"$f":"IF($D657=\"*EOL*\",\"\",INT(LogData!V654))","v":""},{"$f":"IF($D657=\"*EOL*\",\"\",LogData!V654-E657)","v":""},{"$f":"IF(LEFT($D657,1)=\"*\",\"\",IF(LogData!S654,\"DUPE\",\"\"))","v":""},{"$f":"IF(LEFT($D657,1)=\"*\",\"\",LogData!R654)","v":""}]
[{"$f":"IF(LEFT($D658,1)=\"*\",\"\",LogData!C655)","v":""},{"$f":"IF(LEFT($D658,1)=\"*\",\"\",LogData!F655)","v":""},{"$f":"IF(LEFT($D658,1)=\"*\",\"\",LogData!D655)","v":""},{"$f":"LogData!E655","v":"*EOL*"},{"$f":"IF($D658=\"*EOL*\",\"\",INT(LogData!V655))","v":""},{"$f":"IF($D658=\"*EOL*\",\"\",LogData!V655-E658)","v":""},{"$f":"IF(LEFT($D658,1)=\"*\",\"\",IF(LogData!S655,\"DUPE\",\"\"))","v":""},{"$f":"IF(LEFT($D658,1)=\"*\",\"\",LogData!R655)","v":""}]
[{"$f":"IF(LEFT($D659,1)=\"*\",\"\",LogData!C656)","v":""},{"$f":"IF(LEFT($D659,1)=\"*\",\"\",LogData!F656)","v":""},{"$f":"IF(LEFT($D659,1)=\"*\",\"\",LogData!D656)","v":""},{"$f":"LogData!E656","v":"*EOL*"},{"$f":"IF($D659=\"*EOL*\",\"\",INT(LogData!V656))","v":""},{"$f":"IF($D659=\"*EOL*\",\"\",LogData!V656-E659)","v":""},{"$f":"IF(LEFT($D659,1)=\"*\",\"\",IF(LogData!S656,\"DUPE\",\"\"))","v":""},{"$f":"IF(LEFT($D659,1)=\"*\",\"\",LogData!R656)","v":""}]
[{"$f":"IF(LEFT($D660,1)=\"*\",\"\",LogData!C657)","v":""},{"$f":"IF(LEFT($D660,1)=\"*\",\"\",LogData!F657)","v":""},{"$f":"IF(LEFT($D660,1)=\"*\",\"\",LogData!D657)","v":""},{"$f":"LogData!E657","v":"*EOL*"},{"$f":"IF($D660=\"*EOL*\",\"\",INT(LogData!V657))","v":""},{"$f":"IF($D660=\"*EOL*\",\"\",LogData!V657-E660)","v":""},{"$f":"IF(LEFT($D660,1)=\"*\",\"\",IF(LogData!S657,\"DUPE\",\"\"))","v":""},{"$f":"IF(LEFT($D660,1)=\"*\",\"\",LogData!R657)","v":""}]
[{"$f":"IF(LEFT($D661,1)=\"*\",\"\",LogData!C658)","v":""},{"$f":"IF(LEFT($D661,1)=\"*\",\"\",LogData!F658)","v":""},{"$f":"IF(LEFT($D661,1)=\"*\",\"\",LogData!D658)","v":""},{"$f":"LogData!E658","v":"*EOL*"},{"$f":"IF($D661=\"*EOL*\",\"\",INT(LogData!V658))","v":""},{"$f":"IF($D661=\"*EOL*\",\"\",LogData!V658-E661)","v":""},{"$f":"IF(LEFT($D661,1)=\"*\",\"\",IF(LogData!S658,\"DUPE\",\"\"))","v":""},{"$f":"IF(LEFT($D661,1)=\"*\",\"\",LogData!R658)","v":""}]
[{"$f":"IF(LEFT($D662,1)=\"*\",\"\",LogData!C659)","v":""},{"$f":"IF(LEFT($D662,1)=\"*\",\"\",LogData!F659)","v":""},{"$f":"IF(LEFT($D662,1)=\"*\",\"\",LogData!D659)","v":""},{"$f":"LogData!E659","v":"*EOL*"},{"$f":"IF($D662=\"*EOL*\",\"\",INT(LogData!V659))","v":""},{"$f":"IF($D662=\"*EOL*\",\"\",LogData!V659-E662)","v":""},{"$f":"IF(LEFT($D662,1)=\"*\",\"\",IF(LogData!S659,\"DUPE\",\"\"))","v":""},{"$f":"IF(LEFT($D662,1)=\"*\",\"\",LogData!R659)","v":""}]
[{"$f":"IF(LEFT($D663,1)=\"*\",\"\",LogData!C660)","v":""},{"$f":"IF(LEFT($D663,1)=\"*\",\"\",LogData!F660)","v":""},{"$f":"IF(LEFT($D663,1)=\"*\",\"\",LogData!D660)","v":""},{"$f":"LogData!E660","v":"*EOL*"},{"$f":"IF($D663=\"*EOL*\",\"\",INT(LogData!V660))","v":""},{"$f":"IF($D663=\"*EOL*\",\"\",LogData!V660-E663)","v":""},{"$f":"IF(LEFT($D663,1)=\"*\",\"\",IF(LogData!S660,\"DUPE\",\"\"))","v":""},{"$f":"IF(LEFT($D663,1)=\"*\",\"\",LogData!R660)","v":""}]
[{"$f":"IF(LEFT($D664,1)=\"*\",\"\",LogData!C661)","v":""},{"$f":"IF(LEFT($D664,1)=\"*\",\"\",LogData!F661)","v":""},{"$f":"IF(LEFT($D664,1)=\"*\",\"\",LogData!D661)","v":""},{"$f":"LogData!E661","v":"*EOL*"},{"$f":"IF($D664=\"*EOL*\",\"\",INT(LogData!V661))","v":""},{"$f":"IF($D664=\"*EOL*\",\"\",LogData!V661-E664)","v":""},{"$f":"IF(LEFT($D664,1)=\"*\",\"\",IF(LogData!S661,\"DUPE\",\"\"))","v":""},{"$f":"IF(LEFT($D664,1)=\"*\",\"\",LogData!R661)","v":""}]
[{"$f":"IF(LEFT($D665,1)=\"*\",\"\",LogData!C662)","v":""},{"$f":"IF(LEFT($D665,1)=\"*\",\"\",LogData!F662)","v":""},{"$f":"IF(LEFT($D665,1)=\"*\",\"\",LogData!D662)","v":""},{"$f":"LogData!E662","v":"*EOL*"},{"$f":"IF($D665=\"*EOL*\",\"\",INT(LogData!V662))","v":""},{"$f":"IF($D665=\"*EOL*\",\"\",LogData!V662-E665)","v":""},{"$f":"IF(LEFT($D665,1)=\"*\",\"\",IF(LogData!S662,\"DUPE\",\"\"))","v":""},{"$f":"IF(LEFT($D665,1)=\"*\",\"\",LogData!R662)","v":""}]
[{"$f":"IF(LEFT($D666,1)=\"*\",\"\",LogData!C663)","v":""},{"$f":"IF(LEFT($D666,1)=\"*\",\"\",LogData!F663)","v":""},{"$f":"IF(LEFT($D666,1)=\"*\",\"\",LogData!D663)","v":""},{"$f":"LogData!E663","v":"*EOL*"},{"$f":"IF($D666=\"*EOL*\",\"\",INT(LogData!V663))","v":""},{"$f":"IF($D666=\"*EOL*\",\"\",LogData!V663-E666)","v":""},{"$f":"IF(LEFT($D666,1)=\"*\",\"\",IF(LogData!S663,\"DUPE\",\"\"))","v":""},{"$f":"IF(LEFT($D666,1)=\"*\",\"\",LogData!R663)","v":""}]
[{"$f":"IF(LEFT($D667,1)=\"*\",\"\",LogData!C664)","v":""},{"$f":"IF(LEFT($D667,1)=\"*\",\"\",LogData!F664)","v":""},{"$f":"IF(LEFT($D667,1)=\"*\",\"\",LogData!D664)","v":""},{"$f":"LogData!E664","v":"*EOL*"},{"$f":"IF($D667=\"*EOL*\",\"\",INT(LogData!V664))","v":""},{"$f":"IF($D667=\"*EOL*\",\"\",LogData!V664-E667)","v":""},{"$f":"IF(LEFT($D667,1)=\"*\",\"\",IF(LogData!S664,\"DUPE\",\"\"))","v":""},{"$f":"IF(LEFT($D667,1)=\"*\",\"\",LogData!R664)","v":""}]
[{"$f":"IF(LEFT($D668,1)=\"*\",\"\",LogData!C665)","v":""},{"$f":"IF(LEFT($D668,1)=\"*\",\"\",LogData!F665)","v":""},{"$f":"IF(LEFT($D668,1)=\"*\",\"\",LogData!D665)","v":""},{"$f":"LogData!E665","v":"*EOL*"},{"$f":"IF($D668=\"*EOL*\",\"\",INT(LogData!V665))","v":""},{"$f":"IF($D668=\"*EOL*\",\"\",LogData!V665-E668)","v":""},{"$f":"IF(LEFT($D668,1)=\"*\",\"\",IF(LogData!S665,\"DUPE\",\"\"))","v":""},{"$f":"IF(LEFT($D668,1)=\"*\",\"\",LogData!R665)","v":""}]
[{"$f":"IF(LEFT($D669,1)=\"*\",\"\",LogData!C666)","v":""},{"$f":"IF(LEFT($D669,1)=\"*\",\"\",LogData!F666)","v":""},{"$f":"IF(LEFT($D669,1)=\"*\",\"\",LogData!D666)","v":""},{"$f":"LogData!E666","v":"*EOL*"},{"$f":"IF($D669=\"*EOL*\",\"\",INT(LogData!V666))","v":""},{"$f":"IF($D669=\"*EOL*\",\"\",LogData!V666-E669)","v":""},{"$f":"IF(LEFT($D669,1)=\"*\",\"\",IF(LogData!S666,\"DUPE\",\"\"))","v":""},{"$f":"IF(LEFT($D669,1)=\"*\",\"\",LogData!R666)","v":""}]
[{"$f":"IF(LEFT($D670,1)=\"*\",\"\",LogData!C667)","v":""},{"$f":"IF(LEFT($D670,1)=\"*\",\"\",LogData!F667)","v":""},{"$f":"IF(LEFT($D670,1)=\"*\",\"\",LogData!D667)","v":""},{"$f":"LogData!E667","v":"*EOL*"},{"$f":"IF($D670=\"*EOL*\",\"\",INT(LogData!V667))","v":""},{"$f":"IF($D670=\"*EOL*\",\"\",LogData!V667-E670)","v":""},{"$f":"IF(LEFT($D670,1)=\"*\",\"\",IF(LogData!S667,\"DUPE\",\"\"))","v":""},{"$f":"IF(LEFT($D670,1)=\"*\",\"\",LogData!R667)","v":""}]
[{"$f":"IF(LEFT($D671,1)=\"*\",\"\",LogData!C668)","v":""},{"$f":"IF(LEFT($D671,1)=\"*\",\"\",LogData!F668)","v":""},{"$f":"IF(LEFT($D671,1)=\"*\",\"\",LogData!D668)","v":""},{"$f":"LogData!E668","v":"*EOL*"},{"$f":"IF($D671=\"*EOL*\",\"\",INT(LogData!V668))","v":""},{"$f":"IF($D671=\"*EOL*\",\"\",LogData!V668-E671)","v":""},{"$f":"IF(LEFT($D671,1)=\"*\",\"\",IF(LogData!S668,\"DUPE\",\"\"))","v":""},{"$f":"IF(LEFT($D671,1)=\"*\",\"\",LogData!R668)","v":""}]
[{"$f":"IF(LEFT($D672,1)=\"*\",\"\",LogData!C669)","v":""},{"$f":"IF(LEFT($D672,1)=\"*\",\"\",LogData!F669)","v":""},{"$f":"IF(LEFT($D672,1)=\"*\",\"\",LogData!D669)","v":""},{"$f":"LogData!E669","v":"*EOL*"},{"$f":"IF($D672=\"*EOL*\",\"\",INT(LogData!V669))","v":""},{"$f":"IF($D672=\"*EOL*\",\"\",LogData!V669-E672)","v":""},{"$f":"IF(LEFT($D672,1)=\"*\",\"\",IF(LogData!S669,\"DUPE\",\"\"))","v":""},{"$f":"IF(LEFT($D672,1)=\"*\",\"\",LogData!R669)","v":""}]
[{"$f":"IF(LEFT($D673,1)=\"*\",\"\",LogData!C670)","v":""},{"$f":"IF(LEFT($D673,1)=\"*\",\"\",LogData!F670)","v":""},{"$f":"IF(LEFT($D673,1)=\"*\",\"\",LogData!D670)","v":""},{"$f":"LogData!E670","v":"*EOL*"},{"$f":"IF($D673=\"*EOL*\",\"\",INT(LogData!V670))","v":""},{"$f":"IF($D673=\"*EOL*\",\"\",LogData!V670-E673)","v":""},{"$f":"IF(LEFT($D673,1)=\"*\",\"\",IF(LogData!S670,\"DUPE\",\"\"))","v":""},{"$f":"IF(LEFT($D673,1)=\"*\",\"\",LogData!R670)","v":""}]
[{"$f":"IF(LEFT($D674,1)=\"*\",\"\",LogData!C671)","v":""},{"$f":"IF(LEFT($D674,1)=\"*\",\"\",LogData!F671)","v":""},{"$f":"IF(LEFT($D674,1)=\"*\",\"\",LogData!D671)","v":""},{"$f":"LogData!E671","v":"*EOL*"},{"$f":"IF($D674=\"*EOL*\",\"\",INT(LogData!V671))","v":""},{"$f":"IF($D674=\"*EOL*\",\"\",LogData!V671-E674)","v":""},{"$f":"IF(LEFT($D674,1)=\"*\",\"\",IF(LogData!S671,\"DUPE\",\"\"))","v":""},{"$f":"IF(LEFT($D674,1)=\"*\",\"\",LogData!R671)","v":""}]
[{"$f":"IF(LEFT($D675,1)=\"*\",\"\",LogData!C672)","v":""},{"$f":"IF(LEFT($D675,1)=\"*\",\"\",LogData!F672)","v":""},{"$f":"IF(LEFT($D675,1)=\"*\",\"\",LogData!D672)","v":""},{"$f":"LogData!E672","v":"*EOL*"},{"$f":"IF($D675=\"*EOL*\",\"\",INT(LogData!V672))","v":""},{"$f":"IF($D675=\"*EOL*\",\"\",LogData!V672-E675)","v":""},{"$f":"IF(LEFT($D675,1)=\"*\",\"\",IF(LogData!S672,\"DUPE\",\"\"))","v":""},{"$f":"IF(LEFT($D675,1)=\"*\",\"\",LogData!R672)","v":""}]
[{"$f":"IF(LEFT($D676,1)=\"*\",\"\",LogData!C673)","v":""},{"$f":"IF(LEFT($D676,1)=\"*\",\"\",LogData!F673)","v":""},{"$f":"IF(LEFT($D676,1)=\"*\",\"\",LogData!D673)","v":""},{"$f":"LogData!E673","v":"*EOL*"},{"$f":"IF($D676=\"*EOL*\",\"\",INT(LogData!V673))","v":""},{"$f":"IF($D676=\"*EOL*\",\"\",LogData!V673-E676)","v":""},{"$f":"IF(LEFT($D676,1)=\"*\",\"\",IF(LogData!S673,\"DUPE\",\"\"))","v":""},{"$f":"IF(LEFT($D676,1)=\"*\",\"\",LogData!R673)","v":""}]
[{"$f":"IF(LEFT($D677,1)=\"*\",\"\",LogData!C674)","v":""},{"$f":"IF(LEFT($D677,1)=\"*\",\"\",LogData!F674)","v":""},{"$f":"IF(LEFT($D677,1)=\"*\",\"\",LogData!D674)","v":""},{"$f":"LogData!E674","v":"*EOL*"},{"$f":"IF($D677=\"*EOL*\",\"\",INT(LogData!V674))","v":""},{"$f":"IF($D677=\"*EOL*\",\"\",LogData!V674-E677)","v":""},{"$f":"IF(LEFT($D677,1)=\"*\",\"\",IF(LogData!S674,\"DUPE\",\"\"))","v":""},{"$f":"IF(LEFT($D677,1)=\"*\",\"\",LogData!R674)","v":""}]
[{"$f":"IF(LEFT($D678,1)=\"*\",\"\",LogData!C675)","v":""},{"$f":"IF(LEFT($D678,1)=\"*\",\"\",LogData!F675)","v":""},{"$f":"IF(LEFT($D678,1)=\"*\",\"\",LogData!D675)","v":""},{"$f":"LogData!E675","v":"*EOL*"},{"$f":"IF($D678=\"*EOL*\",\"\",INT(LogData!V675))","v":""},{"$f":"IF($D678=\"*EOL*\",\"\",LogData!V675-E678)","v":""},{"$f":"IF(LEFT($D678,1)=\"*\",\"\",IF(LogData!S675,\"DUPE\",\"\"))","v":""},{"$f":"IF(LEFT($D678,1)=\"*\",\"\",LogData!R675)","v":""}]
[{"$f":"IF(LEFT($D679,1)=\"*\",\"\",LogData!C676)","v":""},{"$f":"IF(LEFT($D679,1)=\"*\",\"\",LogData!F676)","v":""},{"$f":"IF(LEFT($D679,1)=\"*\",\"\",LogData!D676)","v":""},{"$f":"LogData!E676","v":"*EOL*"},{"$f":"IF($D679=\"*EOL*\",\"\",INT(LogData!V676))","v":""},{"$f":"IF($D679=\"*EOL*\",\"\",LogData!V676-E679)","v":""},{"$f":"IF(LEFT($D679,1)=\"*\",\"\",IF(LogData!S676,\"DUPE\",\"\"))","v":""},{"$f":"IF(LEFT($D679,1)=\"*\",\"\",LogData!R676)","v":""}]
[{"$f":"IF(LEFT($D680,1)=\"*\",\"\",LogData!C677)","v":""},{"$f":"IF(LEFT($D680,1)=\"*\",\"\",LogData!F677)","v":""},{"$f":"IF(LEFT($D680,1)=\"*\",\"\",LogData!D677)","v":""},{"$f":"LogData!E677","v":"*EOL*"},{"$f":"IF($D680=\"*EOL*\",\"\",INT(LogData!V677))","v":""},{"$f":"IF($D680=\"*EOL*\",\"\",LogData!V677-E680)","v":""},{"$f":"IF(LEFT($D680,1)=\"*\",\"\",IF(LogData!S677,\"DUPE\",\"\"))","v":""},{"$f":"IF(LEFT($D680,1)=\"*\",\"\",LogData!R677)","v":""}]
[{"$f":"IF(LEFT($D681,1)=\"*\",\"\",LogData!C678)","v":""},{"$f":"IF(LEFT($D681,1)=\"*\",\"\",LogData!F678)","v":""},{"$f":"IF(LEFT($D681,1)=\"*\",\"\",LogData!D678)","v":""},{"$f":"LogData!E678","v":"*EOL*"},{"$f":"IF($D681=\"*EOL*\",\"\",INT(LogData!V678))","v":""},{"$f":"IF($D681=\"*EOL*\",\"\",LogData!V678-E681)","v":""},{"$f":"IF(LEFT($D681,1)=\"*\",\"\",IF(LogData!S678,\"DUPE\",\"\"))","v":""},{"$f":"IF(LEFT($D681,1)=\"*\",\"\",LogData!R678)","v":""}]
[{"$f":"IF(LEFT($D682,1)=\"*\",\"\",LogData!C679)","v":""},{"$f":"IF(LEFT($D682,1)=\"*\",\"\",LogData!F679)","v":""},{"$f":"IF(LEFT($D682,1)=\"*\",\"\",LogData!D679)","v":""},{"$f":"LogData!E679","v":"*EOL*"},{"$f":"IF($D682=\"*EOL*\",\"\",INT(LogData!V679))","v":""},{"$f":"IF($D682=\"*EOL*\",\"\",LogData!V679-E682)","v":""},{"$f":"IF(LEFT($D682,1)=\"*\",\"\",IF(LogData!S679,\"DUPE\",\"\"))","v":""},{"$f":"IF(LEFT($D682,1)=\"*\",\"\",LogData!R679)","v":""}]
[{"$f":"IF(LEFT($D683,1)=\"*\",\"\",LogData!C680)","v":""},{"$f":"IF(LEFT($D683,1)=\"*\",\"\",LogData!F680)","v":""},{"$f":"IF(LEFT($D683,1)=\"*\",\"\",LogData!D680)","v":""},{"$f":"LogData!E680","v":"*EOL*"},{"$f":"IF($D683=\"*EOL*\",\"\",INT(LogData!V680))","v":""},{"$f":"IF($D683=\"*EOL*\",\"\",LogData!V680-E683)","v":""},{"$f":"IF(LEFT($D683,1)=\"*\",\"\",IF(LogData!S680,\"DUPE\",\"\"))","v":""},{"$f":"IF(LEFT($D683,1)=\"*\",\"\",LogData!R680)","v":""}]
[{"$f":"IF(LEFT($D684,1)=\"*\",\"\",LogData!C681)","v":""},{"$f":"IF(LEFT($D684,1)=\"*\",\"\",LogData!F681)","v":""},{"$f":"IF(LEFT($D684,1)=\"*\",\"\",LogData!D681)","v":""},{"$f":"LogData!E681","v":"*EOL*"},{"$f":"IF($D684=\"*EOL*\",\"\",INT(LogData!V681))","v":""},{"$f":"IF($D684=\"*EOL*\",\"\",LogData!V681-E684)","v":""},{"$f":"IF(LEFT($D684,1)=\"*\",\"\",IF(LogData!S681,\"DUPE\",\"\"))","v":""},{"$f":"IF(LEFT($D684,1)=\"*\",\"\",LogData!R681)","v":""}]
[{"$f":"IF(LEFT($D685,1)=\"*\",\"\",LogData!C682)","v":""},{"$f":"IF(LEFT($D685,1)=\"*\",\"\",LogData!F682)","v":""},{"$f":"IF(LEFT($D685,1)=\"*\",\"\",LogData!D682)","v":""},{"$f":"LogData!E682","v":"*EOL*"},{"$f":"IF($D685=\"*EOL*\",\"\",INT(LogData!V682))","v":""},{"$f":"IF($D685=\"*EOL*\",\"\",LogData!V682-E685)","v":""},{"$f":"IF(LEFT($D685,1)=\"*\",\"\",IF(LogData!S682,\"DUPE\",\"\"))","v":""},{"$f":"IF(LEFT($D685,1)=\"*\",\"\",LogData!R682)","v":""}]
[{"$f":"IF(LEFT($D686,1)=\"*\",\"\",LogData!C683)","v":""},{"$f":"IF(LEFT($D686,1)=\"*\",\"\",LogData!F683)","v":""},{"$f":"IF(LEFT($D686,1)=\"*\",\"\",LogData!D683)","v":""},{"$f":"LogData!E683","v":"*EOL*"},{"$f":"IF($D686=\"*EOL*\",\"\",INT(LogData!V683))","v":""},{"$f":"IF($D686=\"*EOL*\",\"\",LogData!V683-E686)","v":""},{"$f":"IF(LEFT($D686,1)=\"*\",\"\",IF(LogData!S683,\"DUPE\",\"\"))","v":""},{"$f":"IF(LEFT($D686,1)=\"*\",\"\",LogData!R683)","v":""}]
[{"$f":"IF(LEFT($D687,1)=\"*\",\"\",LogData!C684)","v":""},{"$f":"IF(LEFT($D687,1)=\"*\",\"\",LogData!F684)","v":""},{"$f":"IF(LEFT($D687,1)=\"*\",\"\",LogData!D684)","v":""},{"$f":"LogData!E684","v":"*EOL*"},{"$f":"IF($D687=\"*EOL*\",\"\",INT(LogData!V684))","v":""},{"$f":"IF($D687=\"*EOL*\",\"\",LogData!V684-E687)","v":""},{"$f":"IF(LEFT($D687,1)=\"*\",\"\",IF(LogData!S684,\"DUPE\",\"\"))","v":""},{"$f":"IF(LEFT($D687,1)=\"*\",\"\",LogData!R684)","v":""}]
[{"$f":"IF(LEFT($D688,1)=\"*\",\"\",LogData!C685)","v":""},{"$f":"IF(LEFT($D688,1)=\"*\",\"\",LogData!F685)","v":""},{"$f":"IF(LEFT($D688,1)=\"*\",\"\",LogData!D685)","v":""},{"$f":"LogData!E685","v":"*EOL*"},{"$f":"IF($D688=\"*EOL*\",\"\",INT(LogData!V685))","v":""},{"$f":"IF($D688=\"*EOL*\",\"\",LogData!V685-E688)","v":""},{"$f":"IF(LEFT($D688,1)=\"*\",\"\",IF(LogData!S685,\"DUPE\",\"\"))","v":""},{"$f":"IF(LEFT($D688,1)=\"*\",\"\",LogData!R685)","v":""}]
[{"$f":"IF(LEFT($D689,1)=\"*\",\"\",LogData!C686)","v":""},{"$f":"IF(LEFT($D689,1)=\"*\",\"\",LogData!F686)","v":""},{"$f":"IF(LEFT($D689,1)=\"*\",\"\",LogData!D686)","v":""},{"$f":"LogData!E686","v":"*EOL*"},{"$f":"IF($D689=\"*EOL*\",\"\",INT(LogData!V686))","v":""},{"$f":"IF($D689=\"*EOL*\",\"\",LogData!V686-E689)","v":""},{"$f":"IF(LEFT($D689,1)=\"*\",\"\",IF(LogData!S686,\"DUPE\",\"\"))","v":""},{"$f":"IF(LEFT($D689,1)=\"*\",\"\",LogData!R686)","v":""}]
[{"$f":"IF(LEFT($D690,1)=\"*\",\"\",LogData!C687)","v":""},{"$f":"IF(LEFT($D690,1)=\"*\",\"\",LogData!F687)","v":""},{"$f":"IF(LEFT($D690,1)=\"*\",\"\",LogData!D687)","v":""},{"$f":"LogData!E687","v":"*EOL*"},{"$f":"IF($D690=\"*EOL*\",\"\",INT(LogData!V687))","v":""},{"$f":"IF($D690=\"*EOL*\",\"\",LogData!V687-E690)","v":""},{"$f":"IF(LEFT($D690,1)=\"*\",\"\",IF(LogData!S687,\"DUPE\",\"\"))","v":""},{"$f":"IF(LEFT($D690,1)=\"*\",\"\",LogData!R687)","v":""}]
[{"$f":"IF(LEFT($D691,1)=\"*\",\"\",LogData!C688)","v":""},{"$f":"IF(LEFT($D691,1)=\"*\",\"\",LogData!F688)","v":""},{"$f":"IF(LEFT($D691,1)=\"*\",\"\",LogData!D688)","v":""},{"$f":"LogData!E688","v":"*EOL*"},{"$f":"IF($D691=\"*EOL*\",\"\",INT(LogData!V688))","v":""},{"$f":"IF($D691=\"*EOL*\",\"\",LogData!V688-E691)","v":""},{"$f":"IF(LEFT($D691,1)=\"*\",\"\",IF(LogData!S688,\"DUPE\",\"\"))","v":""},{"$f":"IF(LEFT($D691,1)=\"*\",\"\",LogData!R688)","v":""}]
[{"$f":"IF(LEFT($D692,1)=\"*\",\"\",LogData!C689)","v":""},{"$f":"IF(LEFT($D692,1)=\"*\",\"\",LogData!F689)","v":""},{"$f":"IF(LEFT($D692,1)=\"*\",\"\",LogData!D689)","v":""},{"$f":"LogData!E689","v":"*EOL*"},{"$f":"IF($D692=\"*EOL*\",\"\",INT(LogData!V689))","v":""},{"$f":"IF($D692=\"*EOL*\",\"\",LogData!V689-E692)","v":""},{"$f":"IF(LEFT($D692,1)=\"*\",\"\",IF(LogData!S689,\"DUPE\",\"\"))","v":""},{"$f":"IF(LEFT($D692,1)=\"*\",\"\",LogData!R689)","v":""}]
[{"$f":"IF(LEFT($D693,1)=\"*\",\"\",LogData!C690)","v":""},{"$f":"IF(LEFT($D693,1)=\"*\",\"\",LogData!F690)","v":""},{"$f":"IF(LEFT($D693,1)=\"*\",\"\",LogData!D690)","v":""},{"$f":"LogData!E690","v":"*EOL*"},{"$f":"IF($D693=\"*EOL*\",\"\",INT(LogData!V690))","v":""},{"$f":"IF($D693=\"*EOL*\",\"\",LogData!V690-E693)","v":""},{"$f":"IF(LEFT($D693,1)=\"*\",\"\",IF(LogData!S690,\"DUPE\",\"\"))","v":""},{"$f":"IF(LEFT($D693,1)=\"*\",\"\",LogData!R690)","v":""}]
[{"$f":"IF(LEFT($D694,1)=\"*\",\"\",LogData!C691)","v":""},{"$f":"IF(LEFT($D694,1)=\"*\",\"\",LogData!F691)","v":""},{"$f":"IF(LEFT($D694,1)=\"*\",\"\",LogData!D691)","v":""},{"$f":"LogData!E691","v":"*EOL*"},{"$f":"IF($D694=\"*EOL*\",\"\",INT(LogData!V691))","v":""},{"$f":"IF($D694=\"*EOL*\",\"\",LogData!V691-E694)","v":""},{"$f":"IF(LEFT($D694,1)=\"*\",\"\",IF(LogData!S691,\"DUPE\",\"\"))","v":""},{"$f":"IF(LEFT($D694,1)=\"*\",\"\",LogData!R691)","v":""}]
[{"$f":"IF(LEFT($D695,1)=\"*\",\"\",LogData!C692)","v":""},{"$f":"IF(LEFT($D695,1)=\"*\",\"\",LogData!F692)","v":""},{"$f":"IF(LEFT($D695,1)=\"*\",\"\",LogData!D692)","v":""},{"$f":"LogData!E692","v":"*EOL*"},{"$f":"IF($D695=\"*EOL*\",\"\",INT(LogData!V692))","v":""},{"$f":"IF($D695=\"*EOL*\",\"\",LogData!V692-E695)","v":""},{"$f":"IF(LEFT($D695,1)=\"*\",\"\",IF(LogData!S692,\"DUPE\",\"\"))","v":""},{"$f":"IF(LEFT($D695,1)=\"*\",\"\",LogData!R692)","v":""}]
[{"$f":"IF(LEFT($D696,1)=\"*\",\"\",LogData!C693)","v":""},{"$f":"IF(LEFT($D696,1)=\"*\",\"\",LogData!F693)","v":""},{"$f":"IF(LEFT($D696,1)=\"*\",\"\",LogData!D693)","v":""},{"$f":"LogData!E693","v":"*EOL*"},{"$f":"IF($D696=\"*EOL*\",\"\",INT(LogData!V693))","v":""},{"$f":"IF($D696=\"*EOL*\",\"\",LogData!V693-E696)","v":""},{"$f":"IF(LEFT($D696,1)=\"*\",\"\",IF(LogData!S693,\"DUPE\",\"\"))","v":""},{"$f":"IF(LEFT($D696,1)=\"*\",\"\",LogData!R693)","v":""}]
[{"$f":"IF(LEFT($D697,1)=\"*\",\"\",LogData!C694)","v":""},{"$f":"IF(LEFT($D697,1)=\"*\",\"\",LogData!F694)","v":""},{"$f":"IF(LEFT($D697,1)=\"*\",\"\",LogData!D694)","v":""},{"$f":"LogData!E694","v":"*EOL*"},{"$f":"IF($D697=\"*EOL*\",\"\",INT(LogData!V694))","v":""},{"$f":"IF($D697=\"*EOL*\",\"\",LogData!V694-E697)","v":""},{"$f":"IF(LEFT($D697,1)=\"*\",\"\",IF(LogData!S694,\"DUPE\",\"\"))","v":""},{"$f":"IF(LEFT($D697,1)=\"*\",\"\",LogData!R694)","v":""}]
[{"$f":"IF(LEFT($D698,1)=\"*\",\"\",LogData!C695)","v":""},{"$f":"IF(LEFT($D698,1)=\"*\",\"\",LogData!F695)","v":""},{"$f":"IF(LEFT($D698,1)=\"*\",\"\",LogData!D695)","v":""},{"$f":"LogData!E695","v":"*EOL*"},{"$f":"IF($D698=\"*EOL*\",\"\",INT(LogData!V695))","v":""},{"$f":"IF($D698=\"*EOL*\",\"\",LogData!V695-E698)","v":""},{"$f":"IF(LEFT($D698,1)=\"*\",\"\",IF(LogData!S695,\"DUPE\",\"\"))","v":""},{"$f":"IF(LEFT($D698,1)=\"*\",\"\",LogData!R695)","v":""}]
[{"$f":"IF(LEFT($D699,1)=\"*\",\"\",LogData!C696)","v":""},{"$f":"IF(LEFT($D699,1)=\"*\",\"\",LogData!F696)","v":""},{"$f":"IF(LEFT($D699,1)=\"*\",\"\",LogData!D696)","v":""},{"$f":"LogData!E696","v":"*EOL*"},{"$f":"IF($D699=\"*EOL*\",\"\",INT(LogData!V696))","v":""},{"$f":"IF($D699=\"*EOL*\",\"\",LogData!V696-E699)","v":""},{"$f":"IF(LEFT($D699,1)=\"*\",\"\",IF(LogData!S696,\"DUPE\",\"\"))","v":""},{"$f":"IF(LEFT($D699,1)=\"*\",\"\",LogData!R696)","v":""}]
[{"$f":"IF(LEFT($D700,1)=\"*\",\"\",LogData!C697)","v":""},{"$f":"IF(LEFT($D700,1)=\"*\",\"\",LogData!F697)","v":""},{"$f":"IF(LEFT($D700,1)=\"*\",\"\",LogData!D697)","v":""},{"$f":"LogData!E697","v":"*EOL*"},{"$f":"IF($D700=\"*EOL*\",\"\",INT(LogData!V697))","v":""},{"$f":"IF($D700=\"*EOL*\",\"\",LogData!V697-E700)","v":""},{"$f":"IF(LEFT($D700,1)=\"*\",\"\",IF(LogData!S697,\"DUPE\",\"\"))","v":""},{"$f":"IF(LEFT($D700,1)=\"*\",\"\",LogData!R697)","v":""}]
[{"$f":"IF(LEFT($D701,1)=\"*\",\"\",LogData!C698)","v":""},{"$f":"IF(LEFT($D701,1)=\"*\",\"\",LogData!F698)","v":""},{"$f":"IF(LEFT($D701,1)=\"*\",\"\",LogData!D698)","v":""},{"$f":"LogData!E698","v":"*EOL*"},{"$f":"IF($D701=\"*EOL*\",\"\",INT(LogData!V698))","v":""},{"$f":"IF($D701=\"*EOL*\",\"\",LogData!V698-E701)","v":""},{"$f":"IF(LEFT($D701,1)=\"*\",\"\",IF(LogData!S698,\"DUPE\",\"\"))","v":""},{"$f":"IF(LEFT($D701,1)=\"*\",\"\",LogData!R698)","v":""}]
[{"$f":"IF(LEFT($D702,1)=\"*\",\"\",LogData!C699)","v":""},{"$f":"IF(LEFT($D702,1)=\"*\",\"\",LogData!F699)","v":""},{"$f":"IF(LEFT($D702,1)=\"*\",\"\",LogData!D699)","v":""},{"$f":"LogData!E699","v":"*EOL*"},{"$f":"IF($D702=\"*EOL*\",\"\",INT(LogData!V699))","v":""},{"$f":"IF($D702=\"*EOL*\",\"\",LogData!V699-E702)","v":""},{"$f":"IF(LEFT($D702,1)=\"*\",\"\",IF(LogData!S699,\"DUPE\",\"\"))","v":""},{"$f":"IF(LEFT($D702,1)=\"*\",\"\",LogData!R699)","v":""}]
[{"$f":"IF(LEFT($D703,1)=\"*\",\"\",LogData!C700)","v":""},{"$f":"IF(LEFT($D703,1)=\"*\",\"\",LogData!F700)","v":""},{"$f":"IF(LEFT($D703,1)=\"*\",\"\",LogData!D700)","v":""},{"$f":"LogData!E700","v":"*EOL*"},{"$f":"IF($D703=\"*EOL*\",\"\",INT(LogData!V700))","v":""},{"$f":"IF($D703=\"*EOL*\",\"\",LogData!V700-E703)","v":""},{"$f":"IF(LEFT($D703,1)=\"*\",\"\",IF(LogData!S700,\"DUPE\",\"\"))","v":""},{"$f":"IF(LEFT($D703,1)=\"*\",\"\",LogData!R700)","v":""}]
[{"$f":"IF(LEFT($D704,1)=\"*\",\"\",LogData!C701)","v":""},{"$f":"IF(LEFT($D704,1)=\"*\",\"\",LogData!F701)","v":""},{"$f":"IF(LEFT($D704,1)=\"*\",\"\",LogData!D701)","v":""},{"$f":"LogData!E701","v":"*EOL*"},{"$f":"IF($D704=\"*EOL*\",\"\",INT(LogData!V701))","v":""},{"$f":"IF($D704=\"*EOL*\",\"\",LogData!V701-E704)","v":""},{"$f":"IF(LEFT($D704,1)=\"*\",\"\",IF(LogData!S701,\"DUPE\",\"\"))","v":""},{"$f":"IF(LEFT($D704,1)=\"*\",\"\",LogData!R701)","v":""}]
[{"$f":"IF(LEFT($D705,1)=\"*\",\"\",LogData!C702)","v":""},{"$f":"IF(LEFT($D705,1)=\"*\",\"\",LogData!F702)","v":""},{"$f":"IF(LEFT($D705,1)=\"*\",\"\",LogData!D702)","v":""},{"$f":"LogData!E702","v":"*EOL*"},{"$f":"IF($D705=\"*EOL*\",\"\",INT(LogData!V702))","v":""},{"$f":"IF($D705=\"*EOL*\",\"\",LogData!V702-E705)","v":""},{"$f":"IF(LEFT($D705,1)=\"*\",\"\",IF(LogData!S702,\"DUPE\",\"\"))","v":""},{"$f":"IF(LEFT($D705,1)=\"*\",\"\",LogData!R702)","v":""}]
[{"$f":"IF(LEFT($D706,1)=\"*\",\"\",LogData!C703)","v":""},{"$f":"IF(LEFT($D706,1)=\"*\",\"\",LogData!F703)","v":""},{"$f":"IF(LEFT($D706,1)=\"*\",\"\",LogData!D703)","v":""},{"$f":"LogData!E703","v":"*EOL*"},{"$f":"IF($D706=\"*EOL*\",\"\",INT(LogData!V703))","v":""},{"$f":"IF($D706=\"*EOL*\",\"\",LogData!V703-E706)","v":""},{"$f":"IF(LEFT($D706,1)=\"*\",\"\",IF(LogData!S703,\"DUPE\",\"\"))","v":""},{"$f":"IF(LEFT($D706,1)=\"*\",\"\",LogData!R703)","v":""}]
[{"$f":"IF(LEFT($D707,1)=\"*\",\"\",LogData!C704)","v":""},{"$f":"IF(LEFT($D707,1)=\"*\",\"\",LogData!F704)","v":""},{"$f":"IF(LEFT($D707,1)=\"*\",\"\",LogData!D704)","v":""},{"$f":"LogData!E704","v":"*EOL*"},{"$f":"IF($D707=\"*EOL*\",\"\",INT(LogData!V704))","v":""},{"$f":"IF($D707=\"*EOL*\",\"\",LogData!V704-E707)","v":""},{"$f":"IF(LEFT($D707,1)=\"*\",\"\",IF(LogData!S704,\"DUPE\",\"\"))","v":""},{"$f":"IF(LEFT($D707,1)=\"*\",\"\",LogData!R704)","v":""}]
[{"$f":"IF(LEFT($D708,1)=\"*\",\"\",LogData!C705)","v":""},{"$f":"IF(LEFT($D708,1)=\"*\",\"\",LogData!F705)","v":""},{"$f":"IF(LEFT($D708,1)=\"*\",\"\",LogData!D705)","v":""},{"$f":"LogData!E705","v":"*EOL*"},{"$f":"IF($D708=\"*EOL*\",\"\",INT(LogData!V705))","v":""},{"$f":"IF($D708=\"*EOL*\",\"\",LogData!V705-E708)","v":""},{"$f":"IF(LEFT($D708,1)=\"*\",\"\",IF(LogData!S705,\"DUPE\",\"\"))","v":""},{"$f":"IF(LEFT($D708,1)=\"*\",\"\",LogData!R705)","v":""}]
[{"$f":"IF(LEFT($D709,1)=\"*\",\"\",LogData!C706)","v":""},{"$f":"IF(LEFT($D709,1)=\"*\",\"\",LogData!F706)","v":""},{"$f":"IF(LEFT($D709,1)=\"*\",\"\",LogData!D706)","v":""},{"$f":"LogData!E706","v":"*EOL*"},{"$f":"IF($D709=\"*EOL*\",\"\",INT(LogData!V706))","v":""},{"$f":"IF($D709=\"*EOL*\",\"\",LogData!V706-E709)","v":""},{"$f":"IF(LEFT($D709,1)=\"*\",\"\",IF(LogData!S706,\"DUPE\",\"\"))","v":""},{"$f":"IF(LEFT($D709,1)=\"*\",\"\",LogData!R706)","v":""}]
[{"$f":"IF(LEFT($D710,1)=\"*\",\"\",LogData!C707)","v":""},{"$f":"IF(LEFT($D710,1)=\"*\",\"\",LogData!F707)","v":""},{"$f":"IF(LEFT($D710,1)=\"*\",\"\",LogData!D707)","v":""},{"$f":"LogData!E707","v":"*EOL*"},{"$f":"IF($D710=\"*EOL*\",\"\",INT(LogData!V707))","v":""},{"$f":"IF($D710=\"*EOL*\",\"\",LogData!V707-E710)","v":""},{"$f":"IF(LEFT($D710,1)=\"*\",\"\",IF(LogData!S707,\"DUPE\",\"\"))","v":""},{"$f":"IF(LEFT($D710,1)=\"*\",\"\",LogData!R707)","v":""}]
[{"$f":"IF(LEFT($D711,1)=\"*\",\"\",LogData!C708)","v":""},{"$f":"IF(LEFT($D711,1)=\"*\",\"\",LogData!F708)","v":""},{"$f":"IF(LEFT($D711,1)=\"*\",\"\",LogData!D708)","v":""},{"$f":"LogData!E708","v":"*EOL*"},{"$f":"IF($D711=\"*EOL*\",\"\",INT(LogData!V708))","v":""},{"$f":"IF($D711=\"*EOL*\",\"\",LogData!V708-E711)","v":""},{"$f":"IF(LEFT($D711,1)=\"*\",\"\",IF(LogData!S708,\"DUPE\",\"\"))","v":""},{"$f":"IF(LEFT($D711,1)=\"*\",\"\",LogData!R708)","v":""}]
[{"$f":"IF(LEFT($D712,1)=\"*\",\"\",LogData!C709)","v":""},{"$f":"IF(LEFT($D712,1)=\"*\",\"\",LogData!F709)","v":""},{"$f":"IF(LEFT($D712,1)=\"*\",\"\",LogData!D709)","v":""},{"$f":"LogData!E709","v":"*EOL*"},{"$f":"IF($D712=\"*EOL*\",\"\",INT(LogData!V709))","v":""},{"$f":"IF($D712=\"*EOL*\",\"\",LogData!V709-E712)","v":""},{"$f":"IF(LEFT($D712,1)=\"*\",\"\",IF(LogData!S709,\"DUPE\",\"\"))","v":""},{"$f":"IF(LEFT($D712,1)=\"*\",\"\",LogData!R709)","v":""}]
[{"$f":"IF(LEFT($D713,1)=\"*\",\"\",LogData!C710)","v":""},{"$f":"IF(LEFT($D713,1)=\"*\",\"\",LogData!F710)","v":""},{"$f":"IF(LEFT($D713,1)=\"*\",\"\",LogData!D710)","v":""},{"$f":"LogData!E710","v":"*EOL*"},{"$f":"IF($D713=\"*EOL*\",\"\",INT(LogData!V710))","v":""},{"$f":"IF($D713=\"*EOL*\",\"\",LogData!V710-E713)","v":""},{"$f":"IF(LEFT($D713,1)=\"*\",\"\",IF(LogData!S710,\"DUPE\",\"\"))","v":""},{"$f":"IF(LEFT($D713,1)=\"*\",\"\",LogData!R710)","v":""}]
[{"$f":"IF(LEFT($D714,1)=\"*\",\"\",LogData!C711)","v":""},{"$f":"IF(LEFT($D714,1)=\"*\",\"\",LogData!F711)","v":""},{"$f":"IF(LEFT($D714,1)=\"*\",\"\",LogData!D711)","v":""},{"$f":"LogData!E711","v":"*EOL*"},{"$f":"IF($D714=\"*EOL*\",\"\",INT(LogData!V711))","v":""},{"$f":"IF($D714=\"*EOL*\",\"\",LogData!V711-E714)","v":""},{"$f":"IF(LEFT($D714,1)=\"*\",\"\",IF(LogData!S711,\"DUPE\",\"\"))","v":""},{"$f":"IF(LEFT($D714,1)=\"*\",\"\",LogData!R711)","v":""}]
[{"$f":"IF(LEFT($D715,1)=\"*\",\"\",LogData!C712)","v":""},{"$f":"IF(LEFT($D715,1)=\"*\",\"\",LogData!F712)","v":""},{"$f":"IF(LEFT($D715,1)=\"*\",\"\",LogData!D712)","v":""},{"$f":"LogData!E712","v":"*EOL*"},{"$f":"IF($D715=\"*EOL*\",\"\",INT(LogData!V712))","v":""},{"$f":"IF($D715=\"*EOL*\",\"\",LogData!V712-E715)","v":""},{"$f":"IF(LEFT($D715,1)=\"*\",\"\",IF(LogData!S712,\"DUPE\",\"\"))","v":""},{"$f":"IF(LEFT($D715,1)=\"*\",\"\",LogData!R712)","v":""}]
[{"$f":"IF(LEFT($D716,1)=\"*\",\"\",LogData!C713)","v":""},{"$f":"IF(LEFT($D716,1)=\"*\",\"\",LogData!F713)","v":""},{"$f":"IF(LEFT($D716,1)=\"*\",\"\",LogData!D713)","v":""},{"$f":"LogData!E713","v":"*EOL*"},{"$f":"IF($D716=\"*EOL*\",\"\",INT(LogData!V713))","v":""},{"$f":"IF($D716=\"*EOL*\",\"\",LogData!V713-E716)","v":""},{"$f":"IF(LEFT($D716,1)=\"*\",\"\",IF(LogData!S713,\"DUPE\",\"\"))","v":""},{"$f":"IF(LEFT($D716,1)=\"*\",\"\",LogData!R713)","v":""}]
[{"$f":"IF(LEFT($D717,1)=\"*\",\"\",LogData!C714)","v":""},{"$f":"IF(LEFT($D717,1)=\"*\",\"\",LogData!F714)","v":""},{"$f":"IF(LEFT($D717,1)=\"*\",\"\",LogData!D714)","v":""},{"$f":"LogData!E714","v":"*EOL*"},{"$f":"IF($D717=\"*EOL*\",\"\",INT(LogData!V714))","v":""},{"$f":"IF($D717=\"*EOL*\",\"\",LogData!V714-E717)","v":""},{"$f":"IF(LEFT($D717,1)=\"*\",\"\",IF(LogData!S714,\"DUPE\",\"\"))","v":""},{"$f":"IF(LEFT($D717,1)=\"*\",\"\",LogData!R714)","v":""}]
[{"$f":"IF(LEFT($D718,1)=\"*\",\"\",LogData!C715)","v":""},{"$f":"IF(LEFT($D718,1)=\"*\",\"\",LogData!F715)","v":""},{"$f":"IF(LEFT($D718,1)=\"*\",\"\",LogData!D715)","v":""},{"$f":"LogData!E715","v":"*EOL*"},{"$f":"IF($D718=\"*EOL*\",\"\",INT(LogData!V715))","v":""},{"$f":"IF($D718=\"*EOL*\",\"\",LogData!V715-E718)","v":""},{"$f":"IF(LEFT($D718,1)=\"*\",\"\",IF(LogData!S715,\"DUPE\",\"\"))","v":""},{"$f":"IF(LEFT($D718,1)=\"*\",\"\",LogData!R715)","v":""}]
[{"$f":"IF(LEFT($D719,1)=\"*\",\"\",LogData!C716)","v":""},{"$f":"IF(LEFT($D719,1)=\"*\",\"\",LogData!F716)","v":""},{"$f":"IF(LEFT($D719,1)=\"*\",\"\",LogData!D716)","v":""},{"$f":"LogData!E716","v":"*EOL*"},{"$f":"IF($D719=\"*EOL*\",\"\",INT(LogData!V716))","v":""},{"$f":"IF($D719=\"*EOL*\",\"\",LogData!V716-E719)","v":""},{"$f":"IF(LEFT($D719,1)=\"*\",\"\",IF(LogData!S716,\"DUPE\",\"\"))","v":""},{"$f":"IF(LEFT($D719,1)=\"*\",\"\",LogData!R716)","v":""}]
[{"$f":"IF(LEFT($D720,1)=\"*\",\"\",LogData!C717)","v":""},{"$f":"IF(LEFT($D720,1)=\"*\",\"\",LogData!F717)","v":""},{"$f":"IF(LEFT($D720,1)=\"*\",\"\",LogData!D717)","v":""},{"$f":"LogData!E717","v":"*EOL*"},{"$f":"IF($D720=\"*EOL*\",\"\",INT(LogData!V717))","v":""},{"$f":"IF($D720=\"*EOL*\",\"\",LogData!V717-E720)","v":""},{"$f":"IF(LEFT($D720,1)=\"*\",\"\",IF(LogData!S717,\"DUPE\",\"\"))","v":""},{"$f":"IF(LEFT($D720,1)=\"*\",\"\",LogData!R717)","v":""}]
[{"$f":"IF(LEFT($D721,1)=\"*\",\"\",LogData!C718)","v":""},{"$f":"IF(LEFT($D721,1)=\"*\",\"\",LogData!F718)","v":""},{"$f":"IF(LEFT($D721,1)=\"*\",\"\",LogData!D718)","v":""},{"$f":"LogData!E718","v":"*EOL*"},{"$f":"IF($D721=\"*EOL*\",\"\",INT(LogData!V718))","v":""},{"$f":"IF($D721=\"*EOL*\",\"\",LogData!V718-E721)","v":""},{"$f":"IF(LEFT($D721,1)=\"*\",\"\",IF(LogData!S718,\"DUPE\",\"\"))","v":""},{"$f":"IF(LEFT($D721,1)=\"*\",\"\",LogData!R718)","v":""}]
[{"$f":"IF(LEFT($D722,1)=\"*\",\"\",LogData!C719)","v":""},{"$f":"IF(LEFT($D722,1)=\"*\",\"\",LogData!F719)","v":""},{"$f":"IF(LEFT($D722,1)=\"*\",\"\",LogData!D719)","v":""},{"$f":"LogData!E719","v":"*EOL*"},{"$f":"IF($D722=\"*EOL*\",\"\",INT(LogData!V719))","v":""},{"$f":"IF($D722=\"*EOL*\",\"\",LogData!V719-E722)","v":""},{"$f":"IF(LEFT($D722,1)=\"*\",\"\",IF(LogData!S719,\"DUPE\",\"\"))","v":""},{"$f":"IF(LEFT($D722,1)=\"*\",\"\",LogData!R719)","v":""}]
[{"$f":"IF(LEFT($D723,1)=\"*\",\"\",LogData!C720)","v":""},{"$f":"IF(LEFT($D723,1)=\"*\",\"\",LogData!F720)","v":""},{"$f":"IF(LEFT($D723,1)=\"*\",\"\",LogData!D720)","v":""},{"$f":"LogData!E720","v":"*EOL*"},{"$f":"IF($D723=\"*EOL*\",\"\",INT(LogData!V720))","v":""},{"$f":"IF($D723=\"*EOL*\",\"\",LogData!V720-E723)","v":""},{"$f":"IF(LEFT($D723,1)=\"*\",\"\",IF(LogData!S720,\"DUPE\",\"\"))","v":""},{"$f":"IF(LEFT($D723,1)=\"*\",\"\",LogData!R720)","v":""}]
[{"$f":"IF(LEFT($D724,1)=\"*\",\"\",LogData!C721)","v":""},{"$f":"IF(LEFT($D724,1)=\"*\",\"\",LogData!F721)","v":""},{"$f":"IF(LEFT($D724,1)=\"*\",\"\",LogData!D721)","v":""},{"$f":"LogData!E721","v":"*EOL*"},{"$f":"IF($D724=\"*EOL*\",\"\",INT(LogData!V721))","v":""},{"$f":"IF($D724=\"*EOL*\",\"\",LogData!V721-E724)","v":""},{"$f":"IF(LEFT($D724,1)=\"*\",\"\",IF(LogData!S721,\"DUPE\",\"\"))","v":""},{"$f":"IF(LEFT($D724,1)=\"*\",\"\",LogData!R721)","v":""}]
[{"$f":"IF(LEFT($D725,1)=\"*\",\"\",LogData!C722)","v":""},{"$f":"IF(LEFT($D725,1)=\"*\",\"\",LogData!F722)","v":""},{"$f":"IF(LEFT($D725,1)=\"*\",\"\",LogData!D722)","v":""},{"$f":"LogData!E722","v":"*EOL*"},{"$f":"IF($D725=\"*EOL*\",\"\",INT(LogData!V722))","v":""},{"$f":"IF($D725=\"*EOL*\",\"\",LogData!V722-E725)","v":""},{"$f":"IF(LEFT($D725,1)=\"*\",\"\",IF(LogData!S722,\"DUPE\",\"\"))","v":""},{"$f":"IF(LEFT($D725,1)=\"*\",\"\",LogData!R722)","v":""}]
[{"$f":"IF(LEFT($D726,1)=\"*\",\"\",LogData!C723)","v":""},{"$f":"IF(LEFT($D726,1)=\"*\",\"\",LogData!F723)","v":""},{"$f":"IF(LEFT($D726,1)=\"*\",\"\",LogData!D723)","v":""},{"$f":"LogData!E723","v":"*EOL*"},{"$f":"IF($D726=\"*EOL*\",\"\",INT(LogData!V723))","v":""},{"$f":"IF($D726=\"*EOL*\",\"\",LogData!V723-E726)","v":""},{"$f":"IF(LEFT($D726,1)=\"*\",\"\",IF(LogData!S723,\"DUPE\",\"\"))","v":""},{"$f":"IF(LEFT($D726,1)=\"*\",\"\",LogData!R723)","v":""}]
[{"$f":"IF(LEFT($D727,1)=\"*\",\"\",LogData!C724)","v":""},{"$f":"IF(LEFT($D727,1)=\"*\",\"\",LogData!F724)","v":""},{"$f":"IF(LEFT($D727,1)=\"*\",\"\",LogData!D724)","v":""},{"$f":"LogData!E724","v":"*EOL*"},{"$f":"IF($D727=\"*EOL*\",\"\",INT(LogData!V724))","v":""},{"$f":"IF($D727=\"*EOL*\",\"\",LogData!V724-E727)","v":""},{"$f":"IF(LEFT($D727,1)=\"*\",\"\",IF(LogData!S724,\"DUPE\",\"\"))","v":""},{"$f":"IF(LEFT($D727,1)=\"*\",\"\",LogData!R724)","v":""}]
[{"$f":"IF(LEFT($D728,1)=\"*\",\"\",LogData!C725)","v":""},{"$f":"IF(LEFT($D728,1)=\"*\",\"\",LogData!F725)","v":""},{"$f":"IF(LEFT($D728,1)=\"*\",\"\",LogData!D725)","v":""},{"$f":"LogData!E725","v":"*EOL*"},{"$f":"IF($D728=\"*EOL*\",\"\",INT(LogData!V725))","v":""},{"$f":"IF($D728=\"*EOL*\",\"\",LogData!V725-E728)","v":""},{"$f":"IF(LEFT($D728,1)=\"*\",\"\",IF(LogData!S725,\"DUPE\",\"\"))","v":""},{"$f":"IF(LEFT($D728,1)=\"*\",\"\",LogData!R725)","v":""}]
[{"$f":"IF(LEFT($D729,1)=\"*\",\"\",LogData!C726)","v":""},{"$f":"IF(LEFT($D729,1)=\"*\",\"\",LogData!F726)","v":""},{"$f":"IF(LEFT($D729,1)=\"*\",\"\",LogData!D726)","v":""},{"$f":"LogData!E726","v":"*EOL*"},{"$f":"IF($D729=\"*EOL*\",\"\",INT(LogData!V726))","v":""},{"$f":"IF($D729=\"*EOL*\",\"\",LogData!V726-E729)","v":""},{"$f":"IF(LEFT($D729,1)=\"*\",\"\",IF(LogData!S726,\"DUPE\",\"\"))","v":""},{"$f":"IF(LEFT($D729,1)=\"*\",\"\",LogData!R726)","v":""}]
[{"$f":"IF(LEFT($D730,1)=\"*\",\"\",LogData!C727)","v":""},{"$f":"IF(LEFT($D730,1)=\"*\",\"\",LogData!F727)","v":""},{"$f":"IF(LEFT($D730,1)=\"*\",\"\",LogData!D727)","v":""},{"$f":"LogData!E727","v":"*EOL*"},{"$f":"IF($D730=\"*EOL*\",\"\",INT(LogData!V727))","v":""},{"$f":"IF($D730=\"*EOL*\",\"\",LogData!V727-E730)","v":""},{"$f":"IF(LEFT($D730,1)=\"*\",\"\",IF(LogData!S727,\"DUPE\",\"\"))","v":""},{"$f":"IF(LEFT($D730,1)=\"*\",\"\",LogData!R727)","v":""}]
[{"$f":"IF(LEFT($D731,1)=\"*\",\"\",LogData!C728)","v":""},{"$f":"IF(LEFT($D731,1)=\"*\",\"\",LogData!F728)","v":""},{"$f":"IF(LEFT($D731,1)=\"*\",\"\",LogData!D728)","v":""},{"$f":"LogData!E728","v":"*EOL*"},{"$f":"IF($D731=\"*EOL*\",\"\",INT(LogData!V728))","v":""},{"$f":"IF($D731=\"*EOL*\",\"\",LogData!V728-E731)","v":""},{"$f":"IF(LEFT($D731,1)=\"*\",\"\",IF(LogData!S728,\"DUPE\",\"\"))","v":""},{"$f":"IF(LEFT($D731,1)=\"*\",\"\",LogData!R728)","v":""}]
[{"$f":"IF(LEFT($D732,1)=\"*\",\"\",LogData!C729)","v":""},{"$f":"IF(LEFT($D732,1)=\"*\",\"\",LogData!F729)","v":""},{"$f":"IF(LEFT($D732,1)=\"*\",\"\",LogData!D729)","v":""},{"$f":"LogData!E729","v":"*EOL*"},{"$f":"IF($D732=\"*EOL*\",\"\",INT(LogData!V729))","v":""},{"$f":"IF($D732=\"*EOL*\",\"\",LogData!V729-E732)","v":""},{"$f":"IF(LEFT($D732,1)=\"*\",\"\",IF(LogData!S729,\"DUPE\",\"\"))","v":""},{"$f":"IF(LEFT($D732,1)=\"*\",\"\",LogData!R729)","v":""}]
[{"$f":"IF(LEFT($D733,1)=\"*\",\"\",LogData!C730)","v":""},{"$f":"IF(LEFT($D733,1)=\"*\",\"\",LogData!F730)","v":""},{"$f":"IF(LEFT($D733,1)=\"*\",\"\",LogData!D730)","v":""},{"$f":"LogData!E730","v":"*EOL*"},{"$f":"IF($D733=\"*EOL*\",\"\",INT(LogData!V730))","v":""},{"$f":"IF($D733=\"*EOL*\",\"\",LogData!V730-E733)","v":""},{"$f":"IF(LEFT($D733,1)=\"*\",\"\",IF(LogData!S730,\"DUPE\",\"\"))","v":""},{"$f":"IF(LEFT($D733,1)=\"*\",\"\",LogData!R730)","v":""}]
[{"$f":"IF(LEFT($D734,1)=\"*\",\"\",LogData!C731)","v":""},{"$f":"IF(LEFT($D734,1)=\"*\",\"\",LogData!F731)","v":""},{"$f":"IF(LEFT($D734,1)=\"*\",\"\",LogData!D731)","v":""},{"$f":"LogData!E731","v":"*EOL*"},{"$f":"IF($D734=\"*EOL*\",\"\",INT(LogData!V731))","v":""},{"$f":"IF($D734=\"*EOL*\",\"\",LogData!V731-E734)","v":""},{"$f":"IF(LEFT($D734,1)=\"*\",\"\",IF(LogData!S731,\"DUPE\",\"\"))","v":""},{"$f":"IF(LEFT($D734,1)=\"*\",\"\",LogData!R731)","v":""}]
[{"$f":"IF(LEFT($D735,1)=\"*\",\"\",LogData!C732)","v":""},{"$f":"IF(LEFT($D735,1)=\"*\",\"\",LogData!F732)","v":""},{"$f":"IF(LEFT($D735,1)=\"*\",\"\",LogData!D732)","v":""},{"$f":"LogData!E732","v":"*EOL*"},{"$f":"IF($D735=\"*EOL*\",\"\",INT(LogData!V732))","v":""},{"$f":"IF($D735=\"*EOL*\",\"\",LogData!V732-E735)","v":""},{"$f":"IF(LEFT($D735,1)=\"*\",\"\",IF(LogData!S732,\"DUPE\",\"\"))","v":""},{"$f":"IF(LEFT($D735,1)=\"*\",\"\",LogData!R732)","v":""}]
[{"$f":"IF(LEFT($D736,1)=\"*\",\"\",LogData!C733)","v":""},{"$f":"IF(LEFT($D736,1)=\"*\",\"\",LogData!F733)","v":""},{"$f":"IF(LEFT($D736,1)=\"*\",\"\",LogData!D733)","v":""},{"$f":"LogData!E733","v":"*EOL*"},{"$f":"IF($D736=\"*EOL*\",\"\",INT(LogData!V733))","v":""},{"$f":"IF($D736=\"*EOL*\",\"\",LogData!V733-E736)","v":""},{"$f":"IF(LEFT($D736,1)=\"*\",\"\",IF(LogData!S733,\"DUPE\",\"\"))","v":""},{"$f":"IF(LEFT($D736,1)=\"*\",\"\",LogData!R733)","v":""}]
[{"$f":"IF(LEFT($D737,1)=\"*\",\"\",LogData!C734)","v":""},{"$f":"IF(LEFT($D737,1)=\"*\",\"\",LogData!F734)","v":""},{"$f":"IF(LEFT($D737,1)=\"*\",\"\",LogData!D734)","v":""},{"$f":"LogData!E734","v":"*EOL*"},{"$f":"IF($D737=\"*EOL*\",\"\",INT(LogData!V734))","v":""},{"$f":"IF($D737=\"*EOL*\",\"\",LogData!V734-E737)","v":""},{"$f":"IF(LEFT($D737,1)=\"*\",\"\",IF(LogData!S734,\"DUPE\",\"\"))","v":""},{"$f":"IF(LEFT($D737,1)=\"*\",\"\",LogData!R734)","v":""}]
[{"$f":"IF(LEFT($D738,1)=\"*\",\"\",LogData!C735)","v":""},{"$f":"IF(LEFT($D738,1)=\"*\",\"\",LogData!F735)","v":""},{"$f":"IF(LEFT($D738,1)=\"*\",\"\",LogData!D735)","v":""},{"$f":"LogData!E735","v":"*EOL*"},{"$f":"IF($D738=\"*EOL*\",\"\",INT(LogData!V735))","v":""},{"$f":"IF($D738=\"*EOL*\",\"\",LogData!V735-E738)","v":""},{"$f":"IF(LEFT($D738,1)=\"*\",\"\",IF(LogData!S735,\"DUPE\",\"\"))","v":""},{"$f":"IF(LEFT($D738,1)=\"*\",\"\",LogData!R735)","v":""}]
[{"$f":"IF(LEFT($D739,1)=\"*\",\"\",LogData!C736)","v":""},{"$f":"IF(LEFT($D739,1)=\"*\",\"\",LogData!F736)","v":""},{"$f":"IF(LEFT($D739,1)=\"*\",\"\",LogData!D736)","v":""},{"$f":"LogData!E736","v":"*EOL*"},{"$f":"IF($D739=\"*EOL*\",\"\",INT(LogData!V736))","v":""},{"$f":"IF($D739=\"*EOL*\",\"\",LogData!V736-E739)","v":""},{"$f":"IF(LEFT($D739,1)=\"*\",\"\",IF(LogData!S736,\"DUPE\",\"\"))","v":""},{"$f":"IF(LEFT($D739,1)=\"*\",\"\",LogData!R736)","v":""}]
[{"$f":"IF(LEFT($D740,1)=\"*\",\"\",LogData!C737)","v":""},{"$f":"IF(LEFT($D740,1)=\"*\",\"\",LogData!F737)","v":""},{"$f":"IF(LEFT($D740,1)=\"*\",\"\",LogData!D737)","v":""},{"$f":"LogData!E737","v":"*EOL*"},{"$f":"IF($D740=\"*EOL*\",\"\",INT(LogData!V737))","v":""},{"$f":"IF($D740=\"*EOL*\",\"\",LogData!V737-E740)","v":""},{"$f":"IF(LEFT($D740,1)=\"*\",\"\",IF(LogData!S737,\"DUPE\",\"\"))","v":""},{"$f":"IF(LEFT($D740,1)=\"*\",\"\",LogData!R737)","v":""}]
[{"$f":"IF(LEFT($D741,1)=\"*\",\"\",LogData!C738)","v":""},{"$f":"IF(LEFT($D741,1)=\"*\",\"\",LogData!F738)","v":""},{"$f":"IF(LEFT($D741,1)=\"*\",\"\",LogData!D738)","v":""},{"$f":"LogData!E738","v":"*EOL*"},{"$f":"IF($D741=\"*EOL*\",\"\",INT(LogData!V738))","v":""},{"$f":"IF($D741=\"*EOL*\",\"\",LogData!V738-E741)","v":""},{"$f":"IF(LEFT($D741,1)=\"*\",\"\",IF(LogData!S738,\"DUPE\",\"\"))","v":""},{"$f":"IF(LEFT($D741,1)=\"*\",\"\",LogData!R738)","v":""}]
[{"$f":"IF(LEFT($D742,1)=\"*\",\"\",LogData!C739)","v":""},{"$f":"IF(LEFT($D742,1)=\"*\",\"\",LogData!F739)","v":""},{"$f":"IF(LEFT($D742,1)=\"*\",\"\",LogData!D739)","v":""},{"$f":"LogData!E739","v":"*EOL*"},{"$f":"IF($D742=\"*EOL*\",\"\",INT(LogData!V739))","v":""},{"$f":"IF($D742=\"*EOL*\",\"\",LogData!V739-E742)","v":""},{"$f":"IF(LEFT($D742,1)=\"*\",\"\",IF(LogData!S739,\"DUPE\",\"\"))","v":""},{"$f":"IF(LEFT($D742,1)=\"*\",\"\",LogData!R739)","v":""}]
[{"$f":"IF(LEFT($D743,1)=\"*\",\"\",LogData!C740)","v":""},{"$f":"IF(LEFT($D743,1)=\"*\",\"\",LogData!F740)","v":""},{"$f":"IF(LEFT($D743,1)=\"*\",\"\",LogData!D740)","v":""},{"$f":"LogData!E740","v":"*EOL*"},{"$f":"IF($D743=\"*EOL*\",\"\",INT(LogData!V740))","v":""},{"$f":"IF($D743=\"*EOL*\",\"\",LogData!V740-E743)","v":""},{"$f":"IF(LEFT($D743,1)=\"*\",\"\",IF(LogData!S740,\"DUPE\",\"\"))","v":""},{"$f":"IF(LEFT($D743,1)=\"*\",\"\",LogData!R740)","v":""}]
[{"$f":"IF(LEFT($D744,1)=\"*\",\"\",LogData!C741)","v":""},{"$f":"IF(LEFT($D744,1)=\"*\",\"\",LogData!F741)","v":""},{"$f":"IF(LEFT($D744,1)=\"*\",\"\",LogData!D741)","v":""},{"$f":"LogData!E741","v":"*EOL*"},{"$f":"IF($D744=\"*EOL*\",\"\",INT(LogData!V741))","v":""},{"$f":"IF($D744=\"*EOL*\",\"\",LogData!V741-E744)","v":""},{"$f":"IF(LEFT($D744,1)=\"*\",\"\",IF(LogData!S741,\"DUPE\",\"\"))","v":""},{"$f":"IF(LEFT($D744,1)=\"*\",\"\",LogData!R741)","v":""}]
[{"$f":"IF(LEFT($D745,1)=\"*\",\"\",LogData!C742)","v":""},{"$f":"IF(LEFT($D745,1)=\"*\",\"\",LogData!F742)","v":""},{"$f":"IF(LEFT($D745,1)=\"*\",\"\",LogData!D742)","v":""},{"$f":"LogData!E742","v":"*EOL*"},{"$f":"IF($D745=\"*EOL*\",\"\",INT(LogData!V742))","v":""},{"$f":"IF($D745=\"*EOL*\",\"\",LogData!V742-E745)","v":""},{"$f":"IF(LEFT($D745,1)=\"*\",\"\",IF(LogData!S742,\"DUPE\",\"\"))","v":""},{"$f":"IF(LEFT($D745,1)=\"*\",\"\",LogData!R742)","v":""}]
[{"$f":"IF(LEFT($D746,1)=\"*\",\"\",LogData!C743)","v":""},{"$f":"IF(LEFT($D746,1)=\"*\",\"\",LogData!F743)","v":""},{"$f":"IF(LEFT($D746,1)=\"*\",\"\",LogData!D743)","v":""},{"$f":"LogData!E743","v":"*EOL*"},{"$f":"IF($D746=\"*EOL*\",\"\",INT(LogData!V743))","v":""},{"$f":"IF($D746=\"*EOL*\",\"\",LogData!V743-E746)","v":""},{"$f":"IF(LEFT($D746,1)=\"*\",\"\",IF(LogData!S743,\"DUPE\",\"\"))","v":""},{"$f":"IF(LEFT($D746,1)=\"*\",\"\",LogData!R743)","v":""}]
[{"$f":"IF(LEFT($D747,1)=\"*\",\"\",LogData!C744)","v":""},{"$f":"IF(LEFT($D747,1)=\"*\",\"\",LogData!F744)","v":""},{"$f":"IF(LEFT($D747,1)=\"*\",\"\",LogData!D744)","v":""},{"$f":"LogData!E744","v":"*EOL*"},{"$f":"IF($D747=\"*EOL*\",\"\",INT(LogData!V744))","v":""},{"$f":"IF($D747=\"*EOL*\",\"\",LogData!V744-E747)","v":""},{"$f":"IF(LEFT($D747,1)=\"*\",\"\",IF(LogData!S744,\"DUPE\",\"\"))","v":""},{"$f":"IF(LEFT($D747,1)=\"*\",\"\",LogData!R744)","v":""}]
[{"$f":"IF(LEFT($D748,1)=\"*\",\"\",LogData!C745)","v":""},{"$f":"IF(LEFT($D748,1)=\"*\",\"\",LogData!F745)","v":""},{"$f":"IF(LEFT($D748,1)=\"*\",\"\",LogData!D745)","v":""},{"$f":"LogData!E745","v":"*EOL*"},{"$f":"IF($D748=\"*EOL*\",\"\",INT(LogData!V745))","v":""},{"$f":"IF($D748=\"*EOL*\",\"\",LogData!V745-E748)","v":""},{"$f":"IF(LEFT($D748,1)=\"*\",\"\",IF(LogData!S745,\"DUPE\",\"\"))","v":""},{"$f":"IF(LEFT($D748,1)=\"*\",\"\",LogData!R745)","v":""}]
[{"$f":"IF(LEFT($D749,1)=\"*\",\"\",LogData!C746)","v":""},{"$f":"IF(LEFT($D749,1)=\"*\",\"\",LogData!F746)","v":""},{"$f":"IF(LEFT($D749,1)=\"*\",\"\",LogData!D746)","v":""},{"$f":"LogData!E746","v":"*EOL*"},{"$f":"IF($D749=\"*EOL*\",\"\",INT(LogData!V746))","v":""},{"$f":"IF($D749=\"*EOL*\",\"\",LogData!V746-E749)","v":""},{"$f":"IF(LEFT($D749,1)=\"*\",\"\",IF(LogData!S746,\"DUPE\",\"\"))","v":""},{"$f":"IF(LEFT($D749,1)=\"*\",\"\",LogData!R746)","v":""}]
[{"$f":"IF(LEFT($D750,1)=\"*\",\"\",LogData!C747)","v":""},{"$f":"IF(LEFT($D750,1)=\"*\",\"\",LogData!F747)","v":""},{"$f":"IF(LEFT($D750,1)=\"*\",\"\",LogData!D747)","v":""},{"$f":"LogData!E747","v":"*EOL*"},{"$f":"IF($D750=\"*EOL*\",\"\",INT(LogData!V747))","v":""},{"$f":"IF($D750=\"*EOL*\",\"\",LogData!V747-E750)","v":""},{"$f":"IF(LEFT($D750,1)=\"*\",\"\",IF(LogData!S747,\"DUPE\",\"\"))","v":""},{"$f":"IF(LEFT($D750,1)=\"*\",\"\",LogData!R747)","v":""}]
[{"$f":"IF(LEFT($D751,1)=\"*\",\"\",LogData!C748)","v":""},{"$f":"IF(LEFT($D751,1)=\"*\",\"\",LogData!F748)","v":""},{"$f":"IF(LEFT($D751,1)=\"*\",\"\",LogData!D748)","v":""},{"$f":"LogData!E748","v":"*EOL*"},{"$f":"IF($D751=\"*EOL*\",\"\",INT(LogData!V748))","v":""},{"$f":"IF($D751=\"*EOL*\",\"\",LogData!V748-E751)","v":""},{"$f":"IF(LEFT($D751,1)=\"*\",\"\",IF(LogData!S748,\"DUPE\",\"\"))","v":""},{"$f":"IF(LEFT($D751,1)=\"*\",\"\",LogData!R748)","v":""}]
[{"$f":"IF(LEFT($D752,1)=\"*\",\"\",LogData!C749)","v":""},{"$f":"IF(LEFT($D752,1)=\"*\",\"\",LogData!F749)","v":""},{"$f":"IF(LEFT($D752,1)=\"*\",\"\",LogData!D749)","v":""},{"$f":"LogData!E749","v":"*EOL*"},{"$f":"IF($D752=\"*EOL*\",\"\",INT(LogData!V749))","v":""},{"$f":"IF($D752=\"*EOL*\",\"\",LogData!V749-E752)","v":""},{"$f":"IF(LEFT($D752,1)=\"*\",\"\",IF(LogData!S749,\"DUPE\",\"\"))","v":""},{"$f":"IF(LEFT($D752,1)=\"*\",\"\",LogData!R749)","v":""}]
[{"$f":"IF(LEFT($D753,1)=\"*\",\"\",LogData!C750)","v":""},{"$f":"IF(LEFT($D753,1)=\"*\",\"\",LogData!F750)","v":""},{"$f":"IF(LEFT($D753,1)=\"*\",\"\",LogData!D750)","v":""},{"$f":"LogData!E750","v":"*EOL*"},{"$f":"IF($D753=\"*EOL*\",\"\",INT(LogData!V750))","v":""},{"$f":"IF($D753=\"*EOL*\",\"\",LogData!V750-E753)","v":""},{"$f":"IF(LEFT($D753,1)=\"*\",\"\",IF(LogData!S750,\"DUPE\",\"\"))","v":""},{"$f":"IF(LEFT($D753,1)=\"*\",\"\",LogData!R750)","v":""}]
[{"$f":"IF(LEFT($D754,1)=\"*\",\"\",LogData!C751)","v":""},{"$f":"IF(LEFT($D754,1)=\"*\",\"\",LogData!F751)","v":""},{"$f":"IF(LEFT($D754,1)=\"*\",\"\",LogData!D751)","v":""},{"$f":"LogData!E751","v":"*EOL*"},{"$f":"IF($D754=\"*EOL*\",\"\",INT(LogData!V751))","v":""},{"$f":"IF($D754=\"*EOL*\",\"\",LogData!V751-E754)","v":""},{"$f":"IF(LEFT($D754,1)=\"*\",\"\",IF(LogData!S751,\"DUPE\",\"\"))","v":""},{"$f":"IF(LEFT($D754,1)=\"*\",\"\",LogData!R751)","v":""}]
[{"$f":"IF(LEFT($D755,1)=\"*\",\"\",LogData!C752)","v":""},{"$f":"IF(LEFT($D755,1)=\"*\",\"\",LogData!F752)","v":""},{"$f":"IF(LEFT($D755,1)=\"*\",\"\",LogData!D752)","v":""},{"$f":"LogData!E752","v":"*EOL*"},{"$f":"IF($D755=\"*EOL*\",\"\",INT(LogData!V752))","v":""},{"$f":"IF($D755=\"*EOL*\",\"\",LogData!V752-E755)","v":""},{"$f":"IF(LEFT($D755,1)=\"*\",\"\",IF(LogData!S752,\"DUPE\",\"\"))","v":""},{"$f":"IF(LEFT($D755,1)=\"*\",\"\",LogData!R752)","v":""}]
[{"$f":"IF(LEFT($D756,1)=\"*\",\"\",LogData!C753)","v":""},{"$f":"IF(LEFT($D756,1)=\"*\",\"\",LogData!F753)","v":""},{"$f":"IF(LEFT($D756,1)=\"*\",\"\",LogData!D753)","v":""},{"$f":"LogData!E753","v":"*EOL*"},{"$f":"IF($D756=\"*EOL*\",\"\",INT(LogData!V753))","v":""},{"$f":"IF($D756=\"*EOL*\",\"\",LogData!V753-E756)","v":""},{"$f":"IF(LEFT($D756,1)=\"*\",\"\",IF(LogData!S753,\"DUPE\",\"\"))","v":""},{"$f":"IF(LEFT($D756,1)=\"*\",\"\",LogData!R753)","v":""}]
[{"$f":"IF(LEFT($D757,1)=\"*\",\"\",LogData!C754)","v":""},{"$f":"IF(LEFT($D757,1)=\"*\",\"\",LogData!F754)","v":""},{"$f":"IF(LEFT($D757,1)=\"*\",\"\",LogData!D754)","v":""},{"$f":"LogData!E754","v":"*EOL*"},{"$f":"IF($D757=\"*EOL*\",\"\",INT(LogData!V754))","v":""},{"$f":"IF($D757=\"*EOL*\",\"\",LogData!V754-E757)","v":""},{"$f":"IF(LEFT($D757,1)=\"*\",\"\",IF(LogData!S754,\"DUPE\",\"\"))","v":""},{"$f":"IF(LEFT($D757,1)=\"*\",\"\",LogData!R754)","v":""}]
[{"$f":"IF(LEFT($D758,1)=\"*\",\"\",LogData!C755)","v":""},{"$f":"IF(LEFT($D758,1)=\"*\",\"\",LogData!F755)","v":""},{"$f":"IF(LEFT($D758,1)=\"*\",\"\",LogData!D755)","v":""},{"$f":"LogData!E755","v":"*EOL*"},{"$f":"IF($D758=\"*EOL*\",\"\",INT(LogData!V755))","v":""},{"$f":"IF($D758=\"*EOL*\",\"\",LogData!V755-E758)","v":""},{"$f":"IF(LEFT($D758,1)=\"*\",\"\",IF(LogData!S755,\"DUPE\",\"\"))","v":""},{"$f":"IF(LEFT($D758,1)=\"*\",\"\",LogData!R755)","v":""}]
[{"$f":"IF(LEFT($D759,1)=\"*\",\"\",LogData!C756)","v":""},{"$f":"IF(LEFT($D759,1)=\"*\",\"\",LogData!F756)","v":""},{"$f":"IF(LEFT($D759,1)=\"*\",\"\",LogData!D756)","v":""},{"$f":"LogData!E756","v":"*EOL*"},{"$f":"IF($D759=\"*EOL*\",\"\",INT(LogData!V756))","v":""},{"$f":"IF($D759=\"*EOL*\",\"\",LogData!V756-E759)","v":""},{"$f":"IF(LEFT($D759,1)=\"*\",\"\",IF(LogData!S756,\"DUPE\",\"\"))","v":""},{"$f":"IF(LEFT($D759,1)=\"*\",\"\",LogData!R756)","v":""}]
[{"$f":"IF(LEFT($D760,1)=\"*\",\"\",LogData!C757)","v":""},{"$f":"IF(LEFT($D760,1)=\"*\",\"\",LogData!F757)","v":""},{"$f":"IF(LEFT($D760,1)=\"*\",\"\",LogData!D757)","v":""},{"$f":"LogData!E757","v":"*EOL*"},{"$f":"IF($D760=\"*EOL*\",\"\",INT(LogData!V757))","v":""},{"$f":"IF($D760=\"*EOL*\",\"\",LogData!V757-E760)","v":""},{"$f":"IF(LEFT($D760,1)=\"*\",\"\",IF(LogData!S757,\"DUPE\",\"\"))","v":""},{"$f":"IF(LEFT($D760,1)=\"*\",\"\",LogData!R757)","v":""}]
[{"$f":"IF(LEFT($D761,1)=\"*\",\"\",LogData!C758)","v":""},{"$f":"IF(LEFT($D761,1)=\"*\",\"\",LogData!F758)","v":""},{"$f":"IF(LEFT($D761,1)=\"*\",\"\",LogData!D758)","v":""},{"$f":"LogData!E758","v":"*EOL*"},{"$f":"IF($D761=\"*EOL*\",\"\",INT(LogData!V758))","v":""},{"$f":"IF($D761=\"*EOL*\",\"\",LogData!V758-E761)","v":""},{"$f":"IF(LEFT($D761,1)=\"*\",\"\",IF(LogData!S758,\"DUPE\",\"\"))","v":""},{"$f":"IF(LEFT($D761,1)=\"*\",\"\",LogData!R758)","v":""}]
[{"$f":"IF(LEFT($D762,1)=\"*\",\"\",LogData!C759)","v":""},{"$f":"IF(LEFT($D762,1)=\"*\",\"\",LogData!F759)","v":""},{"$f":"IF(LEFT($D762,1)=\"*\",\"\",LogData!D759)","v":""},{"$f":"LogData!E759","v":"*EOL*"},{"$f":"IF($D762=\"*EOL*\",\"\",INT(LogData!V759))","v":""},{"$f":"IF($D762=\"*EOL*\",\"\",LogData!V759-E762)","v":""},{"$f":"IF(LEFT($D762,1)=\"*\",\"\",IF(LogData!S759,\"DUPE\",\"\"))","v":""},{"$f":"IF(LEFT($D762,1)=\"*\",\"\",LogData!R759)","v":""}]
[{"$f":"IF(LEFT($D763,1)=\"*\",\"\",LogData!C760)","v":""},{"$f":"IF(LEFT($D763,1)=\"*\",\"\",LogData!F760)","v":""},{"$f":"IF(LEFT($D763,1)=\"*\",\"\",LogData!D760)","v":""},{"$f":"LogData!E760","v":"*EOL*"},{"$f":"IF($D763=\"*EOL*\",\"\",INT(LogData!V760))","v":""},{"$f":"IF($D763=\"*EOL*\",\"\",LogData!V760-E763)","v":""},{"$f":"IF(LEFT($D763,1)=\"*\",\"\",IF(LogData!S760,\"DUPE\",\"\"))","v":""},{"$f":"IF(LEFT($D763,1)=\"*\",\"\",LogData!R760)","v":""}]
[{"$f":"IF(LEFT($D764,1)=\"*\",\"\",LogData!C761)","v":""},{"$f":"IF(LEFT($D764,1)=\"*\",\"\",LogData!F761)","v":""},{"$f":"IF(LEFT($D764,1)=\"*\",\"\",LogData!D761)","v":""},{"$f":"LogData!E761","v":"*EOL*"},{"$f":"IF($D764=\"*EOL*\",\"\",INT(LogData!V761))","v":""},{"$f":"IF($D764=\"*EOL*\",\"\",LogData!V761-E764)","v":""},{"$f":"IF(LEFT($D764,1)=\"*\",\"\",IF(LogData!S761,\"DUPE\",\"\"))","v":""},{"$f":"IF(LEFT($D764,1)=\"*\",\"\",LogData!R761)","v":""}]
[{"$f":"IF(LEFT($D765,1)=\"*\",\"\",LogData!C762)","v":""},{"$f":"IF(LEFT($D765,1)=\"*\",\"\",LogData!F762)","v":""},{"$f":"IF(LEFT($D765,1)=\"*\",\"\",LogData!D762)","v":""},{"$f":"LogData!E762","v":"*EOL*"},{"$f":"IF($D765=\"*EOL*\",\"\",INT(LogData!V762))","v":""},{"$f":"IF($D765=\"*EOL*\",\"\",LogData!V762-E765)","v":""},{"$f":"IF(LEFT($D765,1)=\"*\",\"\",IF(LogData!S762,\"DUPE\",\"\"))","v":""},{"$f":"IF(LEFT($D765,1)=\"*\",\"\",LogData!R762)","v":""}]
[{"$f":"IF(LEFT($D766,1)=\"*\",\"\",LogData!C763)","v":""},{"$f":"IF(LEFT($D766,1)=\"*\",\"\",LogData!F763)","v":""},{"$f":"IF(LEFT($D766,1)=\"*\",\"\",LogData!D763)","v":""},{"$f":"LogData!E763","v":"*EOL*"},{"$f":"IF($D766=\"*EOL*\",\"\",INT(LogData!V763))","v":""},{"$f":"IF($D766=\"*EOL*\",\"\",LogData!V763-E766)","v":""},{"$f":"IF(LEFT($D766,1)=\"*\",\"\",IF(LogData!S763,\"DUPE\",\"\"))","v":""},{"$f":"IF(LEFT($D766,1)=\"*\",\"\",LogData!R763)","v":""}]
[{"$f":"IF(LEFT($D767,1)=\"*\",\"\",LogData!C764)","v":""},{"$f":"IF(LEFT($D767,1)=\"*\",\"\",LogData!F764)","v":""},{"$f":"IF(LEFT($D767,1)=\"*\",\"\",LogData!D764)","v":""},{"$f":"LogData!E764","v":"*EOL*"},{"$f":"IF($D767=\"*EOL*\",\"\",INT(LogData!V764))","v":""},{"$f":"IF($D767=\"*EOL*\",\"\",LogData!V764-E767)","v":""},{"$f":"IF(LEFT($D767,1)=\"*\",\"\",IF(LogData!S764,\"DUPE\",\"\"))","v":""},{"$f":"IF(LEFT($D767,1)=\"*\",\"\",LogData!R764)","v":""}]
[{"$f":"IF(LEFT($D768,1)=\"*\",\"\",LogData!C765)","v":""},{"$f":"IF(LEFT($D768,1)=\"*\",\"\",LogData!F765)","v":""},{"$f":"IF(LEFT($D768,1)=\"*\",\"\",LogData!D765)","v":""},{"$f":"LogData!E765","v":"*EOL*"},{"$f":"IF($D768=\"*EOL*\",\"\",INT(LogData!V765))","v":""},{"$f":"IF($D768=\"*EOL*\",\"\",LogData!V765-E768)","v":""},{"$f":"IF(LEFT($D768,1)=\"*\",\"\",IF(LogData!S765,\"DUPE\",\"\"))","v":""},{"$f":"IF(LEFT($D768,1)=\"*\",\"\",LogData!R765)","v":""}]
[{"$f":"IF(LEFT($D769,1)=\"*\",\"\",LogData!C766)","v":""},{"$f":"IF(LEFT($D769,1)=\"*\",\"\",LogData!F766)","v":""},{"$f":"IF(LEFT($D769,1)=\"*\",\"\",LogData!D766)","v":""},{"$f":"LogData!E766","v":"*EOL*"},{"$f":"IF($D769=\"*EOL*\",\"\",INT(LogData!V766))","v":""},{"$f":"IF($D769=\"*EOL*\",\"\",LogData!V766-E769)","v":""},{"$f":"IF(LEFT($D769,1)=\"*\",\"\",IF(LogData!S766,\"DUPE\",\"\"))","v":""},{"$f":"IF(LEFT($D769,1)=\"*\",\"\",LogData!R766)","v":""}]
[{"$f":"IF(LEFT($D770,1)=\"*\",\"\",LogData!C767)","v":""},{"$f":"IF(LEFT($D770,1)=\"*\",\"\",LogData!F767)","v":""},{"$f":"IF(LEFT($D770,1)=\"*\",\"\",LogData!D767)","v":""},{"$f":"LogData!E767","v":"*EOL*"},{"$f":"IF($D770=\"*EOL*\",\"\",INT(LogData!V767))","v":""},{"$f":"IF($D770=\"*EOL*\",\"\",LogData!V767-E770)","v":""},{"$f":"IF(LEFT($D770,1)=\"*\",\"\",IF(LogData!S767,\"DUPE\",\"\"))","v":""},{"$f":"IF(LEFT($D770,1)=\"*\",\"\",LogData!R767)","v":""}]
[{"$f":"IF(LEFT($D771,1)=\"*\",\"\",LogData!C768)","v":""},{"$f":"IF(LEFT($D771,1)=\"*\",\"\",LogData!F768)","v":""},{"$f":"IF(LEFT($D771,1)=\"*\",\"\",LogData!D768)","v":""},{"$f":"LogData!E768","v":"*EOL*"},{"$f":"IF($D771=\"*EOL*\",\"\",INT(LogData!V768))","v":""},{"$f":"IF($D771=\"*EOL*\",\"\",LogData!V768-E771)","v":""},{"$f":"IF(LEFT($D771,1)=\"*\",\"\",IF(LogData!S768,\"DUPE\",\"\"))","v":""},{"$f":"IF(LEFT($D771,1)=\"*\",\"\",LogData!R768)","v":""}]
[{"$f":"IF(LEFT($D772,1)=\"*\",\"\",LogData!C769)","v":""},{"$f":"IF(LEFT($D772,1)=\"*\",\"\",LogData!F769)","v":""},{"$f":"IF(LEFT($D772,1)=\"*\",\"\",LogData!D769)","v":""},{"$f":"LogData!E769","v":"*EOL*"},{"$f":"IF($D772=\"*EOL*\",\"\",INT(LogData!V769))","v":""},{"$f":"IF($D772=\"*EOL*\",\"\",LogData!V769-E772)","v":""},{"$f":"IF(LEFT($D772,1)=\"*\",\"\",IF(LogData!S769,\"DUPE\",\"\"))","v":""},{"$f":"IF(LEFT($D772,1)=\"*\",\"\",LogData!R769)","v":""}]
[{"$f":"IF(LEFT($D773,1)=\"*\",\"\",LogData!C770)","v":""},{"$f":"IF(LEFT($D773,1)=\"*\",\"\",LogData!F770)","v":""},{"$f":"IF(LEFT($D773,1)=\"*\",\"\",LogData!D770)","v":""},{"$f":"LogData!E770","v":"*EOL*"},{"$f":"IF($D773=\"*EOL*\",\"\",INT(LogData!V770))","v":""},{"$f":"IF($D773=\"*EOL*\",\"\",LogData!V770-E773)","v":""},{"$f":"IF(LEFT($D773,1)=\"*\",\"\",IF(LogData!S770,\"DUPE\",\"\"))","v":""},{"$f":"IF(LEFT($D773,1)=\"*\",\"\",LogData!R770)","v":""}]
[{"$f":"IF(LEFT($D774,1)=\"*\",\"\",LogData!C771)","v":""},{"$f":"IF(LEFT($D774,1)=\"*\",\"\",LogData!F771)","v":""},{"$f":"IF(LEFT($D774,1)=\"*\",\"\",LogData!D771)","v":""},{"$f":"LogData!E771","v":"*EOL*"},{"$f":"IF($D774=\"*EOL*\",\"\",INT(LogData!V771))","v":""},{"$f":"IF($D774=\"*EOL*\",\"\",LogData!V771-E774)","v":""},{"$f":"IF(LEFT($D774,1)=\"*\",\"\",IF(LogData!S771,\"DUPE\",\"\"))","v":""},{"$f":"IF(LEFT($D774,1)=\"*\",\"\",LogData!R771)","v":""}]
[{"$f":"IF(LEFT($D775,1)=\"*\",\"\",LogData!C772)","v":""},{"$f":"IF(LEFT($D775,1)=\"*\",\"\",LogData!F772)","v":""},{"$f":"IF(LEFT($D775,1)=\"*\",\"\",LogData!D772)","v":""},{"$f":"LogData!E772","v":"*EOL*"},{"$f":"IF($D775=\"*EOL*\",\"\",INT(LogData!V772))","v":""},{"$f":"IF($D775=\"*EOL*\",\"\",LogData!V772-E775)","v":""},{"$f":"IF(LEFT($D775,1)=\"*\",\"\",IF(LogData!S772,\"DUPE\",\"\"))","v":""},{"$f":"IF(LEFT($D775,1)=\"*\",\"\",LogData!R772)","v":""}]
[{"$f":"IF(LEFT($D776,1)=\"*\",\"\",LogData!C773)","v":""},{"$f":"IF(LEFT($D776,1)=\"*\",\"\",LogData!F773)","v":""},{"$f":"IF(LEFT($D776,1)=\"*\",\"\",LogData!D773)","v":""},{"$f":"LogData!E773","v":"*EOL*"},{"$f":"IF($D776=\"*EOL*\",\"\",INT(LogData!V773))","v":""},{"$f":"IF($D776=\"*EOL*\",\"\",LogData!V773-E776)","v":""},{"$f":"IF(LEFT($D776,1)=\"*\",\"\",IF(LogData!S773,\"DUPE\",\"\"))","v":""},{"$f":"IF(LEFT($D776,1)=\"*\",\"\",LogData!R773)","v":""}]
[{"$f":"IF(LEFT($D777,1)=\"*\",\"\",LogData!C774)","v":""},{"$f":"IF(LEFT($D777,1)=\"*\",\"\",LogData!F774)","v":""},{"$f":"IF(LEFT($D777,1)=\"*\",\"\",LogData!D774)","v":""},{"$f":"LogData!E774","v":"*EOL*"},{"$f":"IF($D777=\"*EOL*\",\"\",INT(LogData!V774))","v":""},{"$f":"IF($D777=\"*EOL*\",\"\",LogData!V774-E777)","v":""},{"$f":"IF(LEFT($D777,1)=\"*\",\"\",IF(LogData!S774,\"DUPE\",\"\"))","v":""},{"$f":"IF(LEFT($D777,1)=\"*\",\"\",LogData!R774)","v":""}]
[{"$f":"IF(LEFT($D778,1)=\"*\",\"\",LogData!C775)","v":""},{"$f":"IF(LEFT($D778,1)=\"*\",\"\",LogData!F775)","v":""},{"$f":"IF(LEFT($D778,1)=\"*\",\"\",LogData!D775)","v":""},{"$f":"LogData!E775","v":"*EOL*"},{"$f":"IF($D778=\"*EOL*\",\"\",INT(LogData!V775))","v":""},{"$f":"IF($D778=\"*EOL*\",\"\",LogData!V775-E778)","v":""},{"$f":"IF(LEFT($D778,1)=\"*\",\"\",IF(LogData!S775,\"DUPE\",\"\"))","v":""},{"$f":"IF(LEFT($D778,1)=\"*\",\"\",LogData!R775)","v":""}]
[{"$f":"IF(LEFT($D779,1)=\"*\",\"\",LogData!C776)","v":""},{"$f":"IF(LEFT($D779,1)=\"*\",\"\",LogData!F776)","v":""},{"$f":"IF(LEFT($D779,1)=\"*\",\"\",LogData!D776)","v":""},{"$f":"LogData!E776","v":"*EOL*"},{"$f":"IF($D779=\"*EOL*\",\"\",INT(LogData!V776))","v":""},{"$f":"IF($D779=\"*EOL*\",\"\",LogData!V776-E779)","v":""},{"$f":"IF(LEFT($D779,1)=\"*\",\"\",IF(LogData!S776,\"DUPE\",\"\"))","v":""},{"$f":"IF(LEFT($D779,1)=\"*\",\"\",LogData!R776)","v":""}]
[{"$f":"IF(LEFT($D780,1)=\"*\",\"\",LogData!C777)","v":""},{"$f":"IF(LEFT($D780,1)=\"*\",\"\",LogData!F777)","v":""},{"$f":"IF(LEFT($D780,1)=\"*\",\"\",LogData!D777)","v":""},{"$f":"LogData!E777","v":"*EOL*"},{"$f":"IF($D780=\"*EOL*\",\"\",INT(LogData!V777))","v":""},{"$f":"IF($D780=\"*EOL*\",\"\",LogData!V777-E780)","v":""},{"$f":"IF(LEFT($D780,1)=\"*\",\"\",IF(LogData!S777,\"DUPE\",\"\"))","v":""},{"$f":"IF(LEFT($D780,1)=\"*\",\"\",LogData!R777)","v":""}]
[{"$f":"IF(LEFT($D781,1)=\"*\",\"\",LogData!C778)","v":""},{"$f":"IF(LEFT($D781,1)=\"*\",\"\",LogData!F778)","v":""},{"$f":"IF(LEFT($D781,1)=\"*\",\"\",LogData!D778)","v":""},{"$f":"LogData!E778","v":"*EOL*"},{"$f":"IF($D781=\"*EOL*\",\"\",INT(LogData!V778))","v":""},{"$f":"IF($D781=\"*EOL*\",\"\",LogData!V778-E781)","v":""},{"$f":"IF(LEFT($D781,1)=\"*\",\"\",IF(LogData!S778,\"DUPE\",\"\"))","v":""},{"$f":"IF(LEFT($D781,1)=\"*\",\"\",LogData!R778)","v":""}]
[{"$f":"IF(LEFT($D782,1)=\"*\",\"\",LogData!C779)","v":""},{"$f":"IF(LEFT($D782,1)=\"*\",\"\",LogData!F779)","v":""},{"$f":"IF(LEFT($D782,1)=\"*\",\"\",LogData!D779)","v":""},{"$f":"LogData!E779","v":"*EOL*"},{"$f":"IF($D782=\"*EOL*\",\"\",INT(LogData!V779))","v":""},{"$f":"IF($D782=\"*EOL*\",\"\",LogData!V779-E782)","v":""},{"$f":"IF(LEFT($D782,1)=\"*\",\"\",IF(LogData!S779,\"DUPE\",\"\"))","v":""},{"$f":"IF(LEFT($D782,1)=\"*\",\"\",LogData!R779)","v":""}]
[{"$f":"IF(LEFT($D783,1)=\"*\",\"\",LogData!C780)","v":""},{"$f":"IF(LEFT($D783,1)=\"*\",\"\",LogData!F780)","v":""},{"$f":"IF(LEFT($D783,1)=\"*\",\"\",LogData!D780)","v":""},{"$f":"LogData!E780","v":"*EOL*"},{"$f":"IF($D783=\"*EOL*\",\"\",INT(LogData!V780))","v":""},{"$f":"IF($D783=\"*EOL*\",\"\",LogData!V780-E783)","v":""},{"$f":"IF(LEFT($D783,1)=\"*\",\"\",IF(LogData!S780,\"DUPE\",\"\"))","v":""},{"$f":"IF(LEFT($D783,1)=\"*\",\"\",LogData!R780)","v":""}]
[{"$f":"IF(LEFT($D784,1)=\"*\",\"\",LogData!C781)","v":""},{"$f":"IF(LEFT($D784,1)=\"*\",\"\",LogData!F781)","v":""},{"$f":"IF(LEFT($D784,1)=\"*\",\"\",LogData!D781)","v":""},{"$f":"LogData!E781","v":"*EOL*"},{"$f":"IF($D784=\"*EOL*\",\"\",INT(LogData!V781))","v":""},{"$f":"IF($D784=\"*EOL*\",\"\",LogData!V781-E784)","v":""},{"$f":"IF(LEFT($D784,1)=\"*\",\"\",IF(LogData!S781,\"DUPE\",\"\"))","v":""},{"$f":"IF(LEFT($D784,1)=\"*\",\"\",LogData!R781)","v":""}]
[{"$f":"IF(LEFT($D785,1)=\"*\",\"\",LogData!C782)","v":""},{"$f":"IF(LEFT($D785,1)=\"*\",\"\",LogData!F782)","v":""},{"$f":"IF(LEFT($D785,1)=\"*\",\"\",LogData!D782)","v":""},{"$f":"LogData!E782","v":"*EOL*"},{"$f":"IF($D785=\"*EOL*\",\"\",INT(LogData!V782))","v":""},{"$f":"IF($D785=\"*EOL*\",\"\",LogData!V782-E785)","v":""},{"$f":"IF(LEFT($D785,1)=\"*\",\"\",IF(LogData!S782,\"DUPE\",\"\"))","v":""},{"$f":"IF(LEFT($D785,1)=\"*\",\"\",LogData!R782)","v":""}]
[{"$f":"IF(LEFT($D786,1)=\"*\",\"\",LogData!C783)","v":""},{"$f":"IF(LEFT($D786,1)=\"*\",\"\",LogData!F783)","v":""},{"$f":"IF(LEFT($D786,1)=\"*\",\"\",LogData!D783)","v":""},{"$f":"LogData!E783","v":"*EOL*"},{"$f":"IF($D786=\"*EOL*\",\"\",INT(LogData!V783))","v":""},{"$f":"IF($D786=\"*EOL*\",\"\",LogData!V783-E786)","v":""},{"$f":"IF(LEFT($D786,1)=\"*\",\"\",IF(LogData!S783,\"DUPE\",\"\"))","v":""},{"$f":"IF(LEFT($D786,1)=\"*\",\"\",LogData!R783)","v":""}]
[{"$f":"IF(LEFT($D787,1)=\"*\",\"\",LogData!C784)","v":""},{"$f":"IF(LEFT($D787,1)=\"*\",\"\",LogData!F784)","v":""},{"$f":"IF(LEFT($D787,1)=\"*\",\"\",LogData!D784)","v":""},{"$f":"LogData!E784","v":"*EOL*"},{"$f":"IF($D787=\"*EOL*\",\"\",INT(LogData!V784))","v":""},{"$f":"IF($D787=\"*EOL*\",\"\",LogData!V784-E787)","v":""},{"$f":"IF(LEFT($D787,1)=\"*\",\"\",IF(LogData!S784,\"DUPE\",\"\"))","v":""},{"$f":"IF(LEFT($D787,1)=\"*\",\"\",LogData!R784)","v":""}]
[{"$f":"IF(LEFT($D788,1)=\"*\",\"\",LogData!C785)","v":""},{"$f":"IF(LEFT($D788,1)=\"*\",\"\",LogData!F785)","v":""},{"$f":"IF(LEFT($D788,1)=\"*\",\"\",LogData!D785)","v":""},{"$f":"LogData!E785","v":"*EOL*"},{"$f":"IF($D788=\"*EOL*\",\"\",INT(LogData!V785))","v":""},{"$f":"IF($D788=\"*EOL*\",\"\",LogData!V785-E788)","v":""},{"$f":"IF(LEFT($D788,1)=\"*\",\"\",IF(LogData!S785,\"DUPE\",\"\"))","v":""},{"$f":"IF(LEFT($D788,1)=\"*\",\"\",LogData!R785)","v":""}]
[{"$f":"IF(LEFT($D789,1)=\"*\",\"\",LogData!C786)","v":""},{"$f":"IF(LEFT($D789,1)=\"*\",\"\",LogData!F786)","v":""},{"$f":"IF(LEFT($D789,1)=\"*\",\"\",LogData!D786)","v":""},{"$f":"LogData!E786","v":"*EOL*"},{"$f":"IF($D789=\"*EOL*\",\"\",INT(LogData!V786))","v":""},{"$f":"IF($D789=\"*EOL*\",\"\",LogData!V786-E789)","v":""},{"$f":"IF(LEFT($D789,1)=\"*\",\"\",IF(LogData!S786,\"DUPE\",\"\"))","v":""},{"$f":"IF(LEFT($D789,1)=\"*\",\"\",LogData!R786)","v":""}]
[{"$f":"IF(LEFT($D790,1)=\"*\",\"\",LogData!C787)","v":""},{"$f":"IF(LEFT($D790,1)=\"*\",\"\",LogData!F787)","v":""},{"$f":"IF(LEFT($D790,1)=\"*\",\"\",LogData!D787)","v":""},{"$f":"LogData!E787","v":"*EOL*"},{"$f":"IF($D790=\"*EOL*\",\"\",INT(LogData!V787))","v":""},{"$f":"IF($D790=\"*EOL*\",\"\",LogData!V787-E790)","v":""},{"$f":"IF(LEFT($D790,1)=\"*\",\"\",IF(LogData!S787,\"DUPE\",\"\"))","v":""},{"$f":"IF(LEFT($D790,1)=\"*\",\"\",LogData!R787)","v":""}]
[{"$f":"IF(LEFT($D791,1)=\"*\",\"\",LogData!C788)","v":""},{"$f":"IF(LEFT($D791,1)=\"*\",\"\",LogData!F788)","v":""},{"$f":"IF(LEFT($D791,1)=\"*\",\"\",LogData!D788)","v":""},{"$f":"LogData!E788","v":"*EOL*"},{"$f":"IF($D791=\"*EOL*\",\"\",INT(LogData!V788))","v":""},{"$f":"IF($D791=\"*EOL*\",\"\",LogData!V788-E791)","v":""},{"$f":"IF(LEFT($D791,1)=\"*\",\"\",IF(LogData!S788,\"DUPE\",\"\"))","v":""},{"$f":"IF(LEFT($D791,1)=\"*\",\"\",LogData!R788)","v":""}]
[{"$f":"IF(LEFT($D792,1)=\"*\",\"\",LogData!C789)","v":""},{"$f":"IF(LEFT($D792,1)=\"*\",\"\",LogData!F789)","v":""},{"$f":"IF(LEFT($D792,1)=\"*\",\"\",LogData!D789)","v":""},{"$f":"LogData!E789","v":"*EOL*"},{"$f":"IF($D792=\"*EOL*\",\"\",INT(LogData!V789))","v":""},{"$f":"IF($D792=\"*EOL*\",\"\",LogData!V789-E792)","v":""},{"$f":"IF(LEFT($D792,1)=\"*\",\"\",IF(LogData!S789,\"DUPE\",\"\"))","v":""},{"$f":"IF(LEFT($D792,1)=\"*\",\"\",LogData!R789)","v":""}]
[{"$f":"IF(LEFT($D793,1)=\"*\",\"\",LogData!C790)","v":""},{"$f":"IF(LEFT($D793,1)=\"*\",\"\",LogData!F790)","v":""},{"$f":"IF(LEFT($D793,1)=\"*\",\"\",LogData!D790)","v":""},{"$f":"LogData!E790","v":"*EOL*"},{"$f":"IF($D793=\"*EOL*\",\"\",INT(LogData!V790))","v":""},{"$f":"IF($D793=\"*EOL*\",\"\",LogData!V790-E793)","v":""},{"$f":"IF(LEFT($D793,1)=\"*\",\"\",IF(LogData!S790,\"DUPE\",\"\"))","v":""},{"$f":"IF(LEFT($D793,1)=\"*\",\"\",LogData!R790)","v":""}]
[{"$f":"IF(LEFT($D794,1)=\"*\",\"\",LogData!C791)","v":""},{"$f":"IF(LEFT($D794,1)=\"*\",\"\",LogData!F791)","v":""},{"$f":"IF(LEFT($D794,1)=\"*\",\"\",LogData!D791)","v":""},{"$f":"LogData!E791","v":"*EOL*"},{"$f":"IF($D794=\"*EOL*\",\"\",INT(LogData!V791))","v":""},{"$f":"IF($D794=\"*EOL*\",\"\",LogData!V791-E794)","v":""},{"$f":"IF(LEFT($D794,1)=\"*\",\"\",IF(LogData!S791,\"DUPE\",\"\"))","v":""},{"$f":"IF(LEFT($D794,1)=\"*\",\"\",LogData!R791)","v":""}]
[{"$f":"IF(LEFT($D795,1)=\"*\",\"\",LogData!C792)","v":""},{"$f":"IF(LEFT($D795,1)=\"*\",\"\",LogData!F792)","v":""},{"$f":"IF(LEFT($D795,1)=\"*\",\"\",LogData!D792)","v":""},{"$f":"LogData!E792","v":"*EOL*"},{"$f":"IF($D795=\"*EOL*\",\"\",INT(LogData!V792))","v":""},{"$f":"IF($D795=\"*EOL*\",\"\",LogData!V792-E795)","v":""},{"$f":"IF(LEFT($D795,1)=\"*\",\"\",IF(LogData!S792,\"DUPE\",\"\"))","v":""},{"$f":"IF(LEFT($D795,1)=\"*\",\"\",LogData!R792)","v":""}]
[{"$f":"IF(LEFT($D796,1)=\"*\",\"\",LogData!C793)","v":""},{"$f":"IF(LEFT($D796,1)=\"*\",\"\",LogData!F793)","v":""},{"$f":"IF(LEFT($D796,1)=\"*\",\"\",LogData!D793)","v":""},{"$f":"LogData!E793","v":"*EOL*"},{"$f":"IF($D796=\"*EOL*\",\"\",INT(LogData!V793))","v":""},{"$f":"IF($D796=\"*EOL*\",\"\",LogData!V793-E796)","v":""},{"$f":"IF(LEFT($D796,1)=\"*\",\"\",IF(LogData!S793,\"DUPE\",\"\"))","v":""},{"$f":"IF(LEFT($D796,1)=\"*\",\"\",LogData!R793)","v":""}]
[{"$f":"IF(LEFT($D797,1)=\"*\",\"\",LogData!C794)","v":""},{"$f":"IF(LEFT($D797,1)=\"*\",\"\",LogData!F794)","v":""},{"$f":"IF(LEFT($D797,1)=\"*\",\"\",LogData!D794)","v":""},{"$f":"LogData!E794","v":"*EOL*"},{"$f":"IF($D797=\"*EOL*\",\"\",INT(LogData!V794))","v":""},{"$f":"IF($D797=\"*EOL*\",\"\",LogData!V794-E797)","v":""},{"$f":"IF(LEFT($D797,1)=\"*\",\"\",IF(LogData!S794,\"DUPE\",\"\"))","v":""},{"$f":"IF(LEFT($D797,1)=\"*\",\"\",LogData!R794)","v":""}]
[{"$f":"IF(LEFT($D798,1)=\"*\",\"\",LogData!C795)","v":""},{"$f":"IF(LEFT($D798,1)=\"*\",\"\",LogData!F795)","v":""},{"$f":"IF(LEFT($D798,1)=\"*\",\"\",LogData!D795)","v":""},{"$f":"LogData!E795","v":"*EOL*"},{"$f":"IF($D798=\"*EOL*\",\"\",INT(LogData!V795))","v":""},{"$f":"IF($D798=\"*EOL*\",\"\",LogData!V795-E798)","v":""},{"$f":"IF(LEFT($D798,1)=\"*\",\"\",IF(LogData!S795,\"DUPE\",\"\"))","v":""},{"$f":"IF(LEFT($D798,1)=\"*\",\"\",LogData!R795)","v":""}]
[{"$f":"IF(LEFT($D799,1)=\"*\",\"\",LogData!C796)","v":""},{"$f":"IF(LEFT($D799,1)=\"*\",\"\",LogData!F796)","v":""},{"$f":"IF(LEFT($D799,1)=\"*\",\"\",LogData!D796)","v":""},{"$f":"LogData!E796","v":"*EOL*"},{"$f":"IF($D799=\"*EOL*\",\"\",INT(LogData!V796))","v":""},{"$f":"IF($D799=\"*EOL*\",\"\",LogData!V796-E799)","v":""},{"$f":"IF(LEFT($D799,1)=\"*\",\"\",IF(LogData!S796,\"DUPE\",\"\"))","v":""},{"$f":"IF(LEFT($D799,1)=\"*\",\"\",LogData!R796)","v":""}]
[{"$f":"IF(LEFT($D800,1)=\"*\",\"\",LogData!C797)","v":""},{"$f":"IF(LEFT($D800,1)=\"*\",\"\",LogData!F797)","v":""},{"$f":"IF(LEFT($D800,1)=\"*\",\"\",LogData!D797)","v":""},{"$f":"LogData!E797","v":"*EOL*"},{"$f":"IF($D800=\"*EOL*\",\"\",INT(LogData!V797))","v":""},{"$f":"IF($D800=\"*EOL*\",\"\",LogData!V797-E800)","v":""},{"$f":"IF(LEFT($D800,1)=\"*\",\"\",IF(LogData!S797,\"DUPE\",\"\"))","v":""},{"$f":"IF(LEFT($D800,1)=\"*\",\"\",LogData!R797)","v":""}]
[{"$f":"IF(LEFT($D801,1)=\"*\",\"\",LogData!C798)","v":""},{"$f":"IF(LEFT($D801,1)=\"*\",\"\",LogData!F798)","v":""},{"$f":"IF(LEFT($D801,1)=\"*\",\"\",LogData!D798)","v":""},{"$f":"LogData!E798","v":"*EOL*"},{"$f":"IF($D801=\"*EOL*\",\"\",INT(LogData!V798))","v":""},{"$f":"IF($D801=\"*EOL*\",\"\",LogData!V798-E801)","v":""},{"$f":"IF(LEFT($D801,1)=\"*\",\"\",IF(LogData!S798,\"DUPE\",\"\"))","v":""},{"$f":"IF(LEFT($D801,1)=\"*\",\"\",LogData!R798)","v":""}]
[{"$f":"IF(LEFT($D802,1)=\"*\",\"\",LogData!C799)","v":""},{"$f":"IF(LEFT($D802,1)=\"*\",\"\",LogData!F799)","v":""},{"$f":"IF(LEFT($D802,1)=\"*\",\"\",LogData!D799)","v":""},{"$f":"LogData!E799","v":"*EOL*"},{"$f":"IF($D802=\"*EOL*\",\"\",INT(LogData!V799))","v":""},{"$f":"IF($D802=\"*EOL*\",\"\",LogData!V799-E802)","v":""},{"$f":"IF(LEFT($D802,1)=\"*\",\"\",IF(LogData!S799,\"DUPE\",\"\"))","v":""},{"$f":"IF(LEFT($D802,1)=\"*\",\"\",LogData!R799)","v":""}]
[{"$f":"IF(LEFT($D803,1)=\"*\",\"\",LogData!C800)","v":""},{"$f":"IF(LEFT($D803,1)=\"*\",\"\",LogData!F800)","v":""},{"$f":"IF(LEFT($D803,1)=\"*\",\"\",LogData!D800)","v":""},{"$f":"LogData!E800","v":"*EOL*"},{"$f":"IF($D803=\"*EOL*\",\"\",INT(LogData!V800))","v":""},{"$f":"IF($D803=\"*EOL*\",\"\",LogData!V800-E803)","v":""},{"$f":"IF(LEFT($D803,1)=\"*\",\"\",IF(LogData!S800,\"DUPE\",\"\"))","v":""},{"$f":"IF(LEFT($D803,1)=\"*\",\"\",LogData!R800)","v":""}]
[{"$f":"IF(LEFT($D804,1)=\"*\",\"\",LogData!C801)","v":""},{"$f":"IF(LEFT($D804,1)=\"*\",\"\",LogData!F801)","v":""},{"$f":"IF(LEFT($D804,1)=\"*\",\"\",LogData!D801)","v":""},{"$f":"LogData!E801","v":"*EOL*"},{"$f":"IF($D804=\"*EOL*\",\"\",INT(LogData!V801))","v":""},{"$f":"IF($D804=\"*EOL*\",\"\",LogData!V801-E804)","v":""},{"$f":"IF(LEFT($D804,1)=\"*\",\"\",IF(LogData!S801,\"DUPE\",\"\"))","v":""},{"$f":"IF(LEFT($D804,1)=\"*\",\"\",LogData!R801)","v":""}]
[{"$f":"IF(LEFT($D805,1)=\"*\",\"\",LogData!C802)","v":""},{"$f":"IF(LEFT($D805,1)=\"*\",\"\",LogData!F802)","v":""},{"$f":"IF(LEFT($D805,1)=\"*\",\"\",LogData!D802)","v":""},{"$f":"LogData!E802","v":"*EOL*"},{"$f":"IF($D805=\"*EOL*\",\"\",INT(LogData!V802))","v":""},{"$f":"IF($D805=\"*EOL*\",\"\",LogData!V802-E805)","v":""},{"$f":"IF(LEFT($D805,1)=\"*\",\"\",IF(LogData!S802,\"DUPE\",\"\"))","v":""},{"$f":"IF(LEFT($D805,1)=\"*\",\"\",LogData!R802)","v":""}]
[{"$f":"IF(LEFT($D806,1)=\"*\",\"\",LogData!C803)","v":""},{"$f":"IF(LEFT($D806,1)=\"*\",\"\",LogData!F803)","v":""},{"$f":"IF(LEFT($D806,1)=\"*\",\"\",LogData!D803)","v":""},{"$f":"LogData!E803","v":"*EOL*"},{"$f":"IF($D806=\"*EOL*\",\"\",INT(LogData!V803))","v":""},{"$f":"IF($D806=\"*EOL*\",\"\",LogData!V803-E806)","v":""},{"$f":"IF(LEFT($D806,1)=\"*\",\"\",IF(LogData!S803,\"DUPE\",\"\"))","v":""},{"$f":"IF(LEFT($D806,1)=\"*\",\"\",LogData!R803)","v":""}]
[{"$f":"IF(LEFT($D807,1)=\"*\",\"\",LogData!C804)","v":""},{"$f":"IF(LEFT($D807,1)=\"*\",\"\",LogData!F804)","v":""},{"$f":"IF(LEFT($D807,1)=\"*\",\"\",LogData!D804)","v":""},{"$f":"LogData!E804","v":"*EOL*"},{"$f":"IF($D807=\"*EOL*\",\"\",INT(LogData!V804))","v":""},{"$f":"IF($D807=\"*EOL*\",\"\",LogData!V804-E807)","v":""},{"$f":"IF(LEFT($D807,1)=\"*\",\"\",IF(LogData!S804,\"DUPE\",\"\"))","v":""},{"$f":"IF(LEFT($D807,1)=\"*\",\"\",LogData!R804)","v":""}]
[{"$f":"IF(LEFT($D808,1)=\"*\",\"\",LogData!C805)","v":""},{"$f":"IF(LEFT($D808,1)=\"*\",\"\",LogData!F805)","v":""},{"$f":"IF(LEFT($D808,1)=\"*\",\"\",LogData!D805)","v":""},{"$f":"LogData!E805","v":"*EOL*"},{"$f":"IF($D808=\"*EOL*\",\"\",INT(LogData!V805))","v":""},{"$f":"IF($D808=\"*EOL*\",\"\",LogData!V805-E808)","v":""},{"$f":"IF(LEFT($D808,1)=\"*\",\"\",IF(LogData!S805,\"DUPE\",\"\"))","v":""},{"$f":"IF(LEFT($D808,1)=\"*\",\"\",LogData!R805)","v":""}]
[{"$f":"IF(LEFT($D809,1)=\"*\",\"\",LogData!C806)","v":""},{"$f":"IF(LEFT($D809,1)=\"*\",\"\",LogData!F806)","v":""},{"$f":"IF(LEFT($D809,1)=\"*\",\"\",LogData!D806)","v":""},{"$f":"LogData!E806","v":"*EOL*"},{"$f":"IF($D809=\"*EOL*\",\"\",INT(LogData!V806))","v":""},{"$f":"IF($D809=\"*EOL*\",\"\",LogData!V806-E809)","v":""},{"$f":"IF(LEFT($D809,1)=\"*\",\"\",IF(LogData!S806,\"DUPE\",\"\"))","v":""},{"$f":"IF(LEFT($D809,1)=\"*\",\"\",LogData!R806)","v":""}]
[{"$f":"IF(LEFT($D810,1)=\"*\",\"\",LogData!C807)","v":""},{"$f":"IF(LEFT($D810,1)=\"*\",\"\",LogData!F807)","v":""},{"$f":"IF(LEFT($D810,1)=\"*\",\"\",LogData!D807)","v":""},{"$f":"LogData!E807","v":"*EOL*"},{"$f":"IF($D810=\"*EOL*\",\"\",INT(LogData!V807))","v":""},{"$f":"IF($D810=\"*EOL*\",\"\",LogData!V807-E810)","v":""},{"$f":"IF(LEFT($D810,1)=\"*\",\"\",IF(LogData!S807,\"DUPE\",\"\"))","v":""},{"$f":"IF(LEFT($D810,1)=\"*\",\"\",LogData!R807)","v":""}]
[{"$f":"IF(LEFT($D811,1)=\"*\",\"\",LogData!C808)","v":""},{"$f":"IF(LEFT($D811,1)=\"*\",\"\",LogData!F808)","v":""},{"$f":"IF(LEFT($D811,1)=\"*\",\"\",LogData!D808)","v":""},{"$f":"LogData!E808","v":"*EOL*"},{"$f":"IF($D811=\"*EOL*\",\"\",INT(LogData!V808))","v":""},{"$f":"IF($D811=\"*EOL*\",\"\",LogData!V808-E811)","v":""},{"$f":"IF(LEFT($D811,1)=\"*\",\"\",IF(LogData!S808,\"DUPE\",\"\"))","v":""},{"$f":"IF(LEFT($D811,1)=\"*\",\"\",LogData!R808)","v":""}]
[{"$f":"IF(LEFT($D812,1)=\"*\",\"\",LogData!C809)","v":""},{"$f":"IF(LEFT($D812,1)=\"*\",\"\",LogData!F809)","v":""},{"$f":"IF(LEFT($D812,1)=\"*\",\"\",LogData!D809)","v":""},{"$f":"LogData!E809","v":"*EOL*"},{"$f":"IF($D812=\"*EOL*\",\"\",INT(LogData!V809))","v":""},{"$f":"IF($D812=\"*EOL*\",\"\",LogData!V809-E812)","v":""},{"$f":"IF(LEFT($D812,1)=\"*\",\"\",IF(LogData!S809,\"DUPE\",\"\"))","v":""},{"$f":"IF(LEFT($D812,1)=\"*\",\"\",LogData!R809)","v":""}]
[{"$f":"IF(LEFT($D813,1)=\"*\",\"\",LogData!C810)","v":""},{"$f":"IF(LEFT($D813,1)=\"*\",\"\",LogData!F810)","v":""},{"$f":"IF(LEFT($D813,1)=\"*\",\"\",LogData!D810)","v":""},{"$f":"LogData!E810","v":"*EOL*"},{"$f":"IF($D813=\"*EOL*\",\"\",INT(LogData!V810))","v":""},{"$f":"IF($D813=\"*EOL*\",\"\",LogData!V810-E813)","v":""},{"$f":"IF(LEFT($D813,1)=\"*\",\"\",IF(LogData!S810,\"DUPE\",\"\"))","v":""},{"$f":"IF(LEFT($D813,1)=\"*\",\"\",LogData!R810)","v":""}]
[{"$f":"IF(LEFT($D814,1)=\"*\",\"\",LogData!C811)","v":""},{"$f":"IF(LEFT($D814,1)=\"*\",\"\",LogData!F811)","v":""},{"$f":"IF(LEFT($D814,1)=\"*\",\"\",LogData!D811)","v":""},{"$f":"LogData!E811","v":"*EOL*"},{"$f":"IF($D814=\"*EOL*\",\"\",INT(LogData!V811))","v":""},{"$f":"IF($D814=\"*EOL*\",\"\",LogData!V811-E814)","v":""},{"$f":"IF(LEFT($D814,1)=\"*\",\"\",IF(LogData!S811,\"DUPE\",\"\"))","v":""},{"$f":"IF(LEFT($D814,1)=\"*\",\"\",LogData!R811)","v":""}]
[{"$f":"IF(LEFT($D815,1)=\"*\",\"\",LogData!C812)","v":""},{"$f":"IF(LEFT($D815,1)=\"*\",\"\",LogData!F812)","v":""},{"$f":"IF(LEFT($D815,1)=\"*\",\"\",LogData!D812)","v":""},{"$f":"LogData!E812","v":"*EOL*"},{"$f":"IF($D815=\"*EOL*\",\"\",INT(LogData!V812))","v":""},{"$f":"IF($D815=\"*EOL*\",\"\",LogData!V812-E815)","v":""},{"$f":"IF(LEFT($D815,1)=\"*\",\"\",IF(LogData!S812,\"DUPE\",\"\"))","v":""},{"$f":"IF(LEFT($D815,1)=\"*\",\"\",LogData!R812)","v":""}]
[{"$f":"IF(LEFT($D816,1)=\"*\",\"\",LogData!C813)","v":""},{"$f":"IF(LEFT($D816,1)=\"*\",\"\",LogData!F813)","v":""},{"$f":"IF(LEFT($D816,1)=\"*\",\"\",LogData!D813)","v":""},{"$f":"LogData!E813","v":"*EOL*"},{"$f":"IF($D816=\"*EOL*\",\"\",INT(LogData!V813))","v":""},{"$f":"IF($D816=\"*EOL*\",\"\",LogData!V813-E816)","v":""},{"$f":"IF(LEFT($D816,1)=\"*\",\"\",IF(LogData!S813,\"DUPE\",\"\"))","v":""},{"$f":"IF(LEFT($D816,1)=\"*\",\"\",LogData!R813)","v":""}]
[{"$f":"IF(LEFT($D817,1)=\"*\",\"\",LogData!C814)","v":""},{"$f":"IF(LEFT($D817,1)=\"*\",\"\",LogData!F814)","v":""},{"$f":"IF(LEFT($D817,1)=\"*\",\"\",LogData!D814)","v":""},{"$f":"LogData!E814","v":"*EOL*"},{"$f":"IF($D817=\"*EOL*\",\"\",INT(LogData!V814))","v":""},{"$f":"IF($D817=\"*EOL*\",\"\",LogData!V814-E817)","v":""},{"$f":"IF(LEFT($D817,1)=\"*\",\"\",IF(LogData!S814,\"DUPE\",\"\"))","v":""},{"$f":"IF(LEFT($D817,1)=\"*\",\"\",LogData!R814)","v":""}]
[{"$f":"IF(LEFT($D818,1)=\"*\",\"\",LogData!C815)","v":""},{"$f":"IF(LEFT($D818,1)=\"*\",\"\",LogData!F815)","v":""},{"$f":"IF(LEFT($D818,1)=\"*\",\"\",LogData!D815)","v":""},{"$f":"LogData!E815","v":"*EOL*"},{"$f":"IF($D818=\"*EOL*\",\"\",INT(LogData!V815))","v":""},{"$f":"IF($D818=\"*EOL*\",\"\",LogData!V815-E818)","v":""},{"$f":"IF(LEFT($D818,1)=\"*\",\"\",IF(LogData!S815,\"DUPE\",\"\"))","v":""},{"$f":"IF(LEFT($D818,1)=\"*\",\"\",LogData!R815)","v":""}]
[{"$f":"IF(LEFT($D819,1)=\"*\",\"\",LogData!C816)","v":""},{"$f":"IF(LEFT($D819,1)=\"*\",\"\",LogData!F816)","v":""},{"$f":"IF(LEFT($D819,1)=\"*\",\"\",LogData!D816)","v":""},{"$f":"LogData!E816","v":"*EOL*"},{"$f":"IF($D819=\"*EOL*\",\"\",INT(LogData!V816))","v":""},{"$f":"IF($D819=\"*EOL*\",\"\",LogData!V816-E819)","v":""},{"$f":"IF(LEFT($D819,1)=\"*\",\"\",IF(LogData!S816,\"DUPE\",\"\"))","v":""},{"$f":"IF(LEFT($D819,1)=\"*\",\"\",LogData!R816)","v":""}]
[{"$f":"IF(LEFT($D820,1)=\"*\",\"\",LogData!C817)","v":""},{"$f":"IF(LEFT($D820,1)=\"*\",\"\",LogData!F817)","v":""},{"$f":"IF(LEFT($D820,1)=\"*\",\"\",LogData!D817)","v":""},{"$f":"LogData!E817","v":"*EOL*"},{"$f":"IF($D820=\"*EOL*\",\"\",INT(LogData!V817))","v":""},{"$f":"IF($D820=\"*EOL*\",\"\",LogData!V817-E820)","v":""},{"$f":"IF(LEFT($D820,1)=\"*\",\"\",IF(LogData!S817,\"DUPE\",\"\"))","v":""},{"$f":"IF(LEFT($D820,1)=\"*\",\"\",LogData!R817)","v":""}]
[{"$f":"IF(LEFT($D821,1)=\"*\",\"\",LogData!C818)","v":""},{"$f":"IF(LEFT($D821,1)=\"*\",\"\",LogData!F818)","v":""},{"$f":"IF(LEFT($D821,1)=\"*\",\"\",LogData!D818)","v":""},{"$f":"LogData!E818","v":"*EOL*"},{"$f":"IF($D821=\"*EOL*\",\"\",INT(LogData!V818))","v":""},{"$f":"IF($D821=\"*EOL*\",\"\",LogData!V818-E821)","v":""},{"$f":"IF(LEFT($D821,1)=\"*\",\"\",IF(LogData!S818,\"DUPE\",\"\"))","v":""},{"$f":"IF(LEFT($D821,1)=\"*\",\"\",LogData!R818)","v":""}]
[{"$f":"IF(LEFT($D822,1)=\"*\",\"\",LogData!C819)","v":""},{"$f":"IF(LEFT($D822,1)=\"*\",\"\",LogData!F819)","v":""},{"$f":"IF(LEFT($D822,1)=\"*\",\"\",LogData!D819)","v":""},{"$f":"LogData!E819","v":"*EOL*"},{"$f":"IF($D822=\"*EOL*\",\"\",INT(LogData!V819))","v":""},{"$f":"IF($D822=\"*EOL*\",\"\",LogData!V819-E822)","v":""},{"$f":"IF(LEFT($D822,1)=\"*\",\"\",IF(LogData!S819,\"DUPE\",\"\"))","v":""},{"$f":"IF(LEFT($D822,1)=\"*\",\"\",LogData!R819)","v":""}]
[{"$f":"IF(LEFT($D823,1)=\"*\",\"\",LogData!C820)","v":""},{"$f":"IF(LEFT($D823,1)=\"*\",\"\",LogData!F820)","v":""},{"$f":"IF(LEFT($D823,1)=\"*\",\"\",LogData!D820)","v":""},{"$f":"LogData!E820","v":"*EOL*"},{"$f":"IF($D823=\"*EOL*\",\"\",INT(LogData!V820))","v":""},{"$f":"IF($D823=\"*EOL*\",\"\",LogData!V820-E823)","v":""},{"$f":"IF(LEFT($D823,1)=\"*\",\"\",IF(LogData!S820,\"DUPE\",\"\"))","v":""},{"$f":"IF(LEFT($D823,1)=\"*\",\"\",LogData!R820)","v":""}]
[{"$f":"IF(LEFT($D824,1)=\"*\",\"\",LogData!C821)","v":""},{"$f":"IF(LEFT($D824,1)=\"*\",\"\",LogData!F821)","v":""},{"$f":"IF(LEFT($D824,1)=\"*\",\"\",LogData!D821)","v":""},{"$f":"LogData!E821","v":"*EOL*"},{"$f":"IF($D824=\"*EOL*\",\"\",INT(LogData!V821))","v":""},{"$f":"IF($D824=\"*EOL*\",\"\",LogData!V821-E824)","v":""},{"$f":"IF(LEFT($D824,1)=\"*\",\"\",IF(LogData!S821,\"DUPE\",\"\"))","v":""},{"$f":"IF(LEFT($D824,1)=\"*\",\"\",LogData!R821)","v":""}]
[{"$f":"IF(LEFT($D825,1)=\"*\",\"\",LogData!C822)","v":""},{"$f":"IF(LEFT($D825,1)=\"*\",\"\",LogData!F822)","v":""},{"$f":"IF(LEFT($D825,1)=\"*\",\"\",LogData!D822)","v":""},{"$f":"LogData!E822","v":"*EOL*"},{"$f":"IF($D825=\"*EOL*\",\"\",INT(LogData!V822))","v":""},{"$f":"IF($D825=\"*EOL*\",\"\",LogData!V822-E825)","v":""},{"$f":"IF(LEFT($D825,1)=\"*\",\"\",IF(LogData!S822,\"DUPE\",\"\"))","v":""},{"$f":"IF(LEFT($D825,1)=\"*\",\"\",LogData!R822)","v":""}]
[{"$f":"IF(LEFT($D826,1)=\"*\",\"\",LogData!C823)","v":""},{"$f":"IF(LEFT($D826,1)=\"*\",\"\",LogData!F823)","v":""},{"$f":"IF(LEFT($D826,1)=\"*\",\"\",LogData!D823)","v":""},{"$f":"LogData!E823","v":"*EOL*"},{"$f":"IF($D826=\"*EOL*\",\"\",INT(LogData!V823))","v":""},{"$f":"IF($D826=\"*EOL*\",\"\",LogData!V823-E826)","v":""},{"$f":"IF(LEFT($D826,1)=\"*\",\"\",IF(LogData!S823,\"DUPE\",\"\"))","v":""},{"$f":"IF(LEFT($D826,1)=\"*\",\"\",LogData!R823)","v":""}]
[{"$f":"IF(LEFT($D827,1)=\"*\",\"\",LogData!C824)","v":""},{"$f":"IF(LEFT($D827,1)=\"*\",\"\",LogData!F824)","v":""},{"$f":"IF(LEFT($D827,1)=\"*\",\"\",LogData!D824)","v":""},{"$f":"LogData!E824","v":"*EOL*"},{"$f":"IF($D827=\"*EOL*\",\"\",INT(LogData!V824))","v":""},{"$f":"IF($D827=\"*EOL*\",\"\",LogData!V824-E827)","v":""},{"$f":"IF(LEFT($D827,1)=\"*\",\"\",IF(LogData!S824,\"DUPE\",\"\"))","v":""},{"$f":"IF(LEFT($D827,1)=\"*\",\"\",LogData!R824)","v":""}]
[{"$f":"IF(LEFT($D828,1)=\"*\",\"\",LogData!C825)","v":""},{"$f":"IF(LEFT($D828,1)=\"*\",\"\",LogData!F825)","v":""},{"$f":"IF(LEFT($D828,1)=\"*\",\"\",LogData!D825)","v":""},{"$f":"LogData!E825","v":"*EOL*"},{"$f":"IF($D828=\"*EOL*\",\"\",INT(LogData!V825))","v":""},{"$f":"IF($D828=\"*EOL*\",\"\",LogData!V825-E828)","v":""},{"$f":"IF(LEFT($D828,1)=\"*\",\"\",IF(LogData!S825,\"DUPE\",\"\"))","v":""},{"$f":"IF(LEFT($D828,1)=\"*\",\"\",LogData!R825)","v":""}]
[{"$f":"IF(LEFT($D829,1)=\"*\",\"\",LogData!C826)","v":""},{"$f":"IF(LEFT($D829,1)=\"*\",\"\",LogData!F826)","v":""},{"$f":"IF(LEFT($D829,1)=\"*\",\"\",LogData!D826)","v":""},{"$f":"LogData!E826","v":"*EOL*"},{"$f":"IF($D829=\"*EOL*\",\"\",INT(LogData!V826))","v":""},{"$f":"IF($D829=\"*EOL*\",\"\",LogData!V826-E829)","v":""},{"$f":"IF(LEFT($D829,1)=\"*\",\"\",IF(LogData!S826,\"DUPE\",\"\"))","v":""},{"$f":"IF(LEFT($D829,1)=\"*\",\"\",LogData!R826)","v":""}]
[{"$f":"IF(LEFT($D830,1)=\"*\",\"\",LogData!C827)","v":""},{"$f":"IF(LEFT($D830,1)=\"*\",\"\",LogData!F827)","v":""},{"$f":"IF(LEFT($D830,1)=\"*\",\"\",LogData!D827)","v":""},{"$f":"LogData!E827","v":"*EOL*"},{"$f":"IF($D830=\"*EOL*\",\"\",INT(LogData!V827))","v":""},{"$f":"IF($D830=\"*EOL*\",\"\",LogData!V827-E830)","v":""},{"$f":"IF(LEFT($D830,1)=\"*\",\"\",IF(LogData!S827,\"DUPE\",\"\"))","v":""},{"$f":"IF(LEFT($D830,1)=\"*\",\"\",LogData!R827)","v":""}]
[{"$f":"IF(LEFT($D831,1)=\"*\",\"\",LogData!C828)","v":""},{"$f":"IF(LEFT($D831,1)=\"*\",\"\",LogData!F828)","v":""},{"$f":"IF(LEFT($D831,1)=\"*\",\"\",LogData!D828)","v":""},{"$f":"LogData!E828","v":"*EOL*"},{"$f":"IF($D831=\"*EOL*\",\"\",INT(LogData!V828))","v":""},{"$f":"IF($D831=\"*EOL*\",\"\",LogData!V828-E831)","v":""},{"$f":"IF(LEFT($D831,1)=\"*\",\"\",IF(LogData!S828,\"DUPE\",\"\"))","v":""},{"$f":"IF(LEFT($D831,1)=\"*\",\"\",LogData!R828)","v":""}]
[{"$f":"IF(LEFT($D832,1)=\"*\",\"\",LogData!C829)","v":""},{"$f":"IF(LEFT($D832,1)=\"*\",\"\",LogData!F829)","v":""},{"$f":"IF(LEFT($D832,1)=\"*\",\"\",LogData!D829)","v":""},{"$f":"LogData!E829","v":"*EOL*"},{"$f":"IF($D832=\"*EOL*\",\"\",INT(LogData!V829))","v":""},{"$f":"IF($D832=\"*EOL*\",\"\",LogData!V829-E832)","v":""},{"$f":"IF(LEFT($D832,1)=\"*\",\"\",IF(LogData!S829,\"DUPE\",\"\"))","v":""},{"$f":"IF(LEFT($D832,1)=\"*\",\"\",LogData!R829)","v":""}]
[{"$f":"IF(LEFT($D833,1)=\"*\",\"\",LogData!C830)","v":""},{"$f":"IF(LEFT($D833,1)=\"*\",\"\",LogData!F830)","v":""},{"$f":"IF(LEFT($D833,1)=\"*\",\"\",LogData!D830)","v":""},{"$f":"LogData!E830","v":"*EOL*"},{"$f":"IF($D833=\"*EOL*\",\"\",INT(LogData!V830))","v":""},{"$f":"IF($D833=\"*EOL*\",\"\",LogData!V830-E833)","v":""},{"$f":"IF(LEFT($D833,1)=\"*\",\"\",IF(LogData!S830,\"DUPE\",\"\"))","v":""},{"$f":"IF(LEFT($D833,1)=\"*\",\"\",LogData!R830)","v":""}]
[{"$f":"IF(LEFT($D834,1)=\"*\",\"\",LogData!C831)","v":""},{"$f":"IF(LEFT($D834,1)=\"*\",\"\",LogData!F831)","v":""},{"$f":"IF(LEFT($D834,1)=\"*\",\"\",LogData!D831)","v":""},{"$f":"LogData!E831","v":"*EOL*"},{"$f":"IF($D834=\"*EOL*\",\"\",INT(LogData!V831))","v":""},{"$f":"IF($D834=\"*EOL*\",\"\",LogData!V831-E834)","v":""},{"$f":"IF(LEFT($D834,1)=\"*\",\"\",IF(LogData!S831,\"DUPE\",\"\"))","v":""},{"$f":"IF(LEFT($D834,1)=\"*\",\"\",LogData!R831)","v":""}]
[{"$f":"IF(LEFT($D835,1)=\"*\",\"\",LogData!C832)","v":""},{"$f":"IF(LEFT($D835,1)=\"*\",\"\",LogData!F832)","v":""},{"$f":"IF(LEFT($D835,1)=\"*\",\"\",LogData!D832)","v":""},{"$f":"LogData!E832","v":"*EOL*"},{"$f":"IF($D835=\"*EOL*\",\"\",INT(LogData!V832))","v":""},{"$f":"IF($D835=\"*EOL*\",\"\",LogData!V832-E835)","v":""},{"$f":"IF(LEFT($D835,1)=\"*\",\"\",IF(LogData!S832,\"DUPE\",\"\"))","v":""},{"$f":"IF(LEFT($D835,1)=\"*\",\"\",LogData!R832)","v":""}]
[{"$f":"IF(LEFT($D836,1)=\"*\",\"\",LogData!C833)","v":""},{"$f":"IF(LEFT($D836,1)=\"*\",\"\",LogData!F833)","v":""},{"$f":"IF(LEFT($D836,1)=\"*\",\"\",LogData!D833)","v":""},{"$f":"LogData!E833","v":"*EOL*"},{"$f":"IF($D836=\"*EOL*\",\"\",INT(LogData!V833))","v":""},{"$f":"IF($D836=\"*EOL*\",\"\",LogData!V833-E836)","v":""},{"$f":"IF(LEFT($D836,1)=\"*\",\"\",IF(LogData!S833,\"DUPE\",\"\"))","v":""},{"$f":"IF(LEFT($D836,1)=\"*\",\"\",LogData!R833)","v":""}]
[{"$f":"IF(LEFT($D837,1)=\"*\",\"\",LogData!C834)","v":""},{"$f":"IF(LEFT($D837,1)=\"*\",\"\",LogData!F834)","v":""},{"$f":"IF(LEFT($D837,1)=\"*\",\"\",LogData!D834)","v":""},{"$f":"LogData!E834","v":"*EOL*"},{"$f":"IF($D837=\"*EOL*\",\"\",INT(LogData!V834))","v":""},{"$f":"IF($D837=\"*EOL*\",\"\",LogData!V834-E837)","v":""},{"$f":"IF(LEFT($D837,1)=\"*\",\"\",IF(LogData!S834,\"DUPE\",\"\"))","v":""},{"$f":"IF(LEFT($D837,1)=\"*\",\"\",LogData!R834)","v":""}]
[{"$f":"IF(LEFT($D838,1)=\"*\",\"\",LogData!C835)","v":""},{"$f":"IF(LEFT($D838,1)=\"*\",\"\",LogData!F835)","v":""},{"$f":"IF(LEFT($D838,1)=\"*\",\"\",LogData!D835)","v":""},{"$f":"LogData!E835","v":"*EOL*"},{"$f":"IF($D838=\"*EOL*\",\"\",INT(LogData!V835))","v":""},{"$f":"IF($D838=\"*EOL*\",\"\",LogData!V835-E838)","v":""},{"$f":"IF(LEFT($D838,1)=\"*\",\"\",IF(LogData!S835,\"DUPE\",\"\"))","v":""},{"$f":"IF(LEFT($D838,1)=\"*\",\"\",LogData!R835)","v":""}]
[{"$f":"IF(LEFT($D839,1)=\"*\",\"\",LogData!C836)","v":""},{"$f":"IF(LEFT($D839,1)=\"*\",\"\",LogData!F836)","v":""},{"$f":"IF(LEFT($D839,1)=\"*\",\"\",LogData!D836)","v":""},{"$f":"LogData!E836","v":"*EOL*"},{"$f":"IF($D839=\"*EOL*\",\"\",INT(LogData!V836))","v":""},{"$f":"IF($D839=\"*EOL*\",\"\",LogData!V836-E839)","v":""},{"$f":"IF(LEFT($D839,1)=\"*\",\"\",IF(LogData!S836,\"DUPE\",\"\"))","v":""},{"$f":"IF(LEFT($D839,1)=\"*\",\"\",LogData!R836)","v":""}]
[{"$f":"IF(LEFT($D840,1)=\"*\",\"\",LogData!C837)","v":""},{"$f":"IF(LEFT($D840,1)=\"*\",\"\",LogData!F837)","v":""},{"$f":"IF(LEFT($D840,1)=\"*\",\"\",LogData!D837)","v":""},{"$f":"LogData!E837","v":"*EOL*"},{"$f":"IF($D840=\"*EOL*\",\"\",INT(LogData!V837))","v":""},{"$f":"IF($D840=\"*EOL*\",\"\",LogData!V837-E840)","v":""},{"$f":"IF(LEFT($D840,1)=\"*\",\"\",IF(LogData!S837,\"DUPE\",\"\"))","v":""},{"$f":"IF(LEFT($D840,1)=\"*\",\"\",LogData!R837)","v":""}]
[{"$f":"IF(LEFT($D841,1)=\"*\",\"\",LogData!C838)","v":""},{"$f":"IF(LEFT($D841,1)=\"*\",\"\",LogData!F838)","v":""},{"$f":"IF(LEFT($D841,1)=\"*\",\"\",LogData!D838)","v":""},{"$f":"LogData!E838","v":"*EOL*"},{"$f":"IF($D841=\"*EOL*\",\"\",INT(LogData!V838))","v":""},{"$f":"IF($D841=\"*EOL*\",\"\",LogData!V838-E841)","v":""},{"$f":"IF(LEFT($D841,1)=\"*\",\"\",IF(LogData!S838,\"DUPE\",\"\"))","v":""},{"$f":"IF(LEFT($D841,1)=\"*\",\"\",LogData!R838)","v":""}]
[{"$f":"IF(LEFT($D842,1)=\"*\",\"\",LogData!C839)","v":""},{"$f":"IF(LEFT($D842,1)=\"*\",\"\",LogData!F839)","v":""},{"$f":"IF(LEFT($D842,1)=\"*\",\"\",LogData!D839)","v":""},{"$f":"LogData!E839","v":"*EOL*"},{"$f":"IF($D842=\"*EOL*\",\"\",INT(LogData!V839))","v":""},{"$f":"IF($D842=\"*EOL*\",\"\",LogData!V839-E842)","v":""},{"$f":"IF(LEFT($D842,1)=\"*\",\"\",IF(LogData!S839,\"DUPE\",\"\"))","v":""},{"$f":"IF(LEFT($D842,1)=\"*\",\"\",LogData!R839)","v":""}]
[{"$f":"IF(LEFT($D843,1)=\"*\",\"\",LogData!C840)","v":""},{"$f":"IF(LEFT($D843,1)=\"*\",\"\",LogData!F840)","v":""},{"$f":"IF(LEFT($D843,1)=\"*\",\"\",LogData!D840)","v":""},{"$f":"LogData!E840","v":"*EOL*"},{"$f":"IF($D843=\"*EOL*\",\"\",INT(LogData!V840))","v":""},{"$f":"IF($D843=\"*EOL*\",\"\",LogData!V840-E843)","v":""},{"$f":"IF(LEFT($D843,1)=\"*\",\"\",IF(LogData!S840,\"DUPE\",\"\"))","v":""},{"$f":"IF(LEFT($D843,1)=\"*\",\"\",LogData!R840)","v":""}]
[{"$f":"IF(LEFT($D844,1)=\"*\",\"\",LogData!C841)","v":""},{"$f":"IF(LEFT($D844,1)=\"*\",\"\",LogData!F841)","v":""},{"$f":"IF(LEFT($D844,1)=\"*\",\"\",LogData!D841)","v":""},{"$f":"LogData!E841","v":"*EOL*"},{"$f":"IF($D844=\"*EOL*\",\"\",INT(LogData!V841))","v":""},{"$f":"IF($D844=\"*EOL*\",\"\",LogData!V841-E844)","v":""},{"$f":"IF(LEFT($D844,1)=\"*\",\"\",IF(LogData!S841,\"DUPE\",\"\"))","v":""},{"$f":"IF(LEFT($D844,1)=\"*\",\"\",LogData!R841)","v":""}]
[{"$f":"IF(LEFT($D845,1)=\"*\",\"\",LogData!C842)","v":""},{"$f":"IF(LEFT($D845,1)=\"*\",\"\",LogData!F842)","v":""},{"$f":"IF(LEFT($D845,1)=\"*\",\"\",LogData!D842)","v":""},{"$f":"LogData!E842","v":"*EOL*"},{"$f":"IF($D845=\"*EOL*\",\"\",INT(LogData!V842))","v":""},{"$f":"IF($D845=\"*EOL*\",\"\",LogData!V842-E845)","v":""},{"$f":"IF(LEFT($D845,1)=\"*\",\"\",IF(LogData!S842,\"DUPE\",\"\"))","v":""},{"$f":"IF(LEFT($D845,1)=\"*\",\"\",LogData!R842)","v":""}]
[{"$f":"IF(LEFT($D846,1)=\"*\",\"\",LogData!C843)","v":""},{"$f":"IF(LEFT($D846,1)=\"*\",\"\",LogData!F843)","v":""},{"$f":"IF(LEFT($D846,1)=\"*\",\"\",LogData!D843)","v":""},{"$f":"LogData!E843","v":"*EOL*"},{"$f":"IF($D846=\"*EOL*\",\"\",INT(LogData!V843))","v":""},{"$f":"IF($D846=\"*EOL*\",\"\",LogData!V843-E846)","v":""},{"$f":"IF(LEFT($D846,1)=\"*\",\"\",IF(LogData!S843,\"DUPE\",\"\"))","v":""},{"$f":"IF(LEFT($D846,1)=\"*\",\"\",LogData!R843)","v":""}]
[{"$f":"IF(LEFT($D847,1)=\"*\",\"\",LogData!C844)","v":""},{"$f":"IF(LEFT($D847,1)=\"*\",\"\",LogData!F844)","v":""},{"$f":"IF(LEFT($D847,1)=\"*\",\"\",LogData!D844)","v":""},{"$f":"LogData!E844","v":"*EOL*"},{"$f":"IF($D847=\"*EOL*\",\"\",INT(LogData!V844))","v":""},{"$f":"IF($D847=\"*EOL*\",\"\",LogData!V844-E847)","v":""},{"$f":"IF(LEFT($D847,1)=\"*\",\"\",IF(LogData!S844,\"DUPE\",\"\"))","v":""},{"$f":"IF(LEFT($D847,1)=\"*\",\"\",LogData!R844)","v":""}]
[{"$f":"IF(LEFT($D848,1)=\"*\",\"\",LogData!C845)","v":""},{"$f":"IF(LEFT($D848,1)=\"*\",\"\",LogData!F845)","v":""},{"$f":"IF(LEFT($D848,1)=\"*\",\"\",LogData!D845)","v":""},{"$f":"LogData!E845","v":"*EOL*"},{"$f":"IF($D848=\"*EOL*\",\"\",INT(LogData!V845))","v":""},{"$f":"IF($D848=\"*EOL*\",\"\",LogData!V845-E848)","v":""},{"$f":"IF(LEFT($D848,1)=\"*\",\"\",IF(LogData!S845,\"DUPE\",\"\"))","v":""},{"$f":"IF(LEFT($D848,1)=\"*\",\"\",LogData!R845)","v":""}]
[{"$f":"IF(LEFT($D849,1)=\"*\",\"\",LogData!C846)","v":""},{"$f":"IF(LEFT($D849,1)=\"*\",\"\",LogData!F846)","v":""},{"$f":"IF(LEFT($D849,1)=\"*\",\"\",LogData!D846)","v":""},{"$f":"LogData!E846","v":"*EOL*"},{"$f":"IF($D849=\"*EOL*\",\"\",INT(LogData!V846))","v":""},{"$f":"IF($D849=\"*EOL*\",\"\",LogData!V846-E849)","v":""},{"$f":"IF(LEFT($D849,1)=\"*\",\"\",IF(LogData!S846,\"DUPE\",\"\"))","v":""},{"$f":"IF(LEFT($D849,1)=\"*\",\"\",LogData!R846)","v":""}]
[{"$f":"IF(LEFT($D850,1)=\"*\",\"\",LogData!C847)","v":""},{"$f":"IF(LEFT($D850,1)=\"*\",\"\",LogData!F847)","v":""},{"$f":"IF(LEFT($D850,1)=\"*\",\"\",LogData!D847)","v":""},{"$f":"LogData!E847","v":"*EOL*"},{"$f":"IF($D850=\"*EOL*\",\"\",INT(LogData!V847))","v":""},{"$f":"IF($D850=\"*EOL*\",\"\",LogData!V847-E850)","v":""},{"$f":"IF(LEFT($D850,1)=\"*\",\"\",IF(LogData!S847,\"DUPE\",\"\"))","v":""},{"$f":"IF(LEFT($D850,1)=\"*\",\"\",LogData!R847)","v":""}]
[{"$f":"IF(LEFT($D851,1)=\"*\",\"\",LogData!C848)","v":""},{"$f":"IF(LEFT($D851,1)=\"*\",\"\",LogData!F848)","v":""},{"$f":"IF(LEFT($D851,1)=\"*\",\"\",LogData!D848)","v":""},{"$f":"LogData!E848","v":"*EOL*"},{"$f":"IF($D851=\"*EOL*\",\"\",INT(LogData!V848))","v":""},{"$f":"IF($D851=\"*EOL*\",\"\",LogData!V848-E851)","v":""},{"$f":"IF(LEFT($D851,1)=\"*\",\"\",IF(LogData!S848,\"DUPE\",\"\"))","v":""},{"$f":"IF(LEFT($D851,1)=\"*\",\"\",LogData!R848)","v":""}]
[{"$f":"IF(LEFT($D852,1)=\"*\",\"\",LogData!C849)","v":""},{"$f":"IF(LEFT($D852,1)=\"*\",\"\",LogData!F849)","v":""},{"$f":"IF(LEFT($D852,1)=\"*\",\"\",LogData!D849)","v":""},{"$f":"LogData!E849","v":"*EOL*"},{"$f":"IF($D852=\"*EOL*\",\"\",INT(LogData!V849))","v":""},{"$f":"IF($D852=\"*EOL*\",\"\",LogData!V849-E852)","v":""},{"$f":"IF(LEFT($D852,1)=\"*\",\"\",IF(LogData!S849,\"DUPE\",\"\"))","v":""},{"$f":"IF(LEFT($D852,1)=\"*\",\"\",LogData!R849)","v":""}]
[{"$f":"IF(LEFT($D853,1)=\"*\",\"\",LogData!C850)","v":""},{"$f":"IF(LEFT($D853,1)=\"*\",\"\",LogData!F850)","v":""},{"$f":"IF(LEFT($D853,1)=\"*\",\"\",LogData!D850)","v":""},{"$f":"LogData!E850","v":"*EOL*"},{"$f":"IF($D853=\"*EOL*\",\"\",INT(LogData!V850))","v":""},{"$f":"IF($D853=\"*EOL*\",\"\",LogData!V850-E853)","v":""},{"$f":"IF(LEFT($D853,1)=\"*\",\"\",IF(LogData!S850,\"DUPE\",\"\"))","v":""},{"$f":"IF(LEFT($D853,1)=\"*\",\"\",LogData!R850)","v":""}]
[{"$f":"IF(LEFT($D854,1)=\"*\",\"\",LogData!C851)","v":""},{"$f":"IF(LEFT($D854,1)=\"*\",\"\",LogData!F851)","v":""},{"$f":"IF(LEFT($D854,1)=\"*\",\"\",LogData!D851)","v":""},{"$f":"LogData!E851","v":"*EOL*"},{"$f":"IF($D854=\"*EOL*\",\"\",INT(LogData!V851))","v":""},{"$f":"IF($D854=\"*EOL*\",\"\",LogData!V851-E854)","v":""},{"$f":"IF(LEFT($D854,1)=\"*\",\"\",IF(LogData!S851,\"DUPE\",\"\"))","v":""},{"$f":"IF(LEFT($D854,1)=\"*\",\"\",LogData!R851)","v":""}]
[{"$f":"IF(LEFT($D855,1)=\"*\",\"\",LogData!C852)","v":""},{"$f":"IF(LEFT($D855,1)=\"*\",\"\",LogData!F852)","v":""},{"$f":"IF(LEFT($D855,1)=\"*\",\"\",LogData!D852)","v":""},{"$f":"LogData!E852","v":"*EOL*"},{"$f":"IF($D855=\"*EOL*\",\"\",INT(LogData!V852))","v":""},{"$f":"IF($D855=\"*EOL*\",\"\",LogData!V852-E855)","v":""},{"$f":"IF(LEFT($D855,1)=\"*\",\"\",IF(LogData!S852,\"DUPE\",\"\"))","v":""},{"$f":"IF(LEFT($D855,1)=\"*\",\"\",LogData!R852)","v":""}]
[{"$f":"IF(LEFT($D856,1)=\"*\",\"\",LogData!C853)","v":""},{"$f":"IF(LEFT($D856,1)=\"*\",\"\",LogData!F853)","v":""},{"$f":"IF(LEFT($D856,1)=\"*\",\"\",LogData!D853)","v":""},{"$f":"LogData!E853","v":"*EOL*"},{"$f":"IF($D856=\"*EOL*\",\"\",INT(LogData!V853))","v":""},{"$f":"IF($D856=\"*EOL*\",\"\",LogData!V853-E856)","v":""},{"$f":"IF(LEFT($D856,1)=\"*\",\"\",IF(LogData!S853,\"DUPE\",\"\"))","v":""},{"$f":"IF(LEFT($D856,1)=\"*\",\"\",LogData!R853)","v":""}]
[{"$f":"IF(LEFT($D857,1)=\"*\",\"\",LogData!C854)","v":""},{"$f":"IF(LEFT($D857,1)=\"*\",\"\",LogData!F854)","v":""},{"$f":"IF(LEFT($D857,1)=\"*\",\"\",LogData!D854)","v":""},{"$f":"LogData!E854","v":"*EOL*"},{"$f":"IF($D857=\"*EOL*\",\"\",INT(LogData!V854))","v":""},{"$f":"IF($D857=\"*EOL*\",\"\",LogData!V854-E857)","v":""},{"$f":"IF(LEFT($D857,1)=\"*\",\"\",IF(LogData!S854,\"DUPE\",\"\"))","v":""},{"$f":"IF(LEFT($D857,1)=\"*\",\"\",LogData!R854)","v":""}]
[{"$f":"IF(LEFT($D858,1)=\"*\",\"\",LogData!C855)","v":""},{"$f":"IF(LEFT($D858,1)=\"*\",\"\",LogData!F855)","v":""},{"$f":"IF(LEFT($D858,1)=\"*\",\"\",LogData!D855)","v":""},{"$f":"LogData!E855","v":"*EOL*"},{"$f":"IF($D858=\"*EOL*\",\"\",INT(LogData!V855))","v":""},{"$f":"IF($D858=\"*EOL*\",\"\",LogData!V855-E858)","v":""},{"$f":"IF(LEFT($D858,1)=\"*\",\"\",IF(LogData!S855,\"DUPE\",\"\"))","v":""},{"$f":"IF(LEFT($D858,1)=\"*\",\"\",LogData!R855)","v":""}]
[{"$f":"IF(LEFT($D859,1)=\"*\",\"\",LogData!C856)","v":""},{"$f":"IF(LEFT($D859,1)=\"*\",\"\",LogData!F856)","v":""},{"$f":"IF(LEFT($D859,1)=\"*\",\"\",LogData!D856)","v":""},{"$f":"LogData!E856","v":"*EOL*"},{"$f":"IF($D859=\"*EOL*\",\"\",INT(LogData!V856))","v":""},{"$f":"IF($D859=\"*EOL*\",\"\",LogData!V856-E859)","v":""},{"$f":"IF(LEFT($D859,1)=\"*\",\"\",IF(LogData!S856,\"DUPE\",\"\"))","v":""},{"$f":"IF(LEFT($D859,1)=\"*\",\"\",LogData!R856)","v":""}]
[{"$f":"IF(LEFT($D860,1)=\"*\",\"\",LogData!C857)","v":""},{"$f":"IF(LEFT($D860,1)=\"*\",\"\",LogData!F857)","v":""},{"$f":"IF(LEFT($D860,1)=\"*\",\"\",LogData!D857)","v":""},{"$f":"LogData!E857","v":"*EOL*"},{"$f":"IF($D860=\"*EOL*\",\"\",INT(LogData!V857))","v":""},{"$f":"IF($D860=\"*EOL*\",\"\",LogData!V857-E860)","v":""},{"$f":"IF(LEFT($D860,1)=\"*\",\"\",IF(LogData!S857,\"DUPE\",\"\"))","v":""},{"$f":"IF(LEFT($D860,1)=\"*\",\"\",LogData!R857)","v":""}]
[{"$f":"IF(LEFT($D861,1)=\"*\",\"\",LogData!C858)","v":""},{"$f":"IF(LEFT($D861,1)=\"*\",\"\",LogData!F858)","v":""},{"$f":"IF(LEFT($D861,1)=\"*\",\"\",LogData!D858)","v":""},{"$f":"LogData!E858","v":"*EOL*"},{"$f":"IF($D861=\"*EOL*\",\"\",INT(LogData!V858))","v":""},{"$f":"IF($D861=\"*EOL*\",\"\",LogData!V858-E861)","v":""},{"$f":"IF(LEFT($D861,1)=\"*\",\"\",IF(LogData!S858,\"DUPE\",\"\"))","v":""},{"$f":"IF(LEFT($D861,1)=\"*\",\"\",LogData!R858)","v":""}]
[{"$f":"IF(LEFT($D862,1)=\"*\",\"\",LogData!C859)","v":""},{"$f":"IF(LEFT($D862,1)=\"*\",\"\",LogData!F859)","v":""},{"$f":"IF(LEFT($D862,1)=\"*\",\"\",LogData!D859)","v":""},{"$f":"LogData!E859","v":"*EOL*"},{"$f":"IF($D862=\"*EOL*\",\"\",INT(LogData!V859))","v":""},{"$f":"IF($D862=\"*EOL*\",\"\",LogData!V859-E862)","v":""},{"$f":"IF(LEFT($D862,1)=\"*\",\"\",IF(LogData!S859,\"DUPE\",\"\"))","v":""},{"$f":"IF(LEFT($D862,1)=\"*\",\"\",LogData!R859)","v":""}]
[{"$f":"IF(LEFT($D863,1)=\"*\",\"\",LogData!C860)","v":""},{"$f":"IF(LEFT($D863,1)=\"*\",\"\",LogData!F860)","v":""},{"$f":"IF(LEFT($D863,1)=\"*\",\"\",LogData!D860)","v":""},{"$f":"LogData!E860","v":"*EOL*"},{"$f":"IF($D863=\"*EOL*\",\"\",INT(LogData!V860))","v":""},{"$f":"IF($D863=\"*EOL*\",\"\",LogData!V860-E863)","v":""},{"$f":"IF(LEFT($D863,1)=\"*\",\"\",IF(LogData!S860,\"DUPE\",\"\"))","v":""},{"$f":"IF(LEFT($D863,1)=\"*\",\"\",LogData!R860)","v":""}]
[{"$f":"IF(LEFT($D864,1)=\"*\",\"\",LogData!C861)","v":""},{"$f":"IF(LEFT($D864,1)=\"*\",\"\",LogData!F861)","v":""},{"$f":"IF(LEFT($D864,1)=\"*\",\"\",LogData!D861)","v":""},{"$f":"LogData!E861","v":"*EOL*"},{"$f":"IF($D864=\"*EOL*\",\"\",INT(LogData!V861))","v":""},{"$f":"IF($D864=\"*EOL*\",\"\",LogData!V861-E864)","v":""},{"$f":"IF(LEFT($D864,1)=\"*\",\"\",IF(LogData!S861,\"DUPE\",\"\"))","v":""},{"$f":"IF(LEFT($D864,1)=\"*\",\"\",LogData!R861)","v":""}]
[{"$f":"IF(LEFT($D865,1)=\"*\",\"\",LogData!C862)","v":""},{"$f":"IF(LEFT($D865,1)=\"*\",\"\",LogData!F862)","v":""},{"$f":"IF(LEFT($D865,1)=\"*\",\"\",LogData!D862)","v":""},{"$f":"LogData!E862","v":"*EOL*"},{"$f":"IF($D865=\"*EOL*\",\"\",INT(LogData!V862))","v":""},{"$f":"IF($D865=\"*EOL*\",\"\",LogData!V862-E865)","v":""},{"$f":"IF(LEFT($D865,1)=\"*\",\"\",IF(LogData!S862,\"DUPE\",\"\"))","v":""},{"$f":"IF(LEFT($D865,1)=\"*\",\"\",LogData!R862)","v":""}]
[{"$f":"IF(LEFT($D866,1)=\"*\",\"\",LogData!C863)","v":""},{"$f":"IF(LEFT($D866,1)=\"*\",\"\",LogData!F863)","v":""},{"$f":"IF(LEFT($D866,1)=\"*\",\"\",LogData!D863)","v":""},{"$f":"LogData!E863","v":"*EOL*"},{"$f":"IF($D866=\"*EOL*\",\"\",INT(LogData!V863))","v":""},{"$f":"IF($D866=\"*EOL*\",\"\",LogData!V863-E866)","v":""},{"$f":"IF(LEFT($D866,1)=\"*\",\"\",IF(LogData!S863,\"DUPE\",\"\"))","v":""},{"$f":"IF(LEFT($D866,1)=\"*\",\"\",LogData!R863)","v":""}]
[{"$f":"IF(LEFT($D867,1)=\"*\",\"\",LogData!C864)","v":""},{"$f":"IF(LEFT($D867,1)=\"*\",\"\",LogData!F864)","v":""},{"$f":"IF(LEFT($D867,1)=\"*\",\"\",LogData!D864)","v":""},{"$f":"LogData!E864","v":"*EOL*"},{"$f":"IF($D867=\"*EOL*\",\"\",INT(LogData!V864))","v":""},{"$f":"IF($D867=\"*EOL*\",\"\",LogData!V864-E867)","v":""},{"$f":"IF(LEFT($D867,1)=\"*\",\"\",IF(LogData!S864,\"DUPE\",\"\"))","v":""},{"$f":"IF(LEFT($D867,1)=\"*\",\"\",LogData!R864)","v":""}]
[{"$f":"IF(LEFT($D868,1)=\"*\",\"\",LogData!C865)","v":""},{"$f":"IF(LEFT($D868,1)=\"*\",\"\",LogData!F865)","v":""},{"$f":"IF(LEFT($D868,1)=\"*\",\"\",LogData!D865)","v":""},{"$f":"LogData!E865","v":"*EOL*"},{"$f":"IF($D868=\"*EOL*\",\"\",INT(LogData!V865))","v":""},{"$f":"IF($D868=\"*EOL*\",\"\",LogData!V865-E868)","v":""},{"$f":"IF(LEFT($D868,1)=\"*\",\"\",IF(LogData!S865,\"DUPE\",\"\"))","v":""},{"$f":"IF(LEFT($D868,1)=\"*\",\"\",LogData!R865)","v":""}]
[{"$f":"IF(LEFT($D869,1)=\"*\",\"\",LogData!C866)","v":""},{"$f":"IF(LEFT($D869,1)=\"*\",\"\",LogData!F866)","v":""},{"$f":"IF(LEFT($D869,1)=\"*\",\"\",LogData!D866)","v":""},{"$f":"LogData!E866","v":"*EOL*"},{"$f":"IF($D869=\"*EOL*\",\"\",INT(LogData!V866))","v":""},{"$f":"IF($D869=\"*EOL*\",\"\",LogData!V866-E869)","v":""},{"$f":"IF(LEFT($D869,1)=\"*\",\"\",IF(LogData!S866,\"DUPE\",\"\"))","v":""},{"$f":"IF(LEFT($D869,1)=\"*\",\"\",LogData!R866)","v":""}]
[{"$f":"IF(LEFT($D870,1)=\"*\",\"\",LogData!C867)","v":""},{"$f":"IF(LEFT($D870,1)=\"*\",\"\",LogData!F867)","v":""},{"$f":"IF(LEFT($D870,1)=\"*\",\"\",LogData!D867)","v":""},{"$f":"LogData!E867","v":"*EOL*"},{"$f":"IF($D870=\"*EOL*\",\"\",INT(LogData!V867))","v":""},{"$f":"IF($D870=\"*EOL*\",\"\",LogData!V867-E870)","v":""},{"$f":"IF(LEFT($D870,1)=\"*\",\"\",IF(LogData!S867,\"DUPE\",\"\"))","v":""},{"$f":"IF(LEFT($D870,1)=\"*\",\"\",LogData!R867)","v":""}]
[{"$f":"IF(LEFT($D871,1)=\"*\",\"\",LogData!C868)","v":""},{"$f":"IF(LEFT($D871,1)=\"*\",\"\",LogData!F868)","v":""},{"$f":"IF(LEFT($D871,1)=\"*\",\"\",LogData!D868)","v":""},{"$f":"LogData!E868","v":"*EOL*"},{"$f":"IF($D871=\"*EOL*\",\"\",INT(LogData!V868))","v":""},{"$f":"IF($D871=\"*EOL*\",\"\",LogData!V868-E871)","v":""},{"$f":"IF(LEFT($D871,1)=\"*\",\"\",IF(LogData!S868,\"DUPE\",\"\"))","v":""},{"$f":"IF(LEFT($D871,1)=\"*\",\"\",LogData!R868)","v":""}]
[{"$f":"IF(LEFT($D872,1)=\"*\",\"\",LogData!C869)","v":""},{"$f":"IF(LEFT($D872,1)=\"*\",\"\",LogData!F869)","v":""},{"$f":"IF(LEFT($D872,1)=\"*\",\"\",LogData!D869)","v":""},{"$f":"LogData!E869","v":"*EOL*"},{"$f":"IF($D872=\"*EOL*\",\"\",INT(LogData!V869))","v":""},{"$f":"IF($D872=\"*EOL*\",\"\",LogData!V869-E872)","v":""},{"$f":"IF(LEFT($D872,1)=\"*\",\"\",IF(LogData!S869,\"DUPE\",\"\"))","v":""},{"$f":"IF(LEFT($D872,1)=\"*\",\"\",LogData!R869)","v":""}]
[{"$f":"IF(LEFT($D873,1)=\"*\",\"\",LogData!C870)","v":""},{"$f":"IF(LEFT($D873,1)=\"*\",\"\",LogData!F870)","v":""},{"$f":"IF(LEFT($D873,1)=\"*\",\"\",LogData!D870)","v":""},{"$f":"LogData!E870","v":"*EOL*"},{"$f":"IF($D873=\"*EOL*\",\"\",INT(LogData!V870))","v":""},{"$f":"IF($D873=\"*EOL*\",\"\",LogData!V870-E873)","v":""},{"$f":"IF(LEFT($D873,1)=\"*\",\"\",IF(LogData!S870,\"DUPE\",\"\"))","v":""},{"$f":"IF(LEFT($D873,1)=\"*\",\"\",LogData!R870)","v":""}]
[{"$f":"IF(LEFT($D874,1)=\"*\",\"\",LogData!C871)","v":""},{"$f":"IF(LEFT($D874,1)=\"*\",\"\",LogData!F871)","v":""},{"$f":"IF(LEFT($D874,1)=\"*\",\"\",LogData!D871)","v":""},{"$f":"LogData!E871","v":"*EOL*"},{"$f":"IF($D874=\"*EOL*\",\"\",INT(LogData!V871))","v":""},{"$f":"IF($D874=\"*EOL*\",\"\",LogData!V871-E874)","v":""},{"$f":"IF(LEFT($D874,1)=\"*\",\"\",IF(LogData!S871,\"DUPE\",\"\"))","v":""},{"$f":"IF(LEFT($D874,1)=\"*\",\"\",LogData!R871)","v":""}]
[{"$f":"IF(LEFT($D875,1)=\"*\",\"\",LogData!C872)","v":""},{"$f":"IF(LEFT($D875,1)=\"*\",\"\",LogData!F872)","v":""},{"$f":"IF(LEFT($D875,1)=\"*\",\"\",LogData!D872)","v":""},{"$f":"LogData!E872","v":"*EOL*"},{"$f":"IF($D875=\"*EOL*\",\"\",INT(LogData!V872))","v":""},{"$f":"IF($D875=\"*EOL*\",\"\",LogData!V872-E875)","v":""},{"$f":"IF(LEFT($D875,1)=\"*\",\"\",IF(LogData!S872,\"DUPE\",\"\"))","v":""},{"$f":"IF(LEFT($D875,1)=\"*\",\"\",LogData!R872)","v":""}]
[{"$f":"IF(LEFT($D876,1)=\"*\",\"\",LogData!C873)","v":""},{"$f":"IF(LEFT($D876,1)=\"*\",\"\",LogData!F873)","v":""},{"$f":"IF(LEFT($D876,1)=\"*\",\"\",LogData!D873)","v":""},{"$f":"LogData!E873","v":"*EOL*"},{"$f":"IF($D876=\"*EOL*\",\"\",INT(LogData!V873))","v":""},{"$f":"IF($D876=\"*EOL*\",\"\",LogData!V873-E876)","v":""},{"$f":"IF(LEFT($D876,1)=\"*\",\"\",IF(LogData!S873,\"DUPE\",\"\"))","v":""},{"$f":"IF(LEFT($D876,1)=\"*\",\"\",LogData!R873)","v":""}]
[{"$f":"IF(LEFT($D877,1)=\"*\",\"\",LogData!C874)","v":""},{"$f":"IF(LEFT($D877,1)=\"*\",\"\",LogData!F874)","v":""},{"$f":"IF(LEFT($D877,1)=\"*\",\"\",LogData!D874)","v":""},{"$f":"LogData!E874","v":"*EOL*"},{"$f":"IF($D877=\"*EOL*\",\"\",INT(LogData!V874))","v":""},{"$f":"IF($D877=\"*EOL*\",\"\",LogData!V874-E877)","v":""},{"$f":"IF(LEFT($D877,1)=\"*\",\"\",IF(LogData!S874,\"DUPE\",\"\"))","v":""},{"$f":"IF(LEFT($D877,1)=\"*\",\"\",LogData!R874)","v":""}]
[{"$f":"IF(LEFT($D878,1)=\"*\",\"\",LogData!C875)","v":""},{"$f":"IF(LEFT($D878,1)=\"*\",\"\",LogData!F875)","v":""},{"$f":"IF(LEFT($D878,1)=\"*\",\"\",LogData!D875)","v":""},{"$f":"LogData!E875","v":"*EOL*"},{"$f":"IF($D878=\"*EOL*\",\"\",INT(LogData!V875))","v":""},{"$f":"IF($D878=\"*EOL*\",\"\",LogData!V875-E878)","v":""},{"$f":"IF(LEFT($D878,1)=\"*\",\"\",IF(LogData!S875,\"DUPE\",\"\"))","v":""},{"$f":"IF(LEFT($D878,1)=\"*\",\"\",LogData!R875)","v":""}]
[{"$f":"IF(LEFT($D879,1)=\"*\",\"\",LogData!C876)","v":""},{"$f":"IF(LEFT($D879,1)=\"*\",\"\",LogData!F876)","v":""},{"$f":"IF(LEFT($D879,1)=\"*\",\"\",LogData!D876)","v":""},{"$f":"LogData!E876","v":"*EOL*"},{"$f":"IF($D879=\"*EOL*\",\"\",INT(LogData!V876))","v":""},{"$f":"IF($D879=\"*EOL*\",\"\",LogData!V876-E879)","v":""},{"$f":"IF(LEFT($D879,1)=\"*\",\"\",IF(LogData!S876,\"DUPE\",\"\"))","v":""},{"$f":"IF(LEFT($D879,1)=\"*\",\"\",LogData!R876)","v":""}]
[{"$f":"IF(LEFT($D880,1)=\"*\",\"\",LogData!C877)","v":""},{"$f":"IF(LEFT($D880,1)=\"*\",\"\",LogData!F877)","v":""},{"$f":"IF(LEFT($D880,1)=\"*\",\"\",LogData!D877)","v":""},{"$f":"LogData!E877","v":"*EOL*"},{"$f":"IF($D880=\"*EOL*\",\"\",INT(LogData!V877))","v":""},{"$f":"IF($D880=\"*EOL*\",\"\",LogData!V877-E880)","v":""},{"$f":"IF(LEFT($D880,1)=\"*\",\"\",IF(LogData!S877,\"DUPE\",\"\"))","v":""},{"$f":"IF(LEFT($D880,1)=\"*\",\"\",LogData!R877)","v":""}]
[{"$f":"IF(LEFT($D881,1)=\"*\",\"\",LogData!C878)","v":""},{"$f":"IF(LEFT($D881,1)=\"*\",\"\",LogData!F878)","v":""},{"$f":"IF(LEFT($D881,1)=\"*\",\"\",LogData!D878)","v":""},{"$f":"LogData!E878","v":"*EOL*"},{"$f":"IF($D881=\"*EOL*\",\"\",INT(LogData!V878))","v":""},{"$f":"IF($D881=\"*EOL*\",\"\",LogData!V878-E881)","v":""},{"$f":"IF(LEFT($D881,1)=\"*\",\"\",IF(LogData!S878,\"DUPE\",\"\"))","v":""},{"$f":"IF(LEFT($D881,1)=\"*\",\"\",LogData!R878)","v":""}]
[{"$f":"IF(LEFT($D882,1)=\"*\",\"\",LogData!C879)","v":""},{"$f":"IF(LEFT($D882,1)=\"*\",\"\",LogData!F879)","v":""},{"$f":"IF(LEFT($D882,1)=\"*\",\"\",LogData!D879)","v":""},{"$f":"LogData!E879","v":"*EOL*"},{"$f":"IF($D882=\"*EOL*\",\"\",INT(LogData!V879))","v":""},{"$f":"IF($D882=\"*EOL*\",\"\",LogData!V879-E882)","v":""},{"$f":"IF(LEFT($D882,1)=\"*\",\"\",IF(LogData!S879,\"DUPE\",\"\"))","v":""},{"$f":"IF(LEFT($D882,1)=\"*\",\"\",LogData!R879)","v":""}]
[{"$f":"IF(LEFT($D883,1)=\"*\",\"\",LogData!C880)","v":""},{"$f":"IF(LEFT($D883,1)=\"*\",\"\",LogData!F880)","v":""},{"$f":"IF(LEFT($D883,1)=\"*\",\"\",LogData!D880)","v":""},{"$f":"LogData!E880","v":"*EOL*"},{"$f":"IF($D883=\"*EOL*\",\"\",INT(LogData!V880))","v":""},{"$f":"IF($D883=\"*EOL*\",\"\",LogData!V880-E883)","v":""},{"$f":"IF(LEFT($D883,1)=\"*\",\"\",IF(LogData!S880,\"DUPE\",\"\"))","v":""},{"$f":"IF(LEFT($D883,1)=\"*\",\"\",LogData!R880)","v":""}]
[{"$f":"IF(LEFT($D884,1)=\"*\",\"\",LogData!C881)","v":""},{"$f":"IF(LEFT($D884,1)=\"*\",\"\",LogData!F881)","v":""},{"$f":"IF(LEFT($D884,1)=\"*\",\"\",LogData!D881)","v":""},{"$f":"LogData!E881","v":"*EOL*"},{"$f":"IF($D884=\"*EOL*\",\"\",INT(LogData!V881))","v":""},{"$f":"IF($D884=\"*EOL*\",\"\",LogData!V881-E884)","v":""},{"$f":"IF(LEFT($D884,1)=\"*\",\"\",IF(LogData!S881,\"DUPE\",\"\"))","v":""},{"$f":"IF(LEFT($D884,1)=\"*\",\"\",LogData!R881)","v":""}]
[{"$f":"IF(LEFT($D885,1)=\"*\",\"\",LogData!C882)","v":""},{"$f":"IF(LEFT($D885,1)=\"*\",\"\",LogData!F882)","v":""},{"$f":"IF(LEFT($D885,1)=\"*\",\"\",LogData!D882)","v":""},{"$f":"LogData!E882","v":"*EOL*"},{"$f":"IF($D885=\"*EOL*\",\"\",INT(LogData!V882))","v":""},{"$f":"IF($D885=\"*EOL*\",\"\",LogData!V882-E885)","v":""},{"$f":"IF(LEFT($D885,1)=\"*\",\"\",IF(LogData!S882,\"DUPE\",\"\"))","v":""},{"$f":"IF(LEFT($D885,1)=\"*\",\"\",LogData!R882)","v":""}]
[{"$f":"IF(LEFT($D886,1)=\"*\",\"\",LogData!C883)","v":""},{"$f":"IF(LEFT($D886,1)=\"*\",\"\",LogData!F883)","v":""},{"$f":"IF(LEFT($D886,1)=\"*\",\"\",LogData!D883)","v":""},{"$f":"LogData!E883","v":"*EOL*"},{"$f":"IF($D886=\"*EOL*\",\"\",INT(LogData!V883))","v":""},{"$f":"IF($D886=\"*EOL*\",\"\",LogData!V883-E886)","v":""},{"$f":"IF(LEFT($D886,1)=\"*\",\"\",IF(LogData!S883,\"DUPE\",\"\"))","v":""},{"$f":"IF(LEFT($D886,1)=\"*\",\"\",LogData!R883)","v":""}]
[{"$f":"IF(LEFT($D887,1)=\"*\",\"\",LogData!C884)","v":""},{"$f":"IF(LEFT($D887,1)=\"*\",\"\",LogData!F884)","v":""},{"$f":"IF(LEFT($D887,1)=\"*\",\"\",LogData!D884)","v":""},{"$f":"LogData!E884","v":"*EOL*"},{"$f":"IF($D887=\"*EOL*\",\"\",INT(LogData!V884))","v":""},{"$f":"IF($D887=\"*EOL*\",\"\",LogData!V884-E887)","v":""},{"$f":"IF(LEFT($D887,1)=\"*\",\"\",IF(LogData!S884,\"DUPE\",\"\"))","v":""},{"$f":"IF(LEFT($D887,1)=\"*\",\"\",LogData!R884)","v":""}]
[{"$f":"IF(LEFT($D888,1)=\"*\",\"\",LogData!C885)","v":""},{"$f":"IF(LEFT($D888,1)=\"*\",\"\",LogData!F885)","v":""},{"$f":"IF(LEFT($D888,1)=\"*\",\"\",LogData!D885)","v":""},{"$f":"LogData!E885","v":"*EOL*"},{"$f":"IF($D888=\"*EOL*\",\"\",INT(LogData!V885))","v":""},{"$f":"IF($D888=\"*EOL*\",\"\",LogData!V885-E888)","v":""},{"$f":"IF(LEFT($D888,1)=\"*\",\"\",IF(LogData!S885,\"DUPE\",\"\"))","v":""},{"$f":"IF(LEFT($D888,1)=\"*\",\"\",LogData!R885)","v":""}]
[{"$f":"IF(LEFT($D889,1)=\"*\",\"\",LogData!C886)","v":""},{"$f":"IF(LEFT($D889,1)=\"*\",\"\",LogData!F886)","v":""},{"$f":"IF(LEFT($D889,1)=\"*\",\"\",LogData!D886)","v":""},{"$f":"LogData!E886","v":"*EOL*"},{"$f":"IF($D889=\"*EOL*\",\"\",INT(LogData!V886))","v":""},{"$f":"IF($D889=\"*EOL*\",\"\",LogData!V886-E889)","v":""},{"$f":"IF(LEFT($D889,1)=\"*\",\"\",IF(LogData!S886,\"DUPE\",\"\"))","v":""},{"$f":"IF(LEFT($D889,1)=\"*\",\"\",LogData!R886)","v":""}]
[{"$f":"IF(LEFT($D890,1)=\"*\",\"\",LogData!C887)","v":""},{"$f":"IF(LEFT($D890,1)=\"*\",\"\",LogData!F887)","v":""},{"$f":"IF(LEFT($D890,1)=\"*\",\"\",LogData!D887)","v":""},{"$f":"LogData!E887","v":"*EOL*"},{"$f":"IF($D890=\"*EOL*\",\"\",INT(LogData!V887))","v":""},{"$f":"IF($D890=\"*EOL*\",\"\",LogData!V887-E890)","v":""},{"$f":"IF(LEFT($D890,1)=\"*\",\"\",IF(LogData!S887,\"DUPE\",\"\"))","v":""},{"$f":"IF(LEFT($D890,1)=\"*\",\"\",LogData!R887)","v":""}]
[{"$f":"IF(LEFT($D891,1)=\"*\",\"\",LogData!C888)","v":""},{"$f":"IF(LEFT($D891,1)=\"*\",\"\",LogData!F888)","v":""},{"$f":"IF(LEFT($D891,1)=\"*\",\"\",LogData!D888)","v":""},{"$f":"LogData!E888","v":"*EOL*"},{"$f":"IF($D891=\"*EOL*\",\"\",INT(LogData!V888))","v":""},{"$f":"IF($D891=\"*EOL*\",\"\",LogData!V888-E891)","v":""},{"$f":"IF(LEFT($D891,1)=\"*\",\"\",IF(LogData!S888,\"DUPE\",\"\"))","v":""},{"$f":"IF(LEFT($D891,1)=\"*\",\"\",LogData!R888)","v":""}]
[{"$f":"IF(LEFT($D892,1)=\"*\",\"\",LogData!C889)","v":""},{"$f":"IF(LEFT($D892,1)=\"*\",\"\",LogData!F889)","v":""},{"$f":"IF(LEFT($D892,1)=\"*\",\"\",LogData!D889)","v":""},{"$f":"LogData!E889","v":"*EOL*"},{"$f":"IF($D892=\"*EOL*\",\"\",INT(LogData!V889))","v":""},{"$f":"IF($D892=\"*EOL*\",\"\",LogData!V889-E892)","v":""},{"$f":"IF(LEFT($D892,1)=\"*\",\"\",IF(LogData!S889,\"DUPE\",\"\"))","v":""},{"$f":"IF(LEFT($D892,1)=\"*\",\"\",LogData!R889)","v":""}]
[{"$f":"IF(LEFT($D893,1)=\"*\",\"\",LogData!C890)","v":""},{"$f":"IF(LEFT($D893,1)=\"*\",\"\",LogData!F890)","v":""},{"$f":"IF(LEFT($D893,1)=\"*\",\"\",LogData!D890)","v":""},{"$f":"LogData!E890","v":"*EOL*"},{"$f":"IF($D893=\"*EOL*\",\"\",INT(LogData!V890))","v":""},{"$f":"IF($D893=\"*EOL*\",\"\",LogData!V890-E893)","v":""},{"$f":"IF(LEFT($D893,1)=\"*\",\"\",IF(LogData!S890,\"DUPE\",\"\"))","v":""},{"$f":"IF(LEFT($D893,1)=\"*\",\"\",LogData!R890)","v":""}]
[{"$f":"IF(LEFT($D894,1)=\"*\",\"\",LogData!C891)","v":""},{"$f":"IF(LEFT($D894,1)=\"*\",\"\",LogData!F891)","v":""},{"$f":"IF(LEFT($D894,1)=\"*\",\"\",LogData!D891)","v":""},{"$f":"LogData!E891","v":"*EOL*"},{"$f":"IF($D894=\"*EOL*\",\"\",INT(LogData!V891))","v":""},{"$f":"IF($D894=\"*EOL*\",\"\",LogData!V891-E894)","v":""},{"$f":"IF(LEFT($D894,1)=\"*\",\"\",IF(LogData!S891,\"DUPE\",\"\"))","v":""},{"$f":"IF(LEFT($D894,1)=\"*\",\"\",LogData!R891)","v":""}]
[{"$f":"IF(LEFT($D895,1)=\"*\",\"\",LogData!C892)","v":""},{"$f":"IF(LEFT($D895,1)=\"*\",\"\",LogData!F892)","v":""},{"$f":"IF(LEFT($D895,1)=\"*\",\"\",LogData!D892)","v":""},{"$f":"LogData!E892","v":"*EOL*"},{"$f":"IF($D895=\"*EOL*\",\"\",INT(LogData!V892))","v":""},{"$f":"IF($D895=\"*EOL*\",\"\",LogData!V892-E895)","v":""},{"$f":"IF(LEFT($D895,1)=\"*\",\"\",IF(LogData!S892,\"DUPE\",\"\"))","v":""},{"$f":"IF(LEFT($D895,1)=\"*\",\"\",LogData!R892)","v":""}]
[{"$f":"IF(LEFT($D896,1)=\"*\",\"\",LogData!C893)","v":""},{"$f":"IF(LEFT($D896,1)=\"*\",\"\",LogData!F893)","v":""},{"$f":"IF(LEFT($D896,1)=\"*\",\"\",LogData!D893)","v":""},{"$f":"LogData!E893","v":"*EOL*"},{"$f":"IF($D896=\"*EOL*\",\"\",INT(LogData!V893))","v":""},{"$f":"IF($D896=\"*EOL*\",\"\",LogData!V893-E896)","v":""},{"$f":"IF(LEFT($D896,1)=\"*\",\"\",IF(LogData!S893,\"DUPE\",\"\"))","v":""},{"$f":"IF(LEFT($D896,1)=\"*\",\"\",LogData!R893)","v":""}]
[{"$f":"IF(LEFT($D897,1)=\"*\",\"\",LogData!C894)","v":""},{"$f":"IF(LEFT($D897,1)=\"*\",\"\",LogData!F894)","v":""},{"$f":"IF(LEFT($D897,1)=\"*\",\"\",LogData!D894)","v":""},{"$f":"LogData!E894","v":"*EOL*"},{"$f":"IF($D897=\"*EOL*\",\"\",INT(LogData!V894))","v":""},{"$f":"IF($D897=\"*EOL*\",\"\",LogData!V894-E897)","v":""},{"$f":"IF(LEFT($D897,1)=\"*\",\"\",IF(LogData!S894,\"DUPE\",\"\"))","v":""},{"$f":"IF(LEFT($D897,1)=\"*\",\"\",LogData!R894)","v":""}]
[{"$f":"IF(LEFT($D898,1)=\"*\",\"\",LogData!C895)","v":""},{"$f":"IF(LEFT($D898,1)=\"*\",\"\",LogData!F895)","v":""},{"$f":"IF(LEFT($D898,1)=\"*\",\"\",LogData!D895)","v":""},{"$f":"LogData!E895","v":"*EOL*"},{"$f":"IF($D898=\"*EOL*\",\"\",INT(LogData!V895))","v":""},{"$f":"IF($D898=\"*EOL*\",\"\",LogData!V895-E898)","v":""},{"$f":"IF(LEFT($D898,1)=\"*\",\"\",IF(LogData!S895,\"DUPE\",\"\"))","v":""},{"$f":"IF(LEFT($D898,1)=\"*\",\"\",LogData!R895)","v":""}]
[{"$f":"IF(LEFT($D899,1)=\"*\",\"\",LogData!C896)","v":""},{"$f":"IF(LEFT($D899,1)=\"*\",\"\",LogData!F896)","v":""},{"$f":"IF(LEFT($D899,1)=\"*\",\"\",LogData!D896)","v":""},{"$f":"LogData!E896","v":"*EOL*"},{"$f":"IF($D899=\"*EOL*\",\"\",INT(LogData!V896))","v":""},{"$f":"IF($D899=\"*EOL*\",\"\",LogData!V896-E899)","v":""},{"$f":"IF(LEFT($D899,1)=\"*\",\"\",IF(LogData!S896,\"DUPE\",\"\"))","v":""},{"$f":"IF(LEFT($D899,1)=\"*\",\"\",LogData!R896)","v":""}]
[{"$f":"IF(LEFT($D900,1)=\"*\",\"\",LogData!C897)","v":""},{"$f":"IF(LEFT($D900,1)=\"*\",\"\",LogData!F897)","v":""},{"$f":"IF(LEFT($D900,1)=\"*\",\"\",LogData!D897)","v":""},{"$f":"LogData!E897","v":"*EOL*"},{"$f":"IF($D900=\"*EOL*\",\"\",INT(LogData!V897))","v":""},{"$f":"IF($D900=\"*EOL*\",\"\",LogData!V897-E900)","v":""},{"$f":"IF(LEFT($D900,1)=\"*\",\"\",IF(LogData!S897,\"DUPE\",\"\"))","v":""},{"$f":"IF(LEFT($D900,1)=\"*\",\"\",LogData!R897)","v":""}]
[{"$f":"IF(LEFT($D901,1)=\"*\",\"\",LogData!C898)","v":""},{"$f":"IF(LEFT($D901,1)=\"*\",\"\",LogData!F898)","v":""},{"$f":"IF(LEFT($D901,1)=\"*\",\"\",LogData!D898)","v":""},{"$f":"LogData!E898","v":"*EOL*"},{"$f":"IF($D901=\"*EOL*\",\"\",INT(LogData!V898))","v":""},{"$f":"IF($D901=\"*EOL*\",\"\",LogData!V898-E901)","v":""},{"$f":"IF(LEFT($D901,1)=\"*\",\"\",IF(LogData!S898,\"DUPE\",\"\"))","v":""},{"$f":"IF(LEFT($D901,1)=\"*\",\"\",LogData!R898)","v":""}]
[{"$f":"IF(LEFT($D902,1)=\"*\",\"\",LogData!C899)","v":""},{"$f":"IF(LEFT($D902,1)=\"*\",\"\",LogData!F899)","v":""},{"$f":"IF(LEFT($D902,1)=\"*\",\"\",LogData!D899)","v":""},{"$f":"LogData!E899","v":"*EOL*"},{"$f":"IF($D902=\"*EOL*\",\"\",INT(LogData!V899))","v":""},{"$f":"IF($D902=\"*EOL*\",\"\",LogData!V899-E902)","v":""},{"$f":"IF(LEFT($D902,1)=\"*\",\"\",IF(LogData!S899,\"DUPE\",\"\"))","v":""},{"$f":"IF(LEFT($D902,1)=\"*\",\"\",LogData!R899)","v":""}]
[{"$f":"IF(LEFT($D903,1)=\"*\",\"\",LogData!C900)","v":""},{"$f":"IF(LEFT($D903,1)=\"*\",\"\",LogData!F900)","v":""},{"$f":"IF(LEFT($D903,1)=\"*\",\"\",LogData!D900)","v":""},{"$f":"LogData!E900","v":"*EOL*"},{"$f":"IF($D903=\"*EOL*\",\"\",INT(LogData!V900))","v":""},{"$f":"IF($D903=\"*EOL*\",\"\",LogData!V900-E903)","v":""},{"$f":"IF(LEFT($D903,1)=\"*\",\"\",IF(LogData!S900,\"DUPE\",\"\"))","v":""},{"$f":"IF(LEFT($D903,1)=\"*\",\"\",LogData!R900)","v":""}]
[{"$f":"IF(LEFT($D904,1)=\"*\",\"\",LogData!C901)","v":""},{"$f":"IF(LEFT($D904,1)=\"*\",\"\",LogData!F901)","v":""},{"$f":"IF(LEFT($D904,1)=\"*\",\"\",LogData!D901)","v":""},{"$f":"LogData!E901","v":"*EOL*"},{"$f":"IF($D904=\"*EOL*\",\"\",INT(LogData!V901))","v":""},{"$f":"IF($D904=\"*EOL*\",\"\",LogData!V901-E904)","v":""},{"$f":"IF(LEFT($D904,1)=\"*\",\"\",IF(LogData!S901,\"DUPE\",\"\"))","v":""},{"$f":"IF(LEFT($D904,1)=\"*\",\"\",LogData!R901)","v":""}]
[{"$f":"IF(LEFT($D905,1)=\"*\",\"\",LogData!C902)","v":""},{"$f":"IF(LEFT($D905,1)=\"*\",\"\",LogData!F902)","v":""},{"$f":"IF(LEFT($D905,1)=\"*\",\"\",LogData!D902)","v":""},{"$f":"LogData!E902","v":"*EOL*"},{"$f":"IF($D905=\"*EOL*\",\"\",INT(LogData!V902))","v":""},{"$f":"IF($D905=\"*EOL*\",\"\",LogData!V902-E905)","v":""},{"$f":"IF(LEFT($D905,1)=\"*\",\"\",IF(LogData!S902,\"DUPE\",\"\"))","v":""},{"$f":"IF(LEFT($D905,1)=\"*\",\"\",LogData!R902)","v":""}]
[{"$f":"IF(LEFT($D906,1)=\"*\",\"\",LogData!C903)","v":""},{"$f":"IF(LEFT($D906,1)=\"*\",\"\",LogData!F903)","v":""},{"$f":"IF(LEFT($D906,1)=\"*\",\"\",LogData!D903)","v":""},{"$f":"LogData!E903","v":"*EOL*"},{"$f":"IF($D906=\"*EOL*\",\"\",INT(LogData!V903))","v":""},{"$f":"IF($D906=\"*EOL*\",\"\",LogData!V903-E906)","v":""},{"$f":"IF(LEFT($D906,1)=\"*\",\"\",IF(LogData!S903,\"DUPE\",\"\"))","v":""},{"$f":"IF(LEFT($D906,1)=\"*\",\"\",LogData!R903)","v":""}]
[{"$f":"IF(LEFT($D907,1)=\"*\",\"\",LogData!C904)","v":""},{"$f":"IF(LEFT($D907,1)=\"*\",\"\",LogData!F904)","v":""},{"$f":"IF(LEFT($D907,1)=\"*\",\"\",LogData!D904)","v":""},{"$f":"LogData!E904","v":"*EOL*"},{"$f":"IF($D907=\"*EOL*\",\"\",INT(LogData!V904))","v":""},{"$f":"IF($D907=\"*EOL*\",\"\",LogData!V904-E907)","v":""},{"$f":"IF(LEFT($D907,1)=\"*\",\"\",IF(LogData!S904,\"DUPE\",\"\"))","v":""},{"$f":"IF(LEFT($D907,1)=\"*\",\"\",LogData!R904)","v":""}]
[{"$f":"IF(LEFT($D908,1)=\"*\",\"\",LogData!C905)","v":""},{"$f":"IF(LEFT($D908,1)=\"*\",\"\",LogData!F905)","v":""},{"$f":"IF(LEFT($D908,1)=\"*\",\"\",LogData!D905)","v":""},{"$f":"LogData!E905","v":"*EOL*"},{"$f":"IF($D908=\"*EOL*\",\"\",INT(LogData!V905))","v":""},{"$f":"IF($D908=\"*EOL*\",\"\",LogData!V905-E908)","v":""},{"$f":"IF(LEFT($D908,1)=\"*\",\"\",IF(LogData!S905,\"DUPE\",\"\"))","v":""},{"$f":"IF(LEFT($D908,1)=\"*\",\"\",LogData!R905)","v":""}]
[{"$f":"IF(LEFT($D909,1)=\"*\",\"\",LogData!C906)","v":""},{"$f":"IF(LEFT($D909,1)=\"*\",\"\",LogData!F906)","v":""},{"$f":"IF(LEFT($D909,1)=\"*\",\"\",LogData!D906)","v":""},{"$f":"LogData!E906","v":"*EOL*"},{"$f":"IF($D909=\"*EOL*\",\"\",INT(LogData!V906))","v":""},{"$f":"IF($D909=\"*EOL*\",\"\",LogData!V906-E909)","v":""},{"$f":"IF(LEFT($D909,1)=\"*\",\"\",IF(LogData!S906,\"DUPE\",\"\"))","v":""},{"$f":"IF(LEFT($D909,1)=\"*\",\"\",LogData!R906)","v":""}]
[{"$f":"IF(LEFT($D910,1)=\"*\",\"\",LogData!C907)","v":""},{"$f":"IF(LEFT($D910,1)=\"*\",\"\",LogData!F907)","v":""},{"$f":"IF(LEFT($D910,1)=\"*\",\"\",LogData!D907)","v":""},{"$f":"LogData!E907","v":"*EOL*"},{"$f":"IF($D910=\"*EOL*\",\"\",INT(LogData!V907))","v":""},{"$f":"IF($D910=\"*EOL*\",\"\",LogData!V907-E910)","v":""},{"$f":"IF(LEFT($D910,1)=\"*\",\"\",IF(LogData!S907,\"DUPE\",\"\"))","v":""},{"$f":"IF(LEFT($D910,1)=\"*\",\"\",LogData!R907)","v":""}]
[{"$f":"IF(LEFT($D911,1)=\"*\",\"\",LogData!C908)","v":""},{"$f":"IF(LEFT($D911,1)=\"*\",\"\",LogData!F908)","v":""},{"$f":"IF(LEFT($D911,1)=\"*\",\"\",LogData!D908)","v":""},{"$f":"LogData!E908","v":"*EOL*"},{"$f":"IF($D911=\"*EOL*\",\"\",INT(LogData!V908))","v":""},{"$f":"IF($D911=\"*EOL*\",\"\",LogData!V908-E911)","v":""},{"$f":"IF(LEFT($D911,1)=\"*\",\"\",IF(LogData!S908,\"DUPE\",\"\"))","v":""},{"$f":"IF(LEFT($D911,1)=\"*\",\"\",LogData!R908)","v":""}]
[{"$f":"IF(LEFT($D912,1)=\"*\",\"\",LogData!C909)","v":""},{"$f":"IF(LEFT($D912,1)=\"*\",\"\",LogData!F909)","v":""},{"$f":"IF(LEFT($D912,1)=\"*\",\"\",LogData!D909)","v":""},{"$f":"LogData!E909","v":"*EOL*"},{"$f":"IF($D912=\"*EOL*\",\"\",INT(LogData!V909))","v":""},{"$f":"IF($D912=\"*EOL*\",\"\",LogData!V909-E912)","v":""},{"$f":"IF(LEFT($D912,1)=\"*\",\"\",IF(LogData!S909,\"DUPE\",\"\"))","v":""},{"$f":"IF(LEFT($D912,1)=\"*\",\"\",LogData!R909)","v":""}]
[{"$f":"IF(LEFT($D913,1)=\"*\",\"\",LogData!C910)","v":""},{"$f":"IF(LEFT($D913,1)=\"*\",\"\",LogData!F910)","v":""},{"$f":"IF(LEFT($D913,1)=\"*\",\"\",LogData!D910)","v":""},{"$f":"LogData!E910","v":"*EOL*"},{"$f":"IF($D913=\"*EOL*\",\"\",INT(LogData!V910))","v":""},{"$f":"IF($D913=\"*EOL*\",\"\",LogData!V910-E913)","v":""},{"$f":"IF(LEFT($D913,1)=\"*\",\"\",IF(LogData!S910,\"DUPE\",\"\"))","v":""},{"$f":"IF(LEFT($D913,1)=\"*\",\"\",LogData!R910)","v":""}]
[{"$f":"IF(LEFT($D914,1)=\"*\",\"\",LogData!C911)","v":""},{"$f":"IF(LEFT($D914,1)=\"*\",\"\",LogData!F911)","v":""},{"$f":"IF(LEFT($D914,1)=\"*\",\"\",LogData!D911)","v":""},{"$f":"LogData!E911","v":"*EOL*"},{"$f":"IF($D914=\"*EOL*\",\"\",INT(LogData!V911))","v":""},{"$f":"IF($D914=\"*EOL*\",\"\",LogData!V911-E914)","v":""},{"$f":"IF(LEFT($D914,1)=\"*\",\"\",IF(LogData!S911,\"DUPE\",\"\"))","v":""},{"$f":"IF(LEFT($D914,1)=\"*\",\"\",LogData!R911)","v":""}]
[{"$f":"IF(LEFT($D915,1)=\"*\",\"\",LogData!C912)","v":""},{"$f":"IF(LEFT($D915,1)=\"*\",\"\",LogData!F912)","v":""},{"$f":"IF(LEFT($D915,1)=\"*\",\"\",LogData!D912)","v":""},{"$f":"LogData!E912","v":"*EOL*"},{"$f":"IF($D915=\"*EOL*\",\"\",INT(LogData!V912))","v":""},{"$f":"IF($D915=\"*EOL*\",\"\",LogData!V912-E915)","v":""},{"$f":"IF(LEFT($D915,1)=\"*\",\"\",IF(LogData!S912,\"DUPE\",\"\"))","v":""},{"$f":"IF(LEFT($D915,1)=\"*\",\"\",LogData!R912)","v":""}]
[{"$f":"IF(LEFT($D916,1)=\"*\",\"\",LogData!C913)","v":""},{"$f":"IF(LEFT($D916,1)=\"*\",\"\",LogData!F913)","v":""},{"$f":"IF(LEFT($D916,1)=\"*\",\"\",LogData!D913)","v":""},{"$f":"LogData!E913","v":"*EOL*"},{"$f":"IF($D916=\"*EOL*\",\"\",INT(LogData!V913))","v":""},{"$f":"IF($D916=\"*EOL*\",\"\",LogData!V913-E916)","v":""},{"$f":"IF(LEFT($D916,1)=\"*\",\"\",IF(LogData!S913,\"DUPE\",\"\"))","v":""},{"$f":"IF(LEFT($D916,1)=\"*\",\"\",LogData!R913)","v":""}]
[{"$f":"IF(LEFT($D917,1)=\"*\",\"\",LogData!C914)","v":""},{"$f":"IF(LEFT($D917,1)=\"*\",\"\",LogData!F914)","v":""},{"$f":"IF(LEFT($D917,1)=\"*\",\"\",LogData!D914)","v":""},{"$f":"LogData!E914","v":"*EOL*"},{"$f":"IF($D917=\"*EOL*\",\"\",INT(LogData!V914))","v":""},{"$f":"IF($D917=\"*EOL*\",\"\",LogData!V914-E917)","v":""},{"$f":"IF(LEFT($D917,1)=\"*\",\"\",IF(LogData!S914,\"DUPE\",\"\"))","v":""},{"$f":"IF(LEFT($D917,1)=\"*\",\"\",LogData!R914)","v":""}]
[{"$f":"IF(LEFT($D918,1)=\"*\",\"\",LogData!C915)","v":""},{"$f":"IF(LEFT($D918,1)=\"*\",\"\",LogData!F915)","v":""},{"$f":"IF(LEFT($D918,1)=\"*\",\"\",LogData!D915)","v":""},{"$f":"LogData!E915","v":"*EOL*"},{"$f":"IF($D918=\"*EOL*\",\"\",INT(LogData!V915))","v":""},{"$f":"IF($D918=\"*EOL*\",\"\",LogData!V915-E918)","v":""},{"$f":"IF(LEFT($D918,1)=\"*\",\"\",IF(LogData!S915,\"DUPE\",\"\"))","v":""},{"$f":"IF(LEFT($D918,1)=\"*\",\"\",LogData!R915)","v":""}]
[{"$f":"IF(LEFT($D919,1)=\"*\",\"\",LogData!C916)","v":""},{"$f":"IF(LEFT($D919,1)=\"*\",\"\",LogData!F916)","v":""},{"$f":"IF(LEFT($D919,1)=\"*\",\"\",LogData!D916)","v":""},{"$f":"LogData!E916","v":"*EOL*"},{"$f":"IF($D919=\"*EOL*\",\"\",INT(LogData!V916))","v":""},{"$f":"IF($D919=\"*EOL*\",\"\",LogData!V916-E919)","v":""},{"$f":"IF(LEFT($D919,1)=\"*\",\"\",IF(LogData!S916,\"DUPE\",\"\"))","v":""},{"$f":"IF(LEFT($D919,1)=\"*\",\"\",LogData!R916)","v":""}]
[{"$f":"IF(LEFT($D920,1)=\"*\",\"\",LogData!C917)","v":""},{"$f":"IF(LEFT($D920,1)=\"*\",\"\",LogData!F917)","v":""},{"$f":"IF(LEFT($D920,1)=\"*\",\"\",LogData!D917)","v":""},{"$f":"LogData!E917","v":"*EOL*"},{"$f":"IF($D920=\"*EOL*\",\"\",INT(LogData!V917))","v":""},{"$f":"IF($D920=\"*EOL*\",\"\",LogData!V917-E920)","v":""},{"$f":"IF(LEFT($D920,1)=\"*\",\"\",IF(LogData!S917,\"DUPE\",\"\"))","v":""},{"$f":"IF(LEFT($D920,1)=\"*\",\"\",LogData!R917)","v":""}]
[{"$f":"IF(LEFT($D921,1)=\"*\",\"\",LogData!C918)","v":""},{"$f":"IF(LEFT($D921,1)=\"*\",\"\",LogData!F918)","v":""},{"$f":"IF(LEFT($D921,1)=\"*\",\"\",LogData!D918)","v":""},{"$f":"LogData!E918","v":"*EOL*"},{"$f":"IF($D921=\"*EOL*\",\"\",INT(LogData!V918))","v":""},{"$f":"IF($D921=\"*EOL*\",\"\",LogData!V918-E921)","v":""},{"$f":"IF(LEFT($D921,1)=\"*\",\"\",IF(LogData!S918,\"DUPE\",\"\"))","v":""},{"$f":"IF(LEFT($D921,1)=\"*\",\"\",LogData!R918)","v":""}]
[{"$f":"IF(LEFT($D922,1)=\"*\",\"\",LogData!C919)","v":""},{"$f":"IF(LEFT($D922,1)=\"*\",\"\",LogData!F919)","v":""},{"$f":"IF(LEFT($D922,1)=\"*\",\"\",LogData!D919)","v":""},{"$f":"LogData!E919","v":"*EOL*"},{"$f":"IF($D922=\"*EOL*\",\"\",INT(LogData!V919))","v":""},{"$f":"IF($D922=\"*EOL*\",\"\",LogData!V919-E922)","v":""},{"$f":"IF(LEFT($D922,1)=\"*\",\"\",IF(LogData!S919,\"DUPE\",\"\"))","v":""},{"$f":"IF(LEFT($D922,1)=\"*\",\"\",LogData!R919)","v":""}]
[{"$f":"IF(LEFT($D923,1)=\"*\",\"\",LogData!C920)","v":""},{"$f":"IF(LEFT($D923,1)=\"*\",\"\",LogData!F920)","v":""},{"$f":"IF(LEFT($D923,1)=\"*\",\"\",LogData!D920)","v":""},{"$f":"LogData!E920","v":"*EOL*"},{"$f":"IF($D923=\"*EOL*\",\"\",INT(LogData!V920))","v":""},{"$f":"IF($D923=\"*EOL*\",\"\",LogData!V920-E923)","v":""},{"$f":"IF(LEFT($D923,1)=\"*\",\"\",IF(LogData!S920,\"DUPE\",\"\"))","v":""},{"$f":"IF(LEFT($D923,1)=\"*\",\"\",LogData!R920)","v":""}]
[{"$f":"IF(LEFT($D924,1)=\"*\",\"\",LogData!C921)","v":""},{"$f":"IF(LEFT($D924,1)=\"*\",\"\",LogData!F921)","v":""},{"$f":"IF(LEFT($D924,1)=\"*\",\"\",LogData!D921)","v":""},{"$f":"LogData!E921","v":"*EOL*"},{"$f":"IF($D924=\"*EOL*\",\"\",INT(LogData!V921))","v":""},{"$f":"IF($D924=\"*EOL*\",\"\",LogData!V921-E924)","v":""},{"$f":"IF(LEFT($D924,1)=\"*\",\"\",IF(LogData!S921,\"DUPE\",\"\"))","v":""},{"$f":"IF(LEFT($D924,1)=\"*\",\"\",LogData!R921)","v":""}]
[{"$f":"IF(LEFT($D925,1)=\"*\",\"\",LogData!C922)","v":""},{"$f":"IF(LEFT($D925,1)=\"*\",\"\",LogData!F922)","v":""},{"$f":"IF(LEFT($D925,1)=\"*\",\"\",LogData!D922)","v":""},{"$f":"LogData!E922","v":"*EOL*"},{"$f":"IF($D925=\"*EOL*\",\"\",INT(LogData!V922))","v":""},{"$f":"IF($D925=\"*EOL*\",\"\",LogData!V922-E925)","v":""},{"$f":"IF(LEFT($D925,1)=\"*\",\"\",IF(LogData!S922,\"DUPE\",\"\"))","v":""},{"$f":"IF(LEFT($D925,1)=\"*\",\"\",LogData!R922)","v":""}]
[{"$f":"IF(LEFT($D926,1)=\"*\",\"\",LogData!C923)","v":""},{"$f":"IF(LEFT($D926,1)=\"*\",\"\",LogData!F923)","v":""},{"$f":"IF(LEFT($D926,1)=\"*\",\"\",LogData!D923)","v":""},{"$f":"LogData!E923","v":"*EOL*"},{"$f":"IF($D926=\"*EOL*\",\"\",INT(LogData!V923))","v":""},{"$f":"IF($D926=\"*EOL*\",\"\",LogData!V923-E926)","v":""},{"$f":"IF(LEFT($D926,1)=\"*\",\"\",IF(LogData!S923,\"DUPE\",\"\"))","v":""},{"$f":"IF(LEFT($D926,1)=\"*\",\"\",LogData!R923)","v":""}]
[{"$f":"IF(LEFT($D927,1)=\"*\",\"\",LogData!C924)","v":""},{"$f":"IF(LEFT($D927,1)=\"*\",\"\",LogData!F924)","v":""},{"$f":"IF(LEFT($D927,1)=\"*\",\"\",LogData!D924)","v":""},{"$f":"LogData!E924","v":"*EOL*"},{"$f":"IF($D927=\"*EOL*\",\"\",INT(LogData!V924))","v":""},{"$f":"IF($D927=\"*EOL*\",\"\",LogData!V924-E927)","v":""},{"$f":"IF(LEFT($D927,1)=\"*\",\"\",IF(LogData!S924,\"DUPE\",\"\"))","v":""},{"$f":"IF(LEFT($D927,1)=\"*\",\"\",LogData!R924)","v":""}]
[{"$f":"IF(LEFT($D928,1)=\"*\",\"\",LogData!C925)","v":""},{"$f":"IF(LEFT($D928,1)=\"*\",\"\",LogData!F925)","v":""},{"$f":"IF(LEFT($D928,1)=\"*\",\"\",LogData!D925)","v":""},{"$f":"LogData!E925","v":"*EOL*"},{"$f":"IF($D928=\"*EOL*\",\"\",INT(LogData!V925))","v":""},{"$f":"IF($D928=\"*EOL*\",\"\",LogData!V925-E928)","v":""},{"$f":"IF(LEFT($D928,1)=\"*\",\"\",IF(LogData!S925,\"DUPE\",\"\"))","v":""},{"$f":"IF(LEFT($D928,1)=\"*\",\"\",LogData!R925)","v":""}]
[{"$f":"IF(LEFT($D929,1)=\"*\",\"\",LogData!C926)","v":""},{"$f":"IF(LEFT($D929,1)=\"*\",\"\",LogData!F926)","v":""},{"$f":"IF(LEFT($D929,1)=\"*\",\"\",LogData!D926)","v":""},{"$f":"LogData!E926","v":"*EOL*"},{"$f":"IF($D929=\"*EOL*\",\"\",INT(LogData!V926))","v":""},{"$f":"IF($D929=\"*EOL*\",\"\",LogData!V926-E929)","v":""},{"$f":"IF(LEFT($D929,1)=\"*\",\"\",IF(LogData!S926,\"DUPE\",\"\"))","v":""},{"$f":"IF(LEFT($D929,1)=\"*\",\"\",LogData!R926)","v":""}]
[{"$f":"IF(LEFT($D930,1)=\"*\",\"\",LogData!C927)","v":""},{"$f":"IF(LEFT($D930,1)=\"*\",\"\",LogData!F927)","v":""},{"$f":"IF(LEFT($D930,1)=\"*\",\"\",LogData!D927)","v":""},{"$f":"LogData!E927","v":"*EOL*"},{"$f":"IF($D930=\"*EOL*\",\"\",INT(LogData!V927))","v":""},{"$f":"IF($D930=\"*EOL*\",\"\",LogData!V927-E930)","v":""},{"$f":"IF(LEFT($D930,1)=\"*\",\"\",IF(LogData!S927,\"DUPE\",\"\"))","v":""},{"$f":"IF(LEFT($D930,1)=\"*\",\"\",LogData!R927)","v":""}]
[{"$f":"IF(LEFT($D931,1)=\"*\",\"\",LogData!C928)","v":""},{"$f":"IF(LEFT($D931,1)=\"*\",\"\",LogData!F928)","v":""},{"$f":"IF(LEFT($D931,1)=\"*\",\"\",LogData!D928)","v":""},{"$f":"LogData!E928","v":"*EOL*"},{"$f":"IF($D931=\"*EOL*\",\"\",INT(LogData!V928))","v":""},{"$f":"IF($D931=\"*EOL*\",\"\",LogData!V928-E931)","v":""},{"$f":"IF(LEFT($D931,1)=\"*\",\"\",IF(LogData!S928,\"DUPE\",\"\"))","v":""},{"$f":"IF(LEFT($D931,1)=\"*\",\"\",LogData!R928)","v":""}]
[{"$f":"IF(LEFT($D932,1)=\"*\",\"\",LogData!C929)","v":""},{"$f":"IF(LEFT($D932,1)=\"*\",\"\",LogData!F929)","v":""},{"$f":"IF(LEFT($D932,1)=\"*\",\"\",LogData!D929)","v":""},{"$f":"LogData!E929","v":"*EOL*"},{"$f":"IF($D932=\"*EOL*\",\"\",INT(LogData!V929))","v":""},{"$f":"IF($D932=\"*EOL*\",\"\",LogData!V929-E932)","v":""},{"$f":"IF(LEFT($D932,1)=\"*\",\"\",IF(LogData!S929,\"DUPE\",\"\"))","v":""},{"$f":"IF(LEFT($D932,1)=\"*\",\"\",LogData!R929)","v":""}]
[{"$f":"IF(LEFT($D933,1)=\"*\",\"\",LogData!C930)","v":""},{"$f":"IF(LEFT($D933,1)=\"*\",\"\",LogData!F930)","v":""},{"$f":"IF(LEFT($D933,1)=\"*\",\"\",LogData!D930)","v":""},{"$f":"LogData!E930","v":"*EOL*"},{"$f":"IF($D933=\"*EOL*\",\"\",INT(LogData!V930))","v":""},{"$f":"IF($D933=\"*EOL*\",\"\",LogData!V930-E933)","v":""},{"$f":"IF(LEFT($D933,1)=\"*\",\"\",IF(LogData!S930,\"DUPE\",\"\"))","v":""},{"$f":"IF(LEFT($D933,1)=\"*\",\"\",LogData!R930)","v":""}]
[{"$f":"IF(LEFT($D934,1)=\"*\",\"\",LogData!C931)","v":""},{"$f":"IF(LEFT($D934,1)=\"*\",\"\",LogData!F931)","v":""},{"$f":"IF(LEFT($D934,1)=\"*\",\"\",LogData!D931)","v":""},{"$f":"LogData!E931","v":"*EOL*"},{"$f":"IF($D934=\"*EOL*\",\"\",INT(LogData!V931))","v":""},{"$f":"IF($D934=\"*EOL*\",\"\",LogData!V931-E934)","v":""},{"$f":"IF(LEFT($D934,1)=\"*\",\"\",IF(LogData!S931,\"DUPE\",\"\"))","v":""},{"$f":"IF(LEFT($D934,1)=\"*\",\"\",LogData!R931)","v":""}]
[{"$f":"IF(LEFT($D935,1)=\"*\",\"\",LogData!C932)","v":""},{"$f":"IF(LEFT($D935,1)=\"*\",\"\",LogData!F932)","v":""},{"$f":"IF(LEFT($D935,1)=\"*\",\"\",LogData!D932)","v":""},{"$f":"LogData!E932","v":"*EOL*"},{"$f":"IF($D935=\"*EOL*\",\"\",INT(LogData!V932))","v":""},{"$f":"IF($D935=\"*EOL*\",\"\",LogData!V932-E935)","v":""},{"$f":"IF(LEFT($D935,1)=\"*\",\"\",IF(LogData!S932,\"DUPE\",\"\"))","v":""},{"$f":"IF(LEFT($D935,1)=\"*\",\"\",LogData!R932)","v":""}]
[{"$f":"IF(LEFT($D936,1)=\"*\",\"\",LogData!C933)","v":""},{"$f":"IF(LEFT($D936,1)=\"*\",\"\",LogData!F933)","v":""},{"$f":"IF(LEFT($D936,1)=\"*\",\"\",LogData!D933)","v":""},{"$f":"LogData!E933","v":"*EOL*"},{"$f":"IF($D936=\"*EOL*\",\"\",INT(LogData!V933))","v":""},{"$f":"IF($D936=\"*EOL*\",\"\",LogData!V933-E936)","v":""},{"$f":"IF(LEFT($D936,1)=\"*\",\"\",IF(LogData!S933,\"DUPE\",\"\"))","v":""},{"$f":"IF(LEFT($D936,1)=\"*\",\"\",LogData!R933)","v":""}]
[{"$f":"IF(LEFT($D937,1)=\"*\",\"\",LogData!C934)","v":""},{"$f":"IF(LEFT($D937,1)=\"*\",\"\",LogData!F934)","v":""},{"$f":"IF(LEFT($D937,1)=\"*\",\"\",LogData!D934)","v":""},{"$f":"LogData!E934","v":"*EOL*"},{"$f":"IF($D937=\"*EOL*\",\"\",INT(LogData!V934))","v":""},{"$f":"IF($D937=\"*EOL*\",\"\",LogData!V934-E937)","v":""},{"$f":"IF(LEFT($D937,1)=\"*\",\"\",IF(LogData!S934,\"DUPE\",\"\"))","v":""},{"$f":"IF(LEFT($D937,1)=\"*\",\"\",LogData!R934)","v":""}]
[{"$f":"IF(LEFT($D938,1)=\"*\",\"\",LogData!C935)","v":""},{"$f":"IF(LEFT($D938,1)=\"*\",\"\",LogData!F935)","v":""},{"$f":"IF(LEFT($D938,1)=\"*\",\"\",LogData!D935)","v":""},{"$f":"LogData!E935","v":"*EOL*"},{"$f":"IF($D938=\"*EOL*\",\"\",INT(LogData!V935))","v":""},{"$f":"IF($D938=\"*EOL*\",\"\",LogData!V935-E938)","v":""},{"$f":"IF(LEFT($D938,1)=\"*\",\"\",IF(LogData!S935,\"DUPE\",\"\"))","v":""},{"$f":"IF(LEFT($D938,1)=\"*\",\"\",LogData!R935)","v":""}]
[{"$f":"IF(LEFT($D939,1)=\"*\",\"\",LogData!C936)","v":""},{"$f":"IF(LEFT($D939,1)=\"*\",\"\",LogData!F936)","v":""},{"$f":"IF(LEFT($D939,1)=\"*\",\"\",LogData!D936)","v":""},{"$f":"LogData!E936","v":"*EOL*"},{"$f":"IF($D939=\"*EOL*\",\"\",INT(LogData!V936))","v":""},{"$f":"IF($D939=\"*EOL*\",\"\",LogData!V936-E939)","v":""},{"$f":"IF(LEFT($D939,1)=\"*\",\"\",IF(LogData!S936,\"DUPE\",\"\"))","v":""},{"$f":"IF(LEFT($D939,1)=\"*\",\"\",LogData!R936)","v":""}]
[{"$f":"IF(LEFT($D940,1)=\"*\",\"\",LogData!C937)","v":""},{"$f":"IF(LEFT($D940,1)=\"*\",\"\",LogData!F937)","v":""},{"$f":"IF(LEFT($D940,1)=\"*\",\"\",LogData!D937)","v":""},{"$f":"LogData!E937","v":"*EOL*"},{"$f":"IF($D940=\"*EOL*\",\"\",INT(LogData!V937))","v":""},{"$f":"IF($D940=\"*EOL*\",\"\",LogData!V937-E940)","v":""},{"$f":"IF(LEFT($D940,1)=\"*\",\"\",IF(LogData!S937,\"DUPE\",\"\"))","v":""},{"$f":"IF(LEFT($D940,1)=\"*\",\"\",LogData!R937)","v":""}]
[{"$f":"IF(LEFT($D941,1)=\"*\",\"\",LogData!C938)","v":""},{"$f":"IF(LEFT($D941,1)=\"*\",\"\",LogData!F938)","v":""},{"$f":"IF(LEFT($D941,1)=\"*\",\"\",LogData!D938)","v":""},{"$f":"LogData!E938","v":"*EOL*"},{"$f":"IF($D941=\"*EOL*\",\"\",INT(LogData!V938))","v":""},{"$f":"IF($D941=\"*EOL*\",\"\",LogData!V938-E941)","v":""},{"$f":"IF(LEFT($D941,1)=\"*\",\"\",IF(LogData!S938,\"DUPE\",\"\"))","v":""},{"$f":"IF(LEFT($D941,1)=\"*\",\"\",LogData!R938)","v":""}]
[{"$f":"IF(LEFT($D942,1)=\"*\",\"\",LogData!C939)","v":""},{"$f":"IF(LEFT($D942,1)=\"*\",\"\",LogData!F939)","v":""},{"$f":"IF(LEFT($D942,1)=\"*\",\"\",LogData!D939)","v":""},{"$f":"LogData!E939","v":"*EOL*"},{"$f":"IF($D942=\"*EOL*\",\"\",INT(LogData!V939))","v":""},{"$f":"IF($D942=\"*EOL*\",\"\",LogData!V939-E942)","v":""},{"$f":"IF(LEFT($D942,1)=\"*\",\"\",IF(LogData!S939,\"DUPE\",\"\"))","v":""},{"$f":"IF(LEFT($D942,1)=\"*\",\"\",LogData!R939)","v":""}]
[{"$f":"IF(LEFT($D943,1)=\"*\",\"\",LogData!C940)","v":""},{"$f":"IF(LEFT($D943,1)=\"*\",\"\",LogData!F940)","v":""},{"$f":"IF(LEFT($D943,1)=\"*\",\"\",LogData!D940)","v":""},{"$f":"LogData!E940","v":"*EOL*"},{"$f":"IF($D943=\"*EOL*\",\"\",INT(LogData!V940))","v":""},{"$f":"IF($D943=\"*EOL*\",\"\",LogData!V940-E943)","v":""},{"$f":"IF(LEFT($D943,1)=\"*\",\"\",IF(LogData!S940,\"DUPE\",\"\"))","v":""},{"$f":"IF(LEFT($D943,1)=\"*\",\"\",LogData!R940)","v":""}]
[{"$f":"IF(LEFT($D944,1)=\"*\",\"\",LogData!C941)","v":""},{"$f":"IF(LEFT($D944,1)=\"*\",\"\",LogData!F941)","v":""},{"$f":"IF(LEFT($D944,1)=\"*\",\"\",LogData!D941)","v":""},{"$f":"LogData!E941","v":"*EOL*"},{"$f":"IF($D944=\"*EOL*\",\"\",INT(LogData!V941))","v":""},{"$f":"IF($D944=\"*EOL*\",\"\",LogData!V941-E944)","v":""},{"$f":"IF(LEFT($D944,1)=\"*\",\"\",IF(LogData!S941,\"DUPE\",\"\"))","v":""},{"$f":"IF(LEFT($D944,1)=\"*\",\"\",LogData!R941)","v":""}]
[{"$f":"IF(LEFT($D945,1)=\"*\",\"\",LogData!C942)","v":""},{"$f":"IF(LEFT($D945,1)=\"*\",\"\",LogData!F942)","v":""},{"$f":"IF(LEFT($D945,1)=\"*\",\"\",LogData!D942)","v":""},{"$f":"LogData!E942","v":"*EOL*"},{"$f":"IF($D945=\"*EOL*\",\"\",INT(LogData!V942))","v":""},{"$f":"IF($D945=\"*EOL*\",\"\",LogData!V942-E945)","v":""},{"$f":"IF(LEFT($D945,1)=\"*\",\"\",IF(LogData!S942,\"DUPE\",\"\"))","v":""},{"$f":"IF(LEFT($D945,1)=\"*\",\"\",LogData!R942)","v":""}]
[{"$f":"IF(LEFT($D946,1)=\"*\",\"\",LogData!C943)","v":""},{"$f":"IF(LEFT($D946,1)=\"*\",\"\",LogData!F943)","v":""},{"$f":"IF(LEFT($D946,1)=\"*\",\"\",LogData!D943)","v":""},{"$f":"LogData!E943","v":"*EOL*"},{"$f":"IF($D946=\"*EOL*\",\"\",INT(LogData!V943))","v":""},{"$f":"IF($D946=\"*EOL*\",\"\",LogData!V943-E946)","v":""},{"$f":"IF(LEFT($D946,1)=\"*\",\"\",IF(LogData!S943,\"DUPE\",\"\"))","v":""},{"$f":"IF(LEFT($D946,1)=\"*\",\"\",LogData!R943)","v":""}]
[{"$f":"IF(LEFT($D947,1)=\"*\",\"\",LogData!C944)","v":""},{"$f":"IF(LEFT($D947,1)=\"*\",\"\",LogData!F944)","v":""},{"$f":"IF(LEFT($D947,1)=\"*\",\"\",LogData!D944)","v":""},{"$f":"LogData!E944","v":"*EOL*"},{"$f":"IF($D947=\"*EOL*\",\"\",INT(LogData!V944))","v":""},{"$f":"IF($D947=\"*EOL*\",\"\",LogData!V944-E947)","v":""},{"$f":"IF(LEFT($D947,1)=\"*\",\"\",IF(LogData!S944,\"DUPE\",\"\"))","v":""},{"$f":"IF(LEFT($D947,1)=\"*\",\"\",LogData!R944)","v":""}]
[{"$f":"IF(LEFT($D948,1)=\"*\",\"\",LogData!C945)","v":""},{"$f":"IF(LEFT($D948,1)=\"*\",\"\",LogData!F945)","v":""},{"$f":"IF(LEFT($D948,1)=\"*\",\"\",LogData!D945)","v":""},{"$f":"LogData!E945","v":"*EOL*"},{"$f":"IF($D948=\"*EOL*\",\"\",INT(LogData!V945))","v":""},{"$f":"IF($D948=\"*EOL*\",\"\",LogData!V945-E948)","v":""},{"$f":"IF(LEFT($D948,1)=\"*\",\"\",IF(LogData!S945,\"DUPE\",\"\"))","v":""},{"$f":"IF(LEFT($D948,1)=\"*\",\"\",LogData!R945)","v":""}]
[{"$f":"IF(LEFT($D949,1)=\"*\",\"\",LogData!C946)","v":""},{"$f":"IF(LEFT($D949,1)=\"*\",\"\",LogData!F946)","v":""},{"$f":"IF(LEFT($D949,1)=\"*\",\"\",LogData!D946)","v":""},{"$f":"LogData!E946","v":"*EOL*"},{"$f":"IF($D949=\"*EOL*\",\"\",INT(LogData!V946))","v":""},{"$f":"IF($D949=\"*EOL*\",\"\",LogData!V946-E949)","v":""},{"$f":"IF(LEFT($D949,1)=\"*\",\"\",IF(LogData!S946,\"DUPE\",\"\"))","v":""},{"$f":"IF(LEFT($D949,1)=\"*\",\"\",LogData!R946)","v":""}]
[{"$f":"IF(LEFT($D950,1)=\"*\",\"\",LogData!C947)","v":""},{"$f":"IF(LEFT($D950,1)=\"*\",\"\",LogData!F947)","v":""},{"$f":"IF(LEFT($D950,1)=\"*\",\"\",LogData!D947)","v":""},{"$f":"LogData!E947","v":"*EOL*"},{"$f":"IF($D950=\"*EOL*\",\"\",INT(LogData!V947))","v":""},{"$f":"IF($D950=\"*EOL*\",\"\",LogData!V947-E950)","v":""},{"$f":"IF(LEFT($D950,1)=\"*\",\"\",IF(LogData!S947,\"DUPE\",\"\"))","v":""},{"$f":"IF(LEFT($D950,1)=\"*\",\"\",LogData!R947)","v":""}]
[{"$f":"IF(LEFT($D951,1)=\"*\",\"\",LogData!C948)","v":""},{"$f":"IF(LEFT($D951,1)=\"*\",\"\",LogData!F948)","v":""},{"$f":"IF(LEFT($D951,1)=\"*\",\"\",LogData!D948)","v":""},{"$f":"LogData!E948","v":"*EOL*"},{"$f":"IF($D951=\"*EOL*\",\"\",INT(LogData!V948))","v":""},{"$f":"IF($D951=\"*EOL*\",\"\",LogData!V948-E951)","v":""},{"$f":"IF(LEFT($D951,1)=\"*\",\"\",IF(LogData!S948,\"DUPE\",\"\"))","v":""},{"$f":"IF(LEFT($D951,1)=\"*\",\"\",LogData!R948)","v":""}]
[{"$f":"IF(LEFT($D952,1)=\"*\",\"\",LogData!C949)","v":""},{"$f":"IF(LEFT($D952,1)=\"*\",\"\",LogData!F949)","v":""},{"$f":"IF(LEFT($D952,1)=\"*\",\"\",LogData!D949)","v":""},{"$f":"LogData!E949","v":"*EOL*"},{"$f":"IF($D952=\"*EOL*\",\"\",INT(LogData!V949))","v":""},{"$f":"IF($D952=\"*EOL*\",\"\",LogData!V949-E952)","v":""},{"$f":"IF(LEFT($D952,1)=\"*\",\"\",IF(LogData!S949,\"DUPE\",\"\"))","v":""},{"$f":"IF(LEFT($D952,1)=\"*\",\"\",LogData!R949)","v":""}]
[{"$f":"IF(LEFT($D953,1)=\"*\",\"\",LogData!C950)","v":""},{"$f":"IF(LEFT($D953,1)=\"*\",\"\",LogData!F950)","v":""},{"$f":"IF(LEFT($D953,1)=\"*\",\"\",LogData!D950)","v":""},{"$f":"LogData!E950","v":"*EOL*"},{"$f":"IF($D953=\"*EOL*\",\"\",INT(LogData!V950))","v":""},{"$f":"IF($D953=\"*EOL*\",\"\",LogData!V950-E953)","v":""},{"$f":"IF(LEFT($D953,1)=\"*\",\"\",IF(LogData!S950,\"DUPE\",\"\"))","v":""},{"$f":"IF(LEFT($D953,1)=\"*\",\"\",LogData!R950)","v":""}]
[{"$f":"IF(LEFT($D954,1)=\"*\",\"\",LogData!C951)","v":""},{"$f":"IF(LEFT($D954,1)=\"*\",\"\",LogData!F951)","v":""},{"$f":"IF(LEFT($D954,1)=\"*\",\"\",LogData!D951)","v":""},{"$f":"LogData!E951","v":"*EOL*"},{"$f":"IF($D954=\"*EOL*\",\"\",INT(LogData!V951))","v":""},{"$f":"IF($D954=\"*EOL*\",\"\",LogData!V951-E954)","v":""},{"$f":"IF(LEFT($D954,1)=\"*\",\"\",IF(LogData!S951,\"DUPE\",\"\"))","v":""},{"$f":"IF(LEFT($D954,1)=\"*\",\"\",LogData!R951)","v":""}]
[{"$f":"IF(LEFT($D955,1)=\"*\",\"\",LogData!C952)","v":""},{"$f":"IF(LEFT($D955,1)=\"*\",\"\",LogData!F952)","v":""},{"$f":"IF(LEFT($D955,1)=\"*\",\"\",LogData!D952)","v":""},{"$f":"LogData!E952","v":"*EOL*"},{"$f":"IF($D955=\"*EOL*\",\"\",INT(LogData!V952))","v":""},{"$f":"IF($D955=\"*EOL*\",\"\",LogData!V952-E955)","v":""},{"$f":"IF(LEFT($D955,1)=\"*\",\"\",IF(LogData!S952,\"DUPE\",\"\"))","v":""},{"$f":"IF(LEFT($D955,1)=\"*\",\"\",LogData!R952)","v":""}]
[{"$f":"IF(LEFT($D956,1)=\"*\",\"\",LogData!C953)","v":""},{"$f":"IF(LEFT($D956,1)=\"*\",\"\",LogData!F953)","v":""},{"$f":"IF(LEFT($D956,1)=\"*\",\"\",LogData!D953)","v":""},{"$f":"LogData!E953","v":"*EOL*"},{"$f":"IF($D956=\"*EOL*\",\"\",INT(LogData!V953))","v":""},{"$f":"IF($D956=\"*EOL*\",\"\",LogData!V953-E956)","v":""},{"$f":"IF(LEFT($D956,1)=\"*\",\"\",IF(LogData!S953,\"DUPE\",\"\"))","v":""},{"$f":"IF(LEFT($D956,1)=\"*\",\"\",LogData!R953)","v":""}]
[{"$f":"IF(LEFT($D957,1)=\"*\",\"\",LogData!C954)","v":""},{"$f":"IF(LEFT($D957,1)=\"*\",\"\",LogData!F954)","v":""},{"$f":"IF(LEFT($D957,1)=\"*\",\"\",LogData!D954)","v":""},{"$f":"LogData!E954","v":"*EOL*"},{"$f":"IF($D957=\"*EOL*\",\"\",INT(LogData!V954))","v":""},{"$f":"IF($D957=\"*EOL*\",\"\",LogData!V954-E957)","v":""},{"$f":"IF(LEFT($D957,1)=\"*\",\"\",IF(LogData!S954,\"DUPE\",\"\"))","v":""},{"$f":"IF(LEFT($D957,1)=\"*\",\"\",LogData!R954)","v":""}]
[{"$f":"IF(LEFT($D958,1)=\"*\",\"\",LogData!C955)","v":""},{"$f":"IF(LEFT($D958,1)=\"*\",\"\",LogData!F955)","v":""},{"$f":"IF(LEFT($D958,1)=\"*\",\"\",LogData!D955)","v":""},{"$f":"LogData!E955","v":"*EOL*"},{"$f":"IF($D958=\"*EOL*\",\"\",INT(LogData!V955))","v":""},{"$f":"IF($D958=\"*EOL*\",\"\",LogData!V955-E958)","v":""},{"$f":"IF(LEFT($D958,1)=\"*\",\"\",IF(LogData!S955,\"DUPE\",\"\"))","v":""},{"$f":"IF(LEFT($D958,1)=\"*\",\"\",LogData!R955)","v":""}]
[{"$f":"IF(LEFT($D959,1)=\"*\",\"\",LogData!C956)","v":""},{"$f":"IF(LEFT($D959,1)=\"*\",\"\",LogData!F956)","v":""},{"$f":"IF(LEFT($D959,1)=\"*\",\"\",LogData!D956)","v":""},{"$f":"LogData!E956","v":"*EOL*"},{"$f":"IF($D959=\"*EOL*\",\"\",INT(LogData!V956))","v":""},{"$f":"IF($D959=\"*EOL*\",\"\",LogData!V956-E959)","v":""},{"$f":"IF(LEFT($D959,1)=\"*\",\"\",IF(LogData!S956,\"DUPE\",\"\"))","v":""},{"$f":"IF(LEFT($D959,1)=\"*\",\"\",LogData!R956)","v":""}]
[{"$f":"IF(LEFT($D960,1)=\"*\",\"\",LogData!C957)","v":""},{"$f":"IF(LEFT($D960,1)=\"*\",\"\",LogData!F957)","v":""},{"$f":"IF(LEFT($D960,1)=\"*\",\"\",LogData!D957)","v":""},{"$f":"LogData!E957","v":"*EOL*"},{"$f":"IF($D960=\"*EOL*\",\"\",INT(LogData!V957))","v":""},{"$f":"IF($D960=\"*EOL*\",\"\",LogData!V957-E960)","v":""},{"$f":"IF(LEFT($D960,1)=\"*\",\"\",IF(LogData!S957,\"DUPE\",\"\"))","v":""},{"$f":"IF(LEFT($D960,1)=\"*\",\"\",LogData!R957)","v":""}]
[{"$f":"IF(LEFT($D961,1)=\"*\",\"\",LogData!C958)","v":""},{"$f":"IF(LEFT($D961,1)=\"*\",\"\",LogData!F958)","v":""},{"$f":"IF(LEFT($D961,1)=\"*\",\"\",LogData!D958)","v":""},{"$f":"LogData!E958","v":"*EOL*"},{"$f":"IF($D961=\"*EOL*\",\"\",INT(LogData!V958))","v":""},{"$f":"IF($D961=\"*EOL*\",\"\",LogData!V958-E961)","v":""},{"$f":"IF(LEFT($D961,1)=\"*\",\"\",IF(LogData!S958,\"DUPE\",\"\"))","v":""},{"$f":"IF(LEFT($D961,1)=\"*\",\"\",LogData!R958)","v":""}]
[{"$f":"IF(LEFT($D962,1)=\"*\",\"\",LogData!C959)","v":""},{"$f":"IF(LEFT($D962,1)=\"*\",\"\",LogData!F959)","v":""},{"$f":"IF(LEFT($D962,1)=\"*\",\"\",LogData!D959)","v":""},{"$f":"LogData!E959","v":"*EOL*"},{"$f":"IF($D962=\"*EOL*\",\"\",INT(LogData!V959))","v":""},{"$f":"IF($D962=\"*EOL*\",\"\",LogData!V959-E962)","v":""},{"$f":"IF(LEFT($D962,1)=\"*\",\"\",IF(LogData!S959,\"DUPE\",\"\"))","v":""},{"$f":"IF(LEFT($D962,1)=\"*\",\"\",LogData!R959)","v":""}]
[{"$f":"IF(LEFT($D963,1)=\"*\",\"\",LogData!C960)","v":""},{"$f":"IF(LEFT($D963,1)=\"*\",\"\",LogData!F960)","v":""},{"$f":"IF(LEFT($D963,1)=\"*\",\"\",LogData!D960)","v":""},{"$f":"LogData!E960","v":"*EOL*"},{"$f":"IF($D963=\"*EOL*\",\"\",INT(LogData!V960))","v":""},{"$f":"IF($D963=\"*EOL*\",\"\",LogData!V960-E963)","v":""},{"$f":"IF(LEFT($D963,1)=\"*\",\"\",IF(LogData!S960,\"DUPE\",\"\"))","v":""},{"$f":"IF(LEFT($D963,1)=\"*\",\"\",LogData!R960)","v":""}]
[{"$f":"IF(LEFT($D964,1)=\"*\",\"\",LogData!C961)","v":""},{"$f":"IF(LEFT($D964,1)=\"*\",\"\",LogData!F961)","v":""},{"$f":"IF(LEFT($D964,1)=\"*\",\"\",LogData!D961)","v":""},{"$f":"LogData!E961","v":"*EOL*"},{"$f":"IF($D964=\"*EOL*\",\"\",INT(LogData!V961))","v":""},{"$f":"IF($D964=\"*EOL*\",\"\",LogData!V961-E964)","v":""},{"$f":"IF(LEFT($D964,1)=\"*\",\"\",IF(LogData!S961,\"DUPE\",\"\"))","v":""},{"$f":"IF(LEFT($D964,1)=\"*\",\"\",LogData!R961)","v":""}]
[{"$f":"IF(LEFT($D965,1)=\"*\",\"\",LogData!C962)","v":""},{"$f":"IF(LEFT($D965,1)=\"*\",\"\",LogData!F962)","v":""},{"$f":"IF(LEFT($D965,1)=\"*\",\"\",LogData!D962)","v":""},{"$f":"LogData!E962","v":"*EOL*"},{"$f":"IF($D965=\"*EOL*\",\"\",INT(LogData!V962))","v":""},{"$f":"IF($D965=\"*EOL*\",\"\",LogData!V962-E965)","v":""},{"$f":"IF(LEFT($D965,1)=\"*\",\"\",IF(LogData!S962,\"DUPE\",\"\"))","v":""},{"$f":"IF(LEFT($D965,1)=\"*\",\"\",LogData!R962)","v":""}]
[{"$f":"IF(LEFT($D966,1)=\"*\",\"\",LogData!C963)","v":""},{"$f":"IF(LEFT($D966,1)=\"*\",\"\",LogData!F963)","v":""},{"$f":"IF(LEFT($D966,1)=\"*\",\"\",LogData!D963)","v":""},{"$f":"LogData!E963","v":"*EOL*"},{"$f":"IF($D966=\"*EOL*\",\"\",INT(LogData!V963))","v":""},{"$f":"IF($D966=\"*EOL*\",\"\",LogData!V963-E966)","v":""},{"$f":"IF(LEFT($D966,1)=\"*\",\"\",IF(LogData!S963,\"DUPE\",\"\"))","v":""},{"$f":"IF(LEFT($D966,1)=\"*\",\"\",LogData!R963)","v":""}]
[{"$f":"IF(LEFT($D967,1)=\"*\",\"\",LogData!C964)","v":""},{"$f":"IF(LEFT($D967,1)=\"*\",\"\",LogData!F964)","v":""},{"$f":"IF(LEFT($D967,1)=\"*\",\"\",LogData!D964)","v":""},{"$f":"LogData!E964","v":"*EOL*"},{"$f":"IF($D967=\"*EOL*\",\"\",INT(LogData!V964))","v":""},{"$f":"IF($D967=\"*EOL*\",\"\",LogData!V964-E967)","v":""},{"$f":"IF(LEFT($D967,1)=\"*\",\"\",IF(LogData!S964,\"DUPE\",\"\"))","v":""},{"$f":"IF(LEFT($D967,1)=\"*\",\"\",LogData!R964)","v":""}]
[{"$f":"IF(LEFT($D968,1)=\"*\",\"\",LogData!C965)","v":""},{"$f":"IF(LEFT($D968,1)=\"*\",\"\",LogData!F965)","v":""},{"$f":"IF(LEFT($D968,1)=\"*\",\"\",LogData!D965)","v":""},{"$f":"LogData!E965","v":"*EOL*"},{"$f":"IF($D968=\"*EOL*\",\"\",INT(LogData!V965))","v":""},{"$f":"IF($D968=\"*EOL*\",\"\",LogData!V965-E968)","v":""},{"$f":"IF(LEFT($D968,1)=\"*\",\"\",IF(LogData!S965,\"DUPE\",\"\"))","v":""},{"$f":"IF(LEFT($D968,1)=\"*\",\"\",LogData!R965)","v":""}]
[{"$f":"IF(LEFT($D969,1)=\"*\",\"\",LogData!C966)","v":""},{"$f":"IF(LEFT($D969,1)=\"*\",\"\",LogData!F966)","v":""},{"$f":"IF(LEFT($D969,1)=\"*\",\"\",LogData!D966)","v":""},{"$f":"LogData!E966","v":"*EOL*"},{"$f":"IF($D969=\"*EOL*\",\"\",INT(LogData!V966))","v":""},{"$f":"IF($D969=\"*EOL*\",\"\",LogData!V966-E969)","v":""},{"$f":"IF(LEFT($D969,1)=\"*\",\"\",IF(LogData!S966,\"DUPE\",\"\"))","v":""},{"$f":"IF(LEFT($D969,1)=\"*\",\"\",LogData!R966)","v":""}]
[{"$f":"IF(LEFT($D970,1)=\"*\",\"\",LogData!C967)","v":""},{"$f":"IF(LEFT($D970,1)=\"*\",\"\",LogData!F967)","v":""},{"$f":"IF(LEFT($D970,1)=\"*\",\"\",LogData!D967)","v":""},{"$f":"LogData!E967","v":"*EOL*"},{"$f":"IF($D970=\"*EOL*\",\"\",INT(LogData!V967))","v":""},{"$f":"IF($D970=\"*EOL*\",\"\",LogData!V967-E970)","v":""},{"$f":"IF(LEFT($D970,1)=\"*\",\"\",IF(LogData!S967,\"DUPE\",\"\"))","v":""},{"$f":"IF(LEFT($D970,1)=\"*\",\"\",LogData!R967)","v":""}]
[{"$f":"IF(LEFT($D971,1)=\"*\",\"\",LogData!C968)","v":""},{"$f":"IF(LEFT($D971,1)=\"*\",\"\",LogData!F968)","v":""},{"$f":"IF(LEFT($D971,1)=\"*\",\"\",LogData!D968)","v":""},{"$f":"LogData!E968","v":"*EOL*"},{"$f":"IF($D971=\"*EOL*\",\"\",INT(LogData!V968))","v":""},{"$f":"IF($D971=\"*EOL*\",\"\",LogData!V968-E971)","v":""},{"$f":"IF(LEFT($D971,1)=\"*\",\"\",IF(LogData!S968,\"DUPE\",\"\"))","v":""},{"$f":"IF(LEFT($D971,1)=\"*\",\"\",LogData!R968)","v":""}]
[{"$f":"IF(LEFT($D972,1)=\"*\",\"\",LogData!C969)","v":""},{"$f":"IF(LEFT($D972,1)=\"*\",\"\",LogData!F969)","v":""},{"$f":"IF(LEFT($D972,1)=\"*\",\"\",LogData!D969)","v":""},{"$f":"LogData!E969","v":"*EOL*"},{"$f":"IF($D972=\"*EOL*\",\"\",INT(LogData!V969))","v":""},{"$f":"IF($D972=\"*EOL*\",\"\",LogData!V969-E972)","v":""},{"$f":"IF(LEFT($D972,1)=\"*\",\"\",IF(LogData!S969,\"DUPE\",\"\"))","v":""},{"$f":"IF(LEFT($D972,1)=\"*\",\"\",LogData!R969)","v":""}]
[{"$f":"IF(LEFT($D973,1)=\"*\",\"\",LogData!C970)","v":""},{"$f":"IF(LEFT($D973,1)=\"*\",\"\",LogData!F970)","v":""},{"$f":"IF(LEFT($D973,1)=\"*\",\"\",LogData!D970)","v":""},{"$f":"LogData!E970","v":"*EOL*"},{"$f":"IF($D973=\"*EOL*\",\"\",INT(LogData!V970))","v":""},{"$f":"IF($D973=\"*EOL*\",\"\",LogData!V970-E973)","v":""},{"$f":"IF(LEFT($D973,1)=\"*\",\"\",IF(LogData!S970,\"DUPE\",\"\"))","v":""},{"$f":"IF(LEFT($D973,1)=\"*\",\"\",LogData!R970)","v":""}]
[{"$f":"IF(LEFT($D974,1)=\"*\",\"\",LogData!C971)","v":""},{"$f":"IF(LEFT($D974,1)=\"*\",\"\",LogData!F971)","v":""},{"$f":"IF(LEFT($D974,1)=\"*\",\"\",LogData!D971)","v":""},{"$f":"LogData!E971","v":"*EOL*"},{"$f":"IF($D974=\"*EOL*\",\"\",INT(LogData!V971))","v":""},{"$f":"IF($D974=\"*EOL*\",\"\",LogData!V971-E974)","v":""},{"$f":"IF(LEFT($D974,1)=\"*\",\"\",IF(LogData!S971,\"DUPE\",\"\"))","v":""},{"$f":"IF(LEFT($D974,1)=\"*\",\"\",LogData!R971)","v":""}]
[{"$f":"IF(LEFT($D975,1)=\"*\",\"\",LogData!C972)","v":""},{"$f":"IF(LEFT($D975,1)=\"*\",\"\",LogData!F972)","v":""},{"$f":"IF(LEFT($D975,1)=\"*\",\"\",LogData!D972)","v":""},{"$f":"LogData!E972","v":"*EOL*"},{"$f":"IF($D975=\"*EOL*\",\"\",INT(LogData!V972))","v":""},{"$f":"IF($D975=\"*EOL*\",\"\",LogData!V972-E975)","v":""},{"$f":"IF(LEFT($D975,1)=\"*\",\"\",IF(LogData!S972,\"DUPE\",\"\"))","v":""},{"$f":"IF(LEFT($D975,1)=\"*\",\"\",LogData!R972)","v":""}]
[{"$f":"IF(LEFT($D976,1)=\"*\",\"\",LogData!C973)","v":""},{"$f":"IF(LEFT($D976,1)=\"*\",\"\",LogData!F973)","v":""},{"$f":"IF(LEFT($D976,1)=\"*\",\"\",LogData!D973)","v":""},{"$f":"LogData!E973","v":"*EOL*"},{"$f":"IF($D976=\"*EOL*\",\"\",INT(LogData!V973))","v":""},{"$f":"IF($D976=\"*EOL*\",\"\",LogData!V973-E976)","v":""},{"$f":"IF(LEFT($D976,1)=\"*\",\"\",IF(LogData!S973,\"DUPE\",\"\"))","v":""},{"$f":"IF(LEFT($D976,1)=\"*\",\"\",LogData!R973)","v":""}]
[{"$f":"IF(LEFT($D977,1)=\"*\",\"\",LogData!C974)","v":""},{"$f":"IF(LEFT($D977,1)=\"*\",\"\",LogData!F974)","v":""},{"$f":"IF(LEFT($D977,1)=\"*\",\"\",LogData!D974)","v":""},{"$f":"LogData!E974","v":"*EOL*"},{"$f":"IF($D977=\"*EOL*\",\"\",INT(LogData!V974))","v":""},{"$f":"IF($D977=\"*EOL*\",\"\",LogData!V974-E977)","v":""},{"$f":"IF(LEFT($D977,1)=\"*\",\"\",IF(LogData!S974,\"DUPE\",\"\"))","v":""},{"$f":"IF(LEFT($D977,1)=\"*\",\"\",LogData!R974)","v":""}]
[{"$f":"IF(LEFT($D978,1)=\"*\",\"\",LogData!C975)","v":""},{"$f":"IF(LEFT($D978,1)=\"*\",\"\",LogData!F975)","v":""},{"$f":"IF(LEFT($D978,1)=\"*\",\"\",LogData!D975)","v":""},{"$f":"LogData!E975","v":"*EOL*"},{"$f":"IF($D978=\"*EOL*\",\"\",INT(LogData!V975))","v":""},{"$f":"IF($D978=\"*EOL*\",\"\",LogData!V975-E978)","v":""},{"$f":"IF(LEFT($D978,1)=\"*\",\"\",IF(LogData!S975,\"DUPE\",\"\"))","v":""},{"$f":"IF(LEFT($D978,1)=\"*\",\"\",LogData!R975)","v":""}]
[{"$f":"IF(LEFT($D979,1)=\"*\",\"\",LogData!C976)","v":""},{"$f":"IF(LEFT($D979,1)=\"*\",\"\",LogData!F976)","v":""},{"$f":"IF(LEFT($D979,1)=\"*\",\"\",LogData!D976)","v":""},{"$f":"LogData!E976","v":"*EOL*"},{"$f":"IF($D979=\"*EOL*\",\"\",INT(LogData!V976))","v":""},{"$f":"IF($D979=\"*EOL*\",\"\",LogData!V976-E979)","v":""},{"$f":"IF(LEFT($D979,1)=\"*\",\"\",IF(LogData!S976,\"DUPE\",\"\"))","v":""},{"$f":"IF(LEFT($D979,1)=\"*\",\"\",LogData!R976)","v":""}]
[{"$f":"IF(LEFT($D980,1)=\"*\",\"\",LogData!C977)","v":""},{"$f":"IF(LEFT($D980,1)=\"*\",\"\",LogData!F977)","v":""},{"$f":"IF(LEFT($D980,1)=\"*\",\"\",LogData!D977)","v":""},{"$f":"LogData!E977","v":"*EOL*"},{"$f":"IF($D980=\"*EOL*\",\"\",INT(LogData!V977))","v":""},{"$f":"IF($D980=\"*EOL*\",\"\",LogData!V977-E980)","v":""},{"$f":"IF(LEFT($D980,1)=\"*\",\"\",IF(LogData!S977,\"DUPE\",\"\"))","v":""},{"$f":"IF(LEFT($D980,1)=\"*\",\"\",LogData!R977)","v":""}]
[{"$f":"IF(LEFT($D981,1)=\"*\",\"\",LogData!C978)","v":""},{"$f":"IF(LEFT($D981,1)=\"*\",\"\",LogData!F978)","v":""},{"$f":"IF(LEFT($D981,1)=\"*\",\"\",LogData!D978)","v":""},{"$f":"LogData!E978","v":"*EOL*"},{"$f":"IF($D981=\"*EOL*\",\"\",INT(LogData!V978))","v":""},{"$f":"IF($D981=\"*EOL*\",\"\",LogData!V978-E981)","v":""},{"$f":"IF(LEFT($D981,1)=\"*\",\"\",IF(LogData!S978,\"DUPE\",\"\"))","v":""},{"$f":"IF(LEFT($D981,1)=\"*\",\"\",LogData!R978)","v":""}]
[{"$f":"IF(LEFT($D982,1)=\"*\",\"\",LogData!C979)","v":""},{"$f":"IF(LEFT($D982,1)=\"*\",\"\",LogData!F979)","v":""},{"$f":"IF(LEFT($D982,1)=\"*\",\"\",LogData!D979)","v":""},{"$f":"LogData!E979","v":"*EOL*"},{"$f":"IF($D982=\"*EOL*\",\"\",INT(LogData!V979))","v":""},{"$f":"IF($D982=\"*EOL*\",\"\",LogData!V979-E982)","v":""},{"$f":"IF(LEFT($D982,1)=\"*\",\"\",IF(LogData!S979,\"DUPE\",\"\"))","v":""},{"$f":"IF(LEFT($D982,1)=\"*\",\"\",LogData!R979)","v":""}]
[{"$f":"IF(LEFT($D983,1)=\"*\",\"\",LogData!C980)","v":""},{"$f":"IF(LEFT($D983,1)=\"*\",\"\",LogData!F980)","v":""},{"$f":"IF(LEFT($D983,1)=\"*\",\"\",LogData!D980)","v":""},{"$f":"LogData!E980","v":"*EOL*"},{"$f":"IF($D983=\"*EOL*\",\"\",INT(LogData!V980))","v":""},{"$f":"IF($D983=\"*EOL*\",\"\",LogData!V980-E983)","v":""},{"$f":"IF(LEFT($D983,1)=\"*\",\"\",IF(LogData!S980,\"DUPE\",\"\"))","v":""},{"$f":"IF(LEFT($D983,1)=\"*\",\"\",LogData!R980)","v":""}]
[{"$f":"IF(LEFT($D984,1)=\"*\",\"\",LogData!C981)","v":""},{"$f":"IF(LEFT($D984,1)=\"*\",\"\",LogData!F981)","v":""},{"$f":"IF(LEFT($D984,1)=\"*\",\"\",LogData!D981)","v":""},{"$f":"LogData!E981","v":"*EOL*"},{"$f":"IF($D984=\"*EOL*\",\"\",INT(LogData!V981))","v":""},{"$f":"IF($D984=\"*EOL*\",\"\",LogData!V981-E984)","v":""},{"$f":"IF(LEFT($D984,1)=\"*\",\"\",IF(LogData!S981,\"DUPE\",\"\"))","v":""},{"$f":"IF(LEFT($D984,1)=\"*\",\"\",LogData!R981)","v":""}]
[{"$f":"IF(LEFT($D985,1)=\"*\",\"\",LogData!C982)","v":""},{"$f":"IF(LEFT($D985,1)=\"*\",\"\",LogData!F982)","v":""},{"$f":"IF(LEFT($D985,1)=\"*\",\"\",LogData!D982)","v":""},{"$f":"LogData!E982","v":"*EOL*"},{"$f":"IF($D985=\"*EOL*\",\"\",INT(LogData!V982))","v":""},{"$f":"IF($D985=\"*EOL*\",\"\",LogData!V982-E985)","v":""},{"$f":"IF(LEFT($D985,1)=\"*\",\"\",IF(LogData!S982,\"DUPE\",\"\"))","v":""},{"$f":"IF(LEFT($D985,1)=\"*\",\"\",LogData!R982)","v":""}]
[{"$f":"IF(LEFT($D986,1)=\"*\",\"\",LogData!C983)","v":""},{"$f":"IF(LEFT($D986,1)=\"*\",\"\",LogData!F983)","v":""},{"$f":"IF(LEFT($D986,1)=\"*\",\"\",LogData!D983)","v":""},{"$f":"LogData!E983","v":"*EOL*"},{"$f":"IF($D986=\"*EOL*\",\"\",INT(LogData!V983))","v":""},{"$f":"IF($D986=\"*EOL*\",\"\",LogData!V983-E986)","v":""},{"$f":"IF(LEFT($D986,1)=\"*\",\"\",IF(LogData!S983,\"DUPE\",\"\"))","v":""},{"$f":"IF(LEFT($D986,1)=\"*\",\"\",LogData!R983)","v":""}]
[{"$f":"IF(LEFT($D987,1)=\"*\",\"\",LogData!C984)","v":""},{"$f":"IF(LEFT($D987,1)=\"*\",\"\",LogData!F984)","v":""},{"$f":"IF(LEFT($D987,1)=\"*\",\"\",LogData!D984)","v":""},{"$f":"LogData!E984","v":"*EOL*"},{"$f":"IF($D987=\"*EOL*\",\"\",INT(LogData!V984))","v":""},{"$f":"IF($D987=\"*EOL*\",\"\",LogData!V984-E987)","v":""},{"$f":"IF(LEFT($D987,1)=\"*\",\"\",IF(LogData!S984,\"DUPE\",\"\"))","v":""},{"$f":"IF(LEFT($D987,1)=\"*\",\"\",LogData!R984)","v":""}]
[{"$f":"IF(LEFT($D988,1)=\"*\",\"\",LogData!C985)","v":""},{"$f":"IF(LEFT($D988,1)=\"*\",\"\",LogData!F985)","v":""},{"$f":"IF(LEFT($D988,1)=\"*\",\"\",LogData!D985)","v":""},{"$f":"LogData!E985","v":"*EOL*"},{"$f":"IF($D988=\"*EOL*\",\"\",INT(LogData!V985))","v":""},{"$f":"IF($D988=\"*EOL*\",\"\",LogData!V985-E988)","v":""},{"$f":"IF(LEFT($D988,1)=\"*\",\"\",IF(LogData!S985,\"DUPE\",\"\"))","v":""},{"$f":"IF(LEFT($D988,1)=\"*\",\"\",LogData!R985)","v":""}]
[{"$f":"IF(LEFT($D989,1)=\"*\",\"\",LogData!C986)","v":""},{"$f":"IF(LEFT($D989,1)=\"*\",\"\",LogData!F986)","v":""},{"$f":"IF(LEFT($D989,1)=\"*\",\"\",LogData!D986)","v":""},{"$f":"LogData!E986","v":"*EOL*"},{"$f":"IF($D989=\"*EOL*\",\"\",INT(LogData!V986))","v":""},{"$f":"IF($D989=\"*EOL*\",\"\",LogData!V986-E989)","v":""},{"$f":"IF(LEFT($D989,1)=\"*\",\"\",IF(LogData!S986,\"DUPE\",\"\"))","v":""},{"$f":"IF(LEFT($D989,1)=\"*\",\"\",LogData!R986)","v":""}]
[{"$f":"IF(LEFT($D990,1)=\"*\",\"\",LogData!C987)","v":""},{"$f":"IF(LEFT($D990,1)=\"*\",\"\",LogData!F987)","v":""},{"$f":"IF(LEFT($D990,1)=\"*\",\"\",LogData!D987)","v":""},{"$f":"LogData!E987","v":"*EOL*"},{"$f":"IF($D990=\"*EOL*\",\"\",INT(LogData!V987))","v":""},{"$f":"IF($D990=\"*EOL*\",\"\",LogData!V987-E990)","v":""},{"$f":"IF(LEFT($D990,1)=\"*\",\"\",IF(LogData!S987,\"DUPE\",\"\"))","v":""},{"$f":"IF(LEFT($D990,1)=\"*\",\"\",LogData!R987)","v":""}]
[{"$f":"IF(LEFT($D991,1)=\"*\",\"\",LogData!C988)","v":""},{"$f":"IF(LEFT($D991,1)=\"*\",\"\",LogData!F988)","v":""},{"$f":"IF(LEFT($D991,1)=\"*\",\"\",LogData!D988)","v":""},{"$f":"LogData!E988","v":"*EOL*"},{"$f":"IF($D991=\"*EOL*\",\"\",INT(LogData!V988))","v":""},{"$f":"IF($D991=\"*EOL*\",\"\",LogData!V988-E991)","v":""},{"$f":"IF(LEFT($D991,1)=\"*\",\"\",IF(LogData!S988,\"DUPE\",\"\"))","v":""},{"$f":"IF(LEFT($D991,1)=\"*\",\"\",LogData!R988)","v":""}]
[{"$f":"IF(LEFT($D992,1)=\"*\",\"\",LogData!C989)","v":""},{"$f":"IF(LEFT($D992,1)=\"*\",\"\",LogData!F989)","v":""},{"$f":"IF(LEFT($D992,1)=\"*\",\"\",LogData!D989)","v":""},{"$f":"LogData!E989","v":"*EOL*"},{"$f":"IF($D992=\"*EOL*\",\"\",INT(LogData!V989))","v":""},{"$f":"IF($D992=\"*EOL*\",\"\",LogData!V989-E992)","v":""},{"$f":"IF(LEFT($D992,1)=\"*\",\"\",IF(LogData!S989,\"DUPE\",\"\"))","v":""},{"$f":"IF(LEFT($D992,1)=\"*\",\"\",LogData!R989)","v":""}]
[{"$f":"IF(LEFT($D993,1)=\"*\",\"\",LogData!C990)","v":""},{"$f":"IF(LEFT($D993,1)=\"*\",\"\",LogData!F990)","v":""},{"$f":"IF(LEFT($D993,1)=\"*\",\"\",LogData!D990)","v":""},{"$f":"LogData!E990","v":"*EOL*"},{"$f":"IF($D993=\"*EOL*\",\"\",INT(LogData!V990))","v":""},{"$f":"IF($D993=\"*EOL*\",\"\",LogData!V990-E993)","v":""},{"$f":"IF(LEFT($D993,1)=\"*\",\"\",IF(LogData!S990,\"DUPE\",\"\"))","v":""},{"$f":"IF(LEFT($D993,1)=\"*\",\"\",LogData!R990)","v":""}]
[{"$f":"IF(LEFT($D994,1)=\"*\",\"\",LogData!C991)","v":""},{"$f":"IF(LEFT($D994,1)=\"*\",\"\",LogData!F991)","v":""},{"$f":"IF(LEFT($D994,1)=\"*\",\"\",LogData!D991)","v":""},{"$f":"LogData!E991","v":"*EOL*"},{"$f":"IF($D994=\"*EOL*\",\"\",INT(LogData!V991))","v":""},{"$f":"IF($D994=\"*EOL*\",\"\",LogData!V991-E994)","v":""},{"$f":"IF(LEFT($D994,1)=\"*\",\"\",IF(LogData!S991,\"DUPE\",\"\"))","v":""},{"$f":"IF(LEFT($D994,1)=\"*\",\"\",LogData!R991)","v":""}]
[{"$f":"IF(LEFT($D995,1)=\"*\",\"\",LogData!C992)","v":""},{"$f":"IF(LEFT($D995,1)=\"*\",\"\",LogData!F992)","v":""},{"$f":"IF(LEFT($D995,1)=\"*\",\"\",LogData!D992)","v":""},{"$f":"LogData!E992","v":"*EOL*"},{"$f":"IF($D995=\"*EOL*\",\"\",INT(LogData!V992))","v":""},{"$f":"IF($D995=\"*EOL*\",\"\",LogData!V992-E995)","v":""},{"$f":"IF(LEFT($D995,1)=\"*\",\"\",IF(LogData!S992,\"DUPE\",\"\"))","v":""},{"$f":"IF(LEFT($D995,1)=\"*\",\"\",LogData!R992)","v":""}]
[{"$f":"IF(LEFT($D996,1)=\"*\",\"\",LogData!C993)","v":""},{"$f":"IF(LEFT($D996,1)=\"*\",\"\",LogData!F993)","v":""},{"$f":"IF(LEFT($D996,1)=\"*\",\"\",LogData!D993)","v":""},{"$f":"LogData!E993","v":"*EOL*"},{"$f":"IF($D996=\"*EOL*\",\"\",INT(LogData!V993))","v":""},{"$f":"IF($D996=\"*EOL*\",\"\",LogData!V993-E996)","v":""},{"$f":"IF(LEFT($D996,1)=\"*\",\"\",IF(LogData!S993,\"DUPE\",\"\"))","v":""},{"$f":"IF(LEFT($D996,1)=\"*\",\"\",LogData!R993)","v":""}]
[{"$f":"IF(LEFT($D997,1)=\"*\",\"\",LogData!C994)","v":""},{"$f":"IF(LEFT($D997,1)=\"*\",\"\",LogData!F994)","v":""},{"$f":"IF(LEFT($D997,1)=\"*\",\"\",LogData!D994)","v":""},{"$f":"LogData!E994","v":"*EOL*"},{"$f":"IF($D997=\"*EOL*\",\"\",INT(LogData!V994))","v":""},{"$f":"IF($D997=\"*EOL*\",\"\",LogData!V994-E997)","v":""},{"$f":"IF(LEFT($D997,1)=\"*\",\"\",IF(LogData!S994,\"DUPE\",\"\"))","v":""},{"$f":"IF(LEFT($D997,1)=\"*\",\"\",LogData!R994)","v":""}]
[{"$f":"IF(LEFT($D998,1)=\"*\",\"\",LogData!C995)","v":""},{"$f":"IF(LEFT($D998,1)=\"*\",\"\",LogData!F995)","v":""},{"$f":"IF(LEFT($D998,1)=\"*\",\"\",LogData!D995)","v":""},{"$f":"LogData!E995","v":"*EOL*"},{"$f":"IF($D998=\"*EOL*\",\"\",INT(LogData!V995))","v":""},{"$f":"IF($D998=\"*EOL*\",\"\",LogData!V995-E998)","v":""},{"$f":"IF(LEFT($D998,1)=\"*\",\"\",IF(LogData!S995,\"DUPE\",\"\"))","v":""},{"$f":"IF(LEFT($D998,1)=\"*\",\"\",LogData!R995)","v":""}]
[{"$f":"IF(LEFT($D999,1)=\"*\",\"\",LogData!C996)","v":""},{"$f":"IF(LEFT($D999,1)=\"*\",\"\",LogData!F996)","v":""},{"$f":"IF(LEFT($D999,1)=\"*\",\"\",LogData!D996)","v":""},{"$f":"LogData!E996","v":"*EOL*"},{"$f":"IF($D999=\"*EOL*\",\"\",INT(LogData!V996))","v":""},{"$f":"IF($D999=\"*EOL*\",\"\",LogData!V996-E999)","v":""},{"$f":"IF(LEFT($D999,1)=\"*\",\"\",IF(LogData!S996,\"DUPE\",\"\"))","v":""},{"$f":"IF(LEFT($D999,1)=\"*\",\"\",LogData!R996)","v":""}]
[{"$f":"IF(LEFT($D1000,1)=\"*\",\"\",LogData!C997)","v":""},{"$f":"IF(LEFT($D1000,1)=\"*\",\"\",LogData!F997)","v":""},{"$f":"IF(LEFT($D1000,1)=\"*\",\"\",LogData!D997)","v":""},{"$f":"LogData!E997","v":"*EOL*"},{"$f":"IF($D1000=\"*EOL*\",\"\",INT(LogData!V997))","v":""},{"$f":"IF($D1000=\"*EOL*\",\"\",LogData!V997-E1000)","v":""},{"$f":"IF(LEFT($D1000,1)=\"*\",\"\",IF(LogData!S997,\"DUPE\",\"\"))","v":""},{"$f":"IF(LEFT($D1000,1)=\"*\",\"\",LogData!R997)","v":""}]
[{"$f":"IF(LEFT($D1001,1)=\"*\",\"\",LogData!C998)","v":""},{"$f":"IF(LEFT($D1001,1)=\"*\",\"\",LogData!F998)","v":""},{"$f":"IF(LEFT($D1001,1)=\"*\",\"\",LogData!D998)","v":""},{"$f":"LogData!E998","v":"*EOL*"},{"$f":"IF($D1001=\"*EOL*\",\"\",INT(LogData!V998))","v":""},{"$f":"IF($D1001=\"*EOL*\",\"\",LogData!V998-E1001)","v":""},{"$f":"IF(LEFT($D1001,1)=\"*\",\"\",IF(LogData!S998,\"DUPE\",\"\"))","v":""},{"$f":"IF(LEFT($D1001,1)=\"*\",\"\",LogData!R998)","v":""}]
[{"$f":"IF(LEFT($D1002,1)=\"*\",\"\",LogData!C999)","v":""},{"$f":"IF(LEFT($D1002,1)=\"*\",\"\",LogData!F999)","v":""},{"$f":"IF(LEFT($D1002,1)=\"*\",\"\",LogData!D999)","v":""},{"$f":"LogData!E999","v":"*EOL*"},{"$f":"IF($D1002=\"*EOL*\",\"\",INT(LogData!V999))","v":""},{"$f":"IF($D1002=\"*EOL*\",\"\",LogData!V999-E1002)","v":""},{"$f":"IF(LEFT($D1002,1)=\"*\",\"\",IF(LogData!S999,\"DUPE\",\"\"))","v":""},{"$f":"IF(LEFT($D1002,1)=\"*\",\"\",LogData!R999)","v":""}]
[{"$f":"IF(LEFT($D1003,1)=\"*\",\"\",LogData!C1000)","v":""},{"$f":"IF(LEFT($D1003,1)=\"*\",\"\",LogData!F1000)","v":""},{"$f":"IF(LEFT($D1003,1)=\"*\",\"\",LogData!D1000)","v":""},{"$f":"LogData!E1000","v":"*EOL*"},{"$f":"IF($D1003=\"*EOL*\",\"\",INT(LogData!V1000))","v":""},{"$f":"IF($D1003=\"*EOL*\",\"\",LogData!V1000-E1003)","v":""},{"$f":"IF(LEFT($D1003,1)=\"*\",\"\",IF(LogData!S1000,\"DUPE\",\"\"))","v":""},{"$f":"IF(LEFT($D1003,1)=\"*\",\"\",LogData!R1000)","v":""}]
[{"$f":"IF(LEFT($D1004,1)=\"*\",\"\",LogData!C1001)","v":""},{"$f":"IF(LEFT($D1004,1)=\"*\",\"\",LogData!F1001)","v":""},{"$f":"IF(LEFT($D1004,1)=\"*\",\"\",LogData!D1001)","v":""},{"$f":"LogData!E1001","v":"*EOL*"},{"$f":"IF($D1004=\"*EOL*\",\"\",INT(LogData!V1001))","v":""},{"$f":"IF($D1004=\"*EOL*\",\"\",LogData!V1001-E1004)","v":""},{"$f":"IF(LEFT($D1004,1)=\"*\",\"\",IF(LogData!S1001,\"DUPE\",\"\"))","v":""},{"$f":"IF(LEFT($D1004,1)=\"*\",\"\",LogData!R1001)","v":""}]
[{"$f":"IF(LEFT($D1005,1)=\"*\",\"\",LogData!C1002)","v":""},{"$f":"IF(LEFT($D1005,1)=\"*\",\"\",LogData!F1002)","v":""},{"$f":"IF(LEFT($D1005,1)=\"*\",\"\",LogData!D1002)","v":""},{"$f":"LogData!E1002","v":"*EOL*"},{"$f":"IF($D1005=\"*EOL*\",\"\",INT(LogData!V1002))","v":""},{"$f":"IF($D1005=\"*EOL*\",\"\",LogData!V1002-E1005)","v":""},{"$f":"IF(LEFT($D1005,1)=\"*\",\"\",IF(LogData!S1002,\"DUPE\",\"\"))","v":""},{"$f":"IF(LEFT($D1005,1)=\"*\",\"\",LogData!R1002)","v":""}]
[{"$f":"IF(LEFT($D1006,1)=\"*\",\"\",LogData!C1003)","v":""},{"$f":"IF(LEFT($D1006,1)=\"*\",\"\",LogData!F1003)","v":""},{"$f":"IF(LEFT($D1006,1)=\"*\",\"\",LogData!D1003)","v":""},{"$f":"LogData!E1003","v":"*EOL*"},{"$f":"IF($D1006=\"*EOL*\",\"\",INT(LogData!V1003))","v":""},{"$f":"IF($D1006=\"*EOL*\",\"\",LogData!V1003-E1006)","v":""},{"$f":"IF(LEFT($D1006,1)=\"*\",\"\",IF(LogData!S1003,\"DUPE\",\"\"))","v":""},{"$f":"IF(LEFT($D1006,1)=\"*\",\"\",LogData!R1003)","v":""}]

{"sheet":"LocationConverters","index":7,"n_rows":29,"n_cols":49,"rows_kept":29,"cut":false,"hidden":false,"merged":[[28,1,28,5],[28,10,28,14],[27,6,27,8],[27,15,27,17],[28,6,28,8],[28,15,28,17],[25,16,25,17],[26,16,26,17],[25,12,25,13],[26,12,26,13],[25,14,25,15],[26,14,26,15],[25,10,25,11],[26,10,26,11],[27,1,27,5],[25,1,25,3],[25,4,25,8],[26,1,26,3],[26,4,26,8],[27,10,27,14],[2,1,2,17],[1,1,1,17],[12,10,12,12],[12,1,12,3],[12,13,12,17],[8,12,8,13],[8,14,8,15],[8,16,8,17],[9,1,9,2],[9,3,9,4],[4,1,4,8],[4,10,4,17],[9,14,9,15],[9,5,9,6],[9,7,9,8],[9,10,9,11],[22,13,22,17],[5,1,5,4],[5,5,5,8],[5,10,5,13],[5,14,5,17],[8,1,8,2],[8,3,8,4],[8,5,8,6],[8,7,8,8],[8,10,8,11],[22,10,22,12],[22,1,22,3],[22,4,22,8],[12,4,12,8],[15,1,15,4],[15,5,15,8],[14,1,14,8],[14,10,14,17],[11,1,11,4],[11,5,11,8],[11,10,11,13],[11,14,11,17],[9,12,9,13],[10,1,10,4],[10,5,10,8],[10,10,10,13],[9,16,9,17],[10,14,10,17],[15,14,15,17],[18,1,18,2],[18,3,18,4],[18,5,18,6],[18,7,18,8],[18,10,18,11],[18,12,18,13],[18,14,18,15],[18,16,18,17],[15,10,15,13],[21,1,21,4],[21,5,21,8],[21,10,21,13],[21,14,21,17],[19,16,19,17],[20,1,20,4],[20,5,20,8],[20,10,20,13],[20,14,20,17],[19,7,19,8],[19,10,19,11],[19,12,19,13],[19,14,19,15],[19,1,19,2],[19,3,19,4],[19,5,19,6]]}
[]
[null,"Location (Latitude, Longitude, Grid Square) Conversions",null,null,null,null,null,null,null,null,null,null,null,null,null,null,null,null,null,null,null,null,null,null,null,null,"These columns are used for internal calculations.  They should not be altered by the user."]
[null,"by John P. Toscano, WØJT"]
[]
[null,"Use this block if you know the Latitude and Longitude in Degrees, Minutes, and Seconds.",null,null,null,null,null,null,null,null,"Use this block if you know the Latitude and Longitude in Degrees, Minutes, and fractional Minutes."]
[null,"Latitude",null,null,null,"Longitude",null,null,null,null,"Latitude",null,null,null,"Longitude"]
[null,"Deg","Min","Sec","Dir","Deg","Min","Sec","Dir",null,"Deg","Min","Sec","Dir","Deg","Min","Sec","Dir",null,null,null,null,null,null,null,null,"Latitude to Grid Square Calculations",null,null,null,null,null,null,null,"Latitude to Grid Square Calculations"]
[null,43,3,15,"N",95,5,30,"W",null,{"$f":"INT(ABS(K10))","v":44},{"$f":"INT(((60*M10)+0.5-M8)/60)","v":45},{"$f":"INT(MOD((60*M10)+0.5,60))","v":28},{"$f":"IF(K10>0,\"N\",\"S\")","v":"N"},{"$f":"INT(ABS(O10))","v":93},{"$f":"INT(((60*Q10)+0.5-Q8)/60)","v":10},{"$f":"INT(MOD((60*Q10)+0.5,60))","v":14},{"$f":"IF(O10>0,\"E\",\"W\")","v":"W"},null,null,null,null,null,null,null,null,{"$f":"90+B12","v":133.05416666666667},{"$f":"INT(AA8/10)","v":13},{"$f":"INT(AA8-(10*AB8))","v":3},{"$f":"INT(24*(AA8-(10*AB8)-AC8))","v":1},{"$f":"CHAR(AB8+CODE(\"A\"))","v":"N"},{"$f":"CHAR(AC8+CODE(\"0\"))","v":"3"},{"$f":"CHAR(AD8+CODE(\"a\"))","v":"b"},null,{"$f":"90+K12","v":134.75777777777779},{"$f":"INT(AI8/10)","v":13},{"$f":"INT(AI8-(10*AJ8))","v":4},{"$f":"INT(24*(AI8-(10*AJ8)-AK8))","v":18},{"$f":"CHAR(AJ8+CODE(\"A\"))","v":"N"},{"$f":"CHAR(AK8+CODE(\"0\"))","v":"4"},{"$f":"CHAR(AL8+CODE(\"a\"))","v":"s"}]
[null,"Degrees",null,"Minutes",null,"Degrees",null,"Minutes",null,null,"Degrees",null,"Minutes",null,"Degrees",null,"Minutes",null,null,null,null,null,null,null,null,null,"Longitude to Grid Square Calculations",null,null,null,null,null,null,null,"Longitude to Grid Square Calculations"]
[null,{"$f":"IF(E8=\"S\",\"-\",\"\")&FIXED(B8,0)","v":"43"},null,{"$f":"RIGHT(\"00\"&FIXED(C8+(D8/60),2),5)","v":"03.25"},null,{"$f":"IF(I8=\"W\",\"-\",\"\")&FIXED(F8,0)","v":"-95"},null,{"$f":"RIGHT(\"00\"&FIXED(G8+(H8/60),2),5)","v":"05.50"},null,null,44,null,45.47,null,-93,null,10.24,null,null,null,null,null,null,null,null,null,{"$f":"180+F12","v":84.908333333333331},{"$f":"INT(AA10/20)","v":4},{"$f":"INT(AA10-(20*AB10))/2","v":2},{"$f":"INT((MOD(INT(AA10),2)+(AA10-((20*AB10)+(2*AC10))))*12)","v":10},{"$f":"CHAR(AB10+CODE(\"A\"))","v":"E"},{"$f":"CHAR(AC10+CODE(\"0\"))","v":"2"},{"$f":"CHAR(AD10+CODE(\"a\"))","v":"k"},null,{"$f":"180+O12","v":86.829444444444434},{"$f":"INT(AI10/20)","v":4},{"$f":"INT(AI10-(20*AJ10))/2","v":3},{"$f":"INT((MOD(INT(AI10),2)+(AI10-((20*AJ10)+(2*AK10))))*12)","v":9},{"$f":"CHAR(AJ10+CODE(\"A\"))","v":"E"},{"$f":"CHAR(AK10+CODE(\"0\"))","v":"3"},{"$f":"CHAR(AL10+CODE(\"a\"))","v":"j"}]
[null,"Decimal Degrees",null,null,null,"Decimal Degrees",null,null,null,null,"Decimal Degrees",null,null,null,"Decimal Degrees"]
[null,{"$f":"IF(E8=\"N\",1,-1)*(B8+(C8/60)+(D8/3600))","v":43.054166666666667},null,null,null,{"$f":"IF(I8=\"E\",1,-1)*(F8+(G8/60)+(H8/3600))","v":-95.091666666666669},null,null,null,null,{"$f":"IF(N8=\"N\",1,-1)*(K8+(L8/60)+(M8/3600))","v":44.757777777777775},null,null,null,{"$f":"IF(R8=\"E\",1,-1)*(O8+(P8/60)+(Q8/3600))","v":-93.170555555555566}]
[null,"Grid Square:",null,null,{"$f":"AE10&AE8&AF10&AF8&AG10&AG8","v":"EN23kb"},null,null,null,null,null,"Grid Square:",null,null,{"$f":"AM10&AM8&AN10&AN8&AO10&AO8","v":"EN34js"}]
[]
[null,"Use this block if you know the Latitude and Longitude in Degrees and fractions of a Degree",null,null,null,null,null,null,null,null,"Use this block if you know the Maidenhead Grid Square, and want to compute your Latitude and Longitude."]
[null,"Latitude",null,null,null,"Longitude",null,null,null,null,"Latitude",null,null,null,"Longitude"]
[null,"Deg","Min","Sec","Dir","Deg","Min","Sec","Dir",null,"Deg","Min","Sec","Dir","Deg","Min","Sec","Dir",null,null,null,null,null,null,null,null,"Latitude to Grid Square Calculations",null,null,null,null,null,null,null,"Grid Square to Latitude Calculations",null,null,null,null,null,null,null,"Latitude to Grid Square Calculations (check)"]
[null,{"$f":"INT(ABS(B20))","v":43},{"$f":"INT(((60*D20)+0.5-D18)/60)","v":30},{"$f":"INT(MOD((60*D20)+0.5,60))","v":0},{"$f":"IF(B20>0,\"N\",\"S\")","v":"N"},{"$f":"INT(ABS(F20))","v":97},{"$f":"INT(((60*H20)+0.5-H18)/60)","v":0},{"$f":"INT(MOD((60*H20)+0.5,60))","v":0},{"$f":"IF(F20>0,\"E\",\"W\")","v":"W"},null,{"$f":"INT(ABS(K20))","v":43},{"$f":"INT(((60*M20)+0.5-M18)/60)","v":6},{"$f":"INT(MOD((60*M20)+0.5,60))","v":15},{"$f":"IF(K20>0,\"N\",\"S\")","v":"N"},{"$f":"INT(ABS(O20))","v":96},{"$f":"INT(((60*Q20)+0.5-Q18)/60)","v":12},{"$f":"INT(MOD((60*Q20)+0.5,60))","v":30},{"$f":"IF(O20>0,\"E\",\"W\")","v":"W"},null,null,null,null,null,null,null,null,{"$f":"90+B22","v":133.5},{"$f":"INT(AA18/10)","v":13},{"$f":"INT(AA18-(10*AB18))","v":3},{"$f":"INT(24*(AA18-(10*AB18)-AC18))","v":12},{"$f":"CHAR(AB18+CODE(\"A\"))","v":"N"},{"$f":"CHAR(AC18+CODE(\"0\"))","v":"3"},{"$f":"CHAR(AD18+CODE(\"a\"))","v":"m"},null,{"$f":"(10*AJ18)+AK18+IF(AL18=\"\",0.5,((AL18+0.5)/24))","v":133.10416666666666},{"$f":"CODE(AM18)-CODE(\"A\")","v":13},{"$f":"CODE(AN18)-CODE(\"0\")","v":3},{"$f":"IF(AO18=\"\",\"\",CODE(AO18)-CODE(\"a\"))","v":2},{"$f":"UPPER(MID($N$23,2,1))","v":"N"},{"$f":"MID($N$23,4,1)","v":"3"},{"$f":"LOWER(MID($N$23,6,1))","v":"c"},null,{"$f":"90+K22","v":133.10416666666666},{"$f":"INT(AQ18/10)","v":13},{"$f":"INT(AQ18-(10*AR18))","v":3},{"$f":"INT(24*(AQ18-(10*AR18)-AS18))","v":2},{"$f":"CHAR(AR18+CODE(\"A\"))","v":"N"},{"$f":"CHAR(AS18+CODE(\"0\"))","v":"3"},{"$f":"CHAR(AT18+CODE(\"a\"))","v":"c"}]
[null,"Degrees",null,"Minutes",null,"Degrees",null,"Minutes",null,null,"Degrees",null,"Minutes",null,"Degrees",null,"Minutes",null,null,null,null,null,null,null,null,null,"Longitude to Grid Square Calculations",null,null,null,null,null,null,null,"Grid Square to Longitude Calculations",null,null,null,null,null,null,null,"Longitude to Grid Square Calculations (check)"]
[null,{"$f":"INT(ABS(B22))*SIGN(B22)","v":43},null,{"$f":"(ABS(B22)-ABS(B20))*60","v":30},null,{"$f":"INT(ABS(F22))*SIGN(F22)","v":-97},null,{"$f":"(ABS(F22)-ABS(F20))*60","v":0},null,null,{"$f":"INT(ABS(K22))*SIGN(K22)","v":43},null,{"$f":"(ABS(K22)-ABS(K20))*60","v":6.2499999999994316},null,{"$f":"INT(ABS(O22))*SIGN(O22)","v":-96},null,{"$f":"(ABS(O22)-ABS(O20))*60","v":12.499999999999716},null,null,null,null,null,null,null,null,null,{"$f":"180+F22","v":83},{"$f":"INT(AA20/20)","v":4},{"$f":"INT(AA20-(20*AB20))/2","v":1.5},{"$f":"INT((MOD(INT(AA20),2)+(AA20-((20*AB20)+(2*AC20))))*12)","v":12},{"$f":"CHAR(AB20+CODE(\"A\"))","v":"E"},{"$f":"CHAR(AC20+CODE(\"0\"))","v":"1"},{"$f":"CHAR(AD20+CODE(\"a\"))","v":"m"},null,{"$f":"(20*AJ20)+(2*AK20)+IF(AL20=\"\",1,((IF(AL20>11,AL20-12,AL20)+0.5)/12))","v":83.791666666666671},{"$f":"CODE(AM20)-CODE(\"A\")","v":4},{"$f":"CODE(AN20)-CODE(\"0\")+IF(AND(AL20<>\"\",AL20>11),0.5,0)","v":1.5},{"$f":"IF(AO20=\"\",\"\",CODE(AO20)-CODE(\"a\"))","v":21},{"$f":"UPPER(MID($N$23,1,1))","v":"E"},{"$f":"MID($N$23,3,1)","v":"1"},{"$f":"LOWER(MID($N$23,5,1))","v":"v"},null,{"$f":"180+O22","v":83.791666666666671},{"$f":"INT(AQ20/20)","v":4},{"$f":"INT(AQ20-(20*AR20))/2","v":1.5},{"$f":"INT((MOD(INT(AQ20),2)+(AQ20-((20*AR20)+(2*AS20))))*12)","v":21},{"$f":"CHAR(AR20+CODE(\"A\"))","v":"E"},{"$f":"CHAR(AS20+CODE(\"0\"))","v":"1"},{"$f":"CHAR(AT20+CODE(\"a\"))","v":"v"}]
[null,"Decimal Degrees",null,null,null,"Decimal Degrees",null,null,null,null,"Decimal Degrees",null,null,null,"Decimal Degrees"]
[null,43.5,null,null,null,-97,null,null,null,null,{"$f":"AI18-90","v":43.104166666666657},null,null,null,{"$f":"AI20-180","v":-96.208333333333329}]
[null,"Grid Square:",null,null,{"$f":"AE20&AE18&AF20&AF18&AG20&AG18","v":"EN13mm"},null,null,null,null,null,"Grid Square:",null,null,"EN13vc"]
[]
[]
[null,"Base Location Grid Square:",null,null,"EN24ve",null,null,null,null,null,"Latitude:",null,{"$f":"MH2Lat($E26)","v":44.187500000009976},null,"Latitude:",null,{"$f":"MH2Lon($E26)","v":-94.208333333400006}]
[null,"Target Location Grid Square:",null,null,"EN15kp",null,null,null,null,null,"Latitude:",null,{"$f":"MH2Lat($E27)","v":45.645833333379983},null,"Longitude:",null,{"$f":"MH2Lon($E27)","v":-97.125000000029999}]
[null,"Distance in Kilometers:",null,null,null,null,{"$f":"Distance(M26,Q26,M27,Q27)","v":281.57976340736104},null,null,null,"Distance in Miles:",null,null,null,null,{"$f":"G28*0.62137119223733","v":174.96555329833723}]
[null,"Bearing in Degrees:",null,null,null,null,{"$f":"Bearing(M26,Q26,M27,Q27)","v":306.15749705710107},null,null,null,"Reverse Bearing:",null,null,null,null,{"$f":"Bearing(M27,Q27,M26,Q26)","v":124.0977131735753}]